{"text_format":"1","workbook":"xlsx","n_sheets":12,"sheets":["TOP","調査概要","消費意欲","消費意欲【季節調整値】","特に買いたい・利用したい","特に買いたい・利用したい【季節調整値】","サンプル数","Setting","Graph_A1","Graph_A2","Graph_B1","Graph_B2"],"not_rendered":{"charts":4,"images":17,"macros":1,"external_links":0,"defined_names":8,"comments":0,"pivot_tables":0},"unopened":[],"bounds":{"document_bytes":16777216,"sheet_cells":100000,"rows_first":2000,"rows_last":500,"rows_between":2000,"halvings":0,"cell_chars":16384,"cell_head_chars":4096},"cells_cut":0,"cells_raw":0,"read":"whole","date_system":"1900"}

{"sheet":"TOP","index":0,"n_rows":33,"n_cols":42,"rows_kept":33,"cut":false,"hidden":false,"merged":[[32,24,36,30],[12,17,13,22],[12,7,13,10],[29,7,30,10],[29,17,30,22],[15,24,19,30]]}
[]
[]
[]
[null,null,null,null,null,null,null,null,null,null,null,null,null,null,"2012年5月～2016年5月",null,null,null,null,null,null,null,null,null,null,null,null,null,null,null,null,null,null,null,null,null,null,null,null,null,null,"Copyright Hakuhodo Institute of Life and Living, Hakuhodo Inc."]
[]
[]
[]
[null,null,null,"消費意欲指数（点）"]
[]
[null,null,null,"Q.","消費意欲（モノを買いたい、サービスを利用したいという欲求）が最高に高まった状態を100点とすると、"]
[null,null,null,null,"あなたの来月の消費意欲は何点ぐらいだろうと思いますか。"]
[]
[null,null,null,null,null,null,null,"＜調査結果＞",null,null,null,null,null,null,null,null,null,"＜季節調整値＞"]
[]
[]
[null,null,null,null,null,null,null,null,null,null,null,null,null,null,null,null,null,null,null,null,null,null,null,null,"※四季の気候や年中行事、特定の出来事などの影響をなくすため、12ヵ月移動平均法で調査結果を再集計した値。"]
[]
[]
[]
[]
[]
[]
[]
[]
[]
[null,null,null,"特に買いたいモノ・利用したいサービスがある人の割合（％）"]
[]
[null,null,null,"Q.","あなたが来月、特に買いたいモノ・利用したいサービスはありますか。"]
[]
[null,null,null,null,null,null,null,"＜調査結果＞",null,null,null,null,null,null,null,null,null,"＜季節調整値＞"]
[]
[]
[null,null,null,null,null,null,null,null,null,null,null,null,null,null,null,null,null,null,null,null,null,null,null,null,"※四季の気候や年中行事、特定の出来事などの影響をなくすため、12ヵ月移動平均法で調査結果を再集計した値。"]

{"sheet":"調査概要","index":1,"n_rows":22,"n_cols":3,"rows_kept":22,"cut":false,"hidden":false,"merged":[]}
[]
[]
[null,"調査概要"]
[]
[null,"調査目的：","消費動向にフォーカスをあてた質問を毎月聴取することで、生活者の気持ちの変化を時系列で読み解く。"]
[]
[null,"調査地域：","①首　 都40ｋｍ圏（東京都、埼玉県、千葉県、神奈川県、茨城県）"]
[null,null,"②名古屋40ｋｍ圏（愛知県、岐阜県、三重県）"]
[null,null,"③阪　 神30ｋｍ圏（大阪府、京都府、兵庫県、奈良県）"]
[]
[null,"調査方法：","インターネット調査"]
[]
[null,"調査時期：","毎月上旬に実査（2012年4月から調査開始）"]
[]
[null,"調査対象：","20歳～69歳の男女"]
[]
[null,"サンプル数：","1,500名（①～③の各地域500名）"]
[null,null,"※各地域ごとに、人口構成比（性年代10歳刻み）にあわせて割付"]
[]
[null,"設計・分析：","博報堂生活総合研究所"]
[]
[null,"実施・集計：","株式会社　東京サーベイ・リサーチ"]

{"sheet":"消費意欲","index":2,"n_rows":50,"n_cols":111,"rows_kept":50,"cut":false,"hidden":false,"merged":[]}
[]
[null,"消費意欲指数（点）"]
[null," "]
[null,null,null,"2012年",null,null,null,null,null,null,null,null,null,null,null,"2013年",null,null,null,null,null,null,null,null,null,null,null,"2014年",null,null,null,null,null,null,null,null,null,null,null,"2015年",null,null,null,null,null,null,null,null,null,null,null,"2016年",null,null,null,null,null,null,null,null,null,null,null,"2017年",null,null,null,null,null,null,null,null,null,null,null,"2018年",null,null,null,null,null,null,null,null,null,null,null,"2019年",null,null,null,null,null,null,null,null,null,null,null,"2020年"]
[null,null,null,"1月","2月","3月","4月","5月","6月","7月","8月","9月","10月","11月","12月","1月","2月","3月","4月","5月","6月","7月","8月","9月","10月","11月","12月","1月","2月","3月","4月","5月","6月","7月","8月","9月","10月","11月","12月","1月","2月","3月","4月","5月","6月","7月","8月","9月","10月","11月","12月","1月","2月","3月","4月","5月","6月","7月","8月","9月","10月","11月","12月","1月","2月","3月","4月","5月","6月","7月","8月","9月","10月","11月","12月","1月","2月","3月","4月","5月","6月","7月","8月","9月","10月","11月","12月","1月","2月","3月","4月","5月","6月","7月","8月","9月","10月","11月","12月","1月","2月","3月","4月","5月","6月","7月","8月","9月","10月","11月","12月"]
[null,null,"全体",null,null,null,null,49.6,51.39,54.58,52.41,51.94,47.37,51.77,55.61,55.41,45.24,50.3,48.52,48.43,48.34,51.3,53.3,46.79,49.19,49.5,55.45,50.8,48.65,53.84,43.7,44.3,47.17,49.66,51.57,48.6,46.59,47.19,56.67,48.99,44.3,46.3,45.93,48.2,45.66,50.5,50.29,48.53,48.83,49.55,55.42,50.84,43.25,45.85,46.83,45.78]
[null,"性別","男性",null,null,null,null,45.76,48.8,51,50.88,49.09,44.39,47.07,51.18,50.44,43.57,46.94,45.42,45.23,45.87,48.17,49.92,44.44,45.92,46.08,53.14,47.04,47.22,49.18,42.19,44.02,45.18,45.75,49.25,46.27,43.35,45.14,53.18,46.44,42.13,44.1,43.23,45.53,43.61,47.75,47.94,44.41,45.43,45.84,50.99,46.97,40.6,43.96,44.72,43.51]
[null,null,"女性",null,null,null,null,53.51,54.03,58.22,53.98,54.85,50.41,56.56,60.13,60.49,46.95,53.74,51.68,51.68,50.85,54.48,56.72,49.18,52.5,52.96,57.8,54.61,50.1,58.57,45.23,44.57,49.19,53.62,53.92,50.96,49.86,49.26,60.19,51.58,46.5,48.53,48.67,50.92,47.75,53.29,52.67,52.72,52.3,53.33,59.92,54.77,45.94,47.78,48.97,48.09]
[null,"年代別","20代",null,null,null,null,51.7,55.01,61.25,56.42,53.08,51.67,53.63,57.29,59.76,48.41,53.61,50.85,51.82,50.56,54.34,57.96,50.06,52.62,50.98,57.51,54.03,50.44,55.93,46.14,48.64,49.48,53.22,55.46,53.53,48.86,51.41,56.98,52.59,48.84,47.37,50.45,48.82,48.7,52.99,52.76,49.92,51.04,51.71,56.89,53.5,48.34,50.82,48.38,49.36]
[null,null,"30代",null,null,null,null,51.16,53.09,54.58,52.47,53.17,47.92,51.28,56.24,57.57,45.31,50.34,48.55,46.6,49.15,51.46,52.17,46.25,48.09,50.87,57.52,52.28,50.34,54.14,43.07,43.22,47.62,50.39,50.24,46.33,46.17,49.27,59.84,51.63,43.63,45.48,46.34,48.54,47.05,52.03,51.54,48.17,49.94,48.51,59.15,53.11,43.81,45.75,45.87,45.4]
[null,null,"40代",null,null,null,null,47.26,48.08,53.62,51.9,48.5,43.47,48.37,55.85,53.45,43.38,48.81,47.39,47.88,46.11,48.48,51.84,42.15,46.41,48.1,53.08,50.16,47.3,51.96,40.15,41.8,45.81,47.93,50.33,49.12,44.45,43.96,56.62,46.9,43.07,43.03,45.03,46.57,44.1,47.65,50.23,48.12,45.41,47.98,55.15,49.8,41.62,43.67,46.93,42.21]
[null,null,"50代",null,null,null,null,47.12,48.17,52.48,51.43,52.3,48.28,52.18,52.87,53.63,45.45,48.89,49.63,48.34,47.69,50.27,54.05,47.38,48.09,48.05,52.21,48.04,47.93,55.82,45.12,43,44.96,50.03,51.86,45.24,46.66,47.74,54.23,46.14,42.32,46.61,45.46,47.23,43.2,49.66,47.4,47.05,48.09,48.02,54.06,47.97,39.9,45.77,44.8,45.27]
[null,null,"60代",null,null,null,null,50.77,52.89,52.34,50.74,53.01,46.87,53.98,55.7,53.44,44.57,50.48,47.06,48.33,48.66,52.57,51.72,49.24,51.47,49.55,56.83,49.64,47.51,52.29,45.08,45.9,48.29,47.82,51.09,49.31,47.59,44.97,55.28,48.25,44.51,49.68,43.45,50.12,45.9,51.11,49.72,49.58,50.67,52.1,52.1,50.26,43.59,44.8,48.24,48.12]
[null,"男性年代別","男性20代",null,null,null,null,47.26,53.41,55.85,55.24,51.9,48.97,49.39,53.72,53.98,48.78,48.59,45.1,49.42,47.5,52.18,52.38,48.6,48.47,50.02,55.06,49.22,49.7,51.33,43.64,51.11,45.81,47.4,53.9,50.77,47.58,50.6,51.25,47.56,47.7,45.02,47.54,44.39,46.11,53.32,51.7,45.26,46.71,45.95,53.61,50.81,46.24,50.2,46.04,47.62]
[null,null,"男性30代",null,null,null,null,47.12,48.43,50.91,50.09,49.68,43.29,43.89,50.65,53.41,43.98,48,44.84,43.3,45.53,46.37,47.79,42.93,42.07,46.9,55.48,48.77,45.45,47.69,40.54,41.54,45.07,45.79,45.94,44.05,41.89,46.44,55.2,47.45,41.28,40.74,43.56,44.94,43.41,45.27,46.72,42.53,47.18,43.77,55.37,47.49,40.14,42.23,40.92,42.51]
[null,null,"男性40代",null,null,null,null,43.95,45.08,50,50.92,44.22,39.82,43.65,52.2,46.65,40.24,44.07,44.33,44.09,43.78,45.21,48.73,39.03,42.76,44.3,50.4,44.68,48.93,46.53,39.33,42.96,44.68,45.97,46.79,46.15,39.96,41.44,54.66,45.21,40.450000000000003,39.520000000000003,43.07,43.48,43.58,44.2,47.42,43.02,41.82,44.99,50.16,46.03,39.33,41.38,45.76,38.380000000000003]
[null,null,"男性50代",null,null,null,null,40.799999999999997,45.76,49.39,49.39,50.27,45.96,49.16,47.59,49.61,43.03,45.17,46.85,45.09,45.26,49.05,51.79,43.76,44.74,43.74,51.21,45.92,43.06,50.18,42.25,40.14,43.26,45.81,52.49,42.15,43.88,46.52,51.23,44.32,39.64,46.92,41.02,45.7,41.13,47.71,45.18,43.85,44.43,44.9,49.32,44.6,37.450000000000003,43.96,44.19,45.34]
[null,null,"男性60代",null,null,null,null,49.08,51.99,49.79,49.57,50.4,45.53,50.47,51.69,49.2,43.06,48.96,46.23,45.2,47.7,49.33,49.94,49.17,52.44,45.84,53.65,46.92,48.62,51.11,45.89,45.45,47,44.08,49.06,48.61,44.95,42.46,52.57,47.7,42.59,49.75,41.45,49.32,44.03,50.16,49.28,47.81,47.79,49.68,46.92,46.6,40.909999999999997,43.87,46.8,45.87]
[null,"女性年代別","女性20代",null,null,null,null,56.37,56.68,66.92,57.65,54.32,54.51,58.09,61.04,65.84,48.02,58.89,56.89,54.33,53.76,56.61,63.8,51.59,56.96,51.98,60.08,59.07,51.22,60.76,48.76,46.04,53.34,59.33,57.1,56.43,50.21,52.27,63.01,57.88,50.04,49.83,53.51,53.48,51.42,52.65,53.88,54.83,55.59,57.76,60.35,56.32,50.54,51.47,50.84,51.17]
[null,null,"女性30代",null,null,null,null,55.32,57.89,58.37,54.93,56.75,52.69,58.89,61.99,61.86,46.68,52.75,52.36,50,52.88,56.7,56.69,49.67,54.29,54.97,59.63,55.9,55.37,60.78,45.67,44.94,50.23,55.09,54.64,48.67,50.57,52.17,64.599999999999994,55.91,46.04,50.35,49.18,52.23,50.78,58.96,56.49,53.96,52.77,53.36,63.02,58.86,47.58,49.36,50.95,48.37]
[null,null,"女性40代",null,null,null,null,50.7,51.19,57.38,52.92,52.93,47.26,53.27,59.64,60.49,46.64,53.73,50.56,51.8,48.52,51.86,55.06,45.39,50.19,52.04,55.86,55.83,45.6,57.59,40.99,40.61,46.98,49.96,53.97,52.18,49.06,46.55,58.64,48.64,45.77,46.65,47.05,49.78,44.64,51.21,53.14,53.38,49.12,51.06,60.31,53.69,43.98,46.03,48.13,46.16]
[null,null,"女性50代",null,null,null,null,53.55,50.62,55.62,53.5,54.37,50.64,55.25,58.23,57.72,47.92,52.65,52.46,51.59,50.11,51.5,56.32,51.01,51.43,52.36,53.22,50.16,52.81,61.46,47.98,45.87,46.68,54.27,51.22,48.36,49.46,48.98,57.25,47.98,45.02,46.3,49.93,48.78,45.3,51.64,49.64,50.31,51.79,51.18,58.88,51.38,42.39,47.61,45.41,45.2]
[null,null,"女性60代",null,null,null,null,52.41,53.77,54.82,51.88,55.54,48.17,57.38,59.6,57.54,46.04,51.96,47.88,51.32,49.58,55.67,53.44,49.29,50.55,53.1,59.87,52.24,46.44,53.42,44.29,46.32,49.51,51.38,53.02,49.98,50.11,47.34,57.85,48.77,46.33,49.6,45.34,50.88,47.7,52.03,50.16,51.28,53.43,54.43,57.09,53.78,46.17,45.7,49.63,50.28]
[null,"性別×未既婚別","男性／未婚",null,null,null,null,45.36,49.71,52.07,51.44,47.93,44.46,46.86,49.69,50.42,43.97,46.49,44.27,45.36,47.27,48.32,49.85,44.72,44.7,46.27,52.65,46.72,47.94,49.61,41.47,44.34,44.75,45.86,49.02,47.47,43.2,46.49,52.52,46.48,40.75,43.76,44.86,43.15,43.55,46.84,46.64,42.47,44.27,45.27,50.82,46.16,41.18,42.27,42.15,43.22]
[null,null,"女性／未婚",null,null,null,null,52.25,53.74,56.65,53.16,53.17,48.23,55.5,59.58,59.45,44.35,53.32,51.53,50.68,52.91,52.23,57.78,49.35,51.66,54.52,55.6,54.14,49.38,54.65,46.04,43,48.98,53.26,51.64,51.37,48.22,47.23,58.65,51.61,45.42,47.3,50.76,51.52,47.88,51.11,50.28,53.15,53.09,53.24,57.34,54.17,47.03,46.91,49.25,46.9]
[null,null,"男性／既婚",null,null,null,null,46.01,48.3,50.33,50.51,49.75,44.35,47.19,52.12,50.45,43.31,47.2,46.21,45.15,44.98,48.06,49.96,44.23,46.74,45.96,53.47,47.25,46.76,48.86,42.68,43.76,45.47,45.67,49.4,45.45,43.47,44.22,53.62,46.41,43.13,44.31,42.23,47.12,43.65,48.37,48.83,45.7,46.13,46.22,51.13,47.56,40.17,45.02,46.69,43.7]
[null,null,"女性／既婚",null,null,null,null,54.09,54.17,58.81,54.35,55.5,51.31,57.02,60.41,60.88,48.26,53.93,51.75,52.18,49.94,55.7,56.22,49.1,52.89,52.26,58.89,54.82,50.39,60.1,44.85,45.17,49.29,53.77,54.82,50.77,50.71,50.17,60.94,51.56,47.06,49.08,47.81,50.63,47.69,54.2,53.76,52.54,51.92,53.37,61.12,55.07,45.47,48.17,48.84,48.63]
[null,"地域別","首都40km圏",null,null,null,null,49.39,50.68,54.08,50.74,51.79,46.78,50.82,55.57,57.05,45.49,51.07,50.08,48.48,47.64,51.04,53.43,45.54,50.11,49.95,53.99,49.17,47.28,55.27,44.71,45.21,47,50.52,51.61,48.27,47.41,46.76,56.55,49.66,43.11,46.27,46.53,47.29,44.89,51.97,49.64,49.45,48.59,51.6,55.69,50.19,41.7,45.93,45.33,46.68]
[null,null,"名古屋40km圏",null,null,null,null,47.15,51.46,55.29,54.17,50.53,46.85,49.7,55.62,53.9,45.14,50.46,47.23,47.9,48.81,51.78,53.14,47.91,48.19,48.32,57.03,51.78,49.11,52.89,45.02,42.92,46.62,48.38,51.94,48.96,45.7,47.14,55.7,47.61,44.15,47.06,46.18,48.88,45.64,50.8,50.57,46.97,48.75,48.07,55.16,51.12,44.77,44.28,46.76,45.84]
[null,null,"阪神30km圏",null,null,null,null,52.25,52.03,54.36,52.33,53.5,48.48,54.79,55.65,55.29,45.1,49.39,48.25,48.92,48.57,51.09,53.33,46.92,49.27,50.21,55.34,51.45,49.55,53.37,41.37,44.76,47.9,50.09,51.18,48.56,46.66,47.66,57.75,49.72,45.65,45.57,45.08,48.44,46.45,48.72,50.66,49.17,49.17,48.99,55.4,51.21,43.28,47.36,48.4,44.83]
[null,"性別×地域別","男性／首都40km圏",null,null,null,null,46.58,48.44,50.33,48.03,49.9,43.39,47.76,50.47,52.36,43.36,49.36,46.94,44.83,46.13,46.61,52.02,42.49,45.5,47.19,51.59,43.3,46.72,51.05,44.7,45.98,43.62,47.37,50.33,46.02,44.68,44.97,54.42,49.89,40.33,43.55,43.76,44.48,41.6,49.43,47.77,44.96,45.4,47.67,51.46,45.2,38.65,45.98,42.94,43.76]
[null,null,"男性／名古屋40km圏",null,null,null,null,42.27,50.73,51.6,52.51,47.29,44.78,44.45,52.74,48.81,43.92,46.06,44.16,44.25,45.89,48.76,47.54,44.99,45.41,44.18,54.97,49,47.8,48.95,42.96,41.72,45.63,44.02,48.44,45.57,42.94,45.86,50.92,42.43,41.8,46.64,42.97,45.92,43.31,47.85,48.36,43.17,45.58,43.78,51.19,47.6,43.05,41.06,45.11,43.68]
[null,null,"男性／阪神30km圏",null,null,null,null,48.52,47.17,51.08,52.17,50.1,45.03,49.06,50.31,50.11,43.41,45.3,45.13,46.65,45.57,49.18,50.18,45.89,46.9,46.89,52.86,48.92,47.14,47.47,38.770000000000003,44.37,46.34,45.85,48.97,47.25,42.39,44.56,54.23,47,44.37,42.02,42.93,46.21,46.02,45.87,47.69,45.12,45.29,46.07,50.29,48.16,40.08,44.86,46.18,43.06]
[null,null,"女性／首都40km圏",null,null,null,null,52.36,53.06,58.05,53.61,53.79,50.37,54.05,60.95,62.02,47.74,52.87,53.4,52.31,49.22,55.68,54.9,48.74,54.95,52.85,56.52,55.33,47.87,59.7,44.73,44.39,50.54,53.82,52.95,50.64,50.28,48.64,58.79,49.41,46.02,49.12,49.44,50.24,48.34,54.63,51.6,54.16,51.93,55.73,60.14,55.41,44.89,45.87,47.83,49.74]
[null,null,"女性／名古屋40km圏",null,null,null,null,52.22,52.23,59.12,55.9,53.91,49.02,55.17,58.62,59.2,46.41,55.03,50.44,51.67,51.83,54.89,58.91,50.91,51.06,52.59,59.15,54.66,50.47,56.95,47.15,44.17,47.65,52.87,55.55,52.46,48.55,48.46,60.63,52.96,46.58,47.5,49.5,51.96,48.07,53.87,52.87,50.92,52.04,52.54,59.3,54.79,46.55,47.63,48.48,48.07]
[null,null,"女性／阪神30km圏",null,null,null,null,55.84,56.69,57.51,52.49,56.76,51.79,60.29,60.79,60.27,46.72,53.31,51.25,51.1,51.46,52.91,56.35,47.92,51.54,53.41,57.73,53.88,51.87,59.04,43.87,45.13,49.38,54.14,53.28,49.82,50.73,50.62,61.11,52.31,46.88,48.95,47.13,50.58,46.87,51.46,53.52,53.06,52.89,51.79,60.32,54.15,46.35,49.76,50.53,46.53]
[null,"性別×有職無職別","男性／有職",null,null,null,null,45.6,47.63,51.21,50.74,48.96,45.15,46.05,51.29,50.8,44.1,46.44,46.6,44.84,45.86,48.81,50.65,44.36,46.26,46.24,53.93,47.08,46.68,49.12,42.78,43.64,45.69,46.39,48.92,45.8,43.37,45.25,54.12,46.63,42.3,43.22,43.55,45.82,44.06,48.34,47.14,44.34,46.01,45.38,51.81,47.5,40.43,44,44.79,43.46]
[null,null,"女性／有職",null,null,null,null,55.01,53.64,59.49,55.43,52.8,48.82,56.02,59.17,59.24,47.65,51.46,52.66,51.82,51.87,54.37,56.47,49.12,50.96,53.45,57.33,54.6,51.62,57.77,45.12,44.71,49.02,54.16,53.63,50.77,49.76,49.21,58.87,51.8,48.07,47.91,49.49,50.85,47.97,53.91,52.78,52.8,52.49,51.13,60.67,53.97,45.71,48.76,50.15,49.8]
[null,null,"男性／無職",null,null,null,null,46.33,53.09,50.22,51.36,49.54,41.5,50.79,50.79,49.14,41.57,48.69,40.659999999999997,46.67,45.89,45.68,47.05,44.7,44.55,45.46,50.62,46.89,49.25,49.42,40.19,45.45,43.19,43.15,50.66,48.06,43.28,44.64,49.81,45.83,41.54,47.53,41.92,44.22,41.98,45.29,51.07,44.72,43.17,47.64,48.04,44.86,41.23,43.76,44.45,43.68]
[null,null,"女性／無職",null,null,null,null,52.37,54.38,57.37,52.83,56.5,51.83,57,60.91,61.41,46.36,55.82,50.94,51.55,49.94,54.58,56.94,49.23,53.78,52.51,58.24,54.63,48.88,59.18,45.33,44.46,49.33,53.14,54.17,51.12,49.95,49.31,61.19,51.37,45.1,49.05,48,50.99,47.54,52.73,52.57,52.65,52.12,55.15,59.2,55.49,46.12,46.88,47.94,46.65]
[null,"職業別","勤め人（未婚）",null,null,null,null,52.38,51.82,56.02,51.82,49.03,45.93,49.83,53.71,56.6,46.16,49.49,50.86,48.04,52.02,51.36,55.5,47.05,46.42,50.33,56.39,51.45,47.23,51.11,43.25,46.02,49.14,52.1,51.99,49.7,47.65,49.73,56.16,50.92,42.65,45.82,48.74,48.2,46.39,50.9,50.25,46.93,50.14,48.66,57.5,50.89,44.15,44.95,47.33,46.05]
[null,null,"勤め人（既婚）",null,null,null,null,47.79,48.82,52.21,51.38,51.49,45.73,47.38,54.64,52.46,46.8,47.37,47.79,47.1,47.21,50.14,50.94,44.33,47.89,46.99,55.61,49.29,47.83,50.4,41.94,43.63,46.2,46.7,49.93,45.91,45.26,45.84,56.3,47.34,44.88,44.62,44.03,46.56,45.01,50.67,49.73,47.25,46.31,46.1,54.66,49.76,42.64,46.5,47.03,45.72]
[null,null,"自由・自営業",null,null,null,null,42.56,46.48,52.16,51.3,46.15,45.28,48.47,48.81,49.27,37.590000000000003,48.23,45.72,44.63,43.8,50.88,52.48,45.37,48.99,45.16,51.61,46.66,47.33,49.1,45.94,41.29,43.19,45.81,46.49,48.32,41.52,41.19,52.41,45.17,45.16,40.03,44.87,49.53,42.64,44.63,45.54,44.1,50.89,46.57,50.48,44.96,36.86,41.16,43.15,42.3]
[null,null,"パート・アルバイト",null,null,null,null,50.97,51.87,55.91,55.84,52.05,49.43,54.37,56.82,55.72,46.48,48.73,49.49,49.26,46.88,51.54,53.2,48.68,49.26,52.85,55.32,50.6,51.66,57.97,46.24,43.96,47.37,51.6,52.13,47.81,46.3,48.19,56.42,50.06,45.68,47.37,46.06,47.79,46.89,52.84,49.02,50.16,49.28,49.12,56.43,51.2,42.13,47.55,47.26,47.47]
[null,null,"専業主婦",null,null,null,null,52.83,55.03,57.7,53.39,56.84,52.77,56.54,60.46,61.4,47.13,54.64,52.7,52.3,49.98,55.94,57.14,48.98,52.28,52.44,58.49,54.83,48.91,60.37,44.52,45.18,49.64,52.82,55.19,51.8,50.28,50.77,61.51,51.92,46.26,49.84,47.59,51.17,47.59,54.05,53.8,52.52,51.69,54.37,60.66,55.66,45.33,47.32,48.03,46.5]
[null,null,"学生",null,null,null,null,48.28,61.07,63.64,60.57,59.31,55.59,55.5,58.42,53.79,49.76,55.09,44.42,50.31,49.78,54.67,59.93,54.18,60.86,49.27,59.46,52.4,55.83,58.78,53.46,52.1,50.3,51.13,60.41,53.25,53.45,53.29,61.68,53.22,49.81,55.37,55.85,49.17,52.18,53.31,60.12,47.79,52.56,54.09,54.7,58.16,51.11,53.51,52.71,47.23]
[null,null,"無職・その他",null,null,null,null,47.71,50.78,48.76,48.19,48.91,39.450000000000003,53.14,54.34,52.58,40.020000000000003,51.45,40.74,46.48,46.62,45.42,48.19,44.08,46.96,47.37,49.96,47.99,46.56,48.87,39.51,41.41,43.43,45.64,47.74,46.89,43.04,39.97,51.43,44.69,38.97,44.57,41.06,46.08,41.88,44.21,47.58,47.34,45.49,50.32,48.82,45.77,42.04,42.42,43.99,44.3]
[null,"世帯年収別","高（800万円以上）",null,null,null,null,54.36,53.5,58.55,55.71,56.01,50.14,55.32,58.53,56.81,48.61,53.54,52.22,51.46,51.73,55.34,57.59,50.22,50.57,51.77,59.96,51.01,53.12,54.63,50.31,49.45,50.27,53.32,56.41,51.61,51.57,52.66,60.7,53.1,50.26,49.92,48.11,50.73,49.32,55.49,52.17,52.28,53.13,54.45,58.36,54.18,45.92,48.4,50.3,47.22]
[null,null,"中（400-800万円未満）",null,null,null,null,49.04,51.77,54.25,52.79,53.25,46.83,50.92,57.17,55.22,46.19,50,48.65,48.7,47.07,50.92,51.55,46.38,50.41,49.88,57.2,50.81,49.6,54.21,43.57,43.82,47.15,51.11,51.5,48.13,47.45,47.96,56.98,50.38,44.33,46.05,45.84,49.43,46.54,50.5,51.56,48.79,48.02,49.31,56.46,51.74,43.59,45.71,47.6,46]
[null,null,"低（400万円未満）",null,null,null,null,47.99,50.55,51.45,50.06,48.68,44.72,50.63,52.79,54.25,40.82,47.46,45.19,47,47.31,48.78,51.73,46.09,46.73,47.45,50.3,47.8,44.51,52.96,40.89,43.69,45.72,45.77,48.29,47.26,43.2,42.3,52.97,44.35,41.78,45.72,42.3,44.71,44.02,46.68,46.93,46.12,46.5,47.94,52.53,47.97,41.89,44.37,43.2,44.25]

{"sheet":"消費意欲【季節調整値】","index":3,"n_rows":50,"n_cols":111,"rows_kept":50,"cut":false,"hidden":false,"merged":[]}
[]
[null,"消費意欲指数（点）【季節調整値】"]
[]
[null,null,null,"2012年",null,null,null,null,null,null,null,null,null,null,null,"2013年",null,null,null,null,null,null,null,null,null,null,null,"2014年",null,null,null,null,null,null,null,null,null,null,null,"2015年",null,null,null,null,null,null,null,null,null,null,null,"2016年",null,null,null,null,null,null,null,null,null,null,null,"2017年",null,null,null,null,null,null,null,null,null,null,null,"2018年",null,null,null,null,null,null,null,null,null,null,null,"2019年",null,null,null,null,null,null,null,null,null,null,null,"2020年"]
[null,null,null,"1月","2月","3月","4月","5月","6月","7月","8月","9月","10月","11月","12月","1月","2月","3月","4月","5月","6月","7月","8月","9月","10月","11月","12月","1月","2月","3月","4月","5月","6月","7月","8月","9月","10月","11月","12月","1月","2月","3月","4月","5月","6月","7月","8月","9月","10月","11月","12月","1月","2月","3月","4月","5月","6月","7月","8月","9月","10月","11月","12月","1月","2月","3月","4月","5月","6月","7月","8月","9月","10月","11月","12月","1月","2月","3月","4月","5月","6月","7月","8月","9月","10月","11月","12月","1月","2月","3月","4月","5月","6月","7月","8月","9月","10月","11月","12月","1月","2月","3月","4月","5月","6月","7月","8月","9月","10月","11月","12月"]
[null,null,"全体",null,null,null,null,null,null,null,null,null,null,null,null,null,null,null,{"$f":"IF(COUNT(消費意欲!H6:S6)<>12,\"\",AVERAGE(消費意欲!H6:S6))","v":51.17833333333332},{"$f":"IF(COUNT(消費意欲!I6:T6)<>12,\"\",AVERAGE(消費意欲!I6:T6))","v":51.080833333333324},{"$f":"IF(COUNT(消費意欲!J6:U6)<>12,\"\",AVERAGE(消費意欲!J6:U6))","v":50.826666666666675},{"$f":"IF(COUNT(消費意欲!K6:V6)<>12,\"\",AVERAGE(消費意欲!K6:V6))","v":50.553333333333335},{"$f":"IF(COUNT(消費意欲!L6:W6)<>12,\"\",AVERAGE(消費意欲!L6:W6))","v":50.627499999999998},{"$f":"IF(COUNT(消費意欲!M6:X6)<>12,\"\",AVERAGE(消費意欲!M6:X6))","v":50.198333333333331},{"$f":"IF(COUNT(消費意欲!N6:Y6)<>12,\"\",AVERAGE(消費意欲!N6:Y6))","v":50.35},{"$f":"IF(COUNT(消費意欲!O6:Z6)<>12,\"\",AVERAGE(消費意欲!O6:Z6))","v":50.160833333333336},{"$f":"IF(COUNT(消費意欲!P6:AA6)<>12,\"\",AVERAGE(消費意欲!P6:AA6))","v":50.147500000000008},{"$f":"IF(COUNT(消費意欲!Q6:AB6)<>12,\"\",AVERAGE(消費意欲!Q6:AB6))","v":49.763333333333328},{"$f":"IF(COUNT(消費意欲!R6:AC6)<>12,\"\",AVERAGE(消費意欲!R6:AC6))","v":50.047499999999992},{"$f":"IF(COUNT(消費意欲!S6:AD6)<>12,\"\",AVERAGE(消費意欲!S6:AD6))","v":50.342500000000008},{"$f":"IF(COUNT(消費意欲!T6:AE6)<>12,\"\",AVERAGE(消費意欲!T6:AE6))","v":49.940833333333337},{"$f":"IF(COUNT(消費意欲!U6:AF6)<>12,\"\",AVERAGE(消費意欲!U6:AF6))","v":49.596666666666664},{"$f":"IF(COUNT(消費意欲!V6:AG6)<>12,\"\",AVERAGE(消費意欲!V6:AG6))","v":49.49916666666666},{"$f":"IF(COUNT(消費意欲!W6:AH6)<>12,\"\",AVERAGE(消費意欲!W6:AH6))","v":49.36249999999999},{"$f":"IF(COUNT(消費意欲!X6:AI6)<>12,\"\",AVERAGE(消費意欲!X6:AI6))","v":49.218333333333341},{"$f":"IF(COUNT(消費意欲!Y6:AJ6)<>12,\"\",AVERAGE(消費意欲!Y6:AJ6))","v":49.369166666666672},{"$f":"IF(COUNT(消費意欲!Z6:AK6)<>12,\"\",AVERAGE(消費意欲!Z6:AK6))","v":49.152500000000003},{"$f":"IF(COUNT(消費意欲!AA6:AL6)<>12,\"\",AVERAGE(消費意欲!AA6:AL6))","v":48.96},{"$f":"IF(COUNT(消費意欲!AB6:AM6)<>12,\"\",AVERAGE(消費意欲!AB6:AM6))","v":49.06166666666666},{"$f":"IF(COUNT(消費意欲!AC6:AN6)<>12,\"\",AVERAGE(消費意欲!AC6:AN6))","v":48.910833333333336},{"$f":"IF(COUNT(消費意欲!AD6:AO6)<>12,\"\",AVERAGE(消費意欲!AD6:AO6))","v":48.548333333333339},{"$f":"IF(COUNT(消費意欲!AE6:AP6)<>12,\"\",AVERAGE(消費意欲!AE6:AP6))","v":47.919999999999995},{"$f":"IF(COUNT(消費意欲!AF6:AQ6)<>12,\"\",AVERAGE(消費意欲!AF6:AQ6))","v":48.105833333333329},{"$f":"IF(COUNT(消費意欲!AG6:AR6)<>12,\"\",AVERAGE(消費意欲!AG6:AR6))","v":48.430833333333339},{"$f":"IF(COUNT(消費意欲!AH6:AS6)<>12,\"\",AVERAGE(消費意欲!AH6:AS6))","v":48.305},{"$f":"IF(COUNT(消費意欲!AI6:AT6)<>12,\"\",AVERAGE(消費意欲!AI6:AT6))","v":48.375},{"$f":"IF(COUNT(消費意欲!AJ6:AU6)<>12,\"\",AVERAGE(消費意欲!AJ6:AU6))","v":48.268333333333338},{"$f":"IF(COUNT(消費意欲!AK6:AV6)<>12,\"\",AVERAGE(消費意欲!AK6:AV6))","v":48.262499999999996},{"$f":"IF(COUNT(消費意欲!AL6:AW6)<>12,\"\",AVERAGE(消費意欲!AL6:AW6))","v":48.449166666666677},{"$f":"IF(COUNT(消費意欲!AM6:AX6)<>12,\"\",AVERAGE(消費意欲!AM6:AX6))","v":48.645833333333336},{"$f":"IF(COUNT(消費意欲!AN6:AY6)<>12,\"\",AVERAGE(消費意欲!AN6:AY6))","v":48.541666666666664},{"$f":"IF(COUNT(消費意欲!AO6:AZ6)<>12,\"\",AVERAGE(消費意欲!AO6:AZ6))","v":48.695833333333333},{"$f":"IF(COUNT(消費意欲!AP6:BA6)<>12,\"\",AVERAGE(消費意欲!AP6:BA6))","v":48.608333333333327},{"$f":"IF(COUNT(消費意欲!AQ6:BB6)<>12,\"\",AVERAGE(消費意欲!AQ6:BB6))","v":48.570833333333333},{"$f":"IF(COUNT(消費意欲!AR6:BC6)<>12,\"\",AVERAGE(消費意欲!AR6:BC6))","v":48.645833333333343},{"$f":"IF(COUNT(消費意欲!AS6:BD6)<>12,\"\",AVERAGE(消費意欲!AS6:BD6))","v":48.444166666666668},{"$f":"IF(COUNT(消費意欲!AT6:BE6)<>12,\"\",AVERAGE(消費意欲!AT6:BE6))","v":""},{"$f":"IF(COUNT(消費意欲!AU6:BF6)<>12,\"\",AVERAGE(消費意欲!AU6:BF6))","v":""},{"$f":"IF(COUNT(消費意欲!AV6:BG6)<>12,\"\",AVERAGE(消費意欲!AV6:BG6))","v":""},{"$f":"IF(COUNT(消費意欲!AW6:BH6)<>12,\"\",AVERAGE(消費意欲!AW6:BH6))","v":""},{"$f":"IF(COUNT(消費意欲!AX6:BI6)<>12,\"\",AVERAGE(消費意欲!AX6:BI6))","v":""},{"$f":"IF(COUNT(消費意欲!AY6:BJ6)<>12,\"\",AVERAGE(消費意欲!AY6:BJ6))","v":""},{"$f":"IF(COUNT(消費意欲!AZ6:BK6)<>12,\"\",AVERAGE(消費意欲!AZ6:BK6))","v":""},{"$f":"IF(COUNT(消費意欲!BA6:BL6)<>12,\"\",AVERAGE(消費意欲!BA6:BL6))","v":""},{"$f":"IF(COUNT(消費意欲!BB6:BM6)<>12,\"\",AVERAGE(消費意欲!BB6:BM6))","v":""},{"$f":"IF(COUNT(消費意欲!BC6:BN6)<>12,\"\",AVERAGE(消費意欲!BC6:BN6))","v":""},{"$f":"IF(COUNT(消費意欲!BD6:BO6)<>12,\"\",AVERAGE(消費意欲!BD6:BO6))","v":""},{"$f":"IF(COUNT(消費意欲!BE6:BP6)<>12,\"\",AVERAGE(消費意欲!BE6:BP6))","v":""},{"$f":"IF(COUNT(消費意欲!BF6:BQ6)<>12,\"\",AVERAGE(消費意欲!BF6:BQ6))","v":""},{"$f":"IF(COUNT(消費意欲!BG6:BR6)<>12,\"\",AVERAGE(消費意欲!BG6:BR6))","v":""},{"$f":"IF(COUNT(消費意欲!BH6:BS6)<>12,\"\",AVERAGE(消費意欲!BH6:BS6))","v":""},{"$f":"IF(COUNT(消費意欲!BI6:BT6)<>12,\"\",AVERAGE(消費意欲!BI6:BT6))","v":""},{"$f":"IF(COUNT(消費意欲!BJ6:BU6)<>12,\"\",AVERAGE(消費意欲!BJ6:BU6))","v":""},{"$f":"IF(COUNT(消費意欲!BK6:BV6)<>12,\"\",AVERAGE(消費意欲!BK6:BV6))","v":""},{"$f":"IF(COUNT(消費意欲!BL6:BW6)<>12,\"\",AVERAGE(消費意欲!BL6:BW6))","v":""},{"$f":"IF(COUNT(消費意欲!BM6:BX6)<>12,\"\",AVERAGE(消費意欲!BM6:BX6))","v":""},{"$f":"IF(COUNT(消費意欲!BN6:BY6)<>12,\"\",AVERAGE(消費意欲!BN6:BY6))","v":""},{"$f":"IF(COUNT(消費意欲!BO6:BZ6)<>12,\"\",AVERAGE(消費意欲!BO6:BZ6))","v":""},{"$f":"IF(COUNT(消費意欲!BP6:CA6)<>12,\"\",AVERAGE(消費意欲!BP6:CA6))","v":""},{"$f":"IF(COUNT(消費意欲!BQ6:CB6)<>12,\"\",AVERAGE(消費意欲!BQ6:CB6))","v":""},{"$f":"IF(COUNT(消費意欲!BR6:CC6)<>12,\"\",AVERAGE(消費意欲!BR6:CC6))","v":""},{"$f":"IF(COUNT(消費意欲!BS6:CD6)<>12,\"\",AVERAGE(消費意欲!BS6:CD6))","v":""},{"$f":"IF(COUNT(消費意欲!BT6:CE6)<>12,\"\",AVERAGE(消費意欲!BT6:CE6))","v":""},{"$f":"IF(COUNT(消費意欲!BU6:CF6)<>12,\"\",AVERAGE(消費意欲!BU6:CF6))","v":""},{"$f":"IF(COUNT(消費意欲!BV6:CG6)<>12,\"\",AVERAGE(消費意欲!BV6:CG6))","v":""},{"$f":"IF(COUNT(消費意欲!BW6:CH6)<>12,\"\",AVERAGE(消費意欲!BW6:CH6))","v":""},{"$f":"IF(COUNT(消費意欲!BX6:CI6)<>12,\"\",AVERAGE(消費意欲!BX6:CI6))","v":""},{"$f":"IF(COUNT(消費意欲!BY6:CJ6)<>12,\"\",AVERAGE(消費意欲!BY6:CJ6))","v":""},{"$f":"IF(COUNT(消費意欲!BZ6:CK6)<>12,\"\",AVERAGE(消費意欲!BZ6:CK6))","v":""},{"$f":"IF(COUNT(消費意欲!CA6:CL6)<>12,\"\",AVERAGE(消費意欲!CA6:CL6))","v":""},{"$f":"IF(COUNT(消費意欲!CB6:CM6)<>12,\"\",AVERAGE(消費意欲!CB6:CM6))","v":""},{"$f":"IF(COUNT(消費意欲!CC6:CN6)<>12,\"\",AVERAGE(消費意欲!CC6:CN6))","v":""},{"$f":"IF(COUNT(消費意欲!CD6:CO6)<>12,\"\",AVERAGE(消費意欲!CD6:CO6))","v":""},{"$f":"IF(COUNT(消費意欲!CE6:CP6)<>12,\"\",AVERAGE(消費意欲!CE6:CP6))","v":""},{"$f":"IF(COUNT(消費意欲!CF6:CQ6)<>12,\"\",AVERAGE(消費意欲!CF6:CQ6))","v":""},{"$f":"IF(COUNT(消費意欲!CG6:CR6)<>12,\"\",AVERAGE(消費意欲!CG6:CR6))","v":""},{"$f":"IF(COUNT(消費意欲!CH6:CS6)<>12,\"\",AVERAGE(消費意欲!CH6:CS6))","v":""},{"$f":"IF(COUNT(消費意欲!CI6:CT6)<>12,\"\",AVERAGE(消費意欲!CI6:CT6))","v":""},{"$f":"IF(COUNT(消費意欲!CJ6:CU6)<>12,\"\",AVERAGE(消費意欲!CJ6:CU6))","v":""},{"$f":"IF(COUNT(消費意欲!CK6:CV6)<>12,\"\",AVERAGE(消費意欲!CK6:CV6))","v":""},{"$f":"IF(COUNT(消費意欲!CL6:CW6)<>12,\"\",AVERAGE(消費意欲!CL6:CW6))","v":""},{"$f":"IF(COUNT(消費意欲!CM6:CX6)<>12,\"\",AVERAGE(消費意欲!CM6:CX6))","v":""},{"$f":"IF(COUNT(消費意欲!CN6:CY6)<>12,\"\",AVERAGE(消費意欲!CN6:CY6))","v":""},{"$f":"IF(COUNT(消費意欲!CO6:CZ6)<>12,\"\",AVERAGE(消費意欲!CO6:CZ6))","v":""},{"$f":"IF(COUNT(消費意欲!CP6:DA6)<>12,\"\",AVERAGE(消費意欲!CP6:DA6))","v":""},{"$f":"IF(COUNT(消費意欲!CQ6:DB6)<>12,\"\",AVERAGE(消費意欲!CQ6:DB6))","v":""},{"$f":"IF(COUNT(消費意欲!CR6:DC6)<>12,\"\",AVERAGE(消費意欲!CR6:DC6))","v":""},{"$f":"IF(COUNT(消費意欲!CS6:DD6)<>12,\"\",AVERAGE(消費意欲!CS6:DD6))","v":""},{"$f":"IF(COUNT(消費意欲!CT6:DE6)<>12,\"\",AVERAGE(消費意欲!CT6:DE6))","v":""},{"$f":"IF(COUNT(消費意欲!CU6:DF6)<>12,\"\",AVERAGE(消費意欲!CU6:DF6))","v":""},{"$f":"IF(COUNT(消費意欲!CV6:DG6)<>12,\"\",AVERAGE(消費意欲!CV6:DG6))","v":""}]
[null,"性別","男性",null,null,null,null,null,null,null,null,null,null,null,null,null,null,null,{"$f":"IF(COUNT(消費意欲!H7:S7)<>12,\"\",AVERAGE(消費意欲!H7:S7))","v":47.87833333333333},{"$f":"IF(COUNT(消費意欲!I7:T7)<>12,\"\",AVERAGE(消費意欲!I7:T7))","v":47.834166666666668},{"$f":"IF(COUNT(消費意欲!J7:U7)<>12,\"\",AVERAGE(消費意欲!J7:U7))","v":47.59},{"$f":"IF(COUNT(消費意欲!K7:V7)<>12,\"\",AVERAGE(消費意欲!K7:V7))","v":47.354166666666664},{"$f":"IF(COUNT(消費意欲!L7:W7)<>12,\"\",AVERAGE(消費意欲!L7:W7))","v":47.274166666666666},{"$f":"IF(COUNT(消費意欲!M7:X7)<>12,\"\",AVERAGE(消費意欲!M7:X7))","v":46.886666666666677},{"$f":"IF(COUNT(消費意欲!N7:Y7)<>12,\"\",AVERAGE(消費意欲!N7:Y7))","v":47.014166666666661},{"$f":"IF(COUNT(消費意欲!O7:Z7)<>12,\"\",AVERAGE(消費意欲!O7:Z7))","v":46.931666666666672},{"$f":"IF(COUNT(消費意欲!P7:AA7)<>12,\"\",AVERAGE(消費意欲!P7:AA7))","v":47.094999999999999},{"$f":"IF(COUNT(消費意欲!Q7:AB7)<>12,\"\",AVERAGE(消費意欲!Q7:AB7))","v":46.811666666666667},{"$f":"IF(COUNT(消費意欲!R7:AC7)<>12,\"\",AVERAGE(消費意欲!R7:AC7))","v":47.115833333333335},{"$f":"IF(COUNT(消費意欲!S7:AD7)<>12,\"\",AVERAGE(消費意欲!S7:AD7))","v":47.302500000000002},{"$f":"IF(COUNT(消費意欲!T7:AE7)<>12,\"\",AVERAGE(消費意欲!T7:AE7))","v":47.033333333333324},{"$f":"IF(COUNT(消費意欲!U7:AF7)<>12,\"\",AVERAGE(消費意欲!U7:AF7))","v":46.932499999999997},{"$f":"IF(COUNT(消費意欲!V7:AG7)<>12,\"\",AVERAGE(消費意欲!V7:AG7))","v":46.874999999999993},{"$f":"IF(COUNT(消費意欲!W7:AH7)<>12,\"\",AVERAGE(消費意欲!W7:AH7))","v":46.673333333333325},{"$f":"IF(COUNT(消費意欲!X7:AI7)<>12,\"\",AVERAGE(消費意欲!X7:AI7))","v":46.6175},{"$f":"IF(COUNT(消費意欲!Y7:AJ7)<>12,\"\",AVERAGE(消費意欲!Y7:AJ7))","v":46.77},{"$f":"IF(COUNT(消費意欲!Z7:AK7)<>12,\"\",AVERAGE(消費意欲!Z7:AK7))","v":46.555833333333339},{"$f":"IF(COUNT(消費意欲!AA7:AL7)<>12,\"\",AVERAGE(消費意欲!AA7:AL7))","v":46.477499999999999},{"$f":"IF(COUNT(消費意欲!AB7:AM7)<>12,\"\",AVERAGE(消費意欲!AB7:AM7))","v":46.480833333333329},{"$f":"IF(COUNT(消費意欲!AC7:AN7)<>12,\"\",AVERAGE(消費意欲!AC7:AN7))","v":46.430833333333339},{"$f":"IF(COUNT(消費意欲!AD7:AO7)<>12,\"\",AVERAGE(消費意欲!AD7:AO7))","v":46.006666666666668},{"$f":"IF(COUNT(消費意欲!AE7:AP7)<>12,\"\",AVERAGE(消費意欲!AE7:AP7))","v":45.583333333333336},{"$f":"IF(COUNT(消費意欲!AF7:AQ7)<>12,\"\",AVERAGE(消費意欲!AF7:AQ7))","v":45.669999999999995},{"$f":"IF(COUNT(消費意欲!AG7:AR7)<>12,\"\",AVERAGE(消費意欲!AG7:AR7))","v":45.795833333333341},{"$f":"IF(COUNT(消費意欲!AH7:AS7)<>12,\"\",AVERAGE(消費意欲!AH7:AS7))","v":45.664999999999999},{"$f":"IF(COUNT(消費意欲!AI7:AT7)<>12,\"\",AVERAGE(消費意欲!AI7:AT7))","v":45.831666666666671},{"$f":"IF(COUNT(消費意欲!AJ7:AU7)<>12,\"\",AVERAGE(消費意欲!AJ7:AU7))","v":45.722500000000004},{"$f":"IF(COUNT(消費意欲!AK7:AV7)<>12,\"\",AVERAGE(消費意欲!AK7:AV7))","v":45.567500000000003},{"$f":"IF(COUNT(消費意欲!AL7:AW7)<>12,\"\",AVERAGE(消費意欲!AL7:AW7))","v":45.740833333333335},{"$f":"IF(COUNT(消費意欲!AM7:AX7)<>12,\"\",AVERAGE(消費意欲!AM7:AX7))","v":45.799166666666672},{"$f":"IF(COUNT(消費意欲!AN7:AY7)<>12,\"\",AVERAGE(消費意欲!AN7:AY7))","v":45.616666666666667},{"$f":"IF(COUNT(消費意欲!AO7:AZ7)<>12,\"\",AVERAGE(消費意欲!AO7:AZ7))","v":45.660833333333336},{"$f":"IF(COUNT(消費意欲!AP7:BA7)<>12,\"\",AVERAGE(消費意欲!AP7:BA7))","v":45.533333333333339},{"$f":"IF(COUNT(消費意欲!AQ7:BB7)<>12,\"\",AVERAGE(消費意欲!AQ7:BB7))","v":45.521666666666675},{"$f":"IF(COUNT(消費意欲!AR7:BC7)<>12,\"\",AVERAGE(消費意欲!AR7:BC7))","v":45.645833333333336},{"$f":"IF(COUNT(消費意欲!AS7:BD7)<>12,\"\",AVERAGE(消費意欲!AS7:BD7))","v":45.477499999999999},{"$f":"IF(COUNT(消費意欲!AT7:BE7)<>12,\"\",AVERAGE(消費意欲!AT7:BE7))","v":""},{"$f":"IF(COUNT(消費意欲!AU7:BF7)<>12,\"\",AVERAGE(消費意欲!AU7:BF7))","v":""},{"$f":"IF(COUNT(消費意欲!AV7:BG7)<>12,\"\",AVERAGE(消費意欲!AV7:BG7))","v":""},{"$f":"IF(COUNT(消費意欲!AW7:BH7)<>12,\"\",AVERAGE(消費意欲!AW7:BH7))","v":""},{"$f":"IF(COUNT(消費意欲!AX7:BI7)<>12,\"\",AVERAGE(消費意欲!AX7:BI7))","v":""},{"$f":"IF(COUNT(消費意欲!AY7:BJ7)<>12,\"\",AVERAGE(消費意欲!AY7:BJ7))","v":""},{"$f":"IF(COUNT(消費意欲!AZ7:BK7)<>12,\"\",AVERAGE(消費意欲!AZ7:BK7))","v":""},{"$f":"IF(COUNT(消費意欲!BA7:BL7)<>12,\"\",AVERAGE(消費意欲!BA7:BL7))","v":""},{"$f":"IF(COUNT(消費意欲!BB7:BM7)<>12,\"\",AVERAGE(消費意欲!BB7:BM7))","v":""},{"$f":"IF(COUNT(消費意欲!BC7:BN7)<>12,\"\",AVERAGE(消費意欲!BC7:BN7))","v":""},{"$f":"IF(COUNT(消費意欲!BD7:BO7)<>12,\"\",AVERAGE(消費意欲!BD7:BO7))","v":""},{"$f":"IF(COUNT(消費意欲!BE7:BP7)<>12,\"\",AVERAGE(消費意欲!BE7:BP7))","v":""},{"$f":"IF(COUNT(消費意欲!BF7:BQ7)<>12,\"\",AVERAGE(消費意欲!BF7:BQ7))","v":""},{"$f":"IF(COUNT(消費意欲!BG7:BR7)<>12,\"\",AVERAGE(消費意欲!BG7:BR7))","v":""},{"$f":"IF(COUNT(消費意欲!BH7:BS7)<>12,\"\",AVERAGE(消費意欲!BH7:BS7))","v":""},{"$f":"IF(COUNT(消費意欲!BI7:BT7)<>12,\"\",AVERAGE(消費意欲!BI7:BT7))","v":""},{"$f":"IF(COUNT(消費意欲!BJ7:BU7)<>12,\"\",AVERAGE(消費意欲!BJ7:BU7))","v":""},{"$f":"IF(COUNT(消費意欲!BK7:BV7)<>12,\"\",AVERAGE(消費意欲!BK7:BV7))","v":""},{"$f":"IF(COUNT(消費意欲!BL7:BW7)<>12,\"\",AVERAGE(消費意欲!BL7:BW7))","v":""},{"$f":"IF(COUNT(消費意欲!BM7:BX7)<>12,\"\",AVERAGE(消費意欲!BM7:BX7))","v":""},{"$f":"IF(COUNT(消費意欲!BN7:BY7)<>12,\"\",AVERAGE(消費意欲!BN7:BY7))","v":""},{"$f":"IF(COUNT(消費意欲!BO7:BZ7)<>12,\"\",AVERAGE(消費意欲!BO7:BZ7))","v":""},{"$f":"IF(COUNT(消費意欲!BP7:CA7)<>12,\"\",AVERAGE(消費意欲!BP7:CA7))","v":""},{"$f":"IF(COUNT(消費意欲!BQ7:CB7)<>12,\"\",AVERAGE(消費意欲!BQ7:CB7))","v":""},{"$f":"IF(COUNT(消費意欲!BR7:CC7)<>12,\"\",AVERAGE(消費意欲!BR7:CC7))","v":""},{"$f":"IF(COUNT(消費意欲!BS7:CD7)<>12,\"\",AVERAGE(消費意欲!BS7:CD7))","v":""},{"$f":"IF(COUNT(消費意欲!BT7:CE7)<>12,\"\",AVERAGE(消費意欲!BT7:CE7))","v":""},{"$f":"IF(COUNT(消費意欲!BU7:CF7)<>12,\"\",AVERAGE(消費意欲!BU7:CF7))","v":""},{"$f":"IF(COUNT(消費意欲!BV7:CG7)<>12,\"\",AVERAGE(消費意欲!BV7:CG7))","v":""},{"$f":"IF(COUNT(消費意欲!BW7:CH7)<>12,\"\",AVERAGE(消費意欲!BW7:CH7))","v":""},{"$f":"IF(COUNT(消費意欲!BX7:CI7)<>12,\"\",AVERAGE(消費意欲!BX7:CI7))","v":""},{"$f":"IF(COUNT(消費意欲!BY7:CJ7)<>12,\"\",AVERAGE(消費意欲!BY7:CJ7))","v":""},{"$f":"IF(COUNT(消費意欲!BZ7:CK7)<>12,\"\",AVERAGE(消費意欲!BZ7:CK7))","v":""},{"$f":"IF(COUNT(消費意欲!CA7:CL7)<>12,\"\",AVERAGE(消費意欲!CA7:CL7))","v":""},{"$f":"IF(COUNT(消費意欲!CB7:CM7)<>12,\"\",AVERAGE(消費意欲!CB7:CM7))","v":""},{"$f":"IF(COUNT(消費意欲!CC7:CN7)<>12,\"\",AVERAGE(消費意欲!CC7:CN7))","v":""},{"$f":"IF(COUNT(消費意欲!CD7:CO7)<>12,\"\",AVERAGE(消費意欲!CD7:CO7))","v":""},{"$f":"IF(COUNT(消費意欲!CE7:CP7)<>12,\"\",AVERAGE(消費意欲!CE7:CP7))","v":""},{"$f":"IF(COUNT(消費意欲!CF7:CQ7)<>12,\"\",AVERAGE(消費意欲!CF7:CQ7))","v":""},{"$f":"IF(COUNT(消費意欲!CG7:CR7)<>12,\"\",AVERAGE(消費意欲!CG7:CR7))","v":""},{"$f":"IF(COUNT(消費意欲!CH7:CS7)<>12,\"\",AVERAGE(消費意欲!CH7:CS7))","v":""},{"$f":"IF(COUNT(消費意欲!CI7:CT7)<>12,\"\",AVERAGE(消費意欲!CI7:CT7))","v":""},{"$f":"IF(COUNT(消費意欲!CJ7:CU7)<>12,\"\",AVERAGE(消費意欲!CJ7:CU7))","v":""},{"$f":"IF(COUNT(消費意欲!CK7:CV7)<>12,\"\",AVERAGE(消費意欲!CK7:CV7))","v":""},{"$f":"IF(COUNT(消費意欲!CL7:CW7)<>12,\"\",AVERAGE(消費意欲!CL7:CW7))","v":""},{"$f":"IF(COUNT(消費意欲!CM7:CX7)<>12,\"\",AVERAGE(消費意欲!CM7:CX7))","v":""},{"$f":"IF(COUNT(消費意欲!CN7:CY7)<>12,\"\",AVERAGE(消費意欲!CN7:CY7))","v":""},{"$f":"IF(COUNT(消費意欲!CO7:CZ7)<>12,\"\",AVERAGE(消費意欲!CO7:CZ7))","v":""},{"$f":"IF(COUNT(消費意欲!CP7:DA7)<>12,\"\",AVERAGE(消費意欲!CP7:DA7))","v":""},{"$f":"IF(COUNT(消費意欲!CQ7:DB7)<>12,\"\",AVERAGE(消費意欲!CQ7:DB7))","v":""},{"$f":"IF(COUNT(消費意欲!CR7:DC7)<>12,\"\",AVERAGE(消費意欲!CR7:DC7))","v":""},{"$f":"IF(COUNT(消費意欲!CS7:DD7)<>12,\"\",AVERAGE(消費意欲!CS7:DD7))","v":""},{"$f":"IF(COUNT(消費意欲!CT7:DE7)<>12,\"\",AVERAGE(消費意欲!CT7:DE7))","v":""},{"$f":"IF(COUNT(消費意欲!CU7:DF7)<>12,\"\",AVERAGE(消費意欲!CU7:DF7))","v":""},{"$f":"IF(COUNT(消費意欲!CV7:DG7)<>12,\"\",AVERAGE(消費意欲!CV7:DG7))","v":""}]
[null,null,"女性",null,null,null,null,null,null,null,null,null,null,null,null,null,null,null,{"$f":"IF(COUNT(消費意欲!H8:S8)<>12,\"\",AVERAGE(消費意欲!H8:S8))","v":54.545833333333327},{"$f":"IF(COUNT(消費意欲!I8:T8)<>12,\"\",AVERAGE(消費意欲!I8:T8))","v":54.393333333333324},{"$f":"IF(COUNT(消費意欲!J8:U8)<>12,\"\",AVERAGE(消費意欲!J8:U8))","v":54.12833333333333},{"$f":"IF(COUNT(消費意欲!K8:V8)<>12,\"\",AVERAGE(消費意欲!K8:V8))","v":53.81666666666667},{"$f":"IF(COUNT(消費意欲!L8:W8)<>12,\"\",AVERAGE(消費意欲!L8:W8))","v":54.045000000000009},{"$f":"IF(COUNT(消費意欲!M8:X8)<>12,\"\",AVERAGE(消費意欲!M8:X8))","v":53.572499999999998},{"$f":"IF(COUNT(消費意欲!N8:Y8)<>12,\"\",AVERAGE(消費意欲!N8:Y8))","v":53.74666666666667},{"$f":"IF(COUNT(消費意欲!O8:Z8)<>12,\"\",AVERAGE(消費意欲!O8:Z8))","v":53.446666666666665},{"$f":"IF(COUNT(消費意欲!P8:AA8)<>12,\"\",AVERAGE(消費意欲!P8:AA8))","v":53.252499999999998},{"$f":"IF(COUNT(消費意欲!Q8:AB8)<>12,\"\",AVERAGE(消費意欲!Q8:AB8))","v":52.762499999999996},{"$f":"IF(COUNT(消費意欲!R8:AC8)<>12,\"\",AVERAGE(消費意欲!R8:AC8))","v":53.024999999999999},{"$f":"IF(COUNT(消費意欲!S8:AD8)<>12,\"\",AVERAGE(消費意欲!S8:AD8))","v":53.427500000000002},{"$f":"IF(COUNT(消費意欲!T8:AE8)<>12,\"\",AVERAGE(消費意欲!T8:AE8))","v":52.890000000000008},{"$f":"IF(COUNT(消費意欲!U8:AF8)<>12,\"\",AVERAGE(消費意欲!U8:AF8))","v":52.297500000000014},{"$f":"IF(COUNT(消費意欲!V8:AG8)<>12,\"\",AVERAGE(消費意欲!V8:AG8))","v":52.159166666666671},{"$f":"IF(COUNT(消費意欲!W8:AH8)<>12,\"\",AVERAGE(消費意欲!W8:AH8))","v":52.087500000000006},{"$f":"IF(COUNT(消費意欲!X8:AI8)<>12,\"\",AVERAGE(消費意欲!X8:AI8))","v":51.854166666666664},{"$f":"IF(COUNT(消費意欲!Y8:AJ8)<>12,\"\",AVERAGE(消費意欲!Y8:AJ8))","v":52.002499999999998},{"$f":"IF(COUNT(消費意欲!Z8:AK8)<>12,\"\",AVERAGE(消費意欲!Z8:AK8))","v":51.782500000000006},{"$f":"IF(COUNT(消費意欲!AA8:AL8)<>12,\"\",AVERAGE(消費意欲!AA8:AL8))","v":51.474166666666669},{"$f":"IF(COUNT(消費意欲!AB8:AM8)<>12,\"\",AVERAGE(消費意欲!AB8:AM8))","v":51.673333333333325},{"$f":"IF(COUNT(消費意欲!AC8:AN8)<>12,\"\",AVERAGE(消費意欲!AC8:AN8))","v":51.420833333333341},{"$f":"IF(COUNT(消費意欲!AD8:AO8)<>12,\"\",AVERAGE(消費意欲!AD8:AO8))","v":51.120833333333337},{"$f":"IF(COUNT(消費意欲!AE8:AP8)<>12,\"\",AVERAGE(消費意欲!AE8:AP8))","v":50.284166666666664},{"$f":"IF(COUNT(消費意欲!AF8:AQ8)<>12,\"\",AVERAGE(消費意欲!AF8:AQ8))","v":50.570833333333326},{"$f":"IF(COUNT(消費意欲!AG8:AR8)<>12,\"\",AVERAGE(消費意欲!AG8:AR8))","v":51.099999999999994},{"$f":"IF(COUNT(消費意欲!AH8:AS8)<>12,\"\",AVERAGE(消費意欲!AH8:AS8))","v":50.97999999999999},{"$f":"IF(COUNT(消費意欲!AI8:AT8)<>12,\"\",AVERAGE(消費意欲!AI8:AT8))","v":50.952499999999993},{"$f":"IF(COUNT(消費意欲!AJ8:AU8)<>12,\"\",AVERAGE(消費意欲!AJ8:AU8))","v":50.848333333333329},{"$f":"IF(COUNT(消費意欲!AK8:AV8)<>12,\"\",AVERAGE(消費意欲!AK8:AV8))","v":50.995000000000005},{"$f":"IF(COUNT(消費意欲!AL8:AW8)<>12,\"\",AVERAGE(消費意欲!AL8:AW8))","v":51.198333333333331},{"$f":"IF(COUNT(消費意欲!AM8:AX8)<>12,\"\",AVERAGE(消費意欲!AM8:AX8))","v":51.537500000000001},{"$f":"IF(COUNT(消費意欲!AN8:AY8)<>12,\"\",AVERAGE(消費意欲!AN8:AY8))","v":51.515000000000008},{"$f":"IF(COUNT(消費意欲!AO8:AZ8)<>12,\"\",AVERAGE(消費意欲!AO8:AZ8))","v":51.780833333333334},{"$f":"IF(COUNT(消費意欲!AP8:BA8)<>12,\"\",AVERAGE(消費意欲!AP8:BA8))","v":51.73416666666666},{"$f":"IF(COUNT(消費意欲!AQ8:BB8)<>12,\"\",AVERAGE(消費意欲!AQ8:BB8))","v":51.67166666666666},{"$f":"IF(COUNT(消費意欲!AR8:BC8)<>12,\"\",AVERAGE(消費意欲!AR8:BC8))","v":51.696666666666665},{"$f":"IF(COUNT(消費意欲!AS8:BD8)<>12,\"\",AVERAGE(消費意欲!AS8:BD8))","v":51.460833333333333},{"$f":"IF(COUNT(消費意欲!AT8:BE8)<>12,\"\",AVERAGE(消費意欲!AT8:BE8))","v":""},{"$f":"IF(COUNT(消費意欲!AU8:BF8)<>12,\"\",AVERAGE(消費意欲!AU8:BF8))","v":""},{"$f":"IF(COUNT(消費意欲!AV8:BG8)<>12,\"\",AVERAGE(消費意欲!AV8:BG8))","v":""},{"$f":"IF(COUNT(消費意欲!AW8:BH8)<>12,\"\",AVERAGE(消費意欲!AW8:BH8))","v":""},{"$f":"IF(COUNT(消費意欲!AX8:BI8)<>12,\"\",AVERAGE(消費意欲!AX8:BI8))","v":""},{"$f":"IF(COUNT(消費意欲!AY8:BJ8)<>12,\"\",AVERAGE(消費意欲!AY8:BJ8))","v":""},{"$f":"IF(COUNT(消費意欲!AZ8:BK8)<>12,\"\",AVERAGE(消費意欲!AZ8:BK8))","v":""},{"$f":"IF(COUNT(消費意欲!BA8:BL8)<>12,\"\",AVERAGE(消費意欲!BA8:BL8))","v":""},{"$f":"IF(COUNT(消費意欲!BB8:BM8)<>12,\"\",AVERAGE(消費意欲!BB8:BM8))","v":""},{"$f":"IF(COUNT(消費意欲!BC8:BN8)<>12,\"\",AVERAGE(消費意欲!BC8:BN8))","v":""},{"$f":"IF(COUNT(消費意欲!BD8:BO8)<>12,\"\",AVERAGE(消費意欲!BD8:BO8))","v":""},{"$f":"IF(COUNT(消費意欲!BE8:BP8)<>12,\"\",AVERAGE(消費意欲!BE8:BP8))","v":""},{"$f":"IF(COUNT(消費意欲!BF8:BQ8)<>12,\"\",AVERAGE(消費意欲!BF8:BQ8))","v":""},{"$f":"IF(COUNT(消費意欲!BG8:BR8)<>12,\"\",AVERAGE(消費意欲!BG8:BR8))","v":""},{"$f":"IF(COUNT(消費意欲!BH8:BS8)<>12,\"\",AVERAGE(消費意欲!BH8:BS8))","v":""},{"$f":"IF(COUNT(消費意欲!BI8:BT8)<>12,\"\",AVERAGE(消費意欲!BI8:BT8))","v":""},{"$f":"IF(COUNT(消費意欲!BJ8:BU8)<>12,\"\",AVERAGE(消費意欲!BJ8:BU8))","v":""},{"$f":"IF(COUNT(消費意欲!BK8:BV8)<>12,\"\",AVERAGE(消費意欲!BK8:BV8))","v":""},{"$f":"IF(COUNT(消費意欲!BL8:BW8)<>12,\"\",AVERAGE(消費意欲!BL8:BW8))","v":""},{"$f":"IF(COUNT(消費意欲!BM8:BX8)<>12,\"\",AVERAGE(消費意欲!BM8:BX8))","v":""},{"$f":"IF(COUNT(消費意欲!BN8:BY8)<>12,\"\",AVERAGE(消費意欲!BN8:BY8))","v":""},{"$f":"IF(COUNT(消費意欲!BO8:BZ8)<>12,\"\",AVERAGE(消費意欲!BO8:BZ8))","v":""},{"$f":"IF(COUNT(消費意欲!BP8:CA8)<>12,\"\",AVERAGE(消費意欲!BP8:CA8))","v":""},{"$f":"IF(COUNT(消費意欲!BQ8:CB8)<>12,\"\",AVERAGE(消費意欲!BQ8:CB8))","v":""},{"$f":"IF(COUNT(消費意欲!BR8:CC8)<>12,\"\",AVERAGE(消費意欲!BR8:CC8))","v":""},{"$f":"IF(COUNT(消費意欲!BS8:CD8)<>12,\"\",AVERAGE(消費意欲!BS8:CD8))","v":""},{"$f":"IF(COUNT(消費意欲!BT8:CE8)<>12,\"\",AVERAGE(消費意欲!BT8:CE8))","v":""},{"$f":"IF(COUNT(消費意欲!BU8:CF8)<>12,\"\",AVERAGE(消費意欲!BU8:CF8))","v":""},{"$f":"IF(COUNT(消費意欲!BV8:CG8)<>12,\"\",AVERAGE(消費意欲!BV8:CG8))","v":""},{"$f":"IF(COUNT(消費意欲!BW8:CH8)<>12,\"\",AVERAGE(消費意欲!BW8:CH8))","v":""},{"$f":"IF(COUNT(消費意欲!BX8:CI8)<>12,\"\",AVERAGE(消費意欲!BX8:CI8))","v":""},{"$f":"IF(COUNT(消費意欲!BY8:CJ8)<>12,\"\",AVERAGE(消費意欲!BY8:CJ8))","v":""},{"$f":"IF(COUNT(消費意欲!BZ8:CK8)<>12,\"\",AVERAGE(消費意欲!BZ8:CK8))","v":""},{"$f":"IF(COUNT(消費意欲!CA8:CL8)<>12,\"\",AVERAGE(消費意欲!CA8:CL8))","v":""},{"$f":"IF(COUNT(消費意欲!CB8:CM8)<>12,\"\",AVERAGE(消費意欲!CB8:CM8))","v":""},{"$f":"IF(COUNT(消費意欲!CC8:CN8)<>12,\"\",AVERAGE(消費意欲!CC8:CN8))","v":""},{"$f":"IF(COUNT(消費意欲!CD8:CO8)<>12,\"\",AVERAGE(消費意欲!CD8:CO8))","v":""},{"$f":"IF(COUNT(消費意欲!CE8:CP8)<>12,\"\",AVERAGE(消費意欲!CE8:CP8))","v":""},{"$f":"IF(COUNT(消費意欲!CF8:CQ8)<>12,\"\",AVERAGE(消費意欲!CF8:CQ8))","v":""},{"$f":"IF(COUNT(消費意欲!CG8:CR8)<>12,\"\",AVERAGE(消費意欲!CG8:CR8))","v":""},{"$f":"IF(COUNT(消費意欲!CH8:CS8)<>12,\"\",AVERAGE(消費意欲!CH8:CS8))","v":""},{"$f":"IF(COUNT(消費意欲!CI8:CT8)<>12,\"\",AVERAGE(消費意欲!CI8:CT8))","v":""},{"$f":"IF(COUNT(消費意欲!CJ8:CU8)<>12,\"\",AVERAGE(消費意欲!CJ8:CU8))","v":""},{"$f":"IF(COUNT(消費意欲!CK8:CV8)<>12,\"\",AVERAGE(消費意欲!CK8:CV8))","v":""},{"$f":"IF(COUNT(消費意欲!CL8:CW8)<>12,\"\",AVERAGE(消費意欲!CL8:CW8))","v":""},{"$f":"IF(COUNT(消費意欲!CM8:CX8)<>12,\"\",AVERAGE(消費意欲!CM8:CX8))","v":""},{"$f":"IF(COUNT(消費意欲!CN8:CY8)<>12,\"\",AVERAGE(消費意欲!CN8:CY8))","v":""},{"$f":"IF(COUNT(消費意欲!CO8:CZ8)<>12,\"\",AVERAGE(消費意欲!CO8:CZ8))","v":""},{"$f":"IF(COUNT(消費意欲!CP8:DA8)<>12,\"\",AVERAGE(消費意欲!CP8:DA8))","v":""},{"$f":"IF(COUNT(消費意欲!CQ8:DB8)<>12,\"\",AVERAGE(消費意欲!CQ8:DB8))","v":""},{"$f":"IF(COUNT(消費意欲!CR8:DC8)<>12,\"\",AVERAGE(消費意欲!CR8:DC8))","v":""},{"$f":"IF(COUNT(消費意欲!CS8:DD8)<>12,\"\",AVERAGE(消費意欲!CS8:DD8))","v":""},{"$f":"IF(COUNT(消費意欲!CT8:DE8)<>12,\"\",AVERAGE(消費意欲!CT8:DE8))","v":""},{"$f":"IF(COUNT(消費意欲!CU8:DF8)<>12,\"\",AVERAGE(消費意欲!CU8:DF8))","v":""},{"$f":"IF(COUNT(消費意欲!CV8:DG8)<>12,\"\",AVERAGE(消費意欲!CV8:DG8))","v":""}]
[null,"年代別","20代",null,null,null,null,null,null,null,null,null,null,null,null,null,null,null,{"$f":"IF(COUNT(消費意欲!H9:S9)<>12,\"\",AVERAGE(消費意欲!H9:S9))","v":54.390000000000008},{"$f":"IF(COUNT(消費意欲!I9:T9)<>12,\"\",AVERAGE(消費意欲!I9:T9))","v":54.400000000000006},{"$f":"IF(COUNT(消費意欲!J9:U9)<>12,\"\",AVERAGE(消費意欲!J9:U9))","v":54.029166666666676},{"$f":"IF(COUNT(消費意欲!K9:V9)<>12,\"\",AVERAGE(消費意欲!K9:V9))","v":53.453333333333347},{"$f":"IF(COUNT(消費意欲!L9:W9)<>12,\"\",AVERAGE(消費意欲!L9:W9))","v":53.581666666666678},{"$f":"IF(COUNT(消費意欲!M9:X9)<>12,\"\",AVERAGE(消費意欲!M9:X9))","v":53.330000000000005},{"$f":"IF(COUNT(消費意欲!N9:Y9)<>12,\"\",AVERAGE(消費意欲!N9:Y9))","v":53.409166666666664},{"$f":"IF(COUNT(消費意欲!O9:Z9)<>12,\"\",AVERAGE(消費意欲!O9:Z9))","v":53.188333333333333},{"$f":"IF(COUNT(消費意欲!P9:AA9)<>12,\"\",AVERAGE(消費意欲!P9:AA9))","v":53.206666666666671},{"$f":"IF(COUNT(消費意欲!Q9:AB9)<>12,\"\",AVERAGE(消費意欲!Q9:AB9))","v":52.729166666666664},{"$f":"IF(COUNT(消費意欲!R9:AC9)<>12,\"\",AVERAGE(消費意欲!R9:AC9))","v":52.898333333333333},{"$f":"IF(COUNT(消費意欲!S9:AD9)<>12,\"\",AVERAGE(消費意欲!S9:AD9))","v":53.091666666666669},{"$f":"IF(COUNT(消費意欲!T9:AE9)<>12,\"\",AVERAGE(消費意欲!T9:AE9))","v":52.699166666666656},{"$f":"IF(COUNT(消費意欲!U9:AF9)<>12,\"\",AVERAGE(消費意欲!U9:AF9))","v":52.43416666666667},{"$f":"IF(COUNT(消費意欲!V9:AG9)<>12,\"\",AVERAGE(消費意欲!V9:AG9))","v":52.344166666666666},{"$f":"IF(COUNT(消費意欲!W9:AH9)<>12,\"\",AVERAGE(消費意欲!W9:AH9))","v":52.250833333333333},{"$f":"IF(COUNT(消費意欲!X9:AI9)<>12,\"\",AVERAGE(消費意欲!X9:AI9))","v":52.042499999999997},{"$f":"IF(COUNT(消費意欲!Y9:AJ9)<>12,\"\",AVERAGE(消費意欲!Y9:AJ9))","v":52.331666666666671},{"$f":"IF(COUNT(消費意欲!Z9:AK9)<>12,\"\",AVERAGE(消費意欲!Z9:AK9))","v":52.018333333333338},{"$f":"IF(COUNT(消費意欲!AA9:AL9)<>12,\"\",AVERAGE(消費意欲!AA9:AL9))","v":52.054166666666667},{"$f":"IF(COUNT(消費意欲!AB9:AM9)<>12,\"\",AVERAGE(消費意欲!AB9:AM9))","v":52.01},{"$f":"IF(COUNT(消費意欲!AC9:AN9)<>12,\"\",AVERAGE(消費意欲!AC9:AN9))","v":51.889999999999993},{"$f":"IF(COUNT(消費意欲!AD9:AO9)<>12,\"\",AVERAGE(消費意欲!AD9:AO9))","v":51.756666666666668},{"$f":"IF(COUNT(消費意欲!AE9:AP9)<>12,\"\",AVERAGE(消費意欲!AE9:AP9))","v":51.043333333333344},{"$f":"IF(COUNT(消費意欲!AF9:AQ9)<>12,\"\",AVERAGE(消費意欲!AF9:AQ9))","v":51.402500000000011},{"$f":"IF(COUNT(消費意欲!AG9:AR9)<>12,\"\",AVERAGE(消費意欲!AG9:AR9))","v":51.417500000000018},{"$f":"IF(COUNT(消費意欲!AH9:AS9)<>12,\"\",AVERAGE(消費意欲!AH9:AS9))","v":51.35250000000002},{"$f":"IF(COUNT(消費意欲!AI9:AT9)<>12,\"\",AVERAGE(消費意欲!AI9:AT9))","v":51.333333333333343},{"$f":"IF(COUNT(消費意欲!AJ9:AU9)<>12,\"\",AVERAGE(消費意欲!AJ9:AU9))","v":51.108333333333327},{"$f":"IF(COUNT(消費意欲!AK9:AV9)<>12,\"\",AVERAGE(消費意欲!AK9:AV9))","v":50.807499999999997},{"$f":"IF(COUNT(消費意欲!AL9:AW9)<>12,\"\",AVERAGE(消費意欲!AL9:AW9))","v":50.989166666666655},{"$f":"IF(COUNT(消費意欲!AM9:AX9)<>12,\"\",AVERAGE(消費意欲!AM9:AX9))","v":51.014166666666675},{"$f":"IF(COUNT(消費意欲!AN9:AY9)<>12,\"\",AVERAGE(消費意欲!AN9:AY9))","v":51.006666666666668},{"$f":"IF(COUNT(消費意欲!AO9:AZ9)<>12,\"\",AVERAGE(消費意欲!AO9:AZ9))","v":51.082500000000003},{"$f":"IF(COUNT(消費意欲!AP9:BA9)<>12,\"\",AVERAGE(消費意欲!AP9:BA9))","v":51.040833333333332},{"$f":"IF(COUNT(消費意欲!AQ9:BB9)<>12,\"\",AVERAGE(消費意欲!AQ9:BB9))","v":51.32833333333334},{"$f":"IF(COUNT(消費意欲!AR9:BC9)<>12,\"\",AVERAGE(消費意欲!AR9:BC9))","v":51.155833333333334},{"$f":"IF(COUNT(消費意欲!AS9:BD9)<>12,\"\",AVERAGE(消費意欲!AS9:BD9))","v":51.200833333333343},{"$f":"IF(COUNT(消費意欲!AT9:BE9)<>12,\"\",AVERAGE(消費意欲!AT9:BE9))","v":""},{"$f":"IF(COUNT(消費意欲!AU9:BF9)<>12,\"\",AVERAGE(消費意欲!AU9:BF9))","v":""},{"$f":"IF(COUNT(消費意欲!AV9:BG9)<>12,\"\",AVERAGE(消費意欲!AV9:BG9))","v":""},{"$f":"IF(COUNT(消費意欲!AW9:BH9)<>12,\"\",AVERAGE(消費意欲!AW9:BH9))","v":""},{"$f":"IF(COUNT(消費意欲!AX9:BI9)<>12,\"\",AVERAGE(消費意欲!AX9:BI9))","v":""},{"$f":"IF(COUNT(消費意欲!AY9:BJ9)<>12,\"\",AVERAGE(消費意欲!AY9:BJ9))","v":""},{"$f":"IF(COUNT(消費意欲!AZ9:BK9)<>12,\"\",AVERAGE(消費意欲!AZ9:BK9))","v":""},{"$f":"IF(COUNT(消費意欲!BA9:BL9)<>12,\"\",AVERAGE(消費意欲!BA9:BL9))","v":""},{"$f":"IF(COUNT(消費意欲!BB9:BM9)<>12,\"\",AVERAGE(消費意欲!BB9:BM9))","v":""},{"$f":"IF(COUNT(消費意欲!BC9:BN9)<>12,\"\",AVERAGE(消費意欲!BC9:BN9))","v":""},{"$f":"IF(COUNT(消費意欲!BD9:BO9)<>12,\"\",AVERAGE(消費意欲!BD9:BO9))","v":""},{"$f":"IF(COUNT(消費意欲!BE9:BP9)<>12,\"\",AVERAGE(消費意欲!BE9:BP9))","v":""},{"$f":"IF(COUNT(消費意欲!BF9:BQ9)<>12,\"\",AVERAGE(消費意欲!BF9:BQ9))","v":""},{"$f":"IF(COUNT(消費意欲!BG9:BR9)<>12,\"\",AVERAGE(消費意欲!BG9:BR9))","v":""},{"$f":"IF(COUNT(消費意欲!BH9:BS9)<>12,\"\",AVERAGE(消費意欲!BH9:BS9))","v":""},{"$f":"IF(COUNT(消費意欲!BI9:BT9)<>12,\"\",AVERAGE(消費意欲!BI9:BT9))","v":""},{"$f":"IF(COUNT(消費意欲!BJ9:BU9)<>12,\"\",AVERAGE(消費意欲!BJ9:BU9))","v":""},{"$f":"IF(COUNT(消費意欲!BK9:BV9)<>12,\"\",AVERAGE(消費意欲!BK9:BV9))","v":""},{"$f":"IF(COUNT(消費意欲!BL9:BW9)<>12,\"\",AVERAGE(消費意欲!BL9:BW9))","v":""},{"$f":"IF(COUNT(消費意欲!BM9:BX9)<>12,\"\",AVERAGE(消費意欲!BM9:BX9))","v":""},{"$f":"IF(COUNT(消費意欲!BN9:BY9)<>12,\"\",AVERAGE(消費意欲!BN9:BY9))","v":""},{"$f":"IF(COUNT(消費意欲!BO9:BZ9)<>12,\"\",AVERAGE(消費意欲!BO9:BZ9))","v":""},{"$f":"IF(COUNT(消費意欲!BP9:CA9)<>12,\"\",AVERAGE(消費意欲!BP9:CA9))","v":""},{"$f":"IF(COUNT(消費意欲!BQ9:CB9)<>12,\"\",AVERAGE(消費意欲!BQ9:CB9))","v":""},{"$f":"IF(COUNT(消費意欲!BR9:CC9)<>12,\"\",AVERAGE(消費意欲!BR9:CC9))","v":""},{"$f":"IF(COUNT(消費意欲!BS9:CD9)<>12,\"\",AVERAGE(消費意欲!BS9:CD9))","v":""},{"$f":"IF(COUNT(消費意欲!BT9:CE9)<>12,\"\",AVERAGE(消費意欲!BT9:CE9))","v":""},{"$f":"IF(COUNT(消費意欲!BU9:CF9)<>12,\"\",AVERAGE(消費意欲!BU9:CF9))","v":""},{"$f":"IF(COUNT(消費意欲!BV9:CG9)<>12,\"\",AVERAGE(消費意欲!BV9:CG9))","v":""},{"$f":"IF(COUNT(消費意欲!BW9:CH9)<>12,\"\",AVERAGE(消費意欲!BW9:CH9))","v":""},{"$f":"IF(COUNT(消費意欲!BX9:CI9)<>12,\"\",AVERAGE(消費意欲!BX9:CI9))","v":""},{"$f":"IF(COUNT(消費意欲!BY9:CJ9)<>12,\"\",AVERAGE(消費意欲!BY9:CJ9))","v":""},{"$f":"IF(COUNT(消費意欲!BZ9:CK9)<>12,\"\",AVERAGE(消費意欲!BZ9:CK9))","v":""},{"$f":"IF(COUNT(消費意欲!CA9:CL9)<>12,\"\",AVERAGE(消費意欲!CA9:CL9))","v":""},{"$f":"IF(COUNT(消費意欲!CB9:CM9)<>12,\"\",AVERAGE(消費意欲!CB9:CM9))","v":""},{"$f":"IF(COUNT(消費意欲!CC9:CN9)<>12,\"\",AVERAGE(消費意欲!CC9:CN9))","v":""},{"$f":"IF(COUNT(消費意欲!CD9:CO9)<>12,\"\",AVERAGE(消費意欲!CD9:CO9))","v":""},{"$f":"IF(COUNT(消費意欲!CE9:CP9)<>12,\"\",AVERAGE(消費意欲!CE9:CP9))","v":""},{"$f":"IF(COUNT(消費意欲!CF9:CQ9)<>12,\"\",AVERAGE(消費意欲!CF9:CQ9))","v":""},{"$f":"IF(COUNT(消費意欲!CG9:CR9)<>12,\"\",AVERAGE(消費意欲!CG9:CR9))","v":""},{"$f":"IF(COUNT(消費意欲!CH9:CS9)<>12,\"\",AVERAGE(消費意欲!CH9:CS9))","v":""},{"$f":"IF(COUNT(消費意欲!CI9:CT9)<>12,\"\",AVERAGE(消費意欲!CI9:CT9))","v":""},{"$f":"IF(COUNT(消費意欲!CJ9:CU9)<>12,\"\",AVERAGE(消費意欲!CJ9:CU9))","v":""},{"$f":"IF(COUNT(消費意欲!CK9:CV9)<>12,\"\",AVERAGE(消費意欲!CK9:CV9))","v":""},{"$f":"IF(COUNT(消費意欲!CL9:CW9)<>12,\"\",AVERAGE(消費意欲!CL9:CW9))","v":""},{"$f":"IF(COUNT(消費意欲!CM9:CX9)<>12,\"\",AVERAGE(消費意欲!CM9:CX9))","v":""},{"$f":"IF(COUNT(消費意欲!CN9:CY9)<>12,\"\",AVERAGE(消費意欲!CN9:CY9))","v":""},{"$f":"IF(COUNT(消費意欲!CO9:CZ9)<>12,\"\",AVERAGE(消費意欲!CO9:CZ9))","v":""},{"$f":"IF(COUNT(消費意欲!CP9:DA9)<>12,\"\",AVERAGE(消費意欲!CP9:DA9))","v":""},{"$f":"IF(COUNT(消費意欲!CQ9:DB9)<>12,\"\",AVERAGE(消費意欲!CQ9:DB9))","v":""},{"$f":"IF(COUNT(消費意欲!CR9:DC9)<>12,\"\",AVERAGE(消費意欲!CR9:DC9))","v":""},{"$f":"IF(COUNT(消費意欲!CS9:DD9)<>12,\"\",AVERAGE(消費意欲!CS9:DD9))","v":""},{"$f":"IF(COUNT(消費意欲!CT9:DE9)<>12,\"\",AVERAGE(消費意欲!CT9:DE9))","v":""},{"$f":"IF(COUNT(消費意欲!CU9:DF9)<>12,\"\",AVERAGE(消費意欲!CU9:DF9))","v":""},{"$f":"IF(COUNT(消費意欲!CV9:DG9)<>12,\"\",AVERAGE(消費意欲!CV9:DG9))","v":""}]
[null,null,"30代",null,null,null,null,null,null,null,null,null,null,null,null,null,null,null,{"$f":"IF(COUNT(消費意欲!H10:S10)<>12,\"\",AVERAGE(消費意欲!H10:S10))","v":51.806666666666665},{"$f":"IF(COUNT(消費意欲!I10:T10)<>12,\"\",AVERAGE(消費意欲!I10:T10))","v":51.426666666666669},{"$f":"IF(COUNT(消費意欲!J10:U10)<>12,\"\",AVERAGE(消費意欲!J10:U10))","v":51.098333333333329},{"$f":"IF(COUNT(消費意欲!K10:V10)<>12,\"\",AVERAGE(消費意欲!K10:V10))","v":50.838333333333338},{"$f":"IF(COUNT(消費意欲!L10:W10)<>12,\"\",AVERAGE(消費意欲!L10:W10))","v":50.813333333333333},{"$f":"IF(COUNT(消費意欲!M10:X10)<>12,\"\",AVERAGE(消費意欲!M10:X10))","v":50.236666666666657},{"$f":"IF(COUNT(消費意欲!N10:Y10)<>12,\"\",AVERAGE(消費意欲!N10:Y10))","v":50.25083333333334},{"$f":"IF(COUNT(消費意欲!O10:Z10)<>12,\"\",AVERAGE(消費意欲!O10:Z10))","v":50.216666666666669},{"$f":"IF(COUNT(消費意欲!P10:AA10)<>12,\"\",AVERAGE(消費意欲!P10:AA10))","v":50.323333333333331},{"$f":"IF(COUNT(消費意欲!Q10:AB10)<>12,\"\",AVERAGE(消費意欲!Q10:AB10))","v":49.882499999999993},{"$f":"IF(COUNT(消費意欲!R10:AC10)<>12,\"\",AVERAGE(消費意欲!R10:AC10))","v":50.301666666666669},{"$f":"IF(COUNT(消費意欲!S10:AD10)<>12,\"\",AVERAGE(消費意欲!S10:AD10))","v":50.618333333333332},{"$f":"IF(COUNT(消費意欲!T10:AE10)<>12,\"\",AVERAGE(消費意欲!T10:AE10))","v":50.161666666666669},{"$f":"IF(COUNT(消費意欲!U10:AF10)<>12,\"\",AVERAGE(消費意欲!U10:AF10))","v":49.88},{"$f":"IF(COUNT(消費意欲!V10:AG10)<>12,\"\",AVERAGE(消費意欲!V10:AG10))","v":49.752499999999998},{"$f":"IF(COUNT(消費意欲!W10:AH10)<>12,\"\",AVERAGE(消費意欲!W10:AH10))","v":49.663333333333327},{"$f":"IF(COUNT(消費意欲!X10:AI10)<>12,\"\",AVERAGE(消費意欲!X10:AI10))","v":49.502499999999998},{"$f":"IF(COUNT(消費意欲!Y10:AJ10)<>12,\"\",AVERAGE(消費意欲!Y10:AJ10))","v":49.509166666666665},{"$f":"IF(COUNT(消費意欲!Z10:AK10)<>12,\"\",AVERAGE(消費意欲!Z10:AK10))","v":49.349166666666669},{"$f":"IF(COUNT(消費意欲!AA10:AL10)<>12,\"\",AVERAGE(消費意欲!AA10:AL10))","v":49.215833333333336},{"$f":"IF(COUNT(消費意欲!AB10:AM10)<>12,\"\",AVERAGE(消費意欲!AB10:AM10))","v":49.409166666666664},{"$f":"IF(COUNT(消費意欲!AC10:AN10)<>12,\"\",AVERAGE(消費意欲!AC10:AN10))","v":49.354999999999997},{"$f":"IF(COUNT(消費意欲!AD10:AO10)<>12,\"\",AVERAGE(消費意欲!AD10:AO10))","v":48.795833333333327},{"$f":"IF(COUNT(消費意欲!AE10:AP10)<>12,\"\",AVERAGE(消費意欲!AE10:AP10))","v":48.074166666666663},{"$f":"IF(COUNT(消費意欲!AF10:AQ10)<>12,\"\",AVERAGE(消費意欲!AF10:AQ10))","v":48.346666666666671},{"$f":"IF(COUNT(消費意欲!AG10:AR10)<>12,\"\",AVERAGE(消費意欲!AG10:AR10))","v":48.79},{"$f":"IF(COUNT(消費意欲!AH10:AS10)<>12,\"\",AVERAGE(消費意欲!AH10:AS10))","v":48.7425},{"$f":"IF(COUNT(消費意欲!AI10:AT10)<>12,\"\",AVERAGE(消費意欲!AI10:AT10))","v":48.87916666666667},{"$f":"IF(COUNT(消費意欲!AJ10:AU10)<>12,\"\",AVERAGE(消費意欲!AJ10:AU10))","v":48.987500000000004},{"$f":"IF(COUNT(消費意欲!AK10:AV10)<>12,\"\",AVERAGE(消費意欲!AK10:AV10))","v":49.140833333333326},{"$f":"IF(COUNT(消費意欲!AL10:AW10)<>12,\"\",AVERAGE(消費意欲!AL10:AW10))","v":49.455000000000005},{"$f":"IF(COUNT(消費意欲!AM10:AX10)<>12,\"\",AVERAGE(消費意欲!AM10:AX10))","v":49.391666666666673},{"$f":"IF(COUNT(消費意欲!AN10:AY10)<>12,\"\",AVERAGE(消費意欲!AN10:AY10))","v":49.334166666666675},{"$f":"IF(COUNT(消費意欲!AO10:AZ10)<>12,\"\",AVERAGE(消費意欲!AO10:AZ10))","v":49.457500000000003},{"$f":"IF(COUNT(消費意欲!AP10:BA10)<>12,\"\",AVERAGE(消費意欲!AP10:BA10))","v":49.472499999999989},{"$f":"IF(COUNT(消費意欲!AQ10:BB10)<>12,\"\",AVERAGE(消費意欲!AQ10:BB10))","v":49.495000000000005},{"$f":"IF(COUNT(消費意欲!AR10:BC10)<>12,\"\",AVERAGE(消費意欲!AR10:BC10))","v":49.455833333333324},{"$f":"IF(COUNT(消費意欲!AS10:BD10)<>12,\"\",AVERAGE(消費意欲!AS10:BD10))","v":49.194166666666661},{"$f":"IF(COUNT(消費意欲!AT10:BE10)<>12,\"\",AVERAGE(消費意欲!AT10:BE10))","v":""},{"$f":"IF(COUNT(消費意欲!AU10:BF10)<>12,\"\",AVERAGE(消費意欲!AU10:BF10))","v":""},{"$f":"IF(COUNT(消費意欲!AV10:BG10)<>12,\"\",AVERAGE(消費意欲!AV10:BG10))","v":""},{"$f":"IF(COUNT(消費意欲!AW10:BH10)<>12,\"\",AVERAGE(消費意欲!AW10:BH10))","v":""},{"$f":"IF(COUNT(消費意欲!AX10:BI10)<>12,\"\",AVERAGE(消費意欲!AX10:BI10))","v":""},{"$f":"IF(COUNT(消費意欲!AY10:BJ10)<>12,\"\",AVERAGE(消費意欲!AY10:BJ10))","v":""},{"$f":"IF(COUNT(消費意欲!AZ10:BK10)<>12,\"\",AVERAGE(消費意欲!AZ10:BK10))","v":""},{"$f":"IF(COUNT(消費意欲!BA10:BL10)<>12,\"\",AVERAGE(消費意欲!BA10:BL10))","v":""},{"$f":"IF(COUNT(消費意欲!BB10:BM10)<>12,\"\",AVERAGE(消費意欲!BB10:BM10))","v":""},{"$f":"IF(COUNT(消費意欲!BC10:BN10)<>12,\"\",AVERAGE(消費意欲!BC10:BN10))","v":""},{"$f":"IF(COUNT(消費意欲!BD10:BO10)<>12,\"\",AVERAGE(消費意欲!BD10:BO10))","v":""},{"$f":"IF(COUNT(消費意欲!BE10:BP10)<>12,\"\",AVERAGE(消費意欲!BE10:BP10))","v":""},{"$f":"IF(COUNT(消費意欲!BF10:BQ10)<>12,\"\",AVERAGE(消費意欲!BF10:BQ10))","v":""},{"$f":"IF(COUNT(消費意欲!BG10:BR10)<>12,\"\",AVERAGE(消費意欲!BG10:BR10))","v":""},{"$f":"IF(COUNT(消費意欲!BH10:BS10)<>12,\"\",AVERAGE(消費意欲!BH10:BS10))","v":""},{"$f":"IF(COUNT(消費意欲!BI10:BT10)<>12,\"\",AVERAGE(消費意欲!BI10:BT10))","v":""},{"$f":"IF(COUNT(消費意欲!BJ10:BU10)<>12,\"\",AVERAGE(消費意欲!BJ10:BU10))","v":""},{"$f":"IF(COUNT(消費意欲!BK10:BV10)<>12,\"\",AVERAGE(消費意欲!BK10:BV10))","v":""},{"$f":"IF(COUNT(消費意欲!BL10:BW10)<>12,\"\",AVERAGE(消費意欲!BL10:BW10))","v":""},{"$f":"IF(COUNT(消費意欲!BM10:BX10)<>12,\"\",AVERAGE(消費意欲!BM10:BX10))","v":""},{"$f":"IF(COUNT(消費意欲!BN10:BY10)<>12,\"\",AVERAGE(消費意欲!BN10:BY10))","v":""},{"$f":"IF(COUNT(消費意欲!BO10:BZ10)<>12,\"\",AVERAGE(消費意欲!BO10:BZ10))","v":""},{"$f":"IF(COUNT(消費意欲!BP10:CA10)<>12,\"\",AVERAGE(消費意欲!BP10:CA10))","v":""},{"$f":"IF(COUNT(消費意欲!BQ10:CB10)<>12,\"\",AVERAGE(消費意欲!BQ10:CB10))","v":""},{"$f":"IF(COUNT(消費意欲!BR10:CC10)<>12,\"\",AVERAGE(消費意欲!BR10:CC10))","v":""},{"$f":"IF(COUNT(消費意欲!BS10:CD10)<>12,\"\",AVERAGE(消費意欲!BS10:CD10))","v":""},{"$f":"IF(COUNT(消費意欲!BT10:CE10)<>12,\"\",AVERAGE(消費意欲!BT10:CE10))","v":""},{"$f":"IF(COUNT(消費意欲!BU10:CF10)<>12,\"\",AVERAGE(消費意欲!BU10:CF10))","v":""},{"$f":"IF(COUNT(消費意欲!BV10:CG10)<>12,\"\",AVERAGE(消費意欲!BV10:CG10))","v":""},{"$f":"IF(COUNT(消費意欲!BW10:CH10)<>12,\"\",AVERAGE(消費意欲!BW10:CH10))","v":""},{"$f":"IF(COUNT(消費意欲!BX10:CI10)<>12,\"\",AVERAGE(消費意欲!BX10:CI10))","v":""},{"$f":"IF(COUNT(消費意欲!BY10:CJ10)<>12,\"\",AVERAGE(消費意欲!BY10:CJ10))","v":""},{"$f":"IF(COUNT(消費意欲!BZ10:CK10)<>12,\"\",AVERAGE(消費意欲!BZ10:CK10))","v":""},{"$f":"IF(COUNT(消費意欲!CA10:CL10)<>12,\"\",AVERAGE(消費意欲!CA10:CL10))","v":""},{"$f":"IF(COUNT(消費意欲!CB10:CM10)<>12,\"\",AVERAGE(消費意欲!CB10:CM10))","v":""},{"$f":"IF(COUNT(消費意欲!CC10:CN10)<>12,\"\",AVERAGE(消費意欲!CC10:CN10))","v":""},{"$f":"IF(COUNT(消費意欲!CD10:CO10)<>12,\"\",AVERAGE(消費意欲!CD10:CO10))","v":""},{"$f":"IF(COUNT(消費意欲!CE10:CP10)<>12,\"\",AVERAGE(消費意欲!CE10:CP10))","v":""},{"$f":"IF(COUNT(消費意欲!CF10:CQ10)<>12,\"\",AVERAGE(消費意欲!CF10:CQ10))","v":""},{"$f":"IF(COUNT(消費意欲!CG10:CR10)<>12,\"\",AVERAGE(消費意欲!CG10:CR10))","v":""},{"$f":"IF(COUNT(消費意欲!CH10:CS10)<>12,\"\",AVERAGE(消費意欲!CH10:CS10))","v":""},{"$f":"IF(COUNT(消費意欲!CI10:CT10)<>12,\"\",AVERAGE(消費意欲!CI10:CT10))","v":""},{"$f":"IF(COUNT(消費意欲!CJ10:CU10)<>12,\"\",AVERAGE(消費意欲!CJ10:CU10))","v":""},{"$f":"IF(COUNT(消費意欲!CK10:CV10)<>12,\"\",AVERAGE(消費意欲!CK10:CV10))","v":""},{"$f":"IF(COUNT(消費意欲!CL10:CW10)<>12,\"\",AVERAGE(消費意欲!CL10:CW10))","v":""},{"$f":"IF(COUNT(消費意欲!CM10:CX10)<>12,\"\",AVERAGE(消費意欲!CM10:CX10))","v":""},{"$f":"IF(COUNT(消費意欲!CN10:CY10)<>12,\"\",AVERAGE(消費意欲!CN10:CY10))","v":""},{"$f":"IF(COUNT(消費意欲!CO10:CZ10)<>12,\"\",AVERAGE(消費意欲!CO10:CZ10))","v":""},{"$f":"IF(COUNT(消費意欲!CP10:DA10)<>12,\"\",AVERAGE(消費意欲!CP10:DA10))","v":""},{"$f":"IF(COUNT(消費意欲!CQ10:DB10)<>12,\"\",AVERAGE(消費意欲!CQ10:DB10))","v":""},{"$f":"IF(COUNT(消費意欲!CR10:DC10)<>12,\"\",AVERAGE(消費意欲!CR10:DC10))","v":""},{"$f":"IF(COUNT(消費意欲!CS10:DD10)<>12,\"\",AVERAGE(消費意欲!CS10:DD10))","v":""},{"$f":"IF(COUNT(消費意欲!CT10:DE10)<>12,\"\",AVERAGE(消費意欲!CT10:DE10))","v":""},{"$f":"IF(COUNT(消費意欲!CU10:DF10)<>12,\"\",AVERAGE(消費意欲!CU10:DF10))","v":""},{"$f":"IF(COUNT(消費意欲!CV10:DG10)<>12,\"\",AVERAGE(消費意欲!CV10:DG10))","v":""}]
[null,null,"40代",null,null,null,null,null,null,null,null,null,null,null,null,null,null,null,{"$f":"IF(COUNT(消費意欲!H11:S11)<>12,\"\",AVERAGE(消費意欲!H11:S11))","v":49.173333333333339},{"$f":"IF(COUNT(消費意欲!I11:T11)<>12,\"\",AVERAGE(消費意欲!I11:T11))","v":49.225000000000001},{"$f":"IF(COUNT(消費意欲!J11:U11)<>12,\"\",AVERAGE(消費意欲!J11:U11))","v":49.060833333333335},{"$f":"IF(COUNT(消費意欲!K11:V11)<>12,\"\",AVERAGE(消費意欲!K11:V11))","v":48.6325},{"$f":"IF(COUNT(消費意欲!L11:W11)<>12,\"\",AVERAGE(消費意欲!L11:W11))","v":48.627499999999998},{"$f":"IF(COUNT(消費意欲!M11:X11)<>12,\"\",AVERAGE(消費意欲!M11:X11))","v":48.098333333333329},{"$f":"IF(COUNT(消費意欲!N11:Y11)<>12,\"\",AVERAGE(消費意欲!N11:Y11))","v":48.343333333333334},{"$f":"IF(COUNT(消費意欲!O11:Z11)<>12,\"\",AVERAGE(消費意欲!O11:Z11))","v":48.320833333333333},{"$f":"IF(COUNT(消費意欲!P11:AA11)<>12,\"\",AVERAGE(消費意欲!P11:AA11))","v":48.09},{"$f":"IF(COUNT(消費意欲!Q11:AB11)<>12,\"\",AVERAGE(消費意欲!Q11:AB11))","v":47.81583333333333},{"$f":"IF(COUNT(消費意欲!R11:AC11)<>12,\"\",AVERAGE(消費意欲!R11:AC11))","v":48.142499999999991},{"$f":"IF(COUNT(消費意欲!S11:AD11)<>12,\"\",AVERAGE(消費意欲!S11:AD11))","v":48.405000000000001},{"$f":"IF(COUNT(消費意欲!T11:AE11)<>12,\"\",AVERAGE(消費意欲!T11:AE11))","v":47.801666666666669},{"$f":"IF(COUNT(消費意欲!U11:AF11)<>12,\"\",AVERAGE(消費意欲!U11:AF11))","v":47.294999999999995},{"$f":"IF(COUNT(消費意欲!V11:AG11)<>12,\"\",AVERAGE(消費意欲!V11:AG11))","v":47.27},{"$f":"IF(COUNT(消費意欲!W11:AH11)<>12,\"\",AVERAGE(消費意欲!W11:AH11))","v":47.224166666666662},{"$f":"IF(COUNT(消費意欲!X11:AI11)<>12,\"\",AVERAGE(消費意欲!X11:AI11))","v":47.098333333333329},{"$f":"IF(COUNT(消費意欲!Y11:AJ11)<>12,\"\",AVERAGE(消費意欲!Y11:AJ11))","v":47.679166666666667},{"$f":"IF(COUNT(消費意欲!Z11:AK11)<>12,\"\",AVERAGE(消費意欲!Z11:AK11))","v":47.51583333333334},{"$f":"IF(COUNT(消費意欲!AA11:AL11)<>12,\"\",AVERAGE(消費意欲!AA11:AL11))","v":47.170833333333341},{"$f":"IF(COUNT(消費意欲!AB11:AM11)<>12,\"\",AVERAGE(消費意欲!AB11:AM11))","v":47.465833333333336},{"$f":"IF(COUNT(消費意欲!AC11:AN11)<>12,\"\",AVERAGE(消費意欲!AC11:AN11))","v":47.194166666666661},{"$f":"IF(COUNT(消費意欲!AD11:AO11)<>12,\"\",AVERAGE(消費意欲!AD11:AO11))","v":46.841666666666669},{"$f":"IF(COUNT(消費意欲!AE11:AP11)<>12,\"\",AVERAGE(消費意欲!AE11:AP11))","v":46.097499999999997},{"$f":"IF(COUNT(消費意欲!AF11:AQ11)<>12,\"\",AVERAGE(消費意欲!AF11:AQ11))","v":46.504166666666663},{"$f":"IF(COUNT(消費意欲!AG11:AR11)<>12,\"\",AVERAGE(消費意欲!AG11:AR11))","v":46.901666666666664},{"$f":"IF(COUNT(消費意欲!AH11:AS11)<>12,\"\",AVERAGE(消費意欲!AH11:AS11))","v":46.759166666666665},{"$f":"IF(COUNT(消費意欲!AI11:AT11)<>12,\"\",AVERAGE(消費意欲!AI11:AT11))","v":46.735833333333325},{"$f":"IF(COUNT(消費意欲!AJ11:AU11)<>12,\"\",AVERAGE(消費意欲!AJ11:AU11))","v":46.727499999999992},{"$f":"IF(COUNT(消費意欲!AK11:AV11)<>12,\"\",AVERAGE(消費意欲!AK11:AV11))","v":46.644166666666656},{"$f":"IF(COUNT(消費意欲!AL11:AW11)<>12,\"\",AVERAGE(消費意欲!AL11:AW11))","v":46.724166666666662},{"$f":"IF(COUNT(消費意欲!AM11:AX11)<>12,\"\",AVERAGE(消費意欲!AM11:AX11))","v":47.05916666666667},{"$f":"IF(COUNT(消費意欲!AN11:AY11)<>12,\"\",AVERAGE(消費意欲!AN11:AY11))","v":46.936666666666667},{"$f":"IF(COUNT(消費意欲!AO11:AZ11)<>12,\"\",AVERAGE(消費意欲!AO11:AZ11))","v":47.178333333333335},{"$f":"IF(COUNT(消費意欲!AP11:BA11)<>12,\"\",AVERAGE(消費意欲!AP11:BA11))","v":47.057499999999997},{"$f":"IF(COUNT(消費意欲!AQ11:BB11)<>12,\"\",AVERAGE(消費意欲!AQ11:BB11))","v":47.110833333333325},{"$f":"IF(COUNT(消費意欲!AR11:BC11)<>12,\"\",AVERAGE(消費意欲!AR11:BC11))","v":47.269166666666656},{"$f":"IF(COUNT(消費意欲!AS11:BD11)<>12,\"\",AVERAGE(消費意欲!AS11:BD11))","v":46.905833333333334},{"$f":"IF(COUNT(消費意欲!AT11:BE11)<>12,\"\",AVERAGE(消費意欲!AT11:BE11))","v":""},{"$f":"IF(COUNT(消費意欲!AU11:BF11)<>12,\"\",AVERAGE(消費意欲!AU11:BF11))","v":""},{"$f":"IF(COUNT(消費意欲!AV11:BG11)<>12,\"\",AVERAGE(消費意欲!AV11:BG11))","v":""},{"$f":"IF(COUNT(消費意欲!AW11:BH11)<>12,\"\",AVERAGE(消費意欲!AW11:BH11))","v":""},{"$f":"IF(COUNT(消費意欲!AX11:BI11)<>12,\"\",AVERAGE(消費意欲!AX11:BI11))","v":""},{"$f":"IF(COUNT(消費意欲!AY11:BJ11)<>12,\"\",AVERAGE(消費意欲!AY11:BJ11))","v":""},{"$f":"IF(COUNT(消費意欲!AZ11:BK11)<>12,\"\",AVERAGE(消費意欲!AZ11:BK11))","v":""},{"$f":"IF(COUNT(消費意欲!BA11:BL11)<>12,\"\",AVERAGE(消費意欲!BA11:BL11))","v":""},{"$f":"IF(COUNT(消費意欲!BB11:BM11)<>12,\"\",AVERAGE(消費意欲!BB11:BM11))","v":""},{"$f":"IF(COUNT(消費意欲!BC11:BN11)<>12,\"\",AVERAGE(消費意欲!BC11:BN11))","v":""},{"$f":"IF(COUNT(消費意欲!BD11:BO11)<>12,\"\",AVERAGE(消費意欲!BD11:BO11))","v":""},{"$f":"IF(COUNT(消費意欲!BE11:BP11)<>12,\"\",AVERAGE(消費意欲!BE11:BP11))","v":""},{"$f":"IF(COUNT(消費意欲!BF11:BQ11)<>12,\"\",AVERAGE(消費意欲!BF11:BQ11))","v":""},{"$f":"IF(COUNT(消費意欲!BG11:BR11)<>12,\"\",AVERAGE(消費意欲!BG11:BR11))","v":""},{"$f":"IF(COUNT(消費意欲!BH11:BS11)<>12,\"\",AVERAGE(消費意欲!BH11:BS11))","v":""},{"$f":"IF(COUNT(消費意欲!BI11:BT11)<>12,\"\",AVERAGE(消費意欲!BI11:BT11))","v":""},{"$f":"IF(COUNT(消費意欲!BJ11:BU11)<>12,\"\",AVERAGE(消費意欲!BJ11:BU11))","v":""},{"$f":"IF(COUNT(消費意欲!BK11:BV11)<>12,\"\",AVERAGE(消費意欲!BK11:BV11))","v":""},{"$f":"IF(COUNT(消費意欲!BL11:BW11)<>12,\"\",AVERAGE(消費意欲!BL11:BW11))","v":""},{"$f":"IF(COUNT(消費意欲!BM11:BX11)<>12,\"\",AVERAGE(消費意欲!BM11:BX11))","v":""},{"$f":"IF(COUNT(消費意欲!BN11:BY11)<>12,\"\",AVERAGE(消費意欲!BN11:BY11))","v":""},{"$f":"IF(COUNT(消費意欲!BO11:BZ11)<>12,\"\",AVERAGE(消費意欲!BO11:BZ11))","v":""},{"$f":"IF(COUNT(消費意欲!BP11:CA11)<>12,\"\",AVERAGE(消費意欲!BP11:CA11))","v":""},{"$f":"IF(COUNT(消費意欲!BQ11:CB11)<>12,\"\",AVERAGE(消費意欲!BQ11:CB11))","v":""},{"$f":"IF(COUNT(消費意欲!BR11:CC11)<>12,\"\",AVERAGE(消費意欲!BR11:CC11))","v":""},{"$f":"IF(COUNT(消費意欲!BS11:CD11)<>12,\"\",AVERAGE(消費意欲!BS11:CD11))","v":""},{"$f":"IF(COUNT(消費意欲!BT11:CE11)<>12,\"\",AVERAGE(消費意欲!BT11:CE11))","v":""},{"$f":"IF(COUNT(消費意欲!BU11:CF11)<>12,\"\",AVERAGE(消費意欲!BU11:CF11))","v":""},{"$f":"IF(COUNT(消費意欲!BV11:CG11)<>12,\"\",AVERAGE(消費意欲!BV11:CG11))","v":""},{"$f":"IF(COUNT(消費意欲!BW11:CH11)<>12,\"\",AVERAGE(消費意欲!BW11:CH11))","v":""},{"$f":"IF(COUNT(消費意欲!BX11:CI11)<>12,\"\",AVERAGE(消費意欲!BX11:CI11))","v":""},{"$f":"IF(COUNT(消費意欲!BY11:CJ11)<>12,\"\",AVERAGE(消費意欲!BY11:CJ11))","v":""},{"$f":"IF(COUNT(消費意欲!BZ11:CK11)<>12,\"\",AVERAGE(消費意欲!BZ11:CK11))","v":""},{"$f":"IF(COUNT(消費意欲!CA11:CL11)<>12,\"\",AVERAGE(消費意欲!CA11:CL11))","v":""},{"$f":"IF(COUNT(消費意欲!CB11:CM11)<>12,\"\",AVERAGE(消費意欲!CB11:CM11))","v":""},{"$f":"IF(COUNT(消費意欲!CC11:CN11)<>12,\"\",AVERAGE(消費意欲!CC11:CN11))","v":""},{"$f":"IF(COUNT(消費意欲!CD11:CO11)<>12,\"\",AVERAGE(消費意欲!CD11:CO11))","v":""},{"$f":"IF(COUNT(消費意欲!CE11:CP11)<>12,\"\",AVERAGE(消費意欲!CE11:CP11))","v":""},{"$f":"IF(COUNT(消費意欲!CF11:CQ11)<>12,\"\",AVERAGE(消費意欲!CF11:CQ11))","v":""},{"$f":"IF(COUNT(消費意欲!CG11:CR11)<>12,\"\",AVERAGE(消費意欲!CG11:CR11))","v":""},{"$f":"IF(COUNT(消費意欲!CH11:CS11)<>12,\"\",AVERAGE(消費意欲!CH11:CS11))","v":""},{"$f":"IF(COUNT(消費意欲!CI11:CT11)<>12,\"\",AVERAGE(消費意欲!CI11:CT11))","v":""},{"$f":"IF(COUNT(消費意欲!CJ11:CU11)<>12,\"\",AVERAGE(消費意欲!CJ11:CU11))","v":""},{"$f":"IF(COUNT(消費意欲!CK11:CV11)<>12,\"\",AVERAGE(消費意欲!CK11:CV11))","v":""},{"$f":"IF(COUNT(消費意欲!CL11:CW11)<>12,\"\",AVERAGE(消費意欲!CL11:CW11))","v":""},{"$f":"IF(COUNT(消費意欲!CM11:CX11)<>12,\"\",AVERAGE(消費意欲!CM11:CX11))","v":""},{"$f":"IF(COUNT(消費意欲!CN11:CY11)<>12,\"\",AVERAGE(消費意欲!CN11:CY11))","v":""},{"$f":"IF(COUNT(消費意欲!CO11:CZ11)<>12,\"\",AVERAGE(消費意欲!CO11:CZ11))","v":""},{"$f":"IF(COUNT(消費意欲!CP11:DA11)<>12,\"\",AVERAGE(消費意欲!CP11:DA11))","v":""},{"$f":"IF(COUNT(消費意欲!CQ11:DB11)<>12,\"\",AVERAGE(消費意欲!CQ11:DB11))","v":""},{"$f":"IF(COUNT(消費意欲!CR11:DC11)<>12,\"\",AVERAGE(消費意欲!CR11:DC11))","v":""},{"$f":"IF(COUNT(消費意欲!CS11:DD11)<>12,\"\",AVERAGE(消費意欲!CS11:DD11))","v":""},{"$f":"IF(COUNT(消費意欲!CT11:DE11)<>12,\"\",AVERAGE(消費意欲!CT11:DE11))","v":""},{"$f":"IF(COUNT(消費意欲!CU11:DF11)<>12,\"\",AVERAGE(消費意欲!CU11:DF11))","v":""},{"$f":"IF(COUNT(消費意欲!CV11:DG11)<>12,\"\",AVERAGE(消費意欲!CV11:DG11))","v":""}]
[null,null,"50代",null,null,null,null,null,null,null,null,null,null,null,null,null,null,null,{"$f":"IF(COUNT(消費意欲!H12:S12)<>12,\"\",AVERAGE(消費意欲!H12:S12))","v":50.202499999999993},{"$f":"IF(COUNT(消費意欲!I12:T12)<>12,\"\",AVERAGE(消費意欲!I12:T12))","v":50.304166666666667},{"$f":"IF(COUNT(消費意欲!J12:U12)<>12,\"\",AVERAGE(消費意欲!J12:U12))","v":50.264166666666654},{"$f":"IF(COUNT(消費意欲!K12:V12)<>12,\"\",AVERAGE(消費意欲!K12:V12))","v":50.080000000000005},{"$f":"IF(COUNT(消費意欲!L12:W12)<>12,\"\",AVERAGE(消費意欲!L12:W12))","v":50.298333333333325},{"$f":"IF(COUNT(消費意欲!M12:X12)<>12,\"\",AVERAGE(消費意欲!M12:X12))","v":49.888333333333328},{"$f":"IF(COUNT(消費意欲!N12:Y12)<>12,\"\",AVERAGE(消費意欲!N12:Y12))","v":49.872500000000002},{"$f":"IF(COUNT(消費意欲!O12:Z12)<>12,\"\",AVERAGE(消費意欲!O12:Z12))","v":49.528333333333329},{"$f":"IF(COUNT(消費意欲!P12:AA12)<>12,\"\",AVERAGE(消費意欲!P12:AA12))","v":49.473333333333329},{"$f":"IF(COUNT(消費意欲!Q12:AB12)<>12,\"\",AVERAGE(消費意欲!Q12:AB12))","v":49.007499999999993},{"$f":"IF(COUNT(消費意欲!R12:AC12)<>12,\"\",AVERAGE(消費意欲!R12:AC12))","v":49.214166666666664},{"$f":"IF(COUNT(消費意欲!S12:AD12)<>12,\"\",AVERAGE(消費意欲!S12:AD12))","v":49.791666666666679},{"$f":"IF(COUNT(消費意欲!T12:AE12)<>12,\"\",AVERAGE(消費意欲!T12:AE12))","v":49.415833333333346},{"$f":"IF(COUNT(消費意欲!U12:AF12)<>12,\"\",AVERAGE(消費意欲!U12:AF12))","v":48.970833333333331},{"$f":"IF(COUNT(消費意欲!V12:AG12)<>12,\"\",AVERAGE(消費意欲!V12:AG12))","v":48.743333333333339},{"$f":"IF(COUNT(消費意欲!W12:AH12)<>12,\"\",AVERAGE(消費意欲!W12:AH12))","v":48.723333333333329},{"$f":"IF(COUNT(消費意欲!X12:AI12)<>12,\"\",AVERAGE(消費意欲!X12:AI12))","v":48.540833333333332},{"$f":"IF(COUNT(消費意欲!Y12:AJ12)<>12,\"\",AVERAGE(消費意欲!Y12:AJ12))","v":48.362500000000004},{"$f":"IF(COUNT(消費意欲!Z12:AK12)<>12,\"\",AVERAGE(消費意欲!Z12:AK12))","v":48.243333333333332},{"$f":"IF(COUNT(消費意欲!AA12:AL12)<>12,\"\",AVERAGE(消費意欲!AA12:AL12))","v":48.217500000000001},{"$f":"IF(COUNT(消費意欲!AB12:AM12)<>12,\"\",AVERAGE(消費意欲!AB12:AM12))","v":48.385833333333331},{"$f":"IF(COUNT(消費意欲!AC12:AN12)<>12,\"\",AVERAGE(消費意欲!AC12:AN12))","v":48.227499999999999},{"$f":"IF(COUNT(消費意欲!AD12:AO12)<>12,\"\",AVERAGE(消費意欲!AD12:AO12))","v":47.760000000000012},{"$f":"IF(COUNT(消費意欲!AE12:AP12)<>12,\"\",AVERAGE(消費意欲!AE12:AP12))","v":46.992500000000007},{"$f":"IF(COUNT(消費意欲!AF12:AQ12)<>12,\"\",AVERAGE(消費意欲!AF12:AQ12))","v":47.020833333333336},{"$f":"IF(COUNT(消費意欲!AG12:AR12)<>12,\"\",AVERAGE(消費意欲!AG12:AR12))","v":47.373333333333335},{"$f":"IF(COUNT(消費意欲!AH12:AS12)<>12,\"\",AVERAGE(消費意欲!AH12:AS12))","v":47.226666666666667},{"$f":"IF(COUNT(消費意欲!AI12:AT12)<>12,\"\",AVERAGE(消費意欲!AI12:AT12))","v":47.195833333333333},{"$f":"IF(COUNT(消費意欲!AJ12:AU12)<>12,\"\",AVERAGE(消費意欲!AJ12:AU12))","v":46.824166666666663},{"$f":"IF(COUNT(消費意欲!AK12:AV12)<>12,\"\",AVERAGE(消費意欲!AK12:AV12))","v":46.974999999999994},{"$f":"IF(COUNT(消費意欲!AL12:AW12)<>12,\"\",AVERAGE(消費意欲!AL12:AW12))","v":47.094166666666666},{"$f":"IF(COUNT(消費意欲!AM12:AX12)<>12,\"\",AVERAGE(消費意欲!AM12:AX12))","v":47.1175},{"$f":"IF(COUNT(消費意欲!AN12:AY12)<>12,\"\",AVERAGE(消費意欲!AN12:AY12))","v":47.103333333333332},{"$f":"IF(COUNT(消費意欲!AO12:AZ12)<>12,\"\",AVERAGE(消費意欲!AO12:AZ12))","v":47.255833333333328},{"$f":"IF(COUNT(消費意欲!AP12:BA12)<>12,\"\",AVERAGE(消費意欲!AP12:BA12))","v":47.054166666666667},{"$f":"IF(COUNT(消費意欲!AQ12:BB12)<>12,\"\",AVERAGE(消費意欲!AQ12:BB12))","v":46.98416666666666},{"$f":"IF(COUNT(消費意欲!AR12:BC12)<>12,\"\",AVERAGE(消費意欲!AR12:BC12))","v":46.929166666666653},{"$f":"IF(COUNT(消費意欲!AS12:BD12)<>12,\"\",AVERAGE(消費意欲!AS12:BD12))","v":46.765833333333326},{"$f":"IF(COUNT(消費意欲!AT12:BE12)<>12,\"\",AVERAGE(消費意欲!AT12:BE12))","v":""},{"$f":"IF(COUNT(消費意欲!AU12:BF12)<>12,\"\",AVERAGE(消費意欲!AU12:BF12))","v":""},{"$f":"IF(COUNT(消費意欲!AV12:BG12)<>12,\"\",AVERAGE(消費意欲!AV12:BG12))","v":""},{"$f":"IF(COUNT(消費意欲!AW12:BH12)<>12,\"\",AVERAGE(消費意欲!AW12:BH12))","v":""},{"$f":"IF(COUNT(消費意欲!AX12:BI12)<>12,\"\",AVERAGE(消費意欲!AX12:BI12))","v":""},{"$f":"IF(COUNT(消費意欲!AY12:BJ12)<>12,\"\",AVERAGE(消費意欲!AY12:BJ12))","v":""},{"$f":"IF(COUNT(消費意欲!AZ12:BK12)<>12,\"\",AVERAGE(消費意欲!AZ12:BK12))","v":""},{"$f":"IF(COUNT(消費意欲!BA12:BL12)<>12,\"\",AVERAGE(消費意欲!BA12:BL12))","v":""},{"$f":"IF(COUNT(消費意欲!BB12:BM12)<>12,\"\",AVERAGE(消費意欲!BB12:BM12))","v":""},{"$f":"IF(COUNT(消費意欲!BC12:BN12)<>12,\"\",AVERAGE(消費意欲!BC12:BN12))","v":""},{"$f":"IF(COUNT(消費意欲!BD12:BO12)<>12,\"\",AVERAGE(消費意欲!BD12:BO12))","v":""},{"$f":"IF(COUNT(消費意欲!BE12:BP12)<>12,\"\",AVERAGE(消費意欲!BE12:BP12))","v":""},{"$f":"IF(COUNT(消費意欲!BF12:BQ12)<>12,\"\",AVERAGE(消費意欲!BF12:BQ12))","v":""},{"$f":"IF(COUNT(消費意欲!BG12:BR12)<>12,\"\",AVERAGE(消費意欲!BG12:BR12))","v":""},{"$f":"IF(COUNT(消費意欲!BH12:BS12)<>12,\"\",AVERAGE(消費意欲!BH12:BS12))","v":""},{"$f":"IF(COUNT(消費意欲!BI12:BT12)<>12,\"\",AVERAGE(消費意欲!BI12:BT12))","v":""},{"$f":"IF(COUNT(消費意欲!BJ12:BU12)<>12,\"\",AVERAGE(消費意欲!BJ12:BU12))","v":""},{"$f":"IF(COUNT(消費意欲!BK12:BV12)<>12,\"\",AVERAGE(消費意欲!BK12:BV12))","v":""},{"$f":"IF(COUNT(消費意欲!BL12:BW12)<>12,\"\",AVERAGE(消費意欲!BL12:BW12))","v":""},{"$f":"IF(COUNT(消費意欲!BM12:BX12)<>12,\"\",AVERAGE(消費意欲!BM12:BX12))","v":""},{"$f":"IF(COUNT(消費意欲!BN12:BY12)<>12,\"\",AVERAGE(消費意欲!BN12:BY12))","v":""},{"$f":"IF(COUNT(消費意欲!BO12:BZ12)<>12,\"\",AVERAGE(消費意欲!BO12:BZ12))","v":""},{"$f":"IF(COUNT(消費意欲!BP12:CA12)<>12,\"\",AVERAGE(消費意欲!BP12:CA12))","v":""},{"$f":"IF(COUNT(消費意欲!BQ12:CB12)<>12,\"\",AVERAGE(消費意欲!BQ12:CB12))","v":""},{"$f":"IF(COUNT(消費意欲!BR12:CC12)<>12,\"\",AVERAGE(消費意欲!BR12:CC12))","v":""},{"$f":"IF(COUNT(消費意欲!BS12:CD12)<>12,\"\",AVERAGE(消費意欲!BS12:CD12))","v":""},{"$f":"IF(COUNT(消費意欲!BT12:CE12)<>12,\"\",AVERAGE(消費意欲!BT12:CE12))","v":""},{"$f":"IF(COUNT(消費意欲!BU12:CF12)<>12,\"\",AVERAGE(消費意欲!BU12:CF12))","v":""},{"$f":"IF(COUNT(消費意欲!BV12:CG12)<>12,\"\",AVERAGE(消費意欲!BV12:CG12))","v":""},{"$f":"IF(COUNT(消費意欲!BW12:CH12)<>12,\"\",AVERAGE(消費意欲!BW12:CH12))","v":""},{"$f":"IF(COUNT(消費意欲!BX12:CI12)<>12,\"\",AVERAGE(消費意欲!BX12:CI12))","v":""},{"$f":"IF(COUNT(消費意欲!BY12:CJ12)<>12,\"\",AVERAGE(消費意欲!BY12:CJ12))","v":""},{"$f":"IF(COUNT(消費意欲!BZ12:CK12)<>12,\"\",AVERAGE(消費意欲!BZ12:CK12))","v":""},{"$f":"IF(COUNT(消費意欲!CA12:CL12)<>12,\"\",AVERAGE(消費意欲!CA12:CL12))","v":""},{"$f":"IF(COUNT(消費意欲!CB12:CM12)<>12,\"\",AVERAGE(消費意欲!CB12:CM12))","v":""},{"$f":"IF(COUNT(消費意欲!CC12:CN12)<>12,\"\",AVERAGE(消費意欲!CC12:CN12))","v":""},{"$f":"IF(COUNT(消費意欲!CD12:CO12)<>12,\"\",AVERAGE(消費意欲!CD12:CO12))","v":""},{"$f":"IF(COUNT(消費意欲!CE12:CP12)<>12,\"\",AVERAGE(消費意欲!CE12:CP12))","v":""},{"$f":"IF(COUNT(消費意欲!CF12:CQ12)<>12,\"\",AVERAGE(消費意欲!CF12:CQ12))","v":""},{"$f":"IF(COUNT(消費意欲!CG12:CR12)<>12,\"\",AVERAGE(消費意欲!CG12:CR12))","v":""},{"$f":"IF(COUNT(消費意欲!CH12:CS12)<>12,\"\",AVERAGE(消費意欲!CH12:CS12))","v":""},{"$f":"IF(COUNT(消費意欲!CI12:CT12)<>12,\"\",AVERAGE(消費意欲!CI12:CT12))","v":""},{"$f":"IF(COUNT(消費意欲!CJ12:CU12)<>12,\"\",AVERAGE(消費意欲!CJ12:CU12))","v":""},{"$f":"IF(COUNT(消費意欲!CK12:CV12)<>12,\"\",AVERAGE(消費意欲!CK12:CV12))","v":""},{"$f":"IF(COUNT(消費意欲!CL12:CW12)<>12,\"\",AVERAGE(消費意欲!CL12:CW12))","v":""},{"$f":"IF(COUNT(消費意欲!CM12:CX12)<>12,\"\",AVERAGE(消費意欲!CM12:CX12))","v":""},{"$f":"IF(COUNT(消費意欲!CN12:CY12)<>12,\"\",AVERAGE(消費意欲!CN12:CY12))","v":""},{"$f":"IF(COUNT(消費意欲!CO12:CZ12)<>12,\"\",AVERAGE(消費意欲!CO12:CZ12))","v":""},{"$f":"IF(COUNT(消費意欲!CP12:DA12)<>12,\"\",AVERAGE(消費意欲!CP12:DA12))","v":""},{"$f":"IF(COUNT(消費意欲!CQ12:DB12)<>12,\"\",AVERAGE(消費意欲!CQ12:DB12))","v":""},{"$f":"IF(COUNT(消費意欲!CR12:DC12)<>12,\"\",AVERAGE(消費意欲!CR12:DC12))","v":""},{"$f":"IF(COUNT(消費意欲!CS12:DD12)<>12,\"\",AVERAGE(消費意欲!CS12:DD12))","v":""},{"$f":"IF(COUNT(消費意欲!CT12:DE12)<>12,\"\",AVERAGE(消費意欲!CT12:DE12))","v":""},{"$f":"IF(COUNT(消費意欲!CU12:DF12)<>12,\"\",AVERAGE(消費意欲!CU12:DF12))","v":""},{"$f":"IF(COUNT(消費意欲!CV12:DG12)<>12,\"\",AVERAGE(消費意欲!CV12:DG12))","v":""}]
[null,null,"60代",null,null,null,null,null,null,null,null,null,null,null,null,null,null,null,{"$f":"IF(COUNT(消費意欲!H13:S13)<>12,\"\",AVERAGE(消費意欲!H13:S13))","v":50.987500000000011},{"$f":"IF(COUNT(消費意欲!I13:T13)<>12,\"\",AVERAGE(消費意欲!I13:T13))","v":50.784166666666664},{"$f":"IF(COUNT(消費意欲!J13:U13)<>12,\"\",AVERAGE(消費意欲!J13:U13))","v":50.431666666666665},{"$f":"IF(COUNT(消費意欲!K13:V13)<>12,\"\",AVERAGE(消費意欲!K13:V13))","v":50.450833333333343},{"$f":"IF(COUNT(消費意欲!L13:W13)<>12,\"\",AVERAGE(消費意欲!L13:W13))","v":50.532500000000006},{"$f":"IF(COUNT(消費意欲!M13:X13)<>12,\"\",AVERAGE(消費意欲!M13:X13))","v":50.218333333333334},{"$f":"IF(COUNT(消費意欲!N13:Y13)<>12,\"\",AVERAGE(消費意欲!N13:Y13))","v":50.601666666666667},{"$f":"IF(COUNT(消費意欲!O13:Z13)<>12,\"\",AVERAGE(消費意欲!O13:Z13))","v":50.232499999999995},{"$f":"IF(COUNT(消費意欲!P13:AA13)<>12,\"\",AVERAGE(消費意欲!P13:AA13))","v":50.326666666666661},{"$f":"IF(COUNT(消費意欲!Q13:AB13)<>12,\"\",AVERAGE(消費意欲!Q13:AB13))","v":50.01},{"$f":"IF(COUNT(消費意欲!R13:AC13)<>12,\"\",AVERAGE(消費意欲!R13:AC13))","v":50.254999999999995},{"$f":"IF(COUNT(消費意欲!S13:AD13)<>12,\"\",AVERAGE(消費意欲!S13:AD13))","v":50.405833333333327},{"$f":"IF(COUNT(消費意欲!T13:AE13)<>12,\"\",AVERAGE(消費意欲!T13:AE13))","v":50.240833333333335},{"$f":"IF(COUNT(消費意欲!U13:AF13)<>12,\"\",AVERAGE(消費意欲!U13:AF13))","v":50.038333333333327},{"$f":"IF(COUNT(消費意欲!V13:AG13)<>12,\"\",AVERAGE(消費意欲!V13:AG13))","v":50.007499999999993},{"$f":"IF(COUNT(消費意欲!W13:AH13)<>12,\"\",AVERAGE(消費意欲!W13:AH13))","v":49.611666666666672},{"$f":"IF(COUNT(消費意欲!X13:AI13)<>12,\"\",AVERAGE(消費意欲!X13:AI13))","v":49.55916666666667},{"$f":"IF(COUNT(消費意欲!Y13:AJ13)<>12,\"\",AVERAGE(消費意欲!Y13:AJ13))","v":49.564999999999998},{"$f":"IF(COUNT(消費意欲!Z13:AK13)<>12,\"\",AVERAGE(消費意欲!Z13:AK13))","v":49.241666666666667},{"$f":"IF(COUNT(消費意欲!AA13:AL13)<>12,\"\",AVERAGE(消費意欲!AA13:AL13))","v":48.859999999999992},{"$f":"IF(COUNT(消費意欲!AB13:AM13)<>12,\"\",AVERAGE(消費意欲!AB13:AM13))","v":48.730833333333329},{"$f":"IF(COUNT(消費意欲!AC13:AN13)<>12,\"\",AVERAGE(消費意欲!AC13:AN13))","v":48.615000000000002},{"$f":"IF(COUNT(消費意欲!AD13:AO13)<>12,\"\",AVERAGE(消費意欲!AD13:AO13))","v":48.365000000000002},{"$f":"IF(COUNT(消費意欲!AE13:AP13)<>12,\"\",AVERAGE(消費意欲!AE13:AP13))","v":48.147500000000001},{"$f":"IF(COUNT(消費意欲!AF13:AQ13)<>12,\"\",AVERAGE(消費意欲!AF13:AQ13))","v":48.011666666666663},{"$f":"IF(COUNT(消費意欲!AG13:AR13)<>12,\"\",AVERAGE(消費意欲!AG13:AR13))","v":48.363333333333337},{"$f":"IF(COUNT(消費意欲!AH13:AS13)<>12,\"\",AVERAGE(消費意欲!AH13:AS13))","v":48.164166666666659},{"$f":"IF(COUNT(消費意欲!AI13:AT13)<>12,\"\",AVERAGE(消費意欲!AI13:AT13))","v":48.438333333333333},{"$f":"IF(COUNT(消費意欲!AJ13:AU13)<>12,\"\",AVERAGE(消費意欲!AJ13:AU13))","v":48.324166666666663},{"$f":"IF(COUNT(消費意欲!AK13:AV13)<>12,\"\",AVERAGE(消費意欲!AK13:AV13))","v":48.346666666666664},{"$f":"IF(COUNT(消費意欲!AL13:AW13)<>12,\"\",AVERAGE(消費意欲!AL13:AW13))","v":48.603333333333332},{"$f":"IF(COUNT(消費意欲!AM13:AX13)<>12,\"\",AVERAGE(消費意欲!AM13:AX13))","v":49.197499999999998},{"$f":"IF(COUNT(消費意欲!AN13:AY13)<>12,\"\",AVERAGE(消費意欲!AN13:AY13))","v":48.932500000000005},{"$f":"IF(COUNT(消費意欲!AO13:AZ13)<>12,\"\",AVERAGE(消費意欲!AO13:AZ13))","v":49.1},{"$f":"IF(COUNT(消費意欲!AP13:BA13)<>12,\"\",AVERAGE(消費意欲!AP13:BA13))","v":49.023333333333341},{"$f":"IF(COUNT(消費意欲!AQ13:BB13)<>12,\"\",AVERAGE(消費意欲!AQ13:BB13))","v":48.616666666666667},{"$f":"IF(COUNT(消費意欲!AR13:BC13)<>12,\"\",AVERAGE(消費意欲!AR13:BC13))","v":49.01583333333334},{"$f":"IF(COUNT(消費意欲!AS13:BD13)<>12,\"\",AVERAGE(消費意欲!AS13:BD13))","v":48.849166666666669},{"$f":"IF(COUNT(消費意欲!AT13:BE13)<>12,\"\",AVERAGE(消費意欲!AT13:BE13))","v":""},{"$f":"IF(COUNT(消費意欲!AU13:BF13)<>12,\"\",AVERAGE(消費意欲!AU13:BF13))","v":""},{"$f":"IF(COUNT(消費意欲!AV13:BG13)<>12,\"\",AVERAGE(消費意欲!AV13:BG13))","v":""},{"$f":"IF(COUNT(消費意欲!AW13:BH13)<>12,\"\",AVERAGE(消費意欲!AW13:BH13))","v":""},{"$f":"IF(COUNT(消費意欲!AX13:BI13)<>12,\"\",AVERAGE(消費意欲!AX13:BI13))","v":""},{"$f":"IF(COUNT(消費意欲!AY13:BJ13)<>12,\"\",AVERAGE(消費意欲!AY13:BJ13))","v":""},{"$f":"IF(COUNT(消費意欲!AZ13:BK13)<>12,\"\",AVERAGE(消費意欲!AZ13:BK13))","v":""},{"$f":"IF(COUNT(消費意欲!BA13:BL13)<>12,\"\",AVERAGE(消費意欲!BA13:BL13))","v":""},{"$f":"IF(COUNT(消費意欲!BB13:BM13)<>12,\"\",AVERAGE(消費意欲!BB13:BM13))","v":""},{"$f":"IF(COUNT(消費意欲!BC13:BN13)<>12,\"\",AVERAGE(消費意欲!BC13:BN13))","v":""},{"$f":"IF(COUNT(消費意欲!BD13:BO13)<>12,\"\",AVERAGE(消費意欲!BD13:BO13))","v":""},{"$f":"IF(COUNT(消費意欲!BE13:BP13)<>12,\"\",AVERAGE(消費意欲!BE13:BP13))","v":""},{"$f":"IF(COUNT(消費意欲!BF13:BQ13)<>12,\"\",AVERAGE(消費意欲!BF13:BQ13))","v":""},{"$f":"IF(COUNT(消費意欲!BG13:BR13)<>12,\"\",AVERAGE(消費意欲!BG13:BR13))","v":""},{"$f":"IF(COUNT(消費意欲!BH13:BS13)<>12,\"\",AVERAGE(消費意欲!BH13:BS13))","v":""},{"$f":"IF(COUNT(消費意欲!BI13:BT13)<>12,\"\",AVERAGE(消費意欲!BI13:BT13))","v":""},{"$f":"IF(COUNT(消費意欲!BJ13:BU13)<>12,\"\",AVERAGE(消費意欲!BJ13:BU13))","v":""},{"$f":"IF(COUNT(消費意欲!BK13:BV13)<>12,\"\",AVERAGE(消費意欲!BK13:BV13))","v":""},{"$f":"IF(COUNT(消費意欲!BL13:BW13)<>12,\"\",AVERAGE(消費意欲!BL13:BW13))","v":""},{"$f":"IF(COUNT(消費意欲!BM13:BX13)<>12,\"\",AVERAGE(消費意欲!BM13:BX13))","v":""},{"$f":"IF(COUNT(消費意欲!BN13:BY13)<>12,\"\",AVERAGE(消費意欲!BN13:BY13))","v":""},{"$f":"IF(COUNT(消費意欲!BO13:BZ13)<>12,\"\",AVERAGE(消費意欲!BO13:BZ13))","v":""},{"$f":"IF(COUNT(消費意欲!BP13:CA13)<>12,\"\",AVERAGE(消費意欲!BP13:CA13))","v":""},{"$f":"IF(COUNT(消費意欲!BQ13:CB13)<>12,\"\",AVERAGE(消費意欲!BQ13:CB13))","v":""},{"$f":"IF(COUNT(消費意欲!BR13:CC13)<>12,\"\",AVERAGE(消費意欲!BR13:CC13))","v":""},{"$f":"IF(COUNT(消費意欲!BS13:CD13)<>12,\"\",AVERAGE(消費意欲!BS13:CD13))","v":""},{"$f":"IF(COUNT(消費意欲!BT13:CE13)<>12,\"\",AVERAGE(消費意欲!BT13:CE13))","v":""},{"$f":"IF(COUNT(消費意欲!BU13:CF13)<>12,\"\",AVERAGE(消費意欲!BU13:CF13))","v":""},{"$f":"IF(COUNT(消費意欲!BV13:CG13)<>12,\"\",AVERAGE(消費意欲!BV13:CG13))","v":""},{"$f":"IF(COUNT(消費意欲!BW13:CH13)<>12,\"\",AVERAGE(消費意欲!BW13:CH13))","v":""},{"$f":"IF(COUNT(消費意欲!BX13:CI13)<>12,\"\",AVERAGE(消費意欲!BX13:CI13))","v":""},{"$f":"IF(COUNT(消費意欲!BY13:CJ13)<>12,\"\",AVERAGE(消費意欲!BY13:CJ13))","v":""},{"$f":"IF(COUNT(消費意欲!BZ13:CK13)<>12,\"\",AVERAGE(消費意欲!BZ13:CK13))","v":""},{"$f":"IF(COUNT(消費意欲!CA13:CL13)<>12,\"\",AVERAGE(消費意欲!CA13:CL13))","v":""},{"$f":"IF(COUNT(消費意欲!CB13:CM13)<>12,\"\",AVERAGE(消費意欲!CB13:CM13))","v":""},{"$f":"IF(COUNT(消費意欲!CC13:CN13)<>12,\"\",AVERAGE(消費意欲!CC13:CN13))","v":""},{"$f":"IF(COUNT(消費意欲!CD13:CO13)<>12,\"\",AVERAGE(消費意欲!CD13:CO13))","v":""},{"$f":"IF(COUNT(消費意欲!CE13:CP13)<>12,\"\",AVERAGE(消費意欲!CE13:CP13))","v":""},{"$f":"IF(COUNT(消費意欲!CF13:CQ13)<>12,\"\",AVERAGE(消費意欲!CF13:CQ13))","v":""},{"$f":"IF(COUNT(消費意欲!CG13:CR13)<>12,\"\",AVERAGE(消費意欲!CG13:CR13))","v":""},{"$f":"IF(COUNT(消費意欲!CH13:CS13)<>12,\"\",AVERAGE(消費意欲!CH13:CS13))","v":""},{"$f":"IF(COUNT(消費意欲!CI13:CT13)<>12,\"\",AVERAGE(消費意欲!CI13:CT13))","v":""},{"$f":"IF(COUNT(消費意欲!CJ13:CU13)<>12,\"\",AVERAGE(消費意欲!CJ13:CU13))","v":""},{"$f":"IF(COUNT(消費意欲!CK13:CV13)<>12,\"\",AVERAGE(消費意欲!CK13:CV13))","v":""},{"$f":"IF(COUNT(消費意欲!CL13:CW13)<>12,\"\",AVERAGE(消費意欲!CL13:CW13))","v":""},{"$f":"IF(COUNT(消費意欲!CM13:CX13)<>12,\"\",AVERAGE(消費意欲!CM13:CX13))","v":""},{"$f":"IF(COUNT(消費意欲!CN13:CY13)<>12,\"\",AVERAGE(消費意欲!CN13:CY13))","v":""},{"$f":"IF(COUNT(消費意欲!CO13:CZ13)<>12,\"\",AVERAGE(消費意欲!CO13:CZ13))","v":""},{"$f":"IF(COUNT(消費意欲!CP13:DA13)<>12,\"\",AVERAGE(消費意欲!CP13:DA13))","v":""},{"$f":"IF(COUNT(消費意欲!CQ13:DB13)<>12,\"\",AVERAGE(消費意欲!CQ13:DB13))","v":""},{"$f":"IF(COUNT(消費意欲!CR13:DC13)<>12,\"\",AVERAGE(消費意欲!CR13:DC13))","v":""},{"$f":"IF(COUNT(消費意欲!CS13:DD13)<>12,\"\",AVERAGE(消費意欲!CS13:DD13))","v":""},{"$f":"IF(COUNT(消費意欲!CT13:DE13)<>12,\"\",AVERAGE(消費意欲!CT13:DE13))","v":""},{"$f":"IF(COUNT(消費意欲!CU13:DF13)<>12,\"\",AVERAGE(消費意欲!CU13:DF13))","v":""},{"$f":"IF(COUNT(消費意欲!CV13:DG13)<>12,\"\",AVERAGE(消費意欲!CV13:DG13))","v":""}]
[null,"男性年代別","男性20代",null,null,null,null,null,null,null,null,null,null,null,null,null,null,null,{"$f":"IF(COUNT(消費意欲!H14:S14)<>12,\"\",AVERAGE(消費意欲!H14:S14))","v":51.01583333333334},{"$f":"IF(COUNT(消費意欲!I14:T14)<>12,\"\",AVERAGE(消費意欲!I14:T14))","v":51.195833333333333},{"$f":"IF(COUNT(消費意欲!J14:U14)<>12,\"\",AVERAGE(消費意欲!J14:U14))","v":50.70333333333334},{"$f":"IF(COUNT(消費意欲!K14:V14)<>12,\"\",AVERAGE(消費意欲!K14:V14))","v":50.397500000000008},{"$f":"IF(COUNT(消費意欲!L14:W14)<>12,\"\",AVERAGE(消費意欲!L14:W14))","v":50.159166666666671},{"$f":"IF(COUNT(消費意欲!M14:X14)<>12,\"\",AVERAGE(消費意欲!M14:X14))","v":49.884166666666665},{"$f":"IF(COUNT(消費意欲!N14:Y14)<>12,\"\",AVERAGE(消費意欲!N14:Y14))","v":49.842500000000001},{"$f":"IF(COUNT(消費意欲!O14:Z14)<>12,\"\",AVERAGE(消費意欲!O14:Z14))","v":49.895000000000003},{"$f":"IF(COUNT(消費意欲!P14:AA14)<>12,\"\",AVERAGE(消費意欲!P14:AA14))","v":50.006666666666661},{"$f":"IF(COUNT(消費意欲!Q14:AB14)<>12,\"\",AVERAGE(消費意欲!Q14:AB14))","v":49.609999999999992},{"$f":"IF(COUNT(消費意欲!R14:AC14)<>12,\"\",AVERAGE(消費意欲!R14:AC14))","v":49.686666666666667},{"$f":"IF(COUNT(消費意欲!S14:AD14)<>12,\"\",AVERAGE(消費意欲!S14:AD14))","v":49.914999999999999},{"$f":"IF(COUNT(消費意欲!T14:AE14)<>12,\"\",AVERAGE(消費意欲!T14:AE14))","v":49.793333333333322},{"$f":"IF(COUNT(消費意欲!U14:AF14)<>12,\"\",AVERAGE(消費意欲!U14:AF14))","v":49.934166666666663},{"$f":"IF(COUNT(消費意欲!V14:AG14)<>12,\"\",AVERAGE(消費意欲!V14:AG14))","v":49.793333333333329},{"$f":"IF(COUNT(消費意欲!W14:AH14)<>12,\"\",AVERAGE(消費意欲!W14:AH14))","v":49.394999999999989},{"$f":"IF(COUNT(消費意欲!X14:AI14)<>12,\"\",AVERAGE(消費意欲!X14:AI14))","v":49.521666666666668},{"$f":"IF(COUNT(消費意欲!Y14:AJ14)<>12,\"\",AVERAGE(消費意欲!Y14:AJ14))","v":49.702499999999993},{"$f":"IF(COUNT(消費意欲!Z14:AK14)<>12,\"\",AVERAGE(消費意欲!Z14:AK14))","v":49.62833333333333},{"$f":"IF(COUNT(消費意欲!AA14:AL14)<>12,\"\",AVERAGE(消費意欲!AA14:AL14))","v":49.676666666666669},{"$f":"IF(COUNT(消費意欲!AB14:AM14)<>12,\"\",AVERAGE(消費意欲!AB14:AM14))","v":49.35916666666666},{"$f":"IF(COUNT(消費意欲!AC14:AN14)<>12,\"\",AVERAGE(消費意欲!AC14:AN14))","v":49.220833333333324},{"$f":"IF(COUNT(消費意欲!AD14:AO14)<>12,\"\",AVERAGE(消費意欲!AD14:AO14))","v":49.054166666666674},{"$f":"IF(COUNT(消費意欲!AE14:AP14)<>12,\"\",AVERAGE(消費意欲!AE14:AP14))","v":48.528333333333336},{"$f":"IF(COUNT(消費意欲!AF14:AQ14)<>12,\"\",AVERAGE(消費意欲!AF14:AQ14))","v":48.853333333333332},{"$f":"IF(COUNT(消費意欲!AG14:AR14)<>12,\"\",AVERAGE(消費意欲!AG14:AR14))","v":48.293333333333329},{"$f":"IF(COUNT(消費意欲!AH14:AS14)<>12,\"\",AVERAGE(消費意欲!AH14:AS14))","v":48.318333333333335},{"$f":"IF(COUNT(消費意欲!AI14:AT14)<>12,\"\",AVERAGE(消費意欲!AI14:AT14))","v":48.811666666666667},{"$f":"IF(COUNT(消費意欲!AJ14:AU14)<>12,\"\",AVERAGE(消費意欲!AJ14:AU14))","v":48.628333333333337},{"$f":"IF(COUNT(消費意欲!AK14:AV14)<>12,\"\",AVERAGE(消費意欲!AK14:AV14))","v":48.169166666666662},{"$f":"IF(COUNT(消費意欲!AL14:AW14)<>12,\"\",AVERAGE(消費意欲!AL14:AW14))","v":48.096666666666671},{"$f":"IF(COUNT(消費意欲!AM14:AX14)<>12,\"\",AVERAGE(消費意欲!AM14:AX14))","v":47.709166666666668},{"$f":"IF(COUNT(消費意欲!AN14:AY14)<>12,\"\",AVERAGE(消費意欲!AN14:AY14))","v":47.905833333333334},{"$f":"IF(COUNT(消費意欲!AO14:AZ14)<>12,\"\",AVERAGE(消費意欲!AO14:AZ14))","v":48.176666666666655},{"$f":"IF(COUNT(消費意欲!AP14:BA14)<>12,\"\",AVERAGE(消費意欲!AP14:BA14))","v":48.055},{"$f":"IF(COUNT(消費意欲!AQ14:BB14)<>12,\"\",AVERAGE(消費意欲!AQ14:BB14))","v":48.486666666666672},{"$f":"IF(COUNT(消費意欲!AR14:BC14)<>12,\"\",AVERAGE(消費意欲!AR14:BC14))","v":48.361666666666657},{"$f":"IF(COUNT(消費意欲!AS14:BD14)<>12,\"\",AVERAGE(消費意欲!AS14:BD14))","v":48.630833333333335},{"$f":"IF(COUNT(消費意欲!AT14:BE14)<>12,\"\",AVERAGE(消費意欲!AT14:BE14))","v":""},{"$f":"IF(COUNT(消費意欲!AU14:BF14)<>12,\"\",AVERAGE(消費意欲!AU14:BF14))","v":""},{"$f":"IF(COUNT(消費意欲!AV14:BG14)<>12,\"\",AVERAGE(消費意欲!AV14:BG14))","v":""},{"$f":"IF(COUNT(消費意欲!AW14:BH14)<>12,\"\",AVERAGE(消費意欲!AW14:BH14))","v":""},{"$f":"IF(COUNT(消費意欲!AX14:BI14)<>12,\"\",AVERAGE(消費意欲!AX14:BI14))","v":""},{"$f":"IF(COUNT(消費意欲!AY14:BJ14)<>12,\"\",AVERAGE(消費意欲!AY14:BJ14))","v":""},{"$f":"IF(COUNT(消費意欲!AZ14:BK14)<>12,\"\",AVERAGE(消費意欲!AZ14:BK14))","v":""},{"$f":"IF(COUNT(消費意欲!BA14:BL14)<>12,\"\",AVERAGE(消費意欲!BA14:BL14))","v":""},{"$f":"IF(COUNT(消費意欲!BB14:BM14)<>12,\"\",AVERAGE(消費意欲!BB14:BM14))","v":""},{"$f":"IF(COUNT(消費意欲!BC14:BN14)<>12,\"\",AVERAGE(消費意欲!BC14:BN14))","v":""},{"$f":"IF(COUNT(消費意欲!BD14:BO14)<>12,\"\",AVERAGE(消費意欲!BD14:BO14))","v":""},{"$f":"IF(COUNT(消費意欲!BE14:BP14)<>12,\"\",AVERAGE(消費意欲!BE14:BP14))","v":""},{"$f":"IF(COUNT(消費意欲!BF14:BQ14)<>12,\"\",AVERAGE(消費意欲!BF14:BQ14))","v":""},{"$f":"IF(COUNT(消費意欲!BG14:BR14)<>12,\"\",AVERAGE(消費意欲!BG14:BR14))","v":""},{"$f":"IF(COUNT(消費意欲!BH14:BS14)<>12,\"\",AVERAGE(消費意欲!BH14:BS14))","v":""},{"$f":"IF(COUNT(消費意欲!BI14:BT14)<>12,\"\",AVERAGE(消費意欲!BI14:BT14))","v":""},{"$f":"IF(COUNT(消費意欲!BJ14:BU14)<>12,\"\",AVERAGE(消費意欲!BJ14:BU14))","v":""},{"$f":"IF(COUNT(消費意欲!BK14:BV14)<>12,\"\",AVERAGE(消費意欲!BK14:BV14))","v":""},{"$f":"IF(COUNT(消費意欲!BL14:BW14)<>12,\"\",AVERAGE(消費意欲!BL14:BW14))","v":""},{"$f":"IF(COUNT(消費意欲!BM14:BX14)<>12,\"\",AVERAGE(消費意欲!BM14:BX14))","v":""},{"$f":"IF(COUNT(消費意欲!BN14:BY14)<>12,\"\",AVERAGE(消費意欲!BN14:BY14))","v":""},{"$f":"IF(COUNT(消費意欲!BO14:BZ14)<>12,\"\",AVERAGE(消費意欲!BO14:BZ14))","v":""},{"$f":"IF(COUNT(消費意欲!BP14:CA14)<>12,\"\",AVERAGE(消費意欲!BP14:CA14))","v":""},{"$f":"IF(COUNT(消費意欲!BQ14:CB14)<>12,\"\",AVERAGE(消費意欲!BQ14:CB14))","v":""},{"$f":"IF(COUNT(消費意欲!BR14:CC14)<>12,\"\",AVERAGE(消費意欲!BR14:CC14))","v":""},{"$f":"IF(COUNT(消費意欲!BS14:CD14)<>12,\"\",AVERAGE(消費意欲!BS14:CD14))","v":""},{"$f":"IF(COUNT(消費意欲!BT14:CE14)<>12,\"\",AVERAGE(消費意欲!BT14:CE14))","v":""},{"$f":"IF(COUNT(消費意欲!BU14:CF14)<>12,\"\",AVERAGE(消費意欲!BU14:CF14))","v":""},{"$f":"IF(COUNT(消費意欲!BV14:CG14)<>12,\"\",AVERAGE(消費意欲!BV14:CG14))","v":""},{"$f":"IF(COUNT(消費意欲!BW14:CH14)<>12,\"\",AVERAGE(消費意欲!BW14:CH14))","v":""},{"$f":"IF(COUNT(消費意欲!BX14:CI14)<>12,\"\",AVERAGE(消費意欲!BX14:CI14))","v":""},{"$f":"IF(COUNT(消費意欲!BY14:CJ14)<>12,\"\",AVERAGE(消費意欲!BY14:CJ14))","v":""},{"$f":"IF(COUNT(消費意欲!BZ14:CK14)<>12,\"\",AVERAGE(消費意欲!BZ14:CK14))","v":""},{"$f":"IF(COUNT(消費意欲!CA14:CL14)<>12,\"\",AVERAGE(消費意欲!CA14:CL14))","v":""},{"$f":"IF(COUNT(消費意欲!CB14:CM14)<>12,\"\",AVERAGE(消費意欲!CB14:CM14))","v":""},{"$f":"IF(COUNT(消費意欲!CC14:CN14)<>12,\"\",AVERAGE(消費意欲!CC14:CN14))","v":""},{"$f":"IF(COUNT(消費意欲!CD14:CO14)<>12,\"\",AVERAGE(消費意欲!CD14:CO14))","v":""},{"$f":"IF(COUNT(消費意欲!CE14:CP14)<>12,\"\",AVERAGE(消費意欲!CE14:CP14))","v":""},{"$f":"IF(COUNT(消費意欲!CF14:CQ14)<>12,\"\",AVERAGE(消費意欲!CF14:CQ14))","v":""},{"$f":"IF(COUNT(消費意欲!CG14:CR14)<>12,\"\",AVERAGE(消費意欲!CG14:CR14))","v":""},{"$f":"IF(COUNT(消費意欲!CH14:CS14)<>12,\"\",AVERAGE(消費意欲!CH14:CS14))","v":""},{"$f":"IF(COUNT(消費意欲!CI14:CT14)<>12,\"\",AVERAGE(消費意欲!CI14:CT14))","v":""},{"$f":"IF(COUNT(消費意欲!CJ14:CU14)<>12,\"\",AVERAGE(消費意欲!CJ14:CU14))","v":""},{"$f":"IF(COUNT(消費意欲!CK14:CV14)<>12,\"\",AVERAGE(消費意欲!CK14:CV14))","v":""},{"$f":"IF(COUNT(消費意欲!CL14:CW14)<>12,\"\",AVERAGE(消費意欲!CL14:CW14))","v":""},{"$f":"IF(COUNT(消費意欲!CM14:CX14)<>12,\"\",AVERAGE(消費意欲!CM14:CX14))","v":""},{"$f":"IF(COUNT(消費意欲!CN14:CY14)<>12,\"\",AVERAGE(消費意欲!CN14:CY14))","v":""},{"$f":"IF(COUNT(消費意欲!CO14:CZ14)<>12,\"\",AVERAGE(消費意欲!CO14:CZ14))","v":""},{"$f":"IF(COUNT(消費意欲!CP14:DA14)<>12,\"\",AVERAGE(消費意欲!CP14:DA14))","v":""},{"$f":"IF(COUNT(消費意欲!CQ14:DB14)<>12,\"\",AVERAGE(消費意欲!CQ14:DB14))","v":""},{"$f":"IF(COUNT(消費意欲!CR14:DC14)<>12,\"\",AVERAGE(消費意欲!CR14:DC14))","v":""},{"$f":"IF(COUNT(消費意欲!CS14:DD14)<>12,\"\",AVERAGE(消費意欲!CS14:DD14))","v":""},{"$f":"IF(COUNT(消費意欲!CT14:DE14)<>12,\"\",AVERAGE(消費意欲!CT14:DE14))","v":""},{"$f":"IF(COUNT(消費意欲!CU14:DF14)<>12,\"\",AVERAGE(消費意欲!CU14:DF14))","v":""},{"$f":"IF(COUNT(消費意欲!CV14:DG14)<>12,\"\",AVERAGE(消費意欲!CV14:DG14))","v":""}]
[null,null,"男性30代",null,null,null,null,null,null,null,null,null,null,null,null,null,null,null,{"$f":"IF(COUNT(消費意欲!H15:S15)<>12,\"\",AVERAGE(消費意欲!H15:S15))","v":47.857499999999995},{"$f":"IF(COUNT(消費意欲!I15:T15)<>12,\"\",AVERAGE(消費意欲!I15:T15))","v":47.539166666666667},{"$f":"IF(COUNT(消費意欲!J15:U15)<>12,\"\",AVERAGE(消費意欲!J15:U15))","v":47.297499999999992},{"$f":"IF(COUNT(消費意欲!K15:V15)<>12,\"\",AVERAGE(消費意欲!K15:V15))","v":46.919166666666676},{"$f":"IF(COUNT(消費意欲!L15:W15)<>12,\"\",AVERAGE(消費意欲!L15:W15))","v":46.727499999999999},{"$f":"IF(COUNT(消費意欲!M15:X15)<>12,\"\",AVERAGE(消費意欲!M15:X15))","v":46.165000000000013},{"$f":"IF(COUNT(消費意欲!N15:Y15)<>12,\"\",AVERAGE(消費意欲!N15:Y15))","v":46.06333333333334},{"$f":"IF(COUNT(消費意欲!O15:Z15)<>12,\"\",AVERAGE(消費意欲!O15:Z15))","v":46.314166666666672},{"$f":"IF(COUNT(消費意欲!P15:AA15)<>12,\"\",AVERAGE(消費意欲!P15:AA15))","v":46.716666666666661},{"$f":"IF(COUNT(消費意欲!Q15:AB15)<>12,\"\",AVERAGE(消費意欲!Q15:AB15))","v":46.330000000000005},{"$f":"IF(COUNT(消費意欲!R15:AC15)<>12,\"\",AVERAGE(消費意欲!R15:AC15))","v":46.452499999999993},{"$f":"IF(COUNT(消費意欲!S15:AD15)<>12,\"\",AVERAGE(消費意欲!S15:AD15))","v":46.426666666666655},{"$f":"IF(COUNT(消費意欲!T15:AE15)<>12,\"\",AVERAGE(消費意欲!T15:AE15))","v":46.068333333333328},{"$f":"IF(COUNT(消費意欲!U15:AF15)<>12,\"\",AVERAGE(消費意欲!U15:AF15))","v":45.92166666666666},{"$f":"IF(COUNT(消費意欲!V15:AG15)<>12,\"\",AVERAGE(消費意欲!V15:AG15))","v":45.883333333333333},{"$f":"IF(COUNT(消費意欲!W15:AH15)<>12,\"\",AVERAGE(消費意欲!W15:AH15))","v":45.835000000000001},{"$f":"IF(COUNT(消費意欲!X15:AI15)<>12,\"\",AVERAGE(消費意欲!X15:AI15))","v":45.680833333333339},{"$f":"IF(COUNT(消費意欲!Y15:AJ15)<>12,\"\",AVERAGE(消費意欲!Y15:AJ15))","v":45.774166666666673},{"$f":"IF(COUNT(消費意欲!Z15:AK15)<>12,\"\",AVERAGE(消費意欲!Z15:AK15))","v":45.75916666666668},{"$f":"IF(COUNT(消費意欲!AA15:AL15)<>12,\"\",AVERAGE(消費意欲!AA15:AL15))","v":45.720833333333331},{"$f":"IF(COUNT(消費意欲!AB15:AM15)<>12,\"\",AVERAGE(消費意欲!AB15:AM15))","v":45.697499999999998},{"$f":"IF(COUNT(消費意欲!AC15:AN15)<>12,\"\",AVERAGE(消費意欲!AC15:AN15))","v":45.587499999999999},{"$f":"IF(COUNT(消費意欲!AD15:AO15)<>12,\"\",AVERAGE(消費意欲!AD15:AO15))","v":45.239999999999988},{"$f":"IF(COUNT(消費意欲!AE15:AP15)<>12,\"\",AVERAGE(消費意欲!AE15:AP15))","v":44.660833333333329},{"$f":"IF(COUNT(消費意欲!AF15:AQ15)<>12,\"\",AVERAGE(消費意欲!AF15:AQ15))","v":44.912500000000001},{"$f":"IF(COUNT(消費意欲!AG15:AR15)<>12,\"\",AVERAGE(消費意欲!AG15:AR15))","v":45.195833333333333},{"$f":"IF(COUNT(消費意欲!AH15:AS15)<>12,\"\",AVERAGE(消費意欲!AH15:AS15))","v":45.057499999999997},{"$f":"IF(COUNT(消費意欲!AI15:AT15)<>12,\"\",AVERAGE(消費意欲!AI15:AT15))","v":45.014166666666661},{"$f":"IF(COUNT(消費意欲!AJ15:AU15)<>12,\"\",AVERAGE(消費意欲!AJ15:AU15))","v":45.079166666666659},{"$f":"IF(COUNT(消費意欲!AK15:AV15)<>12,\"\",AVERAGE(消費意欲!AK15:AV15))","v":44.952499999999993},{"$f":"IF(COUNT(消費意欲!AL15:AW15)<>12,\"\",AVERAGE(消費意欲!AL15:AW15))","v":45.393333333333324},{"$f":"IF(COUNT(消費意欲!AM15:AX15)<>12,\"\",AVERAGE(消費意欲!AM15:AX15))","v":45.170833333333341},{"$f":"IF(COUNT(消費意欲!AN15:AY15)<>12,\"\",AVERAGE(消費意欲!AN15:AY15))","v":45.184999999999995},{"$f":"IF(COUNT(消費意欲!AO15:AZ15)<>12,\"\",AVERAGE(消費意欲!AO15:AZ15))","v":45.188333333333325},{"$f":"IF(COUNT(消費意欲!AP15:BA15)<>12,\"\",AVERAGE(消費意欲!AP15:BA15))","v":45.093333333333334},{"$f":"IF(COUNT(消費意欲!AQ15:BB15)<>12,\"\",AVERAGE(消費意欲!AQ15:BB15))","v":45.217500000000001},{"$f":"IF(COUNT(消費意欲!AR15:BC15)<>12,\"\",AVERAGE(消費意欲!AR15:BC15))","v":44.997500000000002},{"$f":"IF(COUNT(消費意欲!AS15:BD15)<>12,\"\",AVERAGE(消費意欲!AS15:BD15))","v":44.795000000000009},{"$f":"IF(COUNT(消費意欲!AT15:BE15)<>12,\"\",AVERAGE(消費意欲!AT15:BE15))","v":""},{"$f":"IF(COUNT(消費意欲!AU15:BF15)<>12,\"\",AVERAGE(消費意欲!AU15:BF15))","v":""},{"$f":"IF(COUNT(消費意欲!AV15:BG15)<>12,\"\",AVERAGE(消費意欲!AV15:BG15))","v":""},{"$f":"IF(COUNT(消費意欲!AW15:BH15)<>12,\"\",AVERAGE(消費意欲!AW15:BH15))","v":""},{"$f":"IF(COUNT(消費意欲!AX15:BI15)<>12,\"\",AVERAGE(消費意欲!AX15:BI15))","v":""},{"$f":"IF(COUNT(消費意欲!AY15:BJ15)<>12,\"\",AVERAGE(消費意欲!AY15:BJ15))","v":""},{"$f":"IF(COUNT(消費意欲!AZ15:BK15)<>12,\"\",AVERAGE(消費意欲!AZ15:BK15))","v":""},{"$f":"IF(COUNT(消費意欲!BA15:BL15)<>12,\"\",AVERAGE(消費意欲!BA15:BL15))","v":""},{"$f":"IF(COUNT(消費意欲!BB15:BM15)<>12,\"\",AVERAGE(消費意欲!BB15:BM15))","v":""},{"$f":"IF(COUNT(消費意欲!BC15:BN15)<>12,\"\",AVERAGE(消費意欲!BC15:BN15))","v":""},{"$f":"IF(COUNT(消費意欲!BD15:BO15)<>12,\"\",AVERAGE(消費意欲!BD15:BO15))","v":""},{"$f":"IF(COUNT(消費意欲!BE15:BP15)<>12,\"\",AVERAGE(消費意欲!BE15:BP15))","v":""},{"$f":"IF(COUNT(消費意欲!BF15:BQ15)<>12,\"\",AVERAGE(消費意欲!BF15:BQ15))","v":""},{"$f":"IF(COUNT(消費意欲!BG15:BR15)<>12,\"\",AVERAGE(消費意欲!BG15:BR15))","v":""},{"$f":"IF(COUNT(消費意欲!BH15:BS15)<>12,\"\",AVERAGE(消費意欲!BH15:BS15))","v":""},{"$f":"IF(COUNT(消費意欲!BI15:BT15)<>12,\"\",AVERAGE(消費意欲!BI15:BT15))","v":""},{"$f":"IF(COUNT(消費意欲!BJ15:BU15)<>12,\"\",AVERAGE(消費意欲!BJ15:BU15))","v":""},{"$f":"IF(COUNT(消費意欲!BK15:BV15)<>12,\"\",AVERAGE(消費意欲!BK15:BV15))","v":""},{"$f":"IF(COUNT(消費意欲!BL15:BW15)<>12,\"\",AVERAGE(消費意欲!BL15:BW15))","v":""},{"$f":"IF(COUNT(消費意欲!BM15:BX15)<>12,\"\",AVERAGE(消費意欲!BM15:BX15))","v":""},{"$f":"IF(COUNT(消費意欲!BN15:BY15)<>12,\"\",AVERAGE(消費意欲!BN15:BY15))","v":""},{"$f":"IF(COUNT(消費意欲!BO15:BZ15)<>12,\"\",AVERAGE(消費意欲!BO15:BZ15))","v":""},{"$f":"IF(COUNT(消費意欲!BP15:CA15)<>12,\"\",AVERAGE(消費意欲!BP15:CA15))","v":""},{"$f":"IF(COUNT(消費意欲!BQ15:CB15)<>12,\"\",AVERAGE(消費意欲!BQ15:CB15))","v":""},{"$f":"IF(COUNT(消費意欲!BR15:CC15)<>12,\"\",AVERAGE(消費意欲!BR15:CC15))","v":""},{"$f":"IF(COUNT(消費意欲!BS15:CD15)<>12,\"\",AVERAGE(消費意欲!BS15:CD15))","v":""},{"$f":"IF(COUNT(消費意欲!BT15:CE15)<>12,\"\",AVERAGE(消費意欲!BT15:CE15))","v":""},{"$f":"IF(COUNT(消費意欲!BU15:CF15)<>12,\"\",AVERAGE(消費意欲!BU15:CF15))","v":""},{"$f":"IF(COUNT(消費意欲!BV15:CG15)<>12,\"\",AVERAGE(消費意欲!BV15:CG15))","v":""},{"$f":"IF(COUNT(消費意欲!BW15:CH15)<>12,\"\",AVERAGE(消費意欲!BW15:CH15))","v":""},{"$f":"IF(COUNT(消費意欲!BX15:CI15)<>12,\"\",AVERAGE(消費意欲!BX15:CI15))","v":""},{"$f":"IF(COUNT(消費意欲!BY15:CJ15)<>12,\"\",AVERAGE(消費意欲!BY15:CJ15))","v":""},{"$f":"IF(COUNT(消費意欲!BZ15:CK15)<>12,\"\",AVERAGE(消費意欲!BZ15:CK15))","v":""},{"$f":"IF(COUNT(消費意欲!CA15:CL15)<>12,\"\",AVERAGE(消費意欲!CA15:CL15))","v":""},{"$f":"IF(COUNT(消費意欲!CB15:CM15)<>12,\"\",AVERAGE(消費意欲!CB15:CM15))","v":""},{"$f":"IF(COUNT(消費意欲!CC15:CN15)<>12,\"\",AVERAGE(消費意欲!CC15:CN15))","v":""},{"$f":"IF(COUNT(消費意欲!CD15:CO15)<>12,\"\",AVERAGE(消費意欲!CD15:CO15))","v":""},{"$f":"IF(COUNT(消費意欲!CE15:CP15)<>12,\"\",AVERAGE(消費意欲!CE15:CP15))","v":""},{"$f":"IF(COUNT(消費意欲!CF15:CQ15)<>12,\"\",AVERAGE(消費意欲!CF15:CQ15))","v":""},{"$f":"IF(COUNT(消費意欲!CG15:CR15)<>12,\"\",AVERAGE(消費意欲!CG15:CR15))","v":""},{"$f":"IF(COUNT(消費意欲!CH15:CS15)<>12,\"\",AVERAGE(消費意欲!CH15:CS15))","v":""},{"$f":"IF(COUNT(消費意欲!CI15:CT15)<>12,\"\",AVERAGE(消費意欲!CI15:CT15))","v":""},{"$f":"IF(COUNT(消費意欲!CJ15:CU15)<>12,\"\",AVERAGE(消費意欲!CJ15:CU15))","v":""},{"$f":"IF(COUNT(消費意欲!CK15:CV15)<>12,\"\",AVERAGE(消費意欲!CK15:CV15))","v":""},{"$f":"IF(COUNT(消費意欲!CL15:CW15)<>12,\"\",AVERAGE(消費意欲!CL15:CW15))","v":""},{"$f":"IF(COUNT(消費意欲!CM15:CX15)<>12,\"\",AVERAGE(消費意欲!CM15:CX15))","v":""},{"$f":"IF(COUNT(消費意欲!CN15:CY15)<>12,\"\",AVERAGE(消費意欲!CN15:CY15))","v":""},{"$f":"IF(COUNT(消費意欲!CO15:CZ15)<>12,\"\",AVERAGE(消費意欲!CO15:CZ15))","v":""},{"$f":"IF(COUNT(消費意欲!CP15:DA15)<>12,\"\",AVERAGE(消費意欲!CP15:DA15))","v":""},{"$f":"IF(COUNT(消費意欲!CQ15:DB15)<>12,\"\",AVERAGE(消費意欲!CQ15:DB15))","v":""},{"$f":"IF(COUNT(消費意欲!CR15:DC15)<>12,\"\",AVERAGE(消費意欲!CR15:DC15))","v":""},{"$f":"IF(COUNT(消費意欲!CS15:DD15)<>12,\"\",AVERAGE(消費意欲!CS15:DD15))","v":""},{"$f":"IF(COUNT(消費意欲!CT15:DE15)<>12,\"\",AVERAGE(消費意欲!CT15:DE15))","v":""},{"$f":"IF(COUNT(消費意欲!CU15:DF15)<>12,\"\",AVERAGE(消費意欲!CU15:DF15))","v":""},{"$f":"IF(COUNT(消費意欲!CV15:DG15)<>12,\"\",AVERAGE(消費意欲!CV15:DG15))","v":""}]
[null,null,"男性40代",null,null,null,null,null,null,null,null,null,null,null,null,null,null,null,{"$f":"IF(COUNT(消費意欲!H16:S16)<>12,\"\",AVERAGE(消費意欲!H16:S16))","v":45.427500000000002},{"$f":"IF(COUNT(消費意欲!I16:T16)<>12,\"\",AVERAGE(消費意欲!I16:T16))","v":45.439166666666665},{"$f":"IF(COUNT(消費意欲!J16:U16)<>12,\"\",AVERAGE(消費意欲!J16:U16))","v":45.330833333333324},{"$f":"IF(COUNT(消費意欲!K16:V16)<>12,\"\",AVERAGE(消費意欲!K16:V16))","v":44.931666666666665},{"$f":"IF(COUNT(消費意欲!L16:W16)<>12,\"\",AVERAGE(消費意欲!L16:W16))","v":44.74916666666666},{"$f":"IF(COUNT(消費意欲!M16:X16)<>12,\"\",AVERAGE(消費意欲!M16:X16))","v":44.31666666666667},{"$f":"IF(COUNT(消費意欲!N16:Y16)<>12,\"\",AVERAGE(消費意欲!N16:Y16))","v":44.561666666666667},{"$f":"IF(COUNT(消費意欲!O16:Z16)<>12,\"\",AVERAGE(消費意欲!O16:Z16))","v":44.615833333333335},{"$f":"IF(COUNT(消費意欲!P16:AA16)<>12,\"\",AVERAGE(消費意欲!P16:AA16))","v":44.465833333333336},{"$f":"IF(COUNT(消費意欲!Q16:AB16)<>12,\"\",AVERAGE(消費意欲!Q16:AB16))","v":44.301666666666669},{"$f":"IF(COUNT(消費意欲!R16:AC16)<>12,\"\",AVERAGE(消費意欲!R16:AC16))","v":45.025833333333331},{"$f":"IF(COUNT(消費意欲!S16:AD16)<>12,\"\",AVERAGE(消費意欲!S16:AD16))","v":45.230833333333329},{"$f":"IF(COUNT(消費意欲!T16:AE16)<>12,\"\",AVERAGE(消費意欲!T16:AE16))","v":44.814166666666672},{"$f":"IF(COUNT(消費意欲!U16:AF16)<>12,\"\",AVERAGE(消費意欲!U16:AF16))","v":44.72},{"$f":"IF(COUNT(消費意欲!V16:AG16)<>12,\"\",AVERAGE(消費意欲!V16:AG16))","v":44.794999999999987},{"$f":"IF(COUNT(消費意欲!W16:AH16)<>12,\"\",AVERAGE(消費意欲!W16:AH16))","v":44.858333333333327},{"$f":"IF(COUNT(消費意欲!X16:AI16)<>12,\"\",AVERAGE(消費意欲!X16:AI16))","v":44.696666666666658},{"$f":"IF(COUNT(消費意欲!Y16:AJ16)<>12,\"\",AVERAGE(消費意欲!Y16:AJ16))","v":45.29},{"$f":"IF(COUNT(消費意欲!Z16:AK16)<>12,\"\",AVERAGE(消費意欲!Z16:AK16))","v":45.056666666666665},{"$f":"IF(COUNT(消費意欲!AA16:AL16)<>12,\"\",AVERAGE(消費意欲!AA16:AL16))","v":44.818333333333328},{"$f":"IF(COUNT(消費意欲!AB16:AM16)<>12,\"\",AVERAGE(消費意欲!AB16:AM16))","v":45.173333333333325},{"$f":"IF(COUNT(消費意欲!AC16:AN16)<>12,\"\",AVERAGE(消費意欲!AC16:AN16))","v":45.217500000000001},{"$f":"IF(COUNT(消費意欲!AD16:AO16)<>12,\"\",AVERAGE(消費意欲!AD16:AO16))","v":44.510833333333323},{"$f":"IF(COUNT(消費意欲!AE16:AP16)<>12,\"\",AVERAGE(消費意欲!AE16:AP16))","v":43.926666666666655},{"$f":"IF(COUNT(消費意欲!AF16:AQ16)<>12,\"\",AVERAGE(消費意欲!AF16:AQ16))","v":44.238333333333337},{"$f":"IF(COUNT(消費意欲!AG16:AR16)<>12,\"\",AVERAGE(消費意欲!AG16:AR16))","v":44.281666666666659},{"$f":"IF(COUNT(消費意欲!AH16:AS16)<>12,\"\",AVERAGE(消費意欲!AH16:AS16))","v":44.19},{"$f":"IF(COUNT(消費意欲!AI16:AT16)<>12,\"\",AVERAGE(消費意欲!AI16:AT16))","v":44.042499999999997},{"$f":"IF(COUNT(消費意欲!AJ16:AU16)<>12,\"\",AVERAGE(消費意欲!AJ16:AU16))","v":44.094999999999999},{"$f":"IF(COUNT(消費意欲!AK16:AV16)<>12,\"\",AVERAGE(消費意欲!AK16:AV16))","v":43.834166666666668},{"$f":"IF(COUNT(消費意欲!AL16:AW16)<>12,\"\",AVERAGE(消費意欲!AL16:AW16))","v":43.989166666666669},{"$f":"IF(COUNT(消費意欲!AM16:AX16)<>12,\"\",AVERAGE(消費意欲!AM16:AX16))","v":44.284999999999997},{"$f":"IF(COUNT(消費意欲!AN16:AY16)<>12,\"\",AVERAGE(消費意欲!AN16:AY16))","v":43.91},{"$f":"IF(COUNT(消費意欲!AO16:AZ16)<>12,\"\",AVERAGE(消費意欲!AO16:AZ16))","v":43.978333333333325},{"$f":"IF(COUNT(消費意欲!AP16:BA16)<>12,\"\",AVERAGE(消費意欲!AP16:BA16))","v":43.884999999999998},{"$f":"IF(COUNT(消費意欲!AQ16:BB16)<>12,\"\",AVERAGE(消費意欲!AQ16:BB16))","v":44.04},{"$f":"IF(COUNT(消費意欲!AR16:BC16)<>12,\"\",AVERAGE(消費意欲!AR16:BC16))","v":44.264166666666675},{"$f":"IF(COUNT(消費意欲!AS16:BD16)<>12,\"\",AVERAGE(消費意欲!AS16:BD16))","v":43.839166666666664},{"$f":"IF(COUNT(消費意欲!AT16:BE16)<>12,\"\",AVERAGE(消費意欲!AT16:BE16))","v":""},{"$f":"IF(COUNT(消費意欲!AU16:BF16)<>12,\"\",AVERAGE(消費意欲!AU16:BF16))","v":""},{"$f":"IF(COUNT(消費意欲!AV16:BG16)<>12,\"\",AVERAGE(消費意欲!AV16:BG16))","v":""},{"$f":"IF(COUNT(消費意欲!AW16:BH16)<>12,\"\",AVERAGE(消費意欲!AW16:BH16))","v":""},{"$f":"IF(COUNT(消費意欲!AX16:BI16)<>12,\"\",AVERAGE(消費意欲!AX16:BI16))","v":""},{"$f":"IF(COUNT(消費意欲!AY16:BJ16)<>12,\"\",AVERAGE(消費意欲!AY16:BJ16))","v":""},{"$f":"IF(COUNT(消費意欲!AZ16:BK16)<>12,\"\",AVERAGE(消費意欲!AZ16:BK16))","v":""},{"$f":"IF(COUNT(消費意欲!BA16:BL16)<>12,\"\",AVERAGE(消費意欲!BA16:BL16))","v":""},{"$f":"IF(COUNT(消費意欲!BB16:BM16)<>12,\"\",AVERAGE(消費意欲!BB16:BM16))","v":""},{"$f":"IF(COUNT(消費意欲!BC16:BN16)<>12,\"\",AVERAGE(消費意欲!BC16:BN16))","v":""},{"$f":"IF(COUNT(消費意欲!BD16:BO16)<>12,\"\",AVERAGE(消費意欲!BD16:BO16))","v":""},{"$f":"IF(COUNT(消費意欲!BE16:BP16)<>12,\"\",AVERAGE(消費意欲!BE16:BP16))","v":""},{"$f":"IF(COUNT(消費意欲!BF16:BQ16)<>12,\"\",AVERAGE(消費意欲!BF16:BQ16))","v":""},{"$f":"IF(COUNT(消費意欲!BG16:BR16)<>12,\"\",AVERAGE(消費意欲!BG16:BR16))","v":""},{"$f":"IF(COUNT(消費意欲!BH16:BS16)<>12,\"\",AVERAGE(消費意欲!BH16:BS16))","v":""},{"$f":"IF(COUNT(消費意欲!BI16:BT16)<>12,\"\",AVERAGE(消費意欲!BI16:BT16))","v":""},{"$f":"IF(COUNT(消費意欲!BJ16:BU16)<>12,\"\",AVERAGE(消費意欲!BJ16:BU16))","v":""},{"$f":"IF(COUNT(消費意欲!BK16:BV16)<>12,\"\",AVERAGE(消費意欲!BK16:BV16))","v":""},{"$f":"IF(COUNT(消費意欲!BL16:BW16)<>12,\"\",AVERAGE(消費意欲!BL16:BW16))","v":""},{"$f":"IF(COUNT(消費意欲!BM16:BX16)<>12,\"\",AVERAGE(消費意欲!BM16:BX16))","v":""},{"$f":"IF(COUNT(消費意欲!BN16:BY16)<>12,\"\",AVERAGE(消費意欲!BN16:BY16))","v":""},{"$f":"IF(COUNT(消費意欲!BO16:BZ16)<>12,\"\",AVERAGE(消費意欲!BO16:BZ16))","v":""},{"$f":"IF(COUNT(消費意欲!BP16:CA16)<>12,\"\",AVERAGE(消費意欲!BP16:CA16))","v":""},{"$f":"IF(COUNT(消費意欲!BQ16:CB16)<>12,\"\",AVERAGE(消費意欲!BQ16:CB16))","v":""},{"$f":"IF(COUNT(消費意欲!BR16:CC16)<>12,\"\",AVERAGE(消費意欲!BR16:CC16))","v":""},{"$f":"IF(COUNT(消費意欲!BS16:CD16)<>12,\"\",AVERAGE(消費意欲!BS16:CD16))","v":""},{"$f":"IF(COUNT(消費意欲!BT16:CE16)<>12,\"\",AVERAGE(消費意欲!BT16:CE16))","v":""},{"$f":"IF(COUNT(消費意欲!BU16:CF16)<>12,\"\",AVERAGE(消費意欲!BU16:CF16))","v":""},{"$f":"IF(COUNT(消費意欲!BV16:CG16)<>12,\"\",AVERAGE(消費意欲!BV16:CG16))","v":""},{"$f":"IF(COUNT(消費意欲!BW16:CH16)<>12,\"\",AVERAGE(消費意欲!BW16:CH16))","v":""},{"$f":"IF(COUNT(消費意欲!BX16:CI16)<>12,\"\",AVERAGE(消費意欲!BX16:CI16))","v":""},{"$f":"IF(COUNT(消費意欲!BY16:CJ16)<>12,\"\",AVERAGE(消費意欲!BY16:CJ16))","v":""},{"$f":"IF(COUNT(消費意欲!BZ16:CK16)<>12,\"\",AVERAGE(消費意欲!BZ16:CK16))","v":""},{"$f":"IF(COUNT(消費意欲!CA16:CL16)<>12,\"\",AVERAGE(消費意欲!CA16:CL16))","v":""},{"$f":"IF(COUNT(消費意欲!CB16:CM16)<>12,\"\",AVERAGE(消費意欲!CB16:CM16))","v":""},{"$f":"IF(COUNT(消費意欲!CC16:CN16)<>12,\"\",AVERAGE(消費意欲!CC16:CN16))","v":""},{"$f":"IF(COUNT(消費意欲!CD16:CO16)<>12,\"\",AVERAGE(消費意欲!CD16:CO16))","v":""},{"$f":"IF(COUNT(消費意欲!CE16:CP16)<>12,\"\",AVERAGE(消費意欲!CE16:CP16))","v":""},{"$f":"IF(COUNT(消費意欲!CF16:CQ16)<>12,\"\",AVERAGE(消費意欲!CF16:CQ16))","v":""},{"$f":"IF(COUNT(消費意欲!CG16:CR16)<>12,\"\",AVERAGE(消費意欲!CG16:CR16))","v":""},{"$f":"IF(COUNT(消費意欲!CH16:CS16)<>12,\"\",AVERAGE(消費意欲!CH16:CS16))","v":""},{"$f":"IF(COUNT(消費意欲!CI16:CT16)<>12,\"\",AVERAGE(消費意欲!CI16:CT16))","v":""},{"$f":"IF(COUNT(消費意欲!CJ16:CU16)<>12,\"\",AVERAGE(消費意欲!CJ16:CU16))","v":""},{"$f":"IF(COUNT(消費意欲!CK16:CV16)<>12,\"\",AVERAGE(消費意欲!CK16:CV16))","v":""},{"$f":"IF(COUNT(消費意欲!CL16:CW16)<>12,\"\",AVERAGE(消費意欲!CL16:CW16))","v":""},{"$f":"IF(COUNT(消費意欲!CM16:CX16)<>12,\"\",AVERAGE(消費意欲!CM16:CX16))","v":""},{"$f":"IF(COUNT(消費意欲!CN16:CY16)<>12,\"\",AVERAGE(消費意欲!CN16:CY16))","v":""},{"$f":"IF(COUNT(消費意欲!CO16:CZ16)<>12,\"\",AVERAGE(消費意欲!CO16:CZ16))","v":""},{"$f":"IF(COUNT(消費意欲!CP16:DA16)<>12,\"\",AVERAGE(消費意欲!CP16:DA16))","v":""},{"$f":"IF(COUNT(消費意欲!CQ16:DB16)<>12,\"\",AVERAGE(消費意欲!CQ16:DB16))","v":""},{"$f":"IF(COUNT(消費意欲!CR16:DC16)<>12,\"\",AVERAGE(消費意欲!CR16:DC16))","v":""},{"$f":"IF(COUNT(消費意欲!CS16:DD16)<>12,\"\",AVERAGE(消費意欲!CS16:DD16))","v":""},{"$f":"IF(COUNT(消費意欲!CT16:DE16)<>12,\"\",AVERAGE(消費意欲!CT16:DE16))","v":""},{"$f":"IF(COUNT(消費意欲!CU16:DF16)<>12,\"\",AVERAGE(消費意欲!CU16:DF16))","v":""},{"$f":"IF(COUNT(消費意欲!CV16:DG16)<>12,\"\",AVERAGE(消費意欲!CV16:DG16))","v":""}]
[null,null,"男性50代",null,null,null,null,null,null,null,null,null,null,null,null,null,null,null,{"$f":"IF(COUNT(消費意欲!H17:S17)<>12,\"\",AVERAGE(消費意欲!H17:S17))","v":46.914999999999999},{"$f":"IF(COUNT(消費意欲!I17:T17)<>12,\"\",AVERAGE(消費意欲!I17:T17))","v":47.272500000000008},{"$f":"IF(COUNT(消費意欲!J17:U17)<>12,\"\",AVERAGE(消費意欲!J17:U17))","v":47.230833333333329},{"$f":"IF(COUNT(消費意欲!K17:V17)<>12,\"\",AVERAGE(消費意欲!K17:V17))","v":47.202499999999993},{"$f":"IF(COUNT(消費意欲!L17:W17)<>12,\"\",AVERAGE(消費意欲!L17:W17))","v":47.402499999999996},{"$f":"IF(COUNT(消費意欲!M17:X17)<>12,\"\",AVERAGE(消費意欲!M17:X17))","v":46.860000000000007},{"$f":"IF(COUNT(消費意欲!N17:Y17)<>12,\"\",AVERAGE(消費意欲!N17:Y17))","v":46.758333333333333},{"$f":"IF(COUNT(消費意欲!O17:Z17)<>12,\"\",AVERAGE(消費意欲!O17:Z17))","v":46.306666666666672},{"$f":"IF(COUNT(消費意欲!P17:AA17)<>12,\"\",AVERAGE(消費意欲!P17:AA17))","v":46.608333333333341},{"$f":"IF(COUNT(消費意欲!Q17:AB17)<>12,\"\",AVERAGE(消費意欲!Q17:AB17))","v":46.300833333333337},{"$f":"IF(COUNT(消費意欲!R17:AC17)<>12,\"\",AVERAGE(消費意欲!R17:AC17))","v":46.303333333333342},{"$f":"IF(COUNT(消費意欲!S17:AD17)<>12,\"\",AVERAGE(消費意欲!S17:AD17))","v":46.720833333333331},{"$f":"IF(COUNT(消費意欲!T17:AE17)<>12,\"\",AVERAGE(消費意欲!T17:AE17))","v":46.337499999999999},{"$f":"IF(COUNT(消費意欲!U17:AF17)<>12,\"\",AVERAGE(消費意欲!U17:AF17))","v":45.925000000000004},{"$f":"IF(COUNT(消費意欲!V17:AG17)<>12,\"\",AVERAGE(消費意欲!V17:AG17))","v":45.758333333333333},{"$f":"IF(COUNT(消費意欲!W17:AH17)<>12,\"\",AVERAGE(消費意欲!W17:AH17))","v":45.488333333333337},{"$f":"IF(COUNT(消費意欲!X17:AI17)<>12,\"\",AVERAGE(消費意欲!X17:AI17))","v":45.54666666666666},{"$f":"IF(COUNT(消費意欲!Y17:AJ17)<>12,\"\",AVERAGE(消費意欲!Y17:AJ17))","v":45.412500000000001},{"$f":"IF(COUNT(消費意欲!Z17:AK17)<>12,\"\",AVERAGE(消費意欲!Z17:AK17))","v":45.340833333333336},{"$f":"IF(COUNT(消費意欲!AA17:AL17)<>12,\"\",AVERAGE(消費意欲!AA17:AL17))","v":45.572499999999998},{"$f":"IF(COUNT(消費意欲!AB17:AM17)<>12,\"\",AVERAGE(消費意欲!AB17:AM17))","v":45.574166666666663},{"$f":"IF(COUNT(消費意欲!AC17:AN17)<>12,\"\",AVERAGE(消費意欲!AC17:AN17))","v":45.44083333333333},{"$f":"IF(COUNT(消費意欲!AD17:AO17)<>12,\"\",AVERAGE(消費意欲!AD17:AO17))","v":45.155833333333334},{"$f":"IF(COUNT(消費意欲!AE17:AP17)<>12,\"\",AVERAGE(消費意欲!AE17:AP17))","v":44.884166666666665},{"$f":"IF(COUNT(消費意欲!AF17:AQ17)<>12,\"\",AVERAGE(消費意欲!AF17:AQ17))","v":44.781666666666666},{"$f":"IF(COUNT(消費意欲!AG17:AR17)<>12,\"\",AVERAGE(消費意欲!AG17:AR17))","v":45.245000000000005},{"$f":"IF(COUNT(消費意欲!AH17:AS17)<>12,\"\",AVERAGE(消費意欲!AH17:AS17))","v":45.067500000000003},{"$f":"IF(COUNT(消費意欲!AI17:AT17)<>12,\"\",AVERAGE(消費意欲!AI17:AT17))","v":45.225833333333334},{"$f":"IF(COUNT(消費意欲!AJ17:AU17)<>12,\"\",AVERAGE(消費意欲!AJ17:AU17))","v":44.616666666666667},{"$f":"IF(COUNT(消費意欲!AK17:AV17)<>12,\"\",AVERAGE(消費意欲!AK17:AV17))","v":44.758333333333326},{"$f":"IF(COUNT(消費意欲!AL17:AW17)<>12,\"\",AVERAGE(消費意欲!AL17:AW17))","v":44.804166666666667},{"$f":"IF(COUNT(消費意欲!AM17:AX17)<>12,\"\",AVERAGE(消費意欲!AM17:AX17))","v":44.669166666666676},{"$f":"IF(COUNT(消費意欲!AN17:AY17)<>12,\"\",AVERAGE(消費意欲!AN17:AY17))","v":44.51},{"$f":"IF(COUNT(消費意欲!AO17:AZ17)<>12,\"\",AVERAGE(消費意欲!AO17:AZ17))","v":44.533333333333331},{"$f":"IF(COUNT(消費意欲!AP17:BA17)<>12,\"\",AVERAGE(消費意欲!AP17:BA17))","v":44.350833333333334},{"$f":"IF(COUNT(消費意欲!AQ17:BB17)<>12,\"\",AVERAGE(消費意欲!AQ17:BB17))","v":44.104166666666664},{"$f":"IF(COUNT(消費意欲!AR17:BC17)<>12,\"\",AVERAGE(消費意欲!AR17:BC17))","v":44.368333333333332},{"$f":"IF(COUNT(消費意欲!AS17:BD17)<>12,\"\",AVERAGE(消費意欲!AS17:BD17))","v":44.338333333333331},{"$f":"IF(COUNT(消費意欲!AT17:BE17)<>12,\"\",AVERAGE(消費意欲!AT17:BE17))","v":""},{"$f":"IF(COUNT(消費意欲!AU17:BF17)<>12,\"\",AVERAGE(消費意欲!AU17:BF17))","v":""},{"$f":"IF(COUNT(消費意欲!AV17:BG17)<>12,\"\",AVERAGE(消費意欲!AV17:BG17))","v":""},{"$f":"IF(COUNT(消費意欲!AW17:BH17)<>12,\"\",AVERAGE(消費意欲!AW17:BH17))","v":""},{"$f":"IF(COUNT(消費意欲!AX17:BI17)<>12,\"\",AVERAGE(消費意欲!AX17:BI17))","v":""},{"$f":"IF(COUNT(消費意欲!AY17:BJ17)<>12,\"\",AVERAGE(消費意欲!AY17:BJ17))","v":""},{"$f":"IF(COUNT(消費意欲!AZ17:BK17)<>12,\"\",AVERAGE(消費意欲!AZ17:BK17))","v":""},{"$f":"IF(COUNT(消費意欲!BA17:BL17)<>12,\"\",AVERAGE(消費意欲!BA17:BL17))","v":""},{"$f":"IF(COUNT(消費意欲!BB17:BM17)<>12,\"\",AVERAGE(消費意欲!BB17:BM17))","v":""},{"$f":"IF(COUNT(消費意欲!BC17:BN17)<>12,\"\",AVERAGE(消費意欲!BC17:BN17))","v":""},{"$f":"IF(COUNT(消費意欲!BD17:BO17)<>12,\"\",AVERAGE(消費意欲!BD17:BO17))","v":""},{"$f":"IF(COUNT(消費意欲!BE17:BP17)<>12,\"\",AVERAGE(消費意欲!BE17:BP17))","v":""},{"$f":"IF(COUNT(消費意欲!BF17:BQ17)<>12,\"\",AVERAGE(消費意欲!BF17:BQ17))","v":""},{"$f":"IF(COUNT(消費意欲!BG17:BR17)<>12,\"\",AVERAGE(消費意欲!BG17:BR17))","v":""},{"$f":"IF(COUNT(消費意欲!BH17:BS17)<>12,\"\",AVERAGE(消費意欲!BH17:BS17))","v":""},{"$f":"IF(COUNT(消費意欲!BI17:BT17)<>12,\"\",AVERAGE(消費意欲!BI17:BT17))","v":""},{"$f":"IF(COUNT(消費意欲!BJ17:BU17)<>12,\"\",AVERAGE(消費意欲!BJ17:BU17))","v":""},{"$f":"IF(COUNT(消費意欲!BK17:BV17)<>12,\"\",AVERAGE(消費意欲!BK17:BV17))","v":""},{"$f":"IF(COUNT(消費意欲!BL17:BW17)<>12,\"\",AVERAGE(消費意欲!BL17:BW17))","v":""},{"$f":"IF(COUNT(消費意欲!BM17:BX17)<>12,\"\",AVERAGE(消費意欲!BM17:BX17))","v":""},{"$f":"IF(COUNT(消費意欲!BN17:BY17)<>12,\"\",AVERAGE(消費意欲!BN17:BY17))","v":""},{"$f":"IF(COUNT(消費意欲!BO17:BZ17)<>12,\"\",AVERAGE(消費意欲!BO17:BZ17))","v":""},{"$f":"IF(COUNT(消費意欲!BP17:CA17)<>12,\"\",AVERAGE(消費意欲!BP17:CA17))","v":""},{"$f":"IF(COUNT(消費意欲!BQ17:CB17)<>12,\"\",AVERAGE(消費意欲!BQ17:CB17))","v":""},{"$f":"IF(COUNT(消費意欲!BR17:CC17)<>12,\"\",AVERAGE(消費意欲!BR17:CC17))","v":""},{"$f":"IF(COUNT(消費意欲!BS17:CD17)<>12,\"\",AVERAGE(消費意欲!BS17:CD17))","v":""},{"$f":"IF(COUNT(消費意欲!BT17:CE17)<>12,\"\",AVERAGE(消費意欲!BT17:CE17))","v":""},{"$f":"IF(COUNT(消費意欲!BU17:CF17)<>12,\"\",AVERAGE(消費意欲!BU17:CF17))","v":""},{"$f":"IF(COUNT(消費意欲!BV17:CG17)<>12,\"\",AVERAGE(消費意欲!BV17:CG17))","v":""},{"$f":"IF(COUNT(消費意欲!BW17:CH17)<>12,\"\",AVERAGE(消費意欲!BW17:CH17))","v":""},{"$f":"IF(COUNT(消費意欲!BX17:CI17)<>12,\"\",AVERAGE(消費意欲!BX17:CI17))","v":""},{"$f":"IF(COUNT(消費意欲!BY17:CJ17)<>12,\"\",AVERAGE(消費意欲!BY17:CJ17))","v":""},{"$f":"IF(COUNT(消費意欲!BZ17:CK17)<>12,\"\",AVERAGE(消費意欲!BZ17:CK17))","v":""},{"$f":"IF(COUNT(消費意欲!CA17:CL17)<>12,\"\",AVERAGE(消費意欲!CA17:CL17))","v":""},{"$f":"IF(COUNT(消費意欲!CB17:CM17)<>12,\"\",AVERAGE(消費意欲!CB17:CM17))","v":""},{"$f":"IF(COUNT(消費意欲!CC17:CN17)<>12,\"\",AVERAGE(消費意欲!CC17:CN17))","v":""},{"$f":"IF(COUNT(消費意欲!CD17:CO17)<>12,\"\",AVERAGE(消費意欲!CD17:CO17))","v":""},{"$f":"IF(COUNT(消費意欲!CE17:CP17)<>12,\"\",AVERAGE(消費意欲!CE17:CP17))","v":""},{"$f":"IF(COUNT(消費意欲!CF17:CQ17)<>12,\"\",AVERAGE(消費意欲!CF17:CQ17))","v":""},{"$f":"IF(COUNT(消費意欲!CG17:CR17)<>12,\"\",AVERAGE(消費意欲!CG17:CR17))","v":""},{"$f":"IF(COUNT(消費意欲!CH17:CS17)<>12,\"\",AVERAGE(消費意欲!CH17:CS17))","v":""},{"$f":"IF(COUNT(消費意欲!CI17:CT17)<>12,\"\",AVERAGE(消費意欲!CI17:CT17))","v":""},{"$f":"IF(COUNT(消費意欲!CJ17:CU17)<>12,\"\",AVERAGE(消費意欲!CJ17:CU17))","v":""},{"$f":"IF(COUNT(消費意欲!CK17:CV17)<>12,\"\",AVERAGE(消費意欲!CK17:CV17))","v":""},{"$f":"IF(COUNT(消費意欲!CL17:CW17)<>12,\"\",AVERAGE(消費意欲!CL17:CW17))","v":""},{"$f":"IF(COUNT(消費意欲!CM17:CX17)<>12,\"\",AVERAGE(消費意欲!CM17:CX17))","v":""},{"$f":"IF(COUNT(消費意欲!CN17:CY17)<>12,\"\",AVERAGE(消費意欲!CN17:CY17))","v":""},{"$f":"IF(COUNT(消費意欲!CO17:CZ17)<>12,\"\",AVERAGE(消費意欲!CO17:CZ17))","v":""},{"$f":"IF(COUNT(消費意欲!CP17:DA17)<>12,\"\",AVERAGE(消費意欲!CP17:DA17))","v":""},{"$f":"IF(COUNT(消費意欲!CQ17:DB17)<>12,\"\",AVERAGE(消費意欲!CQ17:DB17))","v":""},{"$f":"IF(COUNT(消費意欲!CR17:DC17)<>12,\"\",AVERAGE(消費意欲!CR17:DC17))","v":""},{"$f":"IF(COUNT(消費意欲!CS17:DD17)<>12,\"\",AVERAGE(消費意欲!CS17:DD17))","v":""},{"$f":"IF(COUNT(消費意欲!CT17:DE17)<>12,\"\",AVERAGE(消費意欲!CT17:DE17))","v":""},{"$f":"IF(COUNT(消費意欲!CU17:DF17)<>12,\"\",AVERAGE(消費意欲!CU17:DF17))","v":""},{"$f":"IF(COUNT(消費意欲!CV17:DG17)<>12,\"\",AVERAGE(消費意欲!CV17:DG17))","v":""}]
[null,null,"男性60代",null,null,null,null,null,null,null,null,null,null,null,null,null,null,null,{"$f":"IF(COUNT(消費意欲!H18:S18)<>12,\"\",AVERAGE(消費意欲!H18:S18))","v":48.830833333333338},{"$f":"IF(COUNT(消費意欲!I18:T18)<>12,\"\",AVERAGE(消費意欲!I18:T18))","v":48.5075},{"$f":"IF(COUNT(消費意欲!J18:U18)<>12,\"\",AVERAGE(消費意欲!J18:U18))","v":48.150000000000006},{"$f":"IF(COUNT(消費意欲!K18:V18)<>12,\"\",AVERAGE(消費意欲!K18:V18))","v":48.111666666666672},{"$f":"IF(COUNT(消費意欲!L18:W18)<>12,\"\",AVERAGE(消費意欲!L18:W18))","v":48.142500000000005},{"$f":"IF(COUNT(消費意欲!M18:X18)<>12,\"\",AVERAGE(消費意欲!M18:X18))","v":48.039999999999992},{"$f":"IF(COUNT(消費意欲!N18:Y18)<>12,\"\",AVERAGE(消費意欲!N18:Y18))","v":48.61583333333332},{"$f":"IF(COUNT(消費意欲!O18:Z18)<>12,\"\",AVERAGE(消費意欲!O18:Z18))","v":48.23},{"$f":"IF(COUNT(消費意欲!P18:AA18)<>12,\"\",AVERAGE(消費意欲!P18:AA18))","v":48.393333333333324},{"$f":"IF(COUNT(消費意欲!Q18:AB18)<>12,\"\",AVERAGE(消費意欲!Q18:AB18))","v":48.203333333333326},{"$f":"IF(COUNT(消費意欲!R18:AC18)<>12,\"\",AVERAGE(消費意欲!R18:AC18))","v":48.666666666666657},{"$f":"IF(COUNT(消費意欲!S18:AD18)<>12,\"\",AVERAGE(消費意欲!S18:AD18))","v":48.845833333333331},{"$f":"IF(COUNT(消費意欲!T18:AE18)<>12,\"\",AVERAGE(消費意欲!T18:AE18))","v":48.817499999999995},{"$f":"IF(COUNT(消費意欲!U18:AF18)<>12,\"\",AVERAGE(消費意欲!U18:AF18))","v":48.838333333333338},{"$f":"IF(COUNT(消費意欲!V18:AG18)<>12,\"\",AVERAGE(消費意欲!V18:AG18))","v":48.78},{"$f":"IF(COUNT(消費意欲!W18:AH18)<>12,\"\",AVERAGE(消費意欲!W18:AH18))","v":48.342500000000001},{"$f":"IF(COUNT(消費意欲!X18:AI18)<>12,\"\",AVERAGE(消費意欲!X18:AI18))","v":48.269166666666671},{"$f":"IF(COUNT(消費意欲!Y18:AJ18)<>12,\"\",AVERAGE(消費意欲!Y18:AJ18))","v":48.222499999999997},{"$f":"IF(COUNT(消費意欲!Z18:AK18)<>12,\"\",AVERAGE(消費意欲!Z18:AK18))","v":47.598333333333336},{"$f":"IF(COUNT(消費意欲!AA18:AL18)<>12,\"\",AVERAGE(消費意欲!AA18:AL18))","v":47.31666666666667},{"$f":"IF(COUNT(消費意欲!AB18:AM18)<>12,\"\",AVERAGE(消費意欲!AB18:AM18))","v":47.226666666666667},{"$f":"IF(COUNT(消費意欲!AC18:AN18)<>12,\"\",AVERAGE(消費意欲!AC18:AN18))","v":47.291666666666664},{"$f":"IF(COUNT(消費意欲!AD18:AO18)<>12,\"\",AVERAGE(消費意欲!AD18:AO18))","v":46.789166666666667},{"$f":"IF(COUNT(消費意欲!AE18:AP18)<>12,\"\",AVERAGE(消費意欲!AE18:AP18))","v":46.675833333333337},{"$f":"IF(COUNT(消費意欲!AF18:AQ18)<>12,\"\",AVERAGE(消費意欲!AF18:AQ18))","v":46.305833333333332},{"$f":"IF(COUNT(消費意欲!AG18:AR18)<>12,\"\",AVERAGE(消費意欲!AG18:AR18))","v":46.62833333333333},{"$f":"IF(COUNT(消費意欲!AH18:AS18)<>12,\"\",AVERAGE(消費意欲!AH18:AS18))","v":46.380833333333328},{"$f":"IF(COUNT(消費意欲!AI18:AT18)<>12,\"\",AVERAGE(消費意欲!AI18:AT18))","v":46.887499999999996},{"$f":"IF(COUNT(消費意欲!AJ18:AU18)<>12,\"\",AVERAGE(消費意欲!AJ18:AU18))","v":46.905833333333327},{"$f":"IF(COUNT(消費意欲!AK18:AV18)<>12,\"\",AVERAGE(消費意欲!AK18:AV18))","v":46.839166666666664},{"$f":"IF(COUNT(消費意欲!AL18:AW18)<>12,\"\",AVERAGE(消費意欲!AL18:AW18))","v":47.075833333333321},{"$f":"IF(COUNT(消費意欲!AM18:AX18)<>12,\"\",AVERAGE(消費意欲!AM18:AX18))","v":47.677499999999988},{"$f":"IF(COUNT(消費意欲!AN18:AY18)<>12,\"\",AVERAGE(消費意欲!AN18:AY18))","v":47.206666666666656},{"$f":"IF(COUNT(消費意欲!AO18:AZ18)<>12,\"\",AVERAGE(消費意欲!AO18:AZ18))","v":47.115000000000009},{"$f":"IF(COUNT(消費意欲!AP18:BA18)<>12,\"\",AVERAGE(消費意欲!AP18:BA18))","v":46.975000000000001},{"$f":"IF(COUNT(消費意欲!AQ18:BB18)<>12,\"\",AVERAGE(消費意欲!AQ18:BB18))","v":46.485000000000007},{"$f":"IF(COUNT(消費意欲!AR18:BC18)<>12,\"\",AVERAGE(消費意欲!AR18:BC18))","v":46.930833333333332},{"$f":"IF(COUNT(消費意欲!AS18:BD18)<>12,\"\",AVERAGE(消費意欲!AS18:BD18))","v":46.643333333333338},{"$f":"IF(COUNT(消費意欲!AT18:BE18)<>12,\"\",AVERAGE(消費意欲!AT18:BE18))","v":""},{"$f":"IF(COUNT(消費意欲!AU18:BF18)<>12,\"\",AVERAGE(消費意欲!AU18:BF18))","v":""},{"$f":"IF(COUNT(消費意欲!AV18:BG18)<>12,\"\",AVERAGE(消費意欲!AV18:BG18))","v":""},{"$f":"IF(COUNT(消費意欲!AW18:BH18)<>12,\"\",AVERAGE(消費意欲!AW18:BH18))","v":""},{"$f":"IF(COUNT(消費意欲!AX18:BI18)<>12,\"\",AVERAGE(消費意欲!AX18:BI18))","v":""},{"$f":"IF(COUNT(消費意欲!AY18:BJ18)<>12,\"\",AVERAGE(消費意欲!AY18:BJ18))","v":""},{"$f":"IF(COUNT(消費意欲!AZ18:BK18)<>12,\"\",AVERAGE(消費意欲!AZ18:BK18))","v":""},{"$f":"IF(COUNT(消費意欲!BA18:BL18)<>12,\"\",AVERAGE(消費意欲!BA18:BL18))","v":""},{"$f":"IF(COUNT(消費意欲!BB18:BM18)<>12,\"\",AVERAGE(消費意欲!BB18:BM18))","v":""},{"$f":"IF(COUNT(消費意欲!BC18:BN18)<>12,\"\",AVERAGE(消費意欲!BC18:BN18))","v":""},{"$f":"IF(COUNT(消費意欲!BD18:BO18)<>12,\"\",AVERAGE(消費意欲!BD18:BO18))","v":""},{"$f":"IF(COUNT(消費意欲!BE18:BP18)<>12,\"\",AVERAGE(消費意欲!BE18:BP18))","v":""},{"$f":"IF(COUNT(消費意欲!BF18:BQ18)<>12,\"\",AVERAGE(消費意欲!BF18:BQ18))","v":""},{"$f":"IF(COUNT(消費意欲!BG18:BR18)<>12,\"\",AVERAGE(消費意欲!BG18:BR18))","v":""},{"$f":"IF(COUNT(消費意欲!BH18:BS18)<>12,\"\",AVERAGE(消費意欲!BH18:BS18))","v":""},{"$f":"IF(COUNT(消費意欲!BI18:BT18)<>12,\"\",AVERAGE(消費意欲!BI18:BT18))","v":""},{"$f":"IF(COUNT(消費意欲!BJ18:BU18)<>12,\"\",AVERAGE(消費意欲!BJ18:BU18))","v":""},{"$f":"IF(COUNT(消費意欲!BK18:BV18)<>12,\"\",AVERAGE(消費意欲!BK18:BV18))","v":""},{"$f":"IF(COUNT(消費意欲!BL18:BW18)<>12,\"\",AVERAGE(消費意欲!BL18:BW18))","v":""},{"$f":"IF(COUNT(消費意欲!BM18:BX18)<>12,\"\",AVERAGE(消費意欲!BM18:BX18))","v":""},{"$f":"IF(COUNT(消費意欲!BN18:BY18)<>12,\"\",AVERAGE(消費意欲!BN18:BY18))","v":""},{"$f":"IF(COUNT(消費意欲!BO18:BZ18)<>12,\"\",AVERAGE(消費意欲!BO18:BZ18))","v":""},{"$f":"IF(COUNT(消費意欲!BP18:CA18)<>12,\"\",AVERAGE(消費意欲!BP18:CA18))","v":""},{"$f":"IF(COUNT(消費意欲!BQ18:CB18)<>12,\"\",AVERAGE(消費意欲!BQ18:CB18))","v":""},{"$f":"IF(COUNT(消費意欲!BR18:CC18)<>12,\"\",AVERAGE(消費意欲!BR18:CC18))","v":""},{"$f":"IF(COUNT(消費意欲!BS18:CD18)<>12,\"\",AVERAGE(消費意欲!BS18:CD18))","v":""},{"$f":"IF(COUNT(消費意欲!BT18:CE18)<>12,\"\",AVERAGE(消費意欲!BT18:CE18))","v":""},{"$f":"IF(COUNT(消費意欲!BU18:CF18)<>12,\"\",AVERAGE(消費意欲!BU18:CF18))","v":""},{"$f":"IF(COUNT(消費意欲!BV18:CG18)<>12,\"\",AVERAGE(消費意欲!BV18:CG18))","v":""},{"$f":"IF(COUNT(消費意欲!BW18:CH18)<>12,\"\",AVERAGE(消費意欲!BW18:CH18))","v":""},{"$f":"IF(COUNT(消費意欲!BX18:CI18)<>12,\"\",AVERAGE(消費意欲!BX18:CI18))","v":""},{"$f":"IF(COUNT(消費意欲!BY18:CJ18)<>12,\"\",AVERAGE(消費意欲!BY18:CJ18))","v":""},{"$f":"IF(COUNT(消費意欲!BZ18:CK18)<>12,\"\",AVERAGE(消費意欲!BZ18:CK18))","v":""},{"$f":"IF(COUNT(消費意欲!CA18:CL18)<>12,\"\",AVERAGE(消費意欲!CA18:CL18))","v":""},{"$f":"IF(COUNT(消費意欲!CB18:CM18)<>12,\"\",AVERAGE(消費意欲!CB18:CM18))","v":""},{"$f":"IF(COUNT(消費意欲!CC18:CN18)<>12,\"\",AVERAGE(消費意欲!CC18:CN18))","v":""},{"$f":"IF(COUNT(消費意欲!CD18:CO18)<>12,\"\",AVERAGE(消費意欲!CD18:CO18))","v":""},{"$f":"IF(COUNT(消費意欲!CE18:CP18)<>12,\"\",AVERAGE(消費意欲!CE18:CP18))","v":""},{"$f":"IF(COUNT(消費意欲!CF18:CQ18)<>12,\"\",AVERAGE(消費意欲!CF18:CQ18))","v":""},{"$f":"IF(COUNT(消費意欲!CG18:CR18)<>12,\"\",AVERAGE(消費意欲!CG18:CR18))","v":""},{"$f":"IF(COUNT(消費意欲!CH18:CS18)<>12,\"\",AVERAGE(消費意欲!CH18:CS18))","v":""},{"$f":"IF(COUNT(消費意欲!CI18:CT18)<>12,\"\",AVERAGE(消費意欲!CI18:CT18))","v":""},{"$f":"IF(COUNT(消費意欲!CJ18:CU18)<>12,\"\",AVERAGE(消費意欲!CJ18:CU18))","v":""},{"$f":"IF(COUNT(消費意欲!CK18:CV18)<>12,\"\",AVERAGE(消費意欲!CK18:CV18))","v":""},{"$f":"IF(COUNT(消費意欲!CL18:CW18)<>12,\"\",AVERAGE(消費意欲!CL18:CW18))","v":""},{"$f":"IF(COUNT(消費意欲!CM18:CX18)<>12,\"\",AVERAGE(消費意欲!CM18:CX18))","v":""},{"$f":"IF(COUNT(消費意欲!CN18:CY18)<>12,\"\",AVERAGE(消費意欲!CN18:CY18))","v":""},{"$f":"IF(COUNT(消費意欲!CO18:CZ18)<>12,\"\",AVERAGE(消費意欲!CO18:CZ18))","v":""},{"$f":"IF(COUNT(消費意欲!CP18:DA18)<>12,\"\",AVERAGE(消費意欲!CP18:DA18))","v":""},{"$f":"IF(COUNT(消費意欲!CQ18:DB18)<>12,\"\",AVERAGE(消費意欲!CQ18:DB18))","v":""},{"$f":"IF(COUNT(消費意欲!CR18:DC18)<>12,\"\",AVERAGE(消費意欲!CR18:DC18))","v":""},{"$f":"IF(COUNT(消費意欲!CS18:DD18)<>12,\"\",AVERAGE(消費意欲!CS18:DD18))","v":""},{"$f":"IF(COUNT(消費意欲!CT18:DE18)<>12,\"\",AVERAGE(消費意欲!CT18:DE18))","v":""},{"$f":"IF(COUNT(消費意欲!CU18:DF18)<>12,\"\",AVERAGE(消費意欲!CU18:DF18))","v":""},{"$f":"IF(COUNT(消費意欲!CV18:DG18)<>12,\"\",AVERAGE(消費意欲!CV18:DG18))","v":""}]
[null,"女性年代別","女性20代",null,null,null,null,null,null,null,null,null,null,null,null,null,null,null,{"$f":"IF(COUNT(消費意欲!H19:S19)<>12,\"\",AVERAGE(消費意欲!H19:S19))","v":57.934999999999995},{"$f":"IF(COUNT(消費意欲!I19:T19)<>12,\"\",AVERAGE(消費意欲!I19:T19))","v":57.764999999999993},{"$f":"IF(COUNT(消費意欲!J19:U19)<>12,\"\",AVERAGE(消費意欲!J19:U19))","v":57.521666666666668},{"$f":"IF(COUNT(消費意欲!K19:V19)<>12,\"\",AVERAGE(消費意欲!K19:V19))","v":56.662500000000001},{"$f":"IF(COUNT(消費意欲!L19:W19)<>12,\"\",AVERAGE(消費意欲!L19:W19))","v":57.17499999999999},{"$f":"IF(COUNT(消費意欲!M19:X19)<>12,\"\",AVERAGE(消費意欲!M19:X19))","v":56.947499999999991},{"$f":"IF(COUNT(消費意欲!N19:Y19)<>12,\"\",AVERAGE(消費意欲!N19:Y19))","v":57.151666666666664},{"$f":"IF(COUNT(消費意欲!O19:Z19)<>12,\"\",AVERAGE(消費意欲!O19:Z19))","v":56.642500000000005},{"$f":"IF(COUNT(消費意欲!P19:AA19)<>12,\"\",AVERAGE(消費意欲!P19:AA19))","v":56.562500000000007},{"$f":"IF(COUNT(消費意欲!Q19:AB19)<>12,\"\",AVERAGE(消費意欲!Q19:AB19))","v":55.998333333333335},{"$f":"IF(COUNT(消費意欲!R19:AC19)<>12,\"\",AVERAGE(消費意欲!R19:AC19))","v":56.265000000000008},{"$f":"IF(COUNT(消費意欲!S19:AD19)<>12,\"\",AVERAGE(消費意欲!S19:AD19))","v":56.420833333333341},{"$f":"IF(COUNT(消費意欲!T19:AE19)<>12,\"\",AVERAGE(消費意欲!T19:AE19))","v":55.743333333333332},{"$f":"IF(COUNT(消費意欲!U19:AF19)<>12,\"\",AVERAGE(消費意欲!U19:AF19))","v":55.052500000000002},{"$f":"IF(COUNT(消費意欲!V19:AG19)<>12,\"\",AVERAGE(消費意欲!V19:AG19))","v":55.017499999999991},{"$f":"IF(COUNT(消費意欲!W19:AH19)<>12,\"\",AVERAGE(消費意欲!W19:AH19))","v":55.244166666666665},{"$f":"IF(COUNT(消費意欲!X19:AI19)<>12,\"\",AVERAGE(消費意欲!X19:AI19))","v":54.685833333333335},{"$f":"IF(COUNT(消費意欲!Y19:AJ19)<>12,\"\",AVERAGE(消費意欲!Y19:AJ19))","v":55.089166666666664},{"$f":"IF(COUNT(消費意欲!Z19:AK19)<>12,\"\",AVERAGE(消費意欲!Z19:AK19))","v":54.526666666666664},{"$f":"IF(COUNT(消費意欲!AA19:AL19)<>12,\"\",AVERAGE(消費意欲!AA19:AL19))","v":54.550833333333337},{"$f":"IF(COUNT(消費意欲!AB19:AM19)<>12,\"\",AVERAGE(消費意欲!AB19:AM19))","v":54.794999999999995},{"$f":"IF(COUNT(消費意欲!AC19:AN19)<>12,\"\",AVERAGE(消費意欲!AC19:AN19))","v":54.695833333333333},{"$f":"IF(COUNT(消費意欲!AD19:AO19)<>12,\"\",AVERAGE(消費意欲!AD19:AO19))","v":54.597499999999997},{"$f":"IF(COUNT(消費意欲!AE19:AP19)<>12,\"\",AVERAGE(消費意欲!AE19:AP19))","v":53.686666666666667},{"$f":"IF(COUNT(消費意欲!AF19:AQ19)<>12,\"\",AVERAGE(消費意欲!AF19:AQ19))","v":54.082499999999989},{"$f":"IF(COUNT(消費意欲!AG19:AR19)<>12,\"\",AVERAGE(消費意欲!AG19:AR19))","v":54.702500000000008},{"$f":"IF(COUNT(消費意欲!AH19:AS19)<>12,\"\",AVERAGE(消費意欲!AH19:AS19))","v":54.542499999999997},{"$f":"IF(COUNT(消費意欲!AI19:AT19)<>12,\"\",AVERAGE(消費意欲!AI19:AT19))","v":53.985833333333325},{"$f":"IF(COUNT(消費意欲!AJ19:AU19)<>12,\"\",AVERAGE(消費意欲!AJ19:AU19))","v":53.717500000000001},{"$f":"IF(COUNT(消費意欲!AK19:AV19)<>12,\"\",AVERAGE(消費意欲!AK19:AV19))","v":53.584166666666675},{"$f":"IF(COUNT(消費意欲!AL19:AW19)<>12,\"\",AVERAGE(消費意欲!AL19:AW19))","v":54.032500000000006},{"$f":"IF(COUNT(消費意欲!AM19:AX19)<>12,\"\",AVERAGE(消費意欲!AM19:AX19))","v":54.49},{"$f":"IF(COUNT(消費意欲!AN19:AY19)<>12,\"\",AVERAGE(消費意欲!AN19:AY19))","v":54.268333333333338},{"$f":"IF(COUNT(消費意欲!AO19:AZ19)<>12,\"\",AVERAGE(消費意欲!AO19:AZ19))","v":54.138333333333328},{"$f":"IF(COUNT(消費意欲!AP19:BA19)<>12,\"\",AVERAGE(消費意欲!AP19:BA19))","v":54.18},{"$f":"IF(COUNT(消費意欲!AQ19:BB19)<>12,\"\",AVERAGE(消費意欲!AQ19:BB19))","v":54.31666666666667},{"$f":"IF(COUNT(消費意欲!AR19:BC19)<>12,\"\",AVERAGE(消費意欲!AR19:BC19))","v":54.094166666666673},{"$f":"IF(COUNT(消費意欲!AS19:BD19)<>12,\"\",AVERAGE(消費意欲!AS19:BD19))","v":53.901666666666671},{"$f":"IF(COUNT(消費意欲!AT19:BE19)<>12,\"\",AVERAGE(消費意欲!AT19:BE19))","v":""},{"$f":"IF(COUNT(消費意欲!AU19:BF19)<>12,\"\",AVERAGE(消費意欲!AU19:BF19))","v":""},{"$f":"IF(COUNT(消費意欲!AV19:BG19)<>12,\"\",AVERAGE(消費意欲!AV19:BG19))","v":""},{"$f":"IF(COUNT(消費意欲!AW19:BH19)<>12,\"\",AVERAGE(消費意欲!AW19:BH19))","v":""},{"$f":"IF(COUNT(消費意欲!AX19:BI19)<>12,\"\",AVERAGE(消費意欲!AX19:BI19))","v":""},{"$f":"IF(COUNT(消費意欲!AY19:BJ19)<>12,\"\",AVERAGE(消費意欲!AY19:BJ19))","v":""},{"$f":"IF(COUNT(消費意欲!AZ19:BK19)<>12,\"\",AVERAGE(消費意欲!AZ19:BK19))","v":""},{"$f":"IF(COUNT(消費意欲!BA19:BL19)<>12,\"\",AVERAGE(消費意欲!BA19:BL19))","v":""},{"$f":"IF(COUNT(消費意欲!BB19:BM19)<>12,\"\",AVERAGE(消費意欲!BB19:BM19))","v":""},{"$f":"IF(COUNT(消費意欲!BC19:BN19)<>12,\"\",AVERAGE(消費意欲!BC19:BN19))","v":""},{"$f":"IF(COUNT(消費意欲!BD19:BO19)<>12,\"\",AVERAGE(消費意欲!BD19:BO19))","v":""},{"$f":"IF(COUNT(消費意欲!BE19:BP19)<>12,\"\",AVERAGE(消費意欲!BE19:BP19))","v":""},{"$f":"IF(COUNT(消費意欲!BF19:BQ19)<>12,\"\",AVERAGE(消費意欲!BF19:BQ19))","v":""},{"$f":"IF(COUNT(消費意欲!BG19:BR19)<>12,\"\",AVERAGE(消費意欲!BG19:BR19))","v":""},{"$f":"IF(COUNT(消費意欲!BH19:BS19)<>12,\"\",AVERAGE(消費意欲!BH19:BS19))","v":""},{"$f":"IF(COUNT(消費意欲!BI19:BT19)<>12,\"\",AVERAGE(消費意欲!BI19:BT19))","v":""},{"$f":"IF(COUNT(消費意欲!BJ19:BU19)<>12,\"\",AVERAGE(消費意欲!BJ19:BU19))","v":""},{"$f":"IF(COUNT(消費意欲!BK19:BV19)<>12,\"\",AVERAGE(消費意欲!BK19:BV19))","v":""},{"$f":"IF(COUNT(消費意欲!BL19:BW19)<>12,\"\",AVERAGE(消費意欲!BL19:BW19))","v":""},{"$f":"IF(COUNT(消費意欲!BM19:BX19)<>12,\"\",AVERAGE(消費意欲!BM19:BX19))","v":""},{"$f":"IF(COUNT(消費意欲!BN19:BY19)<>12,\"\",AVERAGE(消費意欲!BN19:BY19))","v":""},{"$f":"IF(COUNT(消費意欲!BO19:BZ19)<>12,\"\",AVERAGE(消費意欲!BO19:BZ19))","v":""},{"$f":"IF(COUNT(消費意欲!BP19:CA19)<>12,\"\",AVERAGE(消費意欲!BP19:CA19))","v":""},{"$f":"IF(COUNT(消費意欲!BQ19:CB19)<>12,\"\",AVERAGE(消費意欲!BQ19:CB19))","v":""},{"$f":"IF(COUNT(消費意欲!BR19:CC19)<>12,\"\",AVERAGE(消費意欲!BR19:CC19))","v":""},{"$f":"IF(COUNT(消費意欲!BS19:CD19)<>12,\"\",AVERAGE(消費意欲!BS19:CD19))","v":""},{"$f":"IF(COUNT(消費意欲!BT19:CE19)<>12,\"\",AVERAGE(消費意欲!BT19:CE19))","v":""},{"$f":"IF(COUNT(消費意欲!BU19:CF19)<>12,\"\",AVERAGE(消費意欲!BU19:CF19))","v":""},{"$f":"IF(COUNT(消費意欲!BV19:CG19)<>12,\"\",AVERAGE(消費意欲!BV19:CG19))","v":""},{"$f":"IF(COUNT(消費意欲!BW19:CH19)<>12,\"\",AVERAGE(消費意欲!BW19:CH19))","v":""},{"$f":"IF(COUNT(消費意欲!BX19:CI19)<>12,\"\",AVERAGE(消費意欲!BX19:CI19))","v":""},{"$f":"IF(COUNT(消費意欲!BY19:CJ19)<>12,\"\",AVERAGE(消費意欲!BY19:CJ19))","v":""},{"$f":"IF(COUNT(消費意欲!BZ19:CK19)<>12,\"\",AVERAGE(消費意欲!BZ19:CK19))","v":""},{"$f":"IF(COUNT(消費意欲!CA19:CL19)<>12,\"\",AVERAGE(消費意欲!CA19:CL19))","v":""},{"$f":"IF(COUNT(消費意欲!CB19:CM19)<>12,\"\",AVERAGE(消費意欲!CB19:CM19))","v":""},{"$f":"IF(COUNT(消費意欲!CC19:CN19)<>12,\"\",AVERAGE(消費意欲!CC19:CN19))","v":""},{"$f":"IF(COUNT(消費意欲!CD19:CO19)<>12,\"\",AVERAGE(消費意欲!CD19:CO19))","v":""},{"$f":"IF(COUNT(消費意欲!CE19:CP19)<>12,\"\",AVERAGE(消費意欲!CE19:CP19))","v":""},{"$f":"IF(COUNT(消費意欲!CF19:CQ19)<>12,\"\",AVERAGE(消費意欲!CF19:CQ19))","v":""},{"$f":"IF(COUNT(消費意欲!CG19:CR19)<>12,\"\",AVERAGE(消費意欲!CG19:CR19))","v":""},{"$f":"IF(COUNT(消費意欲!CH19:CS19)<>12,\"\",AVERAGE(消費意欲!CH19:CS19))","v":""},{"$f":"IF(COUNT(消費意欲!CI19:CT19)<>12,\"\",AVERAGE(消費意欲!CI19:CT19))","v":""},{"$f":"IF(COUNT(消費意欲!CJ19:CU19)<>12,\"\",AVERAGE(消費意欲!CJ19:CU19))","v":""},{"$f":"IF(COUNT(消費意欲!CK19:CV19)<>12,\"\",AVERAGE(消費意欲!CK19:CV19))","v":""},{"$f":"IF(COUNT(消費意欲!CL19:CW19)<>12,\"\",AVERAGE(消費意欲!CL19:CW19))","v":""},{"$f":"IF(COUNT(消費意欲!CM19:CX19)<>12,\"\",AVERAGE(消費意欲!CM19:CX19))","v":""},{"$f":"IF(COUNT(消費意欲!CN19:CY19)<>12,\"\",AVERAGE(消費意欲!CN19:CY19))","v":""},{"$f":"IF(COUNT(消費意欲!CO19:CZ19)<>12,\"\",AVERAGE(消費意欲!CO19:CZ19))","v":""},{"$f":"IF(COUNT(消費意欲!CP19:DA19)<>12,\"\",AVERAGE(消費意欲!CP19:DA19))","v":""},{"$f":"IF(COUNT(消費意欲!CQ19:DB19)<>12,\"\",AVERAGE(消費意欲!CQ19:DB19))","v":""},{"$f":"IF(COUNT(消費意欲!CR19:DC19)<>12,\"\",AVERAGE(消費意欲!CR19:DC19))","v":""},{"$f":"IF(COUNT(消費意欲!CS19:DD19)<>12,\"\",AVERAGE(消費意欲!CS19:DD19))","v":""},{"$f":"IF(COUNT(消費意欲!CT19:DE19)<>12,\"\",AVERAGE(消費意欲!CT19:DE19))","v":""},{"$f":"IF(COUNT(消費意欲!CU19:DF19)<>12,\"\",AVERAGE(消費意欲!CU19:DF19))","v":""},{"$f":"IF(COUNT(消費意欲!CV19:DG19)<>12,\"\",AVERAGE(消費意欲!CV19:DG19))","v":""}]
[null,null,"女性30代",null,null,null,null,null,null,null,null,null,null,null,null,null,null,null,{"$f":"IF(COUNT(消費意欲!H20:S20)<>12,\"\",AVERAGE(消費意欲!H20:S20))","v":55.873333333333328},{"$f":"IF(COUNT(消費意欲!I20:T20)<>12,\"\",AVERAGE(消費意欲!I20:T20))","v":55.43},{"$f":"IF(COUNT(消費意欲!J20:U20)<>12,\"\",AVERAGE(消費意欲!J20:U20))","v":55.012499999999996},{"$f":"IF(COUNT(消費意欲!K20:V20)<>12,\"\",AVERAGE(消費意欲!K20:V20))","v":54.873333333333342},{"$f":"IF(COUNT(消費意欲!L20:W20)<>12,\"\",AVERAGE(消費意欲!L20:W20))","v":55.02},{"$f":"IF(COUNT(消費意欲!M20:X20)<>12,\"\",AVERAGE(消費意欲!M20:X20))","v":54.43},{"$f":"IF(COUNT(消費意欲!N20:Y20)<>12,\"\",AVERAGE(消費意欲!N20:Y20))","v":54.563333333333325},{"$f":"IF(COUNT(消費意欲!O20:Z20)<>12,\"\",AVERAGE(消費意欲!O20:Z20))","v":54.236666666666657},{"$f":"IF(COUNT(消費意欲!P20:AA20)<>12,\"\",AVERAGE(消費意欲!P20:AA20))","v":54.04},{"$f":"IF(COUNT(消費意欲!Q20:AB20)<>12,\"\",AVERAGE(消費意欲!Q20:AB20))","v":53.543333333333329},{"$f":"IF(COUNT(消費意欲!R20:AC20)<>12,\"\",AVERAGE(消費意欲!R20:AC20))","v":54.267500000000005},{"$f":"IF(COUNT(消費意欲!S20:AD20)<>12,\"\",AVERAGE(消費意欲!S20:AD20))","v":54.936666666666667},{"$f":"IF(COUNT(消費意欲!T20:AE20)<>12,\"\",AVERAGE(消費意欲!T20:AE20))","v":54.379166666666663},{"$f":"IF(COUNT(消費意欲!U20:AF20)<>12,\"\",AVERAGE(消費意欲!U20:AF20))","v":53.957500000000003},{"$f":"IF(COUNT(消費意欲!V20:AG20)<>12,\"\",AVERAGE(消費意欲!V20:AG20))","v":53.736666666666657},{"$f":"IF(COUNT(消費意欲!W20:AH20)<>12,\"\",AVERAGE(消費意欲!W20:AH20))","v":53.602499999999999},{"$f":"IF(COUNT(消費意欲!X20:AI20)<>12,\"\",AVERAGE(消費意欲!X20:AI20))","v":53.431666666666672},{"$f":"IF(COUNT(消費意欲!Y20:AJ20)<>12,\"\",AVERAGE(消費意欲!Y20:AJ20))","v":53.348333333333329},{"$f":"IF(COUNT(消費意欲!Z20:AK20)<>12,\"\",AVERAGE(消費意欲!Z20:AK20))","v":53.038333333333334},{"$f":"IF(COUNT(消費意欲!AA20:AL20)<>12,\"\",AVERAGE(消費意欲!AA20:AL20))","v":52.805},{"$f":"IF(COUNT(消費意欲!AB20:AM20)<>12,\"\",AVERAGE(消費意欲!AB20:AM20))","v":53.219166666666666},{"$f":"IF(COUNT(消費意欲!AC20:AN20)<>12,\"\",AVERAGE(消費意欲!AC20:AN20))","v":53.22},{"$f":"IF(COUNT(消費意欲!AD20:AO20)<>12,\"\",AVERAGE(消費意欲!AD20:AO20))","v":52.442499999999995},{"$f":"IF(COUNT(消費意欲!AE20:AP20)<>12,\"\",AVERAGE(消費意欲!AE20:AP20))","v":51.573333333333331},{"$f":"IF(COUNT(消費意欲!AF20:AQ20)<>12,\"\",AVERAGE(消費意欲!AF20:AQ20))","v":51.86583333333332},{"$f":"IF(COUNT(消費意欲!AG20:AR20)<>12,\"\",AVERAGE(消費意欲!AG20:AR20))","v":52.473333333333329},{"$f":"IF(COUNT(消費意欲!AH20:AS20)<>12,\"\",AVERAGE(消費意欲!AH20:AS20))","v":52.519166666666671},{"$f":"IF(COUNT(消費意欲!AI20:AT20)<>12,\"\",AVERAGE(消費意欲!AI20:AT20))","v":52.841666666666669},{"$f":"IF(COUNT(消費意欲!AJ20:AU20)<>12,\"\",AVERAGE(消費意欲!AJ20:AU20))","v":52.995833333333344},{"$f":"IF(COUNT(消費意欲!AK20:AV20)<>12,\"\",AVERAGE(消費意欲!AK20:AV20))","v":53.436666666666675},{"$f":"IF(COUNT(消費意欲!AL20:AW20)<>12,\"\",AVERAGE(消費意欲!AL20:AW20))","v":53.62},{"$f":"IF(COUNT(消費意欲!AM20:AX20)<>12,\"\",AVERAGE(消費意欲!AM20:AX20))","v":53.719166666666666},{"$f":"IF(COUNT(消費意欲!AN20:AY20)<>12,\"\",AVERAGE(消費意欲!AN20:AY20))","v":53.587499999999999},{"$f":"IF(COUNT(消費意欲!AO20:AZ20)<>12,\"\",AVERAGE(消費意欲!AO20:AZ20))","v":53.833333333333321},{"$f":"IF(COUNT(消費意欲!AP20:BA20)<>12,\"\",AVERAGE(消費意欲!AP20:BA20))","v":53.961666666666673},{"$f":"IF(COUNT(消費意欲!AQ20:BB20)<>12,\"\",AVERAGE(消費意欲!AQ20:BB20))","v":53.879166666666663},{"$f":"IF(COUNT(消費意欲!AR20:BC20)<>12,\"\",AVERAGE(消費意欲!AR20:BC20))","v":54.026666666666671},{"$f":"IF(COUNT(消費意欲!AS20:BD20)<>12,\"\",AVERAGE(消費意欲!AS20:BD20))","v":53.705000000000005},{"$f":"IF(COUNT(消費意欲!AT20:BE20)<>12,\"\",AVERAGE(消費意欲!AT20:BE20))","v":""},{"$f":"IF(COUNT(消費意欲!AU20:BF20)<>12,\"\",AVERAGE(消費意欲!AU20:BF20))","v":""},{"$f":"IF(COUNT(消費意欲!AV20:BG20)<>12,\"\",AVERAGE(消費意欲!AV20:BG20))","v":""},{"$f":"IF(COUNT(消費意欲!AW20:BH20)<>12,\"\",AVERAGE(消費意欲!AW20:BH20))","v":""},{"$f":"IF(COUNT(消費意欲!AX20:BI20)<>12,\"\",AVERAGE(消費意欲!AX20:BI20))","v":""},{"$f":"IF(COUNT(消費意欲!AY20:BJ20)<>12,\"\",AVERAGE(消費意欲!AY20:BJ20))","v":""},{"$f":"IF(COUNT(消費意欲!AZ20:BK20)<>12,\"\",AVERAGE(消費意欲!AZ20:BK20))","v":""},{"$f":"IF(COUNT(消費意欲!BA20:BL20)<>12,\"\",AVERAGE(消費意欲!BA20:BL20))","v":""},{"$f":"IF(COUNT(消費意欲!BB20:BM20)<>12,\"\",AVERAGE(消費意欲!BB20:BM20))","v":""},{"$f":"IF(COUNT(消費意欲!BC20:BN20)<>12,\"\",AVERAGE(消費意欲!BC20:BN20))","v":""},{"$f":"IF(COUNT(消費意欲!BD20:BO20)<>12,\"\",AVERAGE(消費意欲!BD20:BO20))","v":""},{"$f":"IF(COUNT(消費意欲!BE20:BP20)<>12,\"\",AVERAGE(消費意欲!BE20:BP20))","v":""},{"$f":"IF(COUNT(消費意欲!BF20:BQ20)<>12,\"\",AVERAGE(消費意欲!BF20:BQ20))","v":""},{"$f":"IF(COUNT(消費意欲!BG20:BR20)<>12,\"\",AVERAGE(消費意欲!BG20:BR20))","v":""},{"$f":"IF(COUNT(消費意欲!BH20:BS20)<>12,\"\",AVERAGE(消費意欲!BH20:BS20))","v":""},{"$f":"IF(COUNT(消費意欲!BI20:BT20)<>12,\"\",AVERAGE(消費意欲!BI20:BT20))","v":""},{"$f":"IF(COUNT(消費意欲!BJ20:BU20)<>12,\"\",AVERAGE(消費意欲!BJ20:BU20))","v":""},{"$f":"IF(COUNT(消費意欲!BK20:BV20)<>12,\"\",AVERAGE(消費意欲!BK20:BV20))","v":""},{"$f":"IF(COUNT(消費意欲!BL20:BW20)<>12,\"\",AVERAGE(消費意欲!BL20:BW20))","v":""},{"$f":"IF(COUNT(消費意欲!BM20:BX20)<>12,\"\",AVERAGE(消費意欲!BM20:BX20))","v":""},{"$f":"IF(COUNT(消費意欲!BN20:BY20)<>12,\"\",AVERAGE(消費意欲!BN20:BY20))","v":""},{"$f":"IF(COUNT(消費意欲!BO20:BZ20)<>12,\"\",AVERAGE(消費意欲!BO20:BZ20))","v":""},{"$f":"IF(COUNT(消費意欲!BP20:CA20)<>12,\"\",AVERAGE(消費意欲!BP20:CA20))","v":""},{"$f":"IF(COUNT(消費意欲!BQ20:CB20)<>12,\"\",AVERAGE(消費意欲!BQ20:CB20))","v":""},{"$f":"IF(COUNT(消費意欲!BR20:CC20)<>12,\"\",AVERAGE(消費意欲!BR20:CC20))","v":""},{"$f":"IF(COUNT(消費意欲!BS20:CD20)<>12,\"\",AVERAGE(消費意欲!BS20:CD20))","v":""},{"$f":"IF(COUNT(消費意欲!BT20:CE20)<>12,\"\",AVERAGE(消費意欲!BT20:CE20))","v":""},{"$f":"IF(COUNT(消費意欲!BU20:CF20)<>12,\"\",AVERAGE(消費意欲!BU20:CF20))","v":""},{"$f":"IF(COUNT(消費意欲!BV20:CG20)<>12,\"\",AVERAGE(消費意欲!BV20:CG20))","v":""},{"$f":"IF(COUNT(消費意欲!BW20:CH20)<>12,\"\",AVERAGE(消費意欲!BW20:CH20))","v":""},{"$f":"IF(COUNT(消費意欲!BX20:CI20)<>12,\"\",AVERAGE(消費意欲!BX20:CI20))","v":""},{"$f":"IF(COUNT(消費意欲!BY20:CJ20)<>12,\"\",AVERAGE(消費意欲!BY20:CJ20))","v":""},{"$f":"IF(COUNT(消費意欲!BZ20:CK20)<>12,\"\",AVERAGE(消費意欲!BZ20:CK20))","v":""},{"$f":"IF(COUNT(消費意欲!CA20:CL20)<>12,\"\",AVERAGE(消費意欲!CA20:CL20))","v":""},{"$f":"IF(COUNT(消費意欲!CB20:CM20)<>12,\"\",AVERAGE(消費意欲!CB20:CM20))","v":""},{"$f":"IF(COUNT(消費意欲!CC20:CN20)<>12,\"\",AVERAGE(消費意欲!CC20:CN20))","v":""},{"$f":"IF(COUNT(消費意欲!CD20:CO20)<>12,\"\",AVERAGE(消費意欲!CD20:CO20))","v":""},{"$f":"IF(COUNT(消費意欲!CE20:CP20)<>12,\"\",AVERAGE(消費意欲!CE20:CP20))","v":""},{"$f":"IF(COUNT(消費意欲!CF20:CQ20)<>12,\"\",AVERAGE(消費意欲!CF20:CQ20))","v":""},{"$f":"IF(COUNT(消費意欲!CG20:CR20)<>12,\"\",AVERAGE(消費意欲!CG20:CR20))","v":""},{"$f":"IF(COUNT(消費意欲!CH20:CS20)<>12,\"\",AVERAGE(消費意欲!CH20:CS20))","v":""},{"$f":"IF(COUNT(消費意欲!CI20:CT20)<>12,\"\",AVERAGE(消費意欲!CI20:CT20))","v":""},{"$f":"IF(COUNT(消費意欲!CJ20:CU20)<>12,\"\",AVERAGE(消費意欲!CJ20:CU20))","v":""},{"$f":"IF(COUNT(消費意欲!CK20:CV20)<>12,\"\",AVERAGE(消費意欲!CK20:CV20))","v":""},{"$f":"IF(COUNT(消費意欲!CL20:CW20)<>12,\"\",AVERAGE(消費意欲!CL20:CW20))","v":""},{"$f":"IF(COUNT(消費意欲!CM20:CX20)<>12,\"\",AVERAGE(消費意欲!CM20:CX20))","v":""},{"$f":"IF(COUNT(消費意欲!CN20:CY20)<>12,\"\",AVERAGE(消費意欲!CN20:CY20))","v":""},{"$f":"IF(COUNT(消費意欲!CO20:CZ20)<>12,\"\",AVERAGE(消費意欲!CO20:CZ20))","v":""},{"$f":"IF(COUNT(消費意欲!CP20:DA20)<>12,\"\",AVERAGE(消費意欲!CP20:DA20))","v":""},{"$f":"IF(COUNT(消費意欲!CQ20:DB20)<>12,\"\",AVERAGE(消費意欲!CQ20:DB20))","v":""},{"$f":"IF(COUNT(消費意欲!CR20:DC20)<>12,\"\",AVERAGE(消費意欲!CR20:DC20))","v":""},{"$f":"IF(COUNT(消費意欲!CS20:DD20)<>12,\"\",AVERAGE(消費意欲!CS20:DD20))","v":""},{"$f":"IF(COUNT(消費意欲!CT20:DE20)<>12,\"\",AVERAGE(消費意欲!CT20:DE20))","v":""},{"$f":"IF(COUNT(消費意欲!CU20:DF20)<>12,\"\",AVERAGE(消費意欲!CU20:DF20))","v":""},{"$f":"IF(COUNT(消費意欲!CV20:DG20)<>12,\"\",AVERAGE(消費意欲!CV20:DG20))","v":""}]
[null,null,"女性40代",null,null,null,null,null,null,null,null,null,null,null,null,null,null,null,{"$f":"IF(COUNT(消費意欲!H21:S21)<>12,\"\",AVERAGE(消費意欲!H21:S21))","v":53.05916666666667},{"$f":"IF(COUNT(消費意欲!I21:T21)<>12,\"\",AVERAGE(消費意欲!I21:T21))","v":53.150833333333331},{"$f":"IF(COUNT(消費意欲!J21:U21)<>12,\"\",AVERAGE(消費意欲!J21:U21))","v":52.92833333333332},{"$f":"IF(COUNT(消費意欲!K21:V21)<>12,\"\",AVERAGE(消費意欲!K21:V21))","v":52.468333333333334},{"$f":"IF(COUNT(消費意欲!L21:W21)<>12,\"\",AVERAGE(消費意欲!L21:W21))","v":52.646666666666668},{"$f":"IF(COUNT(消費意欲!M21:X21)<>12,\"\",AVERAGE(消費意欲!M21:X21))","v":52.018333333333324},{"$f":"IF(COUNT(消費意欲!N21:Y21)<>12,\"\",AVERAGE(消費意欲!N21:Y21))","v":52.26250000000001},{"$f":"IF(COUNT(消費意欲!O21:Z21)<>12,\"\",AVERAGE(消費意欲!O21:Z21))","v":52.159999999999989},{"$f":"IF(COUNT(消費意欲!P21:AA21)<>12,\"\",AVERAGE(消費意欲!P21:AA21))","v":51.844999999999999},{"$f":"IF(COUNT(消費意欲!Q21:AB21)<>12,\"\",AVERAGE(消費意欲!Q21:AB21))","v":51.456666666666671},{"$f":"IF(COUNT(消費意欲!R21:AC21)<>12,\"\",AVERAGE(消費意欲!R21:AC21))","v":51.370000000000005},{"$f":"IF(COUNT(消費意欲!S21:AD21)<>12,\"\",AVERAGE(消費意欲!S21:AD21))","v":51.69166666666667},{"$f":"IF(COUNT(消費意欲!T21:AE21)<>12,\"\",AVERAGE(消費意欲!T21:AE21))","v":50.894166666666671},{"$f":"IF(COUNT(消費意欲!U21:AF21)<>12,\"\",AVERAGE(消費意欲!U21:AF21))","v":49.961666666666673},{"$f":"IF(COUNT(消費意欲!V21:AG21)<>12,\"\",AVERAGE(消費意欲!V21:AG21))","v":49.833333333333336},{"$f":"IF(COUNT(消費意欲!W21:AH21)<>12,\"\",AVERAGE(消費意欲!W21:AH21))","v":49.675000000000004},{"$f":"IF(COUNT(消費意欲!X21:AI21)<>12,\"\",AVERAGE(消費意欲!X21:AI21))","v":49.584166666666675},{"$f":"IF(COUNT(消費意欲!Y21:AJ21)<>12,\"\",AVERAGE(消費意欲!Y21:AJ21))","v":50.15},{"$f":"IF(COUNT(消費意欲!Z21:AK21)<>12,\"\",AVERAGE(消費意欲!Z21:AK21))","v":50.055833333333339},{"$f":"IF(COUNT(消費意欲!AA21:AL21)<>12,\"\",AVERAGE(消費意欲!AA21:AL21))","v":49.598333333333329},{"$f":"IF(COUNT(消費意欲!AB21:AM21)<>12,\"\",AVERAGE(消費意欲!AB21:AM21))","v":49.829999999999991},{"$f":"IF(COUNT(消費意欲!AC21:AN21)<>12,\"\",AVERAGE(消費意欲!AC21:AN21))","v":49.230833333333344},{"$f":"IF(COUNT(消費意欲!AD21:AO21)<>12,\"\",AVERAGE(消費意欲!AD21:AO21))","v":49.245000000000005},{"$f":"IF(COUNT(消費意欲!AE21:AP21)<>12,\"\",AVERAGE(消費意欲!AE21:AP21))","v":48.333333333333336},{"$f":"IF(COUNT(消費意欲!AF21:AQ21)<>12,\"\",AVERAGE(消費意欲!AF21:AQ21))","v":48.838333333333331},{"$f":"IF(COUNT(消費意欲!AG21:AR21)<>12,\"\",AVERAGE(消費意欲!AG21:AR21))","v":49.602499999999992},{"$f":"IF(COUNT(消費意欲!AH21:AS21)<>12,\"\",AVERAGE(消費意欲!AH21:AS21))","v":49.407499999999999},{"$f":"IF(COUNT(消費意欲!AI21:AT21)<>12,\"\",AVERAGE(消費意欲!AI21:AT21))","v":49.511666666666663},{"$f":"IF(COUNT(消費意欲!AJ21:AU21)<>12,\"\",AVERAGE(消費意欲!AJ21:AU21))","v":49.442499999999995},{"$f":"IF(COUNT(消費意欲!AK21:AV21)<>12,\"\",AVERAGE(消費意欲!AK21:AV21))","v":49.542499999999997},{"$f":"IF(COUNT(消費意欲!AL21:AW21)<>12,\"\",AVERAGE(消費意欲!AL21:AW21))","v":49.547500000000007},{"$f":"IF(COUNT(消費意欲!AM21:AX21)<>12,\"\",AVERAGE(消費意欲!AM21:AX21))","v":49.923333333333325},{"$f":"IF(COUNT(消費意欲!AN21:AY21)<>12,\"\",AVERAGE(消費意欲!AN21:AY21))","v":50.0625},{"$f":"IF(COUNT(消費意欲!AO21:AZ21)<>12,\"\",AVERAGE(消費意欲!AO21:AZ21))","v":50.483333333333327},{"$f":"IF(COUNT(消費意欲!AP21:BA21)<>12,\"\",AVERAGE(消費意欲!AP21:BA21))","v":50.334166666666668},{"$f":"IF(COUNT(消費意欲!AQ21:BB21)<>12,\"\",AVERAGE(消費意欲!AQ21:BB21))","v":50.282499999999999},{"$f":"IF(COUNT(消費意欲!AR21:BC21)<>12,\"\",AVERAGE(消費意欲!AR21:BC21))","v":50.372500000000002},{"$f":"IF(COUNT(消費意欲!AS21:BD21)<>12,\"\",AVERAGE(消費意欲!AS21:BD21))","v":50.070833333333333},{"$f":"IF(COUNT(消費意欲!AT21:BE21)<>12,\"\",AVERAGE(消費意欲!AT21:BE21))","v":""},{"$f":"IF(COUNT(消費意欲!AU21:BF21)<>12,\"\",AVERAGE(消費意欲!AU21:BF21))","v":""},{"$f":"IF(COUNT(消費意欲!AV21:BG21)<>12,\"\",AVERAGE(消費意欲!AV21:BG21))","v":""},{"$f":"IF(COUNT(消費意欲!AW21:BH21)<>12,\"\",AVERAGE(消費意欲!AW21:BH21))","v":""},{"$f":"IF(COUNT(消費意欲!AX21:BI21)<>12,\"\",AVERAGE(消費意欲!AX21:BI21))","v":""},{"$f":"IF(COUNT(消費意欲!AY21:BJ21)<>12,\"\",AVERAGE(消費意欲!AY21:BJ21))","v":""},{"$f":"IF(COUNT(消費意欲!AZ21:BK21)<>12,\"\",AVERAGE(消費意欲!AZ21:BK21))","v":""},{"$f":"IF(COUNT(消費意欲!BA21:BL21)<>12,\"\",AVERAGE(消費意欲!BA21:BL21))","v":""},{"$f":"IF(COUNT(消費意欲!BB21:BM21)<>12,\"\",AVERAGE(消費意欲!BB21:BM21))","v":""},{"$f":"IF(COUNT(消費意欲!BC21:BN21)<>12,\"\",AVERAGE(消費意欲!BC21:BN21))","v":""},{"$f":"IF(COUNT(消費意欲!BD21:BO21)<>12,\"\",AVERAGE(消費意欲!BD21:BO21))","v":""},{"$f":"IF(COUNT(消費意欲!BE21:BP21)<>12,\"\",AVERAGE(消費意欲!BE21:BP21))","v":""},{"$f":"IF(COUNT(消費意欲!BF21:BQ21)<>12,\"\",AVERAGE(消費意欲!BF21:BQ21))","v":""},{"$f":"IF(COUNT(消費意欲!BG21:BR21)<>12,\"\",AVERAGE(消費意欲!BG21:BR21))","v":""},{"$f":"IF(COUNT(消費意欲!BH21:BS21)<>12,\"\",AVERAGE(消費意欲!BH21:BS21))","v":""},{"$f":"IF(COUNT(消費意欲!BI21:BT21)<>12,\"\",AVERAGE(消費意欲!BI21:BT21))","v":""},{"$f":"IF(COUNT(消費意欲!BJ21:BU21)<>12,\"\",AVERAGE(消費意欲!BJ21:BU21))","v":""},{"$f":"IF(COUNT(消費意欲!BK21:BV21)<>12,\"\",AVERAGE(消費意欲!BK21:BV21))","v":""},{"$f":"IF(COUNT(消費意欲!BL21:BW21)<>12,\"\",AVERAGE(消費意欲!BL21:BW21))","v":""},{"$f":"IF(COUNT(消費意欲!BM21:BX21)<>12,\"\",AVERAGE(消費意欲!BM21:BX21))","v":""},{"$f":"IF(COUNT(消費意欲!BN21:BY21)<>12,\"\",AVERAGE(消費意欲!BN21:BY21))","v":""},{"$f":"IF(COUNT(消費意欲!BO21:BZ21)<>12,\"\",AVERAGE(消費意欲!BO21:BZ21))","v":""},{"$f":"IF(COUNT(消費意欲!BP21:CA21)<>12,\"\",AVERAGE(消費意欲!BP21:CA21))","v":""},{"$f":"IF(COUNT(消費意欲!BQ21:CB21)<>12,\"\",AVERAGE(消費意欲!BQ21:CB21))","v":""},{"$f":"IF(COUNT(消費意欲!BR21:CC21)<>12,\"\",AVERAGE(消費意欲!BR21:CC21))","v":""},{"$f":"IF(COUNT(消費意欲!BS21:CD21)<>12,\"\",AVERAGE(消費意欲!BS21:CD21))","v":""},{"$f":"IF(COUNT(消費意欲!BT21:CE21)<>12,\"\",AVERAGE(消費意欲!BT21:CE21))","v":""},{"$f":"IF(COUNT(消費意欲!BU21:CF21)<>12,\"\",AVERAGE(消費意欲!BU21:CF21))","v":""},{"$f":"IF(COUNT(消費意欲!BV21:CG21)<>12,\"\",AVERAGE(消費意欲!BV21:CG21))","v":""},{"$f":"IF(COUNT(消費意欲!BW21:CH21)<>12,\"\",AVERAGE(消費意欲!BW21:CH21))","v":""},{"$f":"IF(COUNT(消費意欲!BX21:CI21)<>12,\"\",AVERAGE(消費意欲!BX21:CI21))","v":""},{"$f":"IF(COUNT(消費意欲!BY21:CJ21)<>12,\"\",AVERAGE(消費意欲!BY21:CJ21))","v":""},{"$f":"IF(COUNT(消費意欲!BZ21:CK21)<>12,\"\",AVERAGE(消費意欲!BZ21:CK21))","v":""},{"$f":"IF(COUNT(消費意欲!CA21:CL21)<>12,\"\",AVERAGE(消費意欲!CA21:CL21))","v":""},{"$f":"IF(COUNT(消費意欲!CB21:CM21)<>12,\"\",AVERAGE(消費意欲!CB21:CM21))","v":""},{"$f":"IF(COUNT(消費意欲!CC21:CN21)<>12,\"\",AVERAGE(消費意欲!CC21:CN21))","v":""},{"$f":"IF(COUNT(消費意欲!CD21:CO21)<>12,\"\",AVERAGE(消費意欲!CD21:CO21))","v":""},{"$f":"IF(COUNT(消費意欲!CE21:CP21)<>12,\"\",AVERAGE(消費意欲!CE21:CP21))","v":""},{"$f":"IF(COUNT(消費意欲!CF21:CQ21)<>12,\"\",AVERAGE(消費意欲!CF21:CQ21))","v":""},{"$f":"IF(COUNT(消費意欲!CG21:CR21)<>12,\"\",AVERAGE(消費意欲!CG21:CR21))","v":""},{"$f":"IF(COUNT(消費意欲!CH21:CS21)<>12,\"\",AVERAGE(消費意欲!CH21:CS21))","v":""},{"$f":"IF(COUNT(消費意欲!CI21:CT21)<>12,\"\",AVERAGE(消費意欲!CI21:CT21))","v":""},{"$f":"IF(COUNT(消費意欲!CJ21:CU21)<>12,\"\",AVERAGE(消費意欲!CJ21:CU21))","v":""},{"$f":"IF(COUNT(消費意欲!CK21:CV21)<>12,\"\",AVERAGE(消費意欲!CK21:CV21))","v":""},{"$f":"IF(COUNT(消費意欲!CL21:CW21)<>12,\"\",AVERAGE(消費意欲!CL21:CW21))","v":""},{"$f":"IF(COUNT(消費意欲!CM21:CX21)<>12,\"\",AVERAGE(消費意欲!CM21:CX21))","v":""},{"$f":"IF(COUNT(消費意欲!CN21:CY21)<>12,\"\",AVERAGE(消費意欲!CN21:CY21))","v":""},{"$f":"IF(COUNT(消費意欲!CO21:CZ21)<>12,\"\",AVERAGE(消費意欲!CO21:CZ21))","v":""},{"$f":"IF(COUNT(消費意欲!CP21:DA21)<>12,\"\",AVERAGE(消費意欲!CP21:DA21))","v":""},{"$f":"IF(COUNT(消費意欲!CQ21:DB21)<>12,\"\",AVERAGE(消費意欲!CQ21:DB21))","v":""},{"$f":"IF(COUNT(消費意欲!CR21:DC21)<>12,\"\",AVERAGE(消費意欲!CR21:DC21))","v":""},{"$f":"IF(COUNT(消費意欲!CS21:DD21)<>12,\"\",AVERAGE(消費意欲!CS21:DD21))","v":""},{"$f":"IF(COUNT(消費意欲!CT21:DE21)<>12,\"\",AVERAGE(消費意欲!CT21:DE21))","v":""},{"$f":"IF(COUNT(消費意欲!CU21:DF21)<>12,\"\",AVERAGE(消費意欲!CU21:DF21))","v":""},{"$f":"IF(COUNT(消費意欲!CV21:DG21)<>12,\"\",AVERAGE(消費意欲!CV21:DG21))","v":""}]
[null,null,"女性50代",null,null,null,null,null,null,null,null,null,null,null,null,null,null,null,{"$f":"IF(COUNT(消費意欲!H22:S22)<>12,\"\",AVERAGE(消費意欲!H22:S22))","v":53.544166666666662},{"$f":"IF(COUNT(消費意欲!I22:T22)<>12,\"\",AVERAGE(消費意欲!I22:T22))","v":53.380833333333349},{"$f":"IF(COUNT(消費意欲!J22:U22)<>12,\"\",AVERAGE(消費意欲!J22:U22))","v":53.338333333333338},{"$f":"IF(COUNT(消費意欲!K22:V22)<>12,\"\",AVERAGE(消費意欲!K22:V22))","v":52.995000000000005},{"$f":"IF(COUNT(消費意欲!L22:W22)<>12,\"\",AVERAGE(消費意欲!L22:W22))","v":53.23},{"$f":"IF(COUNT(消費意欲!M22:X22)<>12,\"\",AVERAGE(消費意欲!M22:X22))","v":52.949999999999996},{"$f":"IF(COUNT(消費意欲!N22:Y22)<>12,\"\",AVERAGE(消費意欲!N22:Y22))","v":53.015833333333326},{"$f":"IF(COUNT(消費意欲!O22:Z22)<>12,\"\",AVERAGE(消費意欲!O22:Z22))","v":52.775000000000006},{"$f":"IF(COUNT(消費意欲!P22:AA22)<>12,\"\",AVERAGE(消費意欲!P22:AA22))","v":52.357500000000009},{"$f":"IF(COUNT(消費意欲!Q22:AB22)<>12,\"\",AVERAGE(消費意欲!Q22:AB22))","v":51.727499999999999},{"$f":"IF(COUNT(消費意欲!R22:AC22)<>12,\"\",AVERAGE(消費意欲!R22:AC22))","v":52.134999999999991},{"$f":"IF(COUNT(消費意欲!S22:AD22)<>12,\"\",AVERAGE(消費意欲!S22:AD22))","v":52.869166666666672},{"$f":"IF(COUNT(消費意欲!T22:AE22)<>12,\"\",AVERAGE(消費意欲!T22:AE22))","v":52.495833333333337},{"$f":"IF(COUNT(消費意欲!U22:AF22)<>12,\"\",AVERAGE(消費意欲!U22:AF22))","v":52.019166666666671},{"$f":"IF(COUNT(消費意欲!V22:AG22)<>12,\"\",AVERAGE(消費意欲!V22:AG22))","v":51.733333333333327},{"$f":"IF(COUNT(消費意欲!W22:AH22)<>12,\"\",AVERAGE(消費意欲!W22:AH22))","v":51.964166666666664},{"$f":"IF(COUNT(消費意欲!X22:AI22)<>12,\"\",AVERAGE(消費意欲!X22:AI22))","v":51.539166666666667},{"$f":"IF(COUNT(消費意欲!Y22:AJ22)<>12,\"\",AVERAGE(消費意欲!Y22:AJ22))","v":51.318333333333335},{"$f":"IF(COUNT(消費意欲!Z22:AK22)<>12,\"\",AVERAGE(消費意欲!Z22:AK22))","v":51.154166666666669},{"$f":"IF(COUNT(消費意欲!AA22:AL22)<>12,\"\",AVERAGE(消費意欲!AA22:AL22))","v":50.872500000000002},{"$f":"IF(COUNT(消費意欲!AB22:AM22)<>12,\"\",AVERAGE(消費意欲!AB22:AM22))","v":51.208333333333321},{"$f":"IF(COUNT(消費意欲!AC22:AN22)<>12,\"\",AVERAGE(消費意欲!AC22:AN22))","v":51.026666666666664},{"$f":"IF(COUNT(消費意欲!AD22:AO22)<>12,\"\",AVERAGE(消費意欲!AD22:AO22))","v":50.377499999999998},{"$f":"IF(COUNT(消費意欲!AE22:AP22)<>12,\"\",AVERAGE(消費意欲!AE22:AP22))","v":49.114166666666669},{"$f":"IF(COUNT(消費意欲!AF22:AQ22)<>12,\"\",AVERAGE(消費意欲!AF22:AQ22))","v":49.276666666666664},{"$f":"IF(COUNT(消費意欲!AG22:AR22)<>12,\"\",AVERAGE(消費意欲!AG22:AR22))","v":49.519166666666671},{"$f":"IF(COUNT(消費意欲!AH22:AS22)<>12,\"\",AVERAGE(消費意欲!AH22:AS22))","v":49.404166666666669},{"$f":"IF(COUNT(消費意欲!AI22:AT22)<>12,\"\",AVERAGE(消費意欲!AI22:AT22))","v":49.184999999999995},{"$f":"IF(COUNT(消費意欲!AJ22:AU22)<>12,\"\",AVERAGE(消費意欲!AJ22:AU22))","v":49.053333333333335},{"$f":"IF(COUNT(消費意欲!AK22:AV22)<>12,\"\",AVERAGE(消費意欲!AK22:AV22))","v":49.215833333333343},{"$f":"IF(COUNT(消費意欲!AL22:AW22)<>12,\"\",AVERAGE(消費意欲!AL22:AW22))","v":49.41},{"$f":"IF(COUNT(消費意欲!AM22:AX22)<>12,\"\",AVERAGE(消費意欲!AM22:AX22))","v":49.593333333333327},{"$f":"IF(COUNT(消費意欲!AN22:AY22)<>12,\"\",AVERAGE(消費意欲!AN22:AY22))","v":49.729166666666664},{"$f":"IF(COUNT(消費意欲!AO22:AZ22)<>12,\"\",AVERAGE(消費意欲!AO22:AZ22))","v":50.012499999999996},{"$f":"IF(COUNT(消費意欲!AP22:BA22)<>12,\"\",AVERAGE(消費意欲!AP22:BA22))","v":49.793333333333329},{"$f":"IF(COUNT(消費意欲!AQ22:BB22)<>12,\"\",AVERAGE(消費意欲!AQ22:BB22))","v":49.902500000000003},{"$f":"IF(COUNT(消費意欲!AR22:BC22)<>12,\"\",AVERAGE(消費意欲!AR22:BC22))","v":49.525833333333331},{"$f":"IF(COUNT(消費意欲!AS22:BD22)<>12,\"\",AVERAGE(消費意欲!AS22:BD22))","v":49.227499999999999},{"$f":"IF(COUNT(消費意欲!AT22:BE22)<>12,\"\",AVERAGE(消費意欲!AT22:BE22))","v":""},{"$f":"IF(COUNT(消費意欲!AU22:BF22)<>12,\"\",AVERAGE(消費意欲!AU22:BF22))","v":""},{"$f":"IF(COUNT(消費意欲!AV22:BG22)<>12,\"\",AVERAGE(消費意欲!AV22:BG22))","v":""},{"$f":"IF(COUNT(消費意欲!AW22:BH22)<>12,\"\",AVERAGE(消費意欲!AW22:BH22))","v":""},{"$f":"IF(COUNT(消費意欲!AX22:BI22)<>12,\"\",AVERAGE(消費意欲!AX22:BI22))","v":""},{"$f":"IF(COUNT(消費意欲!AY22:BJ22)<>12,\"\",AVERAGE(消費意欲!AY22:BJ22))","v":""},{"$f":"IF(COUNT(消費意欲!AZ22:BK22)<>12,\"\",AVERAGE(消費意欲!AZ22:BK22))","v":""},{"$f":"IF(COUNT(消費意欲!BA22:BL22)<>12,\"\",AVERAGE(消費意欲!BA22:BL22))","v":""},{"$f":"IF(COUNT(消費意欲!BB22:BM22)<>12,\"\",AVERAGE(消費意欲!BB22:BM22))","v":""},{"$f":"IF(COUNT(消費意欲!BC22:BN22)<>12,\"\",AVERAGE(消費意欲!BC22:BN22))","v":""},{"$f":"IF(COUNT(消費意欲!BD22:BO22)<>12,\"\",AVERAGE(消費意欲!BD22:BO22))","v":""},{"$f":"IF(COUNT(消費意欲!BE22:BP22)<>12,\"\",AVERAGE(消費意欲!BE22:BP22))","v":""},{"$f":"IF(COUNT(消費意欲!BF22:BQ22)<>12,\"\",AVERAGE(消費意欲!BF22:BQ22))","v":""},{"$f":"IF(COUNT(消費意欲!BG22:BR22)<>12,\"\",AVERAGE(消費意欲!BG22:BR22))","v":""},{"$f":"IF(COUNT(消費意欲!BH22:BS22)<>12,\"\",AVERAGE(消費意欲!BH22:BS22))","v":""},{"$f":"IF(COUNT(消費意欲!BI22:BT22)<>12,\"\",AVERAGE(消費意欲!BI22:BT22))","v":""},{"$f":"IF(COUNT(消費意欲!BJ22:BU22)<>12,\"\",AVERAGE(消費意欲!BJ22:BU22))","v":""},{"$f":"IF(COUNT(消費意欲!BK22:BV22)<>12,\"\",AVERAGE(消費意欲!BK22:BV22))","v":""},{"$f":"IF(COUNT(消費意欲!BL22:BW22)<>12,\"\",AVERAGE(消費意欲!BL22:BW22))","v":""},{"$f":"IF(COUNT(消費意欲!BM22:BX22)<>12,\"\",AVERAGE(消費意欲!BM22:BX22))","v":""},{"$f":"IF(COUNT(消費意欲!BN22:BY22)<>12,\"\",AVERAGE(消費意欲!BN22:BY22))","v":""},{"$f":"IF(COUNT(消費意欲!BO22:BZ22)<>12,\"\",AVERAGE(消費意欲!BO22:BZ22))","v":""},{"$f":"IF(COUNT(消費意欲!BP22:CA22)<>12,\"\",AVERAGE(消費意欲!BP22:CA22))","v":""},{"$f":"IF(COUNT(消費意欲!BQ22:CB22)<>12,\"\",AVERAGE(消費意欲!BQ22:CB22))","v":""},{"$f":"IF(COUNT(消費意欲!BR22:CC22)<>12,\"\",AVERAGE(消費意欲!BR22:CC22))","v":""},{"$f":"IF(COUNT(消費意欲!BS22:CD22)<>12,\"\",AVERAGE(消費意欲!BS22:CD22))","v":""},{"$f":"IF(COUNT(消費意欲!BT22:CE22)<>12,\"\",AVERAGE(消費意欲!BT22:CE22))","v":""},{"$f":"IF(COUNT(消費意欲!BU22:CF22)<>12,\"\",AVERAGE(消費意欲!BU22:CF22))","v":""},{"$f":"IF(COUNT(消費意欲!BV22:CG22)<>12,\"\",AVERAGE(消費意欲!BV22:CG22))","v":""},{"$f":"IF(COUNT(消費意欲!BW22:CH22)<>12,\"\",AVERAGE(消費意欲!BW22:CH22))","v":""},{"$f":"IF(COUNT(消費意欲!BX22:CI22)<>12,\"\",AVERAGE(消費意欲!BX22:CI22))","v":""},{"$f":"IF(COUNT(消費意欲!BY22:CJ22)<>12,\"\",AVERAGE(消費意欲!BY22:CJ22))","v":""},{"$f":"IF(COUNT(消費意欲!BZ22:CK22)<>12,\"\",AVERAGE(消費意欲!BZ22:CK22))","v":""},{"$f":"IF(COUNT(消費意欲!CA22:CL22)<>12,\"\",AVERAGE(消費意欲!CA22:CL22))","v":""},{"$f":"IF(COUNT(消費意欲!CB22:CM22)<>12,\"\",AVERAGE(消費意欲!CB22:CM22))","v":""},{"$f":"IF(COUNT(消費意欲!CC22:CN22)<>12,\"\",AVERAGE(消費意欲!CC22:CN22))","v":""},{"$f":"IF(COUNT(消費意欲!CD22:CO22)<>12,\"\",AVERAGE(消費意欲!CD22:CO22))","v":""},{"$f":"IF(COUNT(消費意欲!CE22:CP22)<>12,\"\",AVERAGE(消費意欲!CE22:CP22))","v":""},{"$f":"IF(COUNT(消費意欲!CF22:CQ22)<>12,\"\",AVERAGE(消費意欲!CF22:CQ22))","v":""},{"$f":"IF(COUNT(消費意欲!CG22:CR22)<>12,\"\",AVERAGE(消費意欲!CG22:CR22))","v":""},{"$f":"IF(COUNT(消費意欲!CH22:CS22)<>12,\"\",AVERAGE(消費意欲!CH22:CS22))","v":""},{"$f":"IF(COUNT(消費意欲!CI22:CT22)<>12,\"\",AVERAGE(消費意欲!CI22:CT22))","v":""},{"$f":"IF(COUNT(消費意欲!CJ22:CU22)<>12,\"\",AVERAGE(消費意欲!CJ22:CU22))","v":""},{"$f":"IF(COUNT(消費意欲!CK22:CV22)<>12,\"\",AVERAGE(消費意欲!CK22:CV22))","v":""},{"$f":"IF(COUNT(消費意欲!CL22:CW22)<>12,\"\",AVERAGE(消費意欲!CL22:CW22))","v":""},{"$f":"IF(COUNT(消費意欲!CM22:CX22)<>12,\"\",AVERAGE(消費意欲!CM22:CX22))","v":""},{"$f":"IF(COUNT(消費意欲!CN22:CY22)<>12,\"\",AVERAGE(消費意欲!CN22:CY22))","v":""},{"$f":"IF(COUNT(消費意欲!CO22:CZ22)<>12,\"\",AVERAGE(消費意欲!CO22:CZ22))","v":""},{"$f":"IF(COUNT(消費意欲!CP22:DA22)<>12,\"\",AVERAGE(消費意欲!CP22:DA22))","v":""},{"$f":"IF(COUNT(消費意欲!CQ22:DB22)<>12,\"\",AVERAGE(消費意欲!CQ22:DB22))","v":""},{"$f":"IF(COUNT(消費意欲!CR22:DC22)<>12,\"\",AVERAGE(消費意欲!CR22:DC22))","v":""},{"$f":"IF(COUNT(消費意欲!CS22:DD22)<>12,\"\",AVERAGE(消費意欲!CS22:DD22))","v":""},{"$f":"IF(COUNT(消費意欲!CT22:DE22)<>12,\"\",AVERAGE(消費意欲!CT22:DE22))","v":""},{"$f":"IF(COUNT(消費意欲!CU22:DF22)<>12,\"\",AVERAGE(消費意欲!CU22:DF22))","v":""},{"$f":"IF(COUNT(消費意欲!CV22:DG22)<>12,\"\",AVERAGE(消費意欲!CV22:DG22))","v":""}]
[null,null,"女性60代",null,null,null,null,null,null,null,null,null,null,null,null,null,null,null,{"$f":"IF(COUNT(消費意欲!H23:S23)<>12,\"\",AVERAGE(消費意欲!H23:S23))","v":53.08250000000001},{"$f":"IF(COUNT(消費意欲!I23:T23)<>12,\"\",AVERAGE(消費意欲!I23:T23))","v":52.991666666666674},{"$f":"IF(COUNT(消費意欲!J23:U23)<>12,\"\",AVERAGE(消費意欲!J23:U23))","v":52.642500000000013},{"$f":"IF(COUNT(消費意欲!K23:V23)<>12,\"\",AVERAGE(消費意欲!K23:V23))","v":52.713333333333338},{"$f":"IF(COUNT(消費意欲!L23:W23)<>12,\"\",AVERAGE(消費意欲!L23:W23))","v":52.843333333333327},{"$f":"IF(COUNT(消費意欲!M23:X23)<>12,\"\",AVERAGE(消費意欲!M23:X23))","v":52.322499999999991},{"$f":"IF(COUNT(消費意欲!N23:Y23)<>12,\"\",AVERAGE(消費意欲!N23:Y23))","v":52.520833333333321},{"$f":"IF(COUNT(消費意欲!O23:Z23)<>12,\"\",AVERAGE(消費意欲!O23:Z23))","v":52.164166666666667},{"$f":"IF(COUNT(消費意欲!P23:AA23)<>12,\"\",AVERAGE(消費意欲!P23:AA23))","v":52.186666666666667},{"$f":"IF(COUNT(消費意欲!Q23:AB23)<>12,\"\",AVERAGE(消費意欲!Q23:AB23))","v":51.745000000000005},{"$f":"IF(COUNT(消費意欲!R23:AC23)<>12,\"\",AVERAGE(消費意欲!R23:AC23))","v":51.778333333333343},{"$f":"IF(COUNT(消費意欲!S23:AD23)<>12,\"\",AVERAGE(消費意欲!S23:AD23))","v":51.900000000000006},{"$f":"IF(COUNT(消費意欲!T23:AE23)<>12,\"\",AVERAGE(消費意欲!T23:AE23))","v":51.600833333333327},{"$f":"IF(COUNT(消費意欲!U23:AF23)<>12,\"\",AVERAGE(消費意欲!U23:AF23))","v":51.18416666666667},{"$f":"IF(COUNT(消費意欲!V23:AG23)<>12,\"\",AVERAGE(消費意欲!V23:AG23))","v":51.178333333333342},{"$f":"IF(COUNT(消費意欲!W23:AH23)<>12,\"\",AVERAGE(消費意欲!W23:AH23))","v":50.820833333333333},{"$f":"IF(COUNT(消費意欲!X23:AI23)<>12,\"\",AVERAGE(消費意欲!X23:AI23))","v":50.785833333333336},{"$f":"IF(COUNT(消費意欲!Y23:AJ23)<>12,\"\",AVERAGE(消費意欲!Y23:AJ23))","v":50.843333333333341},{"$f":"IF(COUNT(消費意欲!Z23:AK23)<>12,\"\",AVERAGE(消費意欲!Z23:AK23))","v":50.806666666666665},{"$f":"IF(COUNT(消費意欲!AA23:AL23)<>12,\"\",AVERAGE(消費意欲!AA23:AL23))","v":50.326666666666675},{"$f":"IF(COUNT(消費意欲!AB23:AM23)<>12,\"\",AVERAGE(消費意欲!AB23:AM23))","v":50.158333333333339},{"$f":"IF(COUNT(消費意欲!AC23:AN23)<>12,\"\",AVERAGE(消費意欲!AC23:AN23))","v":49.869166666666672},{"$f":"IF(COUNT(消費意欲!AD23:AO23)<>12,\"\",AVERAGE(消費意欲!AD23:AO23))","v":49.860000000000007},{"$f":"IF(COUNT(消費意欲!AE23:AP23)<>12,\"\",AVERAGE(消費意欲!AE23:AP23))","v":49.541666666666679},{"$f":"IF(COUNT(消費意欲!AF23:AQ23)<>12,\"\",AVERAGE(消費意欲!AF23:AQ23))","v":49.629166666666663},{"$f":"IF(COUNT(消費意欲!AG23:AR23)<>12,\"\",AVERAGE(消費意欲!AG23:AR23))","v":50.009166666666665},{"$f":"IF(COUNT(消費意欲!AH23:AS23)<>12,\"\",AVERAGE(消費意欲!AH23:AS23))","v":49.858333333333341},{"$f":"IF(COUNT(消費意欲!AI23:AT23)<>12,\"\",AVERAGE(消費意欲!AI23:AT23))","v":49.912500000000001},{"$f":"IF(COUNT(消費意欲!AJ23:AU23)<>12,\"\",AVERAGE(消費意欲!AJ23:AU23))","v":49.674166666666672},{"$f":"IF(COUNT(消費意欲!AK23:AV23)<>12,\"\",AVERAGE(消費意欲!AK23:AV23))","v":49.782499999999999},{"$f":"IF(COUNT(消費意欲!AL23:AW23)<>12,\"\",AVERAGE(消費意欲!AL23:AW23))","v":50.059166666666663},{"$f":"IF(COUNT(消費意欲!AM23:AX23)<>12,\"\",AVERAGE(消費意欲!AM23:AX23))","v":50.649999999999984},{"$f":"IF(COUNT(消費意欲!AN23:AY23)<>12,\"\",AVERAGE(消費意欲!AN23:AY23))","v":50.586666666666666},{"$f":"IF(COUNT(消費意欲!AO23:AZ23)<>12,\"\",AVERAGE(消費意欲!AO23:AZ23))","v":51.004166666666663},{"$f":"IF(COUNT(消費意欲!AP23:BA23)<>12,\"\",AVERAGE(消費意欲!AP23:BA23))","v":50.990833333333335},{"$f":"IF(COUNT(消費意欲!AQ23:BB23)<>12,\"\",AVERAGE(消費意欲!AQ23:BB23))","v":50.665833333333332},{"$f":"IF(COUNT(消費意欲!AR23:BC23)<>12,\"\",AVERAGE(消費意欲!AR23:BC23))","v":51.023333333333333},{"$f":"IF(COUNT(消費意欲!AS23:BD23)<>12,\"\",AVERAGE(消費意欲!AS23:BD23))","v":50.973333333333329},{"$f":"IF(COUNT(消費意欲!AT23:BE23)<>12,\"\",AVERAGE(消費意欲!AT23:BE23))","v":""},{"$f":"IF(COUNT(消費意欲!AU23:BF23)<>12,\"\",AVERAGE(消費意欲!AU23:BF23))","v":""},{"$f":"IF(COUNT(消費意欲!AV23:BG23)<>12,\"\",AVERAGE(消費意欲!AV23:BG23))","v":""},{"$f":"IF(COUNT(消費意欲!AW23:BH23)<>12,\"\",AVERAGE(消費意欲!AW23:BH23))","v":""},{"$f":"IF(COUNT(消費意欲!AX23:BI23)<>12,\"\",AVERAGE(消費意欲!AX23:BI23))","v":""},{"$f":"IF(COUNT(消費意欲!AY23:BJ23)<>12,\"\",AVERAGE(消費意欲!AY23:BJ23))","v":""},{"$f":"IF(COUNT(消費意欲!AZ23:BK23)<>12,\"\",AVERAGE(消費意欲!AZ23:BK23))","v":""},{"$f":"IF(COUNT(消費意欲!BA23:BL23)<>12,\"\",AVERAGE(消費意欲!BA23:BL23))","v":""},{"$f":"IF(COUNT(消費意欲!BB23:BM23)<>12,\"\",AVERAGE(消費意欲!BB23:BM23))","v":""},{"$f":"IF(COUNT(消費意欲!BC23:BN23)<>12,\"\",AVERAGE(消費意欲!BC23:BN23))","v":""},{"$f":"IF(COUNT(消費意欲!BD23:BO23)<>12,\"\",AVERAGE(消費意欲!BD23:BO23))","v":""},{"$f":"IF(COUNT(消費意欲!BE23:BP23)<>12,\"\",AVERAGE(消費意欲!BE23:BP23))","v":""},{"$f":"IF(COUNT(消費意欲!BF23:BQ23)<>12,\"\",AVERAGE(消費意欲!BF23:BQ23))","v":""},{"$f":"IF(COUNT(消費意欲!BG23:BR23)<>12,\"\",AVERAGE(消費意欲!BG23:BR23))","v":""},{"$f":"IF(COUNT(消費意欲!BH23:BS23)<>12,\"\",AVERAGE(消費意欲!BH23:BS23))","v":""},{"$f":"IF(COUNT(消費意欲!BI23:BT23)<>12,\"\",AVERAGE(消費意欲!BI23:BT23))","v":""},{"$f":"IF(COUNT(消費意欲!BJ23:BU23)<>12,\"\",AVERAGE(消費意欲!BJ23:BU23))","v":""},{"$f":"IF(COUNT(消費意欲!BK23:BV23)<>12,\"\",AVERAGE(消費意欲!BK23:BV23))","v":""},{"$f":"IF(COUNT(消費意欲!BL23:BW23)<>12,\"\",AVERAGE(消費意欲!BL23:BW23))","v":""},{"$f":"IF(COUNT(消費意欲!BM23:BX23)<>12,\"\",AVERAGE(消費意欲!BM23:BX23))","v":""},{"$f":"IF(COUNT(消費意欲!BN23:BY23)<>12,\"\",AVERAGE(消費意欲!BN23:BY23))","v":""},{"$f":"IF(COUNT(消費意欲!BO23:BZ23)<>12,\"\",AVERAGE(消費意欲!BO23:BZ23))","v":""},{"$f":"IF(COUNT(消費意欲!BP23:CA23)<>12,\"\",AVERAGE(消費意欲!BP23:CA23))","v":""},{"$f":"IF(COUNT(消費意欲!BQ23:CB23)<>12,\"\",AVERAGE(消費意欲!BQ23:CB23))","v":""},{"$f":"IF(COUNT(消費意欲!BR23:CC23)<>12,\"\",AVERAGE(消費意欲!BR23:CC23))","v":""},{"$f":"IF(COUNT(消費意欲!BS23:CD23)<>12,\"\",AVERAGE(消費意欲!BS23:CD23))","v":""},{"$f":"IF(COUNT(消費意欲!BT23:CE23)<>12,\"\",AVERAGE(消費意欲!BT23:CE23))","v":""},{"$f":"IF(COUNT(消費意欲!BU23:CF23)<>12,\"\",AVERAGE(消費意欲!BU23:CF23))","v":""},{"$f":"IF(COUNT(消費意欲!BV23:CG23)<>12,\"\",AVERAGE(消費意欲!BV23:CG23))","v":""},{"$f":"IF(COUNT(消費意欲!BW23:CH23)<>12,\"\",AVERAGE(消費意欲!BW23:CH23))","v":""},{"$f":"IF(COUNT(消費意欲!BX23:CI23)<>12,\"\",AVERAGE(消費意欲!BX23:CI23))","v":""},{"$f":"IF(COUNT(消費意欲!BY23:CJ23)<>12,\"\",AVERAGE(消費意欲!BY23:CJ23))","v":""},{"$f":"IF(COUNT(消費意欲!BZ23:CK23)<>12,\"\",AVERAGE(消費意欲!BZ23:CK23))","v":""},{"$f":"IF(COUNT(消費意欲!CA23:CL23)<>12,\"\",AVERAGE(消費意欲!CA23:CL23))","v":""},{"$f":"IF(COUNT(消費意欲!CB23:CM23)<>12,\"\",AVERAGE(消費意欲!CB23:CM23))","v":""},{"$f":"IF(COUNT(消費意欲!CC23:CN23)<>12,\"\",AVERAGE(消費意欲!CC23:CN23))","v":""},{"$f":"IF(COUNT(消費意欲!CD23:CO23)<>12,\"\",AVERAGE(消費意欲!CD23:CO23))","v":""},{"$f":"IF(COUNT(消費意欲!CE23:CP23)<>12,\"\",AVERAGE(消費意欲!CE23:CP23))","v":""},{"$f":"IF(COUNT(消費意欲!CF23:CQ23)<>12,\"\",AVERAGE(消費意欲!CF23:CQ23))","v":""},{"$f":"IF(COUNT(消費意欲!CG23:CR23)<>12,\"\",AVERAGE(消費意欲!CG23:CR23))","v":""},{"$f":"IF(COUNT(消費意欲!CH23:CS23)<>12,\"\",AVERAGE(消費意欲!CH23:CS23))","v":""},{"$f":"IF(COUNT(消費意欲!CI23:CT23)<>12,\"\",AVERAGE(消費意欲!CI23:CT23))","v":""},{"$f":"IF(COUNT(消費意欲!CJ23:CU23)<>12,\"\",AVERAGE(消費意欲!CJ23:CU23))","v":""},{"$f":"IF(COUNT(消費意欲!CK23:CV23)<>12,\"\",AVERAGE(消費意欲!CK23:CV23))","v":""},{"$f":"IF(COUNT(消費意欲!CL23:CW23)<>12,\"\",AVERAGE(消費意欲!CL23:CW23))","v":""},{"$f":"IF(COUNT(消費意欲!CM23:CX23)<>12,\"\",AVERAGE(消費意欲!CM23:CX23))","v":""},{"$f":"IF(COUNT(消費意欲!CN23:CY23)<>12,\"\",AVERAGE(消費意欲!CN23:CY23))","v":""},{"$f":"IF(COUNT(消費意欲!CO23:CZ23)<>12,\"\",AVERAGE(消費意欲!CO23:CZ23))","v":""},{"$f":"IF(COUNT(消費意欲!CP23:DA23)<>12,\"\",AVERAGE(消費意欲!CP23:DA23))","v":""},{"$f":"IF(COUNT(消費意欲!CQ23:DB23)<>12,\"\",AVERAGE(消費意欲!CQ23:DB23))","v":""},{"$f":"IF(COUNT(消費意欲!CR23:DC23)<>12,\"\",AVERAGE(消費意欲!CR23:DC23))","v":""},{"$f":"IF(COUNT(消費意欲!CS23:DD23)<>12,\"\",AVERAGE(消費意欲!CS23:DD23))","v":""},{"$f":"IF(COUNT(消費意欲!CT23:DE23)<>12,\"\",AVERAGE(消費意欲!CT23:DE23))","v":""},{"$f":"IF(COUNT(消費意欲!CU23:DF23)<>12,\"\",AVERAGE(消費意欲!CU23:DF23))","v":""},{"$f":"IF(COUNT(消費意欲!CV23:DG23)<>12,\"\",AVERAGE(消費意欲!CV23:DG23))","v":""}]
[null,"性別×未既婚別","男性／未婚",null,null,null,null,null,null,null,null,null,null,null,null,null,null,null,{"$f":"IF(COUNT(消費意欲!H24:S24)<>12,\"\",AVERAGE(消費意欲!H24:S24))","v":47.722499999999997},{"$f":"IF(COUNT(消費意欲!I24:T24)<>12,\"\",AVERAGE(消費意欲!I24:T24))","v":47.722500000000004},{"$f":"IF(COUNT(消費意欲!J24:U24)<>12,\"\",AVERAGE(消費意欲!J24:U24))","v":47.519166666666671},{"$f":"IF(COUNT(消費意欲!K24:V24)<>12,\"\",AVERAGE(消費意欲!K24:V24))","v":47.206666666666671},{"$f":"IF(COUNT(消費意欲!L24:W24)<>12,\"\",AVERAGE(消費意欲!L24:W24))","v":47.074166666666677},{"$f":"IF(COUNT(消費意欲!M24:X24)<>12,\"\",AVERAGE(消費意欲!M24:X24))","v":46.806666666666665},{"$f":"IF(COUNT(消費意欲!N24:Y24)<>12,\"\",AVERAGE(消費意欲!N24:Y24))","v":46.826666666666675},{"$f":"IF(COUNT(消費意欲!O24:Z24)<>12,\"\",AVERAGE(消費意欲!O24:Z24))","v":46.777500000000003},{"$f":"IF(COUNT(消費意欲!P24:AA24)<>12,\"\",AVERAGE(消費意欲!P24:AA24))","v":47.024166666666666},{"$f":"IF(COUNT(消費意欲!Q24:AB24)<>12,\"\",AVERAGE(消費意欲!Q24:AB24))","v":46.715833333333343},{"$f":"IF(COUNT(消費意欲!R24:AC24)<>12,\"\",AVERAGE(消費意欲!R24:AC24))","v":47.04666666666666},{"$f":"IF(COUNT(消費意欲!S24:AD24)<>12,\"\",AVERAGE(消費意欲!S24:AD24))","v":47.306666666666665},{"$f":"IF(COUNT(消費意欲!T24:AE24)<>12,\"\",AVERAGE(消費意欲!T24:AE24))","v":47.073333333333323},{"$f":"IF(COUNT(消費意欲!U24:AF24)<>12,\"\",AVERAGE(消費意欲!U24:AF24))","v":46.988333333333337},{"$f":"IF(COUNT(消費意欲!V24:AG24)<>12,\"\",AVERAGE(消費意欲!V24:AG24))","v":46.778333333333336},{"$f":"IF(COUNT(消費意欲!W24:AH24)<>12,\"\",AVERAGE(消費意欲!W24:AH24))","v":46.573333333333331},{"$f":"IF(COUNT(消費意欲!X24:AI24)<>12,\"\",AVERAGE(消費意欲!X24:AI24))","v":46.50416666666667},{"$f":"IF(COUNT(消費意欲!Y24:AJ24)<>12,\"\",AVERAGE(消費意欲!Y24:AJ24))","v":46.733333333333341},{"$f":"IF(COUNT(消費意欲!Z24:AK24)<>12,\"\",AVERAGE(消費意欲!Z24:AK24))","v":46.608333333333341},{"$f":"IF(COUNT(消費意欲!AA24:AL24)<>12,\"\",AVERAGE(消費意欲!AA24:AL24))","v":46.626666666666672},{"$f":"IF(COUNT(消費意欲!AB24:AM24)<>12,\"\",AVERAGE(消費意欲!AB24:AM24))","v":46.615833333333335},{"$f":"IF(COUNT(消費意欲!AC24:AN24)<>12,\"\",AVERAGE(消費意欲!AC24:AN24))","v":46.595833333333331},{"$f":"IF(COUNT(消費意欲!AD24:AO24)<>12,\"\",AVERAGE(消費意欲!AD24:AO24))","v":45.99666666666667},{"$f":"IF(COUNT(消費意欲!AE24:AP24)<>12,\"\",AVERAGE(消費意欲!AE24:AP24))","v":45.509166666666665},{"$f":"IF(COUNT(消費意欲!AF24:AQ24)<>12,\"\",AVERAGE(消費意欲!AF24:AQ24))","v":45.791666666666664},{"$f":"IF(COUNT(消費意欲!AG24:AR24)<>12,\"\",AVERAGE(消費意欲!AG24:AR24))","v":45.692500000000003},{"$f":"IF(COUNT(消費意欲!AH24:AS24)<>12,\"\",AVERAGE(消費意欲!AH24:AS24))","v":45.592500000000001},{"$f":"IF(COUNT(消費意欲!AI24:AT24)<>12,\"\",AVERAGE(消費意欲!AI24:AT24))","v":45.674166666666672},{"$f":"IF(COUNT(消費意欲!AJ24:AU24)<>12,\"\",AVERAGE(消費意欲!AJ24:AU24))","v":45.475833333333327},{"$f":"IF(COUNT(消費意欲!AK24:AV24)<>12,\"\",AVERAGE(消費意欲!AK24:AV24))","v":45.05916666666667},{"$f":"IF(COUNT(消費意欲!AL24:AW24)<>12,\"\",AVERAGE(消費意欲!AL24:AW24))","v":45.148333333333333},{"$f":"IF(COUNT(消費意欲!AM24:AX24)<>12,\"\",AVERAGE(消費意欲!AM24:AX24))","v":45.04666666666666},{"$f":"IF(COUNT(消費意欲!AN24:AY24)<>12,\"\",AVERAGE(消費意欲!AN24:AY24))","v":44.905000000000001},{"$f":"IF(COUNT(消費意欲!AO24:AZ24)<>12,\"\",AVERAGE(消費意欲!AO24:AZ24))","v":44.87833333333333},{"$f":"IF(COUNT(消費意欲!AP24:BA24)<>12,\"\",AVERAGE(消費意欲!AP24:BA24))","v":44.914166666666659},{"$f":"IF(COUNT(消費意欲!AQ24:BB24)<>12,\"\",AVERAGE(消費意欲!AQ24:BB24))","v":44.79},{"$f":"IF(COUNT(消費意欲!AR24:BC24)<>12,\"\",AVERAGE(消費意欲!AR24:BC24))","v":44.564166666666665},{"$f":"IF(COUNT(消費意欲!AS24:BD24)<>12,\"\",AVERAGE(消費意欲!AS24:BD24))","v":44.569999999999993},{"$f":"IF(COUNT(消費意欲!AT24:BE24)<>12,\"\",AVERAGE(消費意欲!AT24:BE24))","v":""},{"$f":"IF(COUNT(消費意欲!AU24:BF24)<>12,\"\",AVERAGE(消費意欲!AU24:BF24))","v":""},{"$f":"IF(COUNT(消費意欲!AV24:BG24)<>12,\"\",AVERAGE(消費意欲!AV24:BG24))","v":""},{"$f":"IF(COUNT(消費意欲!AW24:BH24)<>12,\"\",AVERAGE(消費意欲!AW24:BH24))","v":""},{"$f":"IF(COUNT(消費意欲!AX24:BI24)<>12,\"\",AVERAGE(消費意欲!AX24:BI24))","v":""},{"$f":"IF(COUNT(消費意欲!AY24:BJ24)<>12,\"\",AVERAGE(消費意欲!AY24:BJ24))","v":""},{"$f":"IF(COUNT(消費意欲!AZ24:BK24)<>12,\"\",AVERAGE(消費意欲!AZ24:BK24))","v":""},{"$f":"IF(COUNT(消費意欲!BA24:BL24)<>12,\"\",AVERAGE(消費意欲!BA24:BL24))","v":""},{"$f":"IF(COUNT(消費意欲!BB24:BM24)<>12,\"\",AVERAGE(消費意欲!BB24:BM24))","v":""},{"$f":"IF(COUNT(消費意欲!BC24:BN24)<>12,\"\",AVERAGE(消費意欲!BC24:BN24))","v":""},{"$f":"IF(COUNT(消費意欲!BD24:BO24)<>12,\"\",AVERAGE(消費意欲!BD24:BO24))","v":""},{"$f":"IF(COUNT(消費意欲!BE24:BP24)<>12,\"\",AVERAGE(消費意欲!BE24:BP24))","v":""},{"$f":"IF(COUNT(消費意欲!BF24:BQ24)<>12,\"\",AVERAGE(消費意欲!BF24:BQ24))","v":""},{"$f":"IF(COUNT(消費意欲!BG24:BR24)<>12,\"\",AVERAGE(消費意欲!BG24:BR24))","v":""},{"$f":"IF(COUNT(消費意欲!BH24:BS24)<>12,\"\",AVERAGE(消費意欲!BH24:BS24))","v":""},{"$f":"IF(COUNT(消費意欲!BI24:BT24)<>12,\"\",AVERAGE(消費意欲!BI24:BT24))","v":""},{"$f":"IF(COUNT(消費意欲!BJ24:BU24)<>12,\"\",AVERAGE(消費意欲!BJ24:BU24))","v":""},{"$f":"IF(COUNT(消費意欲!BK24:BV24)<>12,\"\",AVERAGE(消費意欲!BK24:BV24))","v":""},{"$f":"IF(COUNT(消費意欲!BL24:BW24)<>12,\"\",AVERAGE(消費意欲!BL24:BW24))","v":""},{"$f":"IF(COUNT(消費意欲!BM24:BX24)<>12,\"\",AVERAGE(消費意欲!BM24:BX24))","v":""},{"$f":"IF(COUNT(消費意欲!BN24:BY24)<>12,\"\",AVERAGE(消費意欲!BN24:BY24))","v":""},{"$f":"IF(COUNT(消費意欲!BO24:BZ24)<>12,\"\",AVERAGE(消費意欲!BO24:BZ24))","v":""},{"$f":"IF(COUNT(消費意欲!BP24:CA24)<>12,\"\",AVERAGE(消費意欲!BP24:CA24))","v":""},{"$f":"IF(COUNT(消費意欲!BQ24:CB24)<>12,\"\",AVERAGE(消費意欲!BQ24:CB24))","v":""},{"$f":"IF(COUNT(消費意欲!BR24:CC24)<>12,\"\",AVERAGE(消費意欲!BR24:CC24))","v":""},{"$f":"IF(COUNT(消費意欲!BS24:CD24)<>12,\"\",AVERAGE(消費意欲!BS24:CD24))","v":""},{"$f":"IF(COUNT(消費意欲!BT24:CE24)<>12,\"\",AVERAGE(消費意欲!BT24:CE24))","v":""},{"$f":"IF(COUNT(消費意欲!BU24:CF24)<>12,\"\",AVERAGE(消費意欲!BU24:CF24))","v":""},{"$f":"IF(COUNT(消費意欲!BV24:CG24)<>12,\"\",AVERAGE(消費意欲!BV24:CG24))","v":""},{"$f":"IF(COUNT(消費意欲!BW24:CH24)<>12,\"\",AVERAGE(消費意欲!BW24:CH24))","v":""},{"$f":"IF(COUNT(消費意欲!BX24:CI24)<>12,\"\",AVERAGE(消費意欲!BX24:CI24))","v":""},{"$f":"IF(COUNT(消費意欲!BY24:CJ24)<>12,\"\",AVERAGE(消費意欲!BY24:CJ24))","v":""},{"$f":"IF(COUNT(消費意欲!BZ24:CK24)<>12,\"\",AVERAGE(消費意欲!BZ24:CK24))","v":""},{"$f":"IF(COUNT(消費意欲!CA24:CL24)<>12,\"\",AVERAGE(消費意欲!CA24:CL24))","v":""},{"$f":"IF(COUNT(消費意欲!CB24:CM24)<>12,\"\",AVERAGE(消費意欲!CB24:CM24))","v":""},{"$f":"IF(COUNT(消費意欲!CC24:CN24)<>12,\"\",AVERAGE(消費意欲!CC24:CN24))","v":""},{"$f":"IF(COUNT(消費意欲!CD24:CO24)<>12,\"\",AVERAGE(消費意欲!CD24:CO24))","v":""},{"$f":"IF(COUNT(消費意欲!CE24:CP24)<>12,\"\",AVERAGE(消費意欲!CE24:CP24))","v":""},{"$f":"IF(COUNT(消費意欲!CF24:CQ24)<>12,\"\",AVERAGE(消費意欲!CF24:CQ24))","v":""},{"$f":"IF(COUNT(消費意欲!CG24:CR24)<>12,\"\",AVERAGE(消費意欲!CG24:CR24))","v":""},{"$f":"IF(COUNT(消費意欲!CH24:CS24)<>12,\"\",AVERAGE(消費意欲!CH24:CS24))","v":""},{"$f":"IF(COUNT(消費意欲!CI24:CT24)<>12,\"\",AVERAGE(消費意欲!CI24:CT24))","v":""},{"$f":"IF(COUNT(消費意欲!CJ24:CU24)<>12,\"\",AVERAGE(消費意欲!CJ24:CU24))","v":""},{"$f":"IF(COUNT(消費意欲!CK24:CV24)<>12,\"\",AVERAGE(消費意欲!CK24:CV24))","v":""},{"$f":"IF(COUNT(消費意欲!CL24:CW24)<>12,\"\",AVERAGE(消費意欲!CL24:CW24))","v":""},{"$f":"IF(COUNT(消費意欲!CM24:CX24)<>12,\"\",AVERAGE(消費意欲!CM24:CX24))","v":""},{"$f":"IF(COUNT(消費意欲!CN24:CY24)<>12,\"\",AVERAGE(消費意欲!CN24:CY24))","v":""},{"$f":"IF(COUNT(消費意欲!CO24:CZ24)<>12,\"\",AVERAGE(消費意欲!CO24:CZ24))","v":""},{"$f":"IF(COUNT(消費意欲!CP24:DA24)<>12,\"\",AVERAGE(消費意欲!CP24:DA24))","v":""},{"$f":"IF(COUNT(消費意欲!CQ24:DB24)<>12,\"\",AVERAGE(消費意欲!CQ24:DB24))","v":""},{"$f":"IF(COUNT(消費意欲!CR24:DC24)<>12,\"\",AVERAGE(消費意欲!CR24:DC24))","v":""},{"$f":"IF(COUNT(消費意欲!CS24:DD24)<>12,\"\",AVERAGE(消費意欲!CS24:DD24))","v":""},{"$f":"IF(COUNT(消費意欲!CT24:DE24)<>12,\"\",AVERAGE(消費意欲!CT24:DE24))","v":""},{"$f":"IF(COUNT(消費意欲!CU24:DF24)<>12,\"\",AVERAGE(消費意欲!CU24:DF24))","v":""},{"$f":"IF(COUNT(消費意欲!CV24:DG24)<>12,\"\",AVERAGE(消費意欲!CV24:DG24))","v":""}]
[null,null,"女性／未婚",null,null,null,null,null,null,null,null,null,null,null,null,null,null,null,{"$f":"IF(COUNT(消費意欲!H25:S25)<>12,\"\",AVERAGE(消費意欲!H25:S25))","v":53.410833333333336},{"$f":"IF(COUNT(消費意欲!I25:T25)<>12,\"\",AVERAGE(消費意欲!I25:T25))","v":53.28},{"$f":"IF(COUNT(消費意欲!J25:U25)<>12,\"\",AVERAGE(消費意欲!J25:U25))","v":53.210833333333333},{"$f":"IF(COUNT(消費意欲!K25:V25)<>12,\"\",AVERAGE(消費意欲!K25:V25))","v":52.842499999999994},{"$f":"IF(COUNT(消費意欲!L25:W25)<>12,\"\",AVERAGE(消費意欲!L25:W25))","v":53.227499999999999},{"$f":"IF(COUNT(消費意欲!M25:X25)<>12,\"\",AVERAGE(消費意欲!M25:X25))","v":52.909166666666671},{"$f":"IF(COUNT(消費意欲!N25:Y25)<>12,\"\",AVERAGE(消費意欲!N25:Y25))","v":53.195},{"$f":"IF(COUNT(消費意欲!O25:Z25)<>12,\"\",AVERAGE(消費意欲!O25:Z25))","v":53.113333333333337},{"$f":"IF(COUNT(消費意欲!P25:AA25)<>12,\"\",AVERAGE(消費意欲!P25:AA25))","v":52.781666666666666},{"$f":"IF(COUNT(消費意欲!Q25:AB25)<>12,\"\",AVERAGE(消費意欲!Q25:AB25))","v":52.339166666666664},{"$f":"IF(COUNT(消費意欲!R25:AC25)<>12,\"\",AVERAGE(消費意欲!R25:AC25))","v":52.758333333333333},{"$f":"IF(COUNT(消費意欲!S25:AD25)<>12,\"\",AVERAGE(消費意欲!S25:AD25))","v":52.869166666666665},{"$f":"IF(COUNT(消費意欲!T25:AE25)<>12,\"\",AVERAGE(消費意欲!T25:AE25))","v":52.411666666666662},{"$f":"IF(COUNT(消費意欲!U25:AF25)<>12,\"\",AVERAGE(消費意欲!U25:AF25))","v":51.771666666666654},{"$f":"IF(COUNT(消費意欲!V25:AG25)<>12,\"\",AVERAGE(消費意欲!V25:AG25))","v":51.444166666666661},{"$f":"IF(COUNT(消費意欲!W25:AH25)<>12,\"\",AVERAGE(消費意欲!W25:AH25))","v":51.53},{"$f":"IF(COUNT(消費意欲!X25:AI25)<>12,\"\",AVERAGE(消費意欲!X25:AI25))","v":51.018333333333338},{"$f":"IF(COUNT(消費意欲!Y25:AJ25)<>12,\"\",AVERAGE(消費意欲!Y25:AJ25))","v":51.186666666666667},{"$f":"IF(COUNT(消費意欲!Z25:AK25)<>12,\"\",AVERAGE(消費意欲!Z25:AK25))","v":50.9},{"$f":"IF(COUNT(消費意欲!AA25:AL25)<>12,\"\",AVERAGE(消費意欲!AA25:AL25))","v":50.292499999999997},{"$f":"IF(COUNT(消費意欲!AB25:AM25)<>12,\"\",AVERAGE(消費意欲!AB25:AM25))","v":50.54666666666666},{"$f":"IF(COUNT(消費意欲!AC25:AN25)<>12,\"\",AVERAGE(消費意欲!AC25:AN25))","v":50.335833333333333},{"$f":"IF(COUNT(消費意欲!AD25:AO25)<>12,\"\",AVERAGE(消費意欲!AD25:AO25))","v":50.005833333333328},{"$f":"IF(COUNT(消費意欲!AE25:AP25)<>12,\"\",AVERAGE(消費意欲!AE25:AP25))","v":49.393333333333324},{"$f":"IF(COUNT(消費意欲!AF25:AQ25)<>12,\"\",AVERAGE(消費意欲!AF25:AQ25))","v":49.786666666666669},{"$f":"IF(COUNT(消費意欲!AG25:AR25)<>12,\"\",AVERAGE(消費意欲!AG25:AR25))","v":50.49666666666667},{"$f":"IF(COUNT(消費意欲!AH25:AS25)<>12,\"\",AVERAGE(消費意欲!AH25:AS25))","v":50.405000000000001},{"$f":"IF(COUNT(消費意欲!AI25:AT25)<>12,\"\",AVERAGE(消費意欲!AI25:AT25))","v":50.225833333333334},{"$f":"IF(COUNT(消費意欲!AJ25:AU25)<>12,\"\",AVERAGE(消費意欲!AJ25:AU25))","v":50.11249999999999},{"$f":"IF(COUNT(消費意欲!AK25:AV25)<>12,\"\",AVERAGE(消費意欲!AK25:AV25))","v":50.260833333333331},{"$f":"IF(COUNT(消費意欲!AL25:AW25)<>12,\"\",AVERAGE(消費意欲!AL25:AW25))","v":50.666666666666664},{"$f":"IF(COUNT(消費意欲!AM25:AX25)<>12,\"\",AVERAGE(消費意欲!AM25:AX25))","v":51.167499999999997},{"$f":"IF(COUNT(消費意欲!AN25:AY25)<>12,\"\",AVERAGE(消費意欲!AN25:AY25))","v":51.058333333333337},{"$f":"IF(COUNT(消費意欲!AO25:AZ25)<>12,\"\",AVERAGE(消費意欲!AO25:AZ25))","v":51.271666666666668},{"$f":"IF(COUNT(消費意欲!AP25:BA25)<>12,\"\",AVERAGE(消費意欲!AP25:BA25))","v":51.405833333333334},{"$f":"IF(COUNT(消費意欲!AQ25:BB25)<>12,\"\",AVERAGE(消費意欲!AQ25:BB25))","v":51.373333333333328},{"$f":"IF(COUNT(消費意欲!AR25:BC25)<>12,\"\",AVERAGE(消費意欲!AR25:BC25))","v":51.247500000000002},{"$f":"IF(COUNT(消費意欲!AS25:BD25)<>12,\"\",AVERAGE(消費意欲!AS25:BD25))","v":50.862500000000004},{"$f":"IF(COUNT(消費意欲!AT25:BE25)<>12,\"\",AVERAGE(消費意欲!AT25:BE25))","v":""},{"$f":"IF(COUNT(消費意欲!AU25:BF25)<>12,\"\",AVERAGE(消費意欲!AU25:BF25))","v":""},{"$f":"IF(COUNT(消費意欲!AV25:BG25)<>12,\"\",AVERAGE(消費意欲!AV25:BG25))","v":""},{"$f":"IF(COUNT(消費意欲!AW25:BH25)<>12,\"\",AVERAGE(消費意欲!AW25:BH25))","v":""},{"$f":"IF(COUNT(消費意欲!AX25:BI25)<>12,\"\",AVERAGE(消費意欲!AX25:BI25))","v":""},{"$f":"IF(COUNT(消費意欲!AY25:BJ25)<>12,\"\",AVERAGE(消費意欲!AY25:BJ25))","v":""},{"$f":"IF(COUNT(消費意欲!AZ25:BK25)<>12,\"\",AVERAGE(消費意欲!AZ25:BK25))","v":""},{"$f":"IF(COUNT(消費意欲!BA25:BL25)<>12,\"\",AVERAGE(消費意欲!BA25:BL25))","v":""},{"$f":"IF(COUNT(消費意欲!BB25:BM25)<>12,\"\",AVERAGE(消費意欲!BB25:BM25))","v":""},{"$f":"IF(COUNT(消費意欲!BC25:BN25)<>12,\"\",AVERAGE(消費意欲!BC25:BN25))","v":""},{"$f":"IF(COUNT(消費意欲!BD25:BO25)<>12,\"\",AVERAGE(消費意欲!BD25:BO25))","v":""},{"$f":"IF(COUNT(消費意欲!BE25:BP25)<>12,\"\",AVERAGE(消費意欲!BE25:BP25))","v":""},{"$f":"IF(COUNT(消費意欲!BF25:BQ25)<>12,\"\",AVERAGE(消費意欲!BF25:BQ25))","v":""},{"$f":"IF(COUNT(消費意欲!BG25:BR25)<>12,\"\",AVERAGE(消費意欲!BG25:BR25))","v":""},{"$f":"IF(COUNT(消費意欲!BH25:BS25)<>12,\"\",AVERAGE(消費意欲!BH25:BS25))","v":""},{"$f":"IF(COUNT(消費意欲!BI25:BT25)<>12,\"\",AVERAGE(消費意欲!BI25:BT25))","v":""},{"$f":"IF(COUNT(消費意欲!BJ25:BU25)<>12,\"\",AVERAGE(消費意欲!BJ25:BU25))","v":""},{"$f":"IF(COUNT(消費意欲!BK25:BV25)<>12,\"\",AVERAGE(消費意欲!BK25:BV25))","v":""},{"$f":"IF(COUNT(消費意欲!BL25:BW25)<>12,\"\",AVERAGE(消費意欲!BL25:BW25))","v":""},{"$f":"IF(COUNT(消費意欲!BM25:BX25)<>12,\"\",AVERAGE(消費意欲!BM25:BX25))","v":""},{"$f":"IF(COUNT(消費意欲!BN25:BY25)<>12,\"\",AVERAGE(消費意欲!BN25:BY25))","v":""},{"$f":"IF(COUNT(消費意欲!BO25:BZ25)<>12,\"\",AVERAGE(消費意欲!BO25:BZ25))","v":""},{"$f":"IF(COUNT(消費意欲!BP25:CA25)<>12,\"\",AVERAGE(消費意欲!BP25:CA25))","v":""},{"$f":"IF(COUNT(消費意欲!BQ25:CB25)<>12,\"\",AVERAGE(消費意欲!BQ25:CB25))","v":""},{"$f":"IF(COUNT(消費意欲!BR25:CC25)<>12,\"\",AVERAGE(消費意欲!BR25:CC25))","v":""},{"$f":"IF(COUNT(消費意欲!BS25:CD25)<>12,\"\",AVERAGE(消費意欲!BS25:CD25))","v":""},{"$f":"IF(COUNT(消費意欲!BT25:CE25)<>12,\"\",AVERAGE(消費意欲!BT25:CE25))","v":""},{"$f":"IF(COUNT(消費意欲!BU25:CF25)<>12,\"\",AVERAGE(消費意欲!BU25:CF25))","v":""},{"$f":"IF(COUNT(消費意欲!BV25:CG25)<>12,\"\",AVERAGE(消費意欲!BV25:CG25))","v":""},{"$f":"IF(COUNT(消費意欲!BW25:CH25)<>12,\"\",AVERAGE(消費意欲!BW25:CH25))","v":""},{"$f":"IF(COUNT(消費意欲!BX25:CI25)<>12,\"\",AVERAGE(消費意欲!BX25:CI25))","v":""},{"$f":"IF(COUNT(消費意欲!BY25:CJ25)<>12,\"\",AVERAGE(消費意欲!BY25:CJ25))","v":""},{"$f":"IF(COUNT(消費意欲!BZ25:CK25)<>12,\"\",AVERAGE(消費意欲!BZ25:CK25))","v":""},{"$f":"IF(COUNT(消費意欲!CA25:CL25)<>12,\"\",AVERAGE(消費意欲!CA25:CL25))","v":""},{"$f":"IF(COUNT(消費意欲!CB25:CM25)<>12,\"\",AVERAGE(消費意欲!CB25:CM25))","v":""},{"$f":"IF(COUNT(消費意欲!CC25:CN25)<>12,\"\",AVERAGE(消費意欲!CC25:CN25))","v":""},{"$f":"IF(COUNT(消費意欲!CD25:CO25)<>12,\"\",AVERAGE(消費意欲!CD25:CO25))","v":""},{"$f":"IF(COUNT(消費意欲!CE25:CP25)<>12,\"\",AVERAGE(消費意欲!CE25:CP25))","v":""},{"$f":"IF(COUNT(消費意欲!CF25:CQ25)<>12,\"\",AVERAGE(消費意欲!CF25:CQ25))","v":""},{"$f":"IF(COUNT(消費意欲!CG25:CR25)<>12,\"\",AVERAGE(消費意欲!CG25:CR25))","v":""},{"$f":"IF(COUNT(消費意欲!CH25:CS25)<>12,\"\",AVERAGE(消費意欲!CH25:CS25))","v":""},{"$f":"IF(COUNT(消費意欲!CI25:CT25)<>12,\"\",AVERAGE(消費意欲!CI25:CT25))","v":""},{"$f":"IF(COUNT(消費意欲!CJ25:CU25)<>12,\"\",AVERAGE(消費意欲!CJ25:CU25))","v":""},{"$f":"IF(COUNT(消費意欲!CK25:CV25)<>12,\"\",AVERAGE(消費意欲!CK25:CV25))","v":""},{"$f":"IF(COUNT(消費意欲!CL25:CW25)<>12,\"\",AVERAGE(消費意欲!CL25:CW25))","v":""},{"$f":"IF(COUNT(消費意欲!CM25:CX25)<>12,\"\",AVERAGE(消費意欲!CM25:CX25))","v":""},{"$f":"IF(COUNT(消費意欲!CN25:CY25)<>12,\"\",AVERAGE(消費意欲!CN25:CY25))","v":""},{"$f":"IF(COUNT(消費意欲!CO25:CZ25)<>12,\"\",AVERAGE(消費意欲!CO25:CZ25))","v":""},{"$f":"IF(COUNT(消費意欲!CP25:DA25)<>12,\"\",AVERAGE(消費意欲!CP25:DA25))","v":""},{"$f":"IF(COUNT(消費意欲!CQ25:DB25)<>12,\"\",AVERAGE(消費意欲!CQ25:DB25))","v":""},{"$f":"IF(COUNT(消費意欲!CR25:DC25)<>12,\"\",AVERAGE(消費意欲!CR25:DC25))","v":""},{"$f":"IF(COUNT(消費意欲!CS25:DD25)<>12,\"\",AVERAGE(消費意欲!CS25:DD25))","v":""},{"$f":"IF(COUNT(消費意欲!CT25:DE25)<>12,\"\",AVERAGE(消費意欲!CT25:DE25))","v":""},{"$f":"IF(COUNT(消費意欲!CU25:DF25)<>12,\"\",AVERAGE(消費意欲!CU25:DF25))","v":""},{"$f":"IF(COUNT(消費意欲!CV25:DG25)<>12,\"\",AVERAGE(消費意欲!CV25:DG25))","v":""}]
[null,null,"男性／既婚",null,null,null,null,null,null,null,null,null,null,null,null,null,null,null,{"$f":"IF(COUNT(消費意欲!H26:S26)<>12,\"\",AVERAGE(消費意欲!H26:S26))","v":47.977499999999999},{"$f":"IF(COUNT(消費意欲!I26:T26)<>12,\"\",AVERAGE(消費意欲!I26:T26))","v":47.905833333333327},{"$f":"IF(COUNT(消費意欲!J26:U26)<>12,\"\",AVERAGE(消費意欲!J26:U26))","v":47.629166666666663},{"$f":"IF(COUNT(消費意欲!K26:V26)<>12,\"\",AVERAGE(消費意欲!K26:V26))","v":47.44},{"$f":"IF(COUNT(消費意欲!L26:W26)<>12,\"\",AVERAGE(消費意欲!L26:W26))","v":47.394166666666671},{"$f":"IF(COUNT(消費意欲!M26:X26)<>12,\"\",AVERAGE(消費意欲!M26:X26))","v":46.93416666666667},{"$f":"IF(COUNT(消費意欲!N26:Y26)<>12,\"\",AVERAGE(消費意欲!N26:Y26))","v":47.133333333333326},{"$f":"IF(COUNT(消費意欲!O26:Z26)<>12,\"\",AVERAGE(消費意欲!O26:Z26))","v":47.030833333333334},{"$f":"IF(COUNT(消費意欲!P26:AA26)<>12,\"\",AVERAGE(消費意欲!P26:AA26))","v":47.143333333333338},{"$f":"IF(COUNT(消費意欲!Q26:AB26)<>12,\"\",AVERAGE(消費意欲!Q26:AB26))","v":46.876666666666665},{"$f":"IF(COUNT(消費意欲!R26:AC26)<>12,\"\",AVERAGE(消費意欲!R26:AC26))","v":47.164166666666667},{"$f":"IF(COUNT(消費意欲!S26:AD26)<>12,\"\",AVERAGE(消費意欲!S26:AD26))","v":47.302500000000002},{"$f":"IF(COUNT(消費意欲!T26:AE26)<>12,\"\",AVERAGE(消費意欲!T26:AE26))","v":47.008333333333326},{"$f":"IF(COUNT(消費意欲!U26:AF26)<>12,\"\",AVERAGE(消費意欲!U26:AF26))","v":46.892499999999991},{"$f":"IF(COUNT(消費意欲!V26:AG26)<>12,\"\",AVERAGE(消費意欲!V26:AG26))","v":46.933333333333337},{"$f":"IF(COUNT(消費意欲!W26:AH26)<>12,\"\",AVERAGE(消費意欲!W26:AH26))","v":46.73416666666666},{"$f":"IF(COUNT(消費意欲!X26:AI26)<>12,\"\",AVERAGE(消費意欲!X26:AI26))","v":46.687500000000007},{"$f":"IF(COUNT(消費意欲!Y26:AJ26)<>12,\"\",AVERAGE(消費意欲!Y26:AJ26))","v":46.789166666666681},{"$f":"IF(COUNT(消費意欲!Z26:AK26)<>12,\"\",AVERAGE(消費意欲!Z26:AK26))","v":46.516666666666673},{"$f":"IF(COUNT(消費意欲!AA26:AL26)<>12,\"\",AVERAGE(消費意欲!AA26:AL26))","v":46.37166666666667},{"$f":"IF(COUNT(消費意欲!AB26:AM26)<>12,\"\",AVERAGE(消費意欲!AB26:AM26))","v":46.384166666666665},{"$f":"IF(COUNT(消費意欲!AC26:AN26)<>12,\"\",AVERAGE(消費意欲!AC26:AN26))","v":46.314166666666665},{"$f":"IF(COUNT(消費意欲!AD26:AO26)<>12,\"\",AVERAGE(消費意欲!AD26:AO26))","v":46.011666666666663},{"$f":"IF(COUNT(消費意欲!AE26:AP26)<>12,\"\",AVERAGE(消費意欲!AE26:AP26))","v":45.632499999999993},{"$f":"IF(COUNT(消費意欲!AF26:AQ26)<>12,\"\",AVERAGE(消費意欲!AF26:AQ26))","v":45.594999999999999},{"$f":"IF(COUNT(消費意欲!AG26:AR26)<>12,\"\",AVERAGE(消費意欲!AG26:AR26))","v":45.875},{"$f":"IF(COUNT(消費意欲!AH26:AS26)<>12,\"\",AVERAGE(消費意欲!AH26:AS26))","v":45.723333333333336},{"$f":"IF(COUNT(消費意欲!AI26:AT26)<>12,\"\",AVERAGE(消費意欲!AI26:AT26))","v":45.948333333333331},{"$f":"IF(COUNT(消費意欲!AJ26:AU26)<>12,\"\",AVERAGE(消費意欲!AJ26:AU26))","v":45.900833333333338},{"$f":"IF(COUNT(消費意欲!AK26:AV26)<>12,\"\",AVERAGE(消費意欲!AK26:AV26))","v":45.92166666666666},{"$f":"IF(COUNT(消費意欲!AL26:AW26)<>12,\"\",AVERAGE(消費意欲!AL26:AW26))","v":46.143333333333338},{"$f":"IF(COUNT(消費意欲!AM26:AX26)<>12,\"\",AVERAGE(消費意欲!AM26:AX26))","v":46.309999999999995},{"$f":"IF(COUNT(消費意欲!AN26:AY26)<>12,\"\",AVERAGE(消費意欲!AN26:AY26))","v":46.102499999999992},{"$f":"IF(COUNT(消費意欲!AO26:AZ26)<>12,\"\",AVERAGE(消費意欲!AO26:AZ26))","v":46.198333333333323},{"$f":"IF(COUNT(消費意欲!AP26:BA26)<>12,\"\",AVERAGE(消費意欲!AP26:BA26))","v":45.951666666666661},{"$f":"IF(COUNT(消費意欲!AQ26:BB26)<>12,\"\",AVERAGE(消費意欲!AQ26:BB26))","v":46.010833333333331},{"$f":"IF(COUNT(消費意欲!AR26:BC26)<>12,\"\",AVERAGE(消費意欲!AR26:BC26))","v":46.382499999999993},{"$f":"IF(COUNT(消費意欲!AS26:BD26)<>12,\"\",AVERAGE(消費意欲!AS26:BD26))","v":46.097499999999997},{"$f":"IF(COUNT(消費意欲!AT26:BE26)<>12,\"\",AVERAGE(消費意欲!AT26:BE26))","v":""},{"$f":"IF(COUNT(消費意欲!AU26:BF26)<>12,\"\",AVERAGE(消費意欲!AU26:BF26))","v":""},{"$f":"IF(COUNT(消費意欲!AV26:BG26)<>12,\"\",AVERAGE(消費意欲!AV26:BG26))","v":""},{"$f":"IF(COUNT(消費意欲!AW26:BH26)<>12,\"\",AVERAGE(消費意欲!AW26:BH26))","v":""},{"$f":"IF(COUNT(消費意欲!AX26:BI26)<>12,\"\",AVERAGE(消費意欲!AX26:BI26))","v":""},{"$f":"IF(COUNT(消費意欲!AY26:BJ26)<>12,\"\",AVERAGE(消費意欲!AY26:BJ26))","v":""},{"$f":"IF(COUNT(消費意欲!AZ26:BK26)<>12,\"\",AVERAGE(消費意欲!AZ26:BK26))","v":""},{"$f":"IF(COUNT(消費意欲!BA26:BL26)<>12,\"\",AVERAGE(消費意欲!BA26:BL26))","v":""},{"$f":"IF(COUNT(消費意欲!BB26:BM26)<>12,\"\",AVERAGE(消費意欲!BB26:BM26))","v":""},{"$f":"IF(COUNT(消費意欲!BC26:BN26)<>12,\"\",AVERAGE(消費意欲!BC26:BN26))","v":""},{"$f":"IF(COUNT(消費意欲!BD26:BO26)<>12,\"\",AVERAGE(消費意欲!BD26:BO26))","v":""},{"$f":"IF(COUNT(消費意欲!BE26:BP26)<>12,\"\",AVERAGE(消費意欲!BE26:BP26))","v":""},{"$f":"IF(COUNT(消費意欲!BF26:BQ26)<>12,\"\",AVERAGE(消費意欲!BF26:BQ26))","v":""},{"$f":"IF(COUNT(消費意欲!BG26:BR26)<>12,\"\",AVERAGE(消費意欲!BG26:BR26))","v":""},{"$f":"IF(COUNT(消費意欲!BH26:BS26)<>12,\"\",AVERAGE(消費意欲!BH26:BS26))","v":""},{"$f":"IF(COUNT(消費意欲!BI26:BT26)<>12,\"\",AVERAGE(消費意欲!BI26:BT26))","v":""},{"$f":"IF(COUNT(消費意欲!BJ26:BU26)<>12,\"\",AVERAGE(消費意欲!BJ26:BU26))","v":""},{"$f":"IF(COUNT(消費意欲!BK26:BV26)<>12,\"\",AVERAGE(消費意欲!BK26:BV26))","v":""},{"$f":"IF(COUNT(消費意欲!BL26:BW26)<>12,\"\",AVERAGE(消費意欲!BL26:BW26))","v":""},{"$f":"IF(COUNT(消費意欲!BM26:BX26)<>12,\"\",AVERAGE(消費意欲!BM26:BX26))","v":""},{"$f":"IF(COUNT(消費意欲!BN26:BY26)<>12,\"\",AVERAGE(消費意欲!BN26:BY26))","v":""},{"$f":"IF(COUNT(消費意欲!BO26:BZ26)<>12,\"\",AVERAGE(消費意欲!BO26:BZ26))","v":""},{"$f":"IF(COUNT(消費意欲!BP26:CA26)<>12,\"\",AVERAGE(消費意欲!BP26:CA26))","v":""},{"$f":"IF(COUNT(消費意欲!BQ26:CB26)<>12,\"\",AVERAGE(消費意欲!BQ26:CB26))","v":""},{"$f":"IF(COUNT(消費意欲!BR26:CC26)<>12,\"\",AVERAGE(消費意欲!BR26:CC26))","v":""},{"$f":"IF(COUNT(消費意欲!BS26:CD26)<>12,\"\",AVERAGE(消費意欲!BS26:CD26))","v":""},{"$f":"IF(COUNT(消費意欲!BT26:CE26)<>12,\"\",AVERAGE(消費意欲!BT26:CE26))","v":""},{"$f":"IF(COUNT(消費意欲!BU26:CF26)<>12,\"\",AVERAGE(消費意欲!BU26:CF26))","v":""},{"$f":"IF(COUNT(消費意欲!BV26:CG26)<>12,\"\",AVERAGE(消費意欲!BV26:CG26))","v":""},{"$f":"IF(COUNT(消費意欲!BW26:CH26)<>12,\"\",AVERAGE(消費意欲!BW26:CH26))","v":""},{"$f":"IF(COUNT(消費意欲!BX26:CI26)<>12,\"\",AVERAGE(消費意欲!BX26:CI26))","v":""},{"$f":"IF(COUNT(消費意欲!BY26:CJ26)<>12,\"\",AVERAGE(消費意欲!BY26:CJ26))","v":""},{"$f":"IF(COUNT(消費意欲!BZ26:CK26)<>12,\"\",AVERAGE(消費意欲!BZ26:CK26))","v":""},{"$f":"IF(COUNT(消費意欲!CA26:CL26)<>12,\"\",AVERAGE(消費意欲!CA26:CL26))","v":""},{"$f":"IF(COUNT(消費意欲!CB26:CM26)<>12,\"\",AVERAGE(消費意欲!CB26:CM26))","v":""},{"$f":"IF(COUNT(消費意欲!CC26:CN26)<>12,\"\",AVERAGE(消費意欲!CC26:CN26))","v":""},{"$f":"IF(COUNT(消費意欲!CD26:CO26)<>12,\"\",AVERAGE(消費意欲!CD26:CO26))","v":""},{"$f":"IF(COUNT(消費意欲!CE26:CP26)<>12,\"\",AVERAGE(消費意欲!CE26:CP26))","v":""},{"$f":"IF(COUNT(消費意欲!CF26:CQ26)<>12,\"\",AVERAGE(消費意欲!CF26:CQ26))","v":""},{"$f":"IF(COUNT(消費意欲!CG26:CR26)<>12,\"\",AVERAGE(消費意欲!CG26:CR26))","v":""},{"$f":"IF(COUNT(消費意欲!CH26:CS26)<>12,\"\",AVERAGE(消費意欲!CH26:CS26))","v":""},{"$f":"IF(COUNT(消費意欲!CI26:CT26)<>12,\"\",AVERAGE(消費意欲!CI26:CT26))","v":""},{"$f":"IF(COUNT(消費意欲!CJ26:CU26)<>12,\"\",AVERAGE(消費意欲!CJ26:CU26))","v":""},{"$f":"IF(COUNT(消費意欲!CK26:CV26)<>12,\"\",AVERAGE(消費意欲!CK26:CV26))","v":""},{"$f":"IF(COUNT(消費意欲!CL26:CW26)<>12,\"\",AVERAGE(消費意欲!CL26:CW26))","v":""},{"$f":"IF(COUNT(消費意欲!CM26:CX26)<>12,\"\",AVERAGE(消費意欲!CM26:CX26))","v":""},{"$f":"IF(COUNT(消費意欲!CN26:CY26)<>12,\"\",AVERAGE(消費意欲!CN26:CY26))","v":""},{"$f":"IF(COUNT(消費意欲!CO26:CZ26)<>12,\"\",AVERAGE(消費意欲!CO26:CZ26))","v":""},{"$f":"IF(COUNT(消費意欲!CP26:DA26)<>12,\"\",AVERAGE(消費意欲!CP26:DA26))","v":""},{"$f":"IF(COUNT(消費意欲!CQ26:DB26)<>12,\"\",AVERAGE(消費意欲!CQ26:DB26))","v":""},{"$f":"IF(COUNT(消費意欲!CR26:DC26)<>12,\"\",AVERAGE(消費意欲!CR26:DC26))","v":""},{"$f":"IF(COUNT(消費意欲!CS26:DD26)<>12,\"\",AVERAGE(消費意欲!CS26:DD26))","v":""},{"$f":"IF(COUNT(消費意欲!CT26:DE26)<>12,\"\",AVERAGE(消費意欲!CT26:DE26))","v":""},{"$f":"IF(COUNT(消費意欲!CU26:DF26)<>12,\"\",AVERAGE(消費意欲!CU26:DF26))","v":""},{"$f":"IF(COUNT(消費意欲!CV26:DG26)<>12,\"\",AVERAGE(消費意欲!CV26:DG26))","v":""}]
[null,null,"女性／既婚",null,null,null,null,null,null,null,null,null,null,null,null,null,null,null,{"$f":"IF(COUNT(消費意欲!H27:S27)<>12,\"\",AVERAGE(消費意欲!H27:S27))","v":55.039999999999992},{"$f":"IF(COUNT(消費意欲!I27:T27)<>12,\"\",AVERAGE(消費意欲!I27:T27))","v":54.880833333333321},{"$f":"IF(COUNT(消費意欲!J27:U27)<>12,\"\",AVERAGE(消費意欲!J27:U27))","v":54.528333333333329},{"$f":"IF(COUNT(消費意欲!K27:V27)<>12,\"\",AVERAGE(消費意欲!K27:V27))","v":54.269166666666671},{"$f":"IF(COUNT(消費意欲!L27:W27)<>12,\"\",AVERAGE(消費意欲!L27:W27))","v":54.425000000000011},{"$f":"IF(COUNT(消費意欲!M27:X27)<>12,\"\",AVERAGE(消費意欲!M27:X27))","v":53.891666666666673},{"$f":"IF(COUNT(消費意欲!N27:Y27)<>12,\"\",AVERAGE(消費意欲!N27:Y27))","v":54.023333333333333},{"$f":"IF(COUNT(消費意欲!O27:Z27)<>12,\"\",AVERAGE(消費意欲!O27:Z27))","v":53.626666666666665},{"$f":"IF(COUNT(消費意欲!P27:AA27)<>12,\"\",AVERAGE(消費意欲!P27:AA27))","v":53.5},{"$f":"IF(COUNT(消費意欲!Q27:AB27)<>12,\"\",AVERAGE(消費意欲!Q27:AB27))","v":52.995000000000005},{"$f":"IF(COUNT(消費意欲!R27:AC27)<>12,\"\",AVERAGE(消費意欲!R27:AC27))","v":53.172500000000007},{"$f":"IF(COUNT(消費意欲!S27:AD27)<>12,\"\",AVERAGE(消費意欲!S27:AD27))","v":53.686666666666667},{"$f":"IF(COUNT(消費意欲!T27:AE27)<>12,\"\",AVERAGE(消費意欲!T27:AE27))","v":53.111666666666672},{"$f":"IF(COUNT(消費意欲!U27:AF27)<>12,\"\",AVERAGE(消費意欲!U27:AF27))","v":52.527499999999996},{"$f":"IF(COUNT(消費意欲!V27:AG27)<>12,\"\",AVERAGE(消費意欲!V27:AG27))","v":52.473333333333329},{"$f":"IF(COUNT(消費意欲!W27:AH27)<>12,\"\",AVERAGE(消費意欲!W27:AH27))","v":52.312499999999993},{"$f":"IF(COUNT(消費意欲!X27:AI27)<>12,\"\",AVERAGE(消費意欲!X27:AI27))","v":52.195833333333333},{"$f":"IF(COUNT(消費意欲!Y27:AJ27)<>12,\"\",AVERAGE(消費意欲!Y27:AJ27))","v":52.335000000000008},{"$f":"IF(COUNT(消費意欲!Z27:AK27)<>12,\"\",AVERAGE(消費意欲!Z27:AK27))","v":52.153333333333343},{"$f":"IF(COUNT(消費意欲!AA27:AL27)<>12,\"\",AVERAGE(消費意欲!AA27:AL27))","v":51.979166666666664},{"$f":"IF(COUNT(消費意欲!AB27:AM27)<>12,\"\",AVERAGE(消費意欲!AB27:AM27))","v":52.15},{"$f":"IF(COUNT(消費意欲!AC27:AN27)<>12,\"\",AVERAGE(消費意欲!AC27:AN27))","v":51.87833333333333},{"$f":"IF(COUNT(消費意欲!AD27:AO27)<>12,\"\",AVERAGE(消費意欲!AD27:AO27))","v":51.60083333333332},{"$f":"IF(COUNT(消費意欲!AE27:AP27)<>12,\"\",AVERAGE(消費意欲!AE27:AP27))","v":50.682499999999997},{"$f":"IF(COUNT(消費意欲!AF27:AQ27)<>12,\"\",AVERAGE(消費意欲!AF27:AQ27))","v":50.929166666666674},{"$f":"IF(COUNT(消費意欲!AG27:AR27)<>12,\"\",AVERAGE(消費意欲!AG27:AR27))","v":51.384166666666665},{"$f":"IF(COUNT(消費意欲!AH27:AS27)<>12,\"\",AVERAGE(消費意欲!AH27:AS27))","v":51.250833333333333},{"$f":"IF(COUNT(消費意欲!AI27:AT27)<>12,\"\",AVERAGE(消費意欲!AI27:AT27))","v":51.286666666666669},{"$f":"IF(COUNT(消費意欲!AJ27:AU27)<>12,\"\",AVERAGE(消費意欲!AJ27:AU27))","v":51.198333333333331},{"$f":"IF(COUNT(消費意欲!AK27:AV27)<>12,\"\",AVERAGE(消費意欲!AK27:AV27))","v":51.345833333333331},{"$f":"IF(COUNT(消費意欲!AL27:AW27)<>12,\"\",AVERAGE(消費意欲!AL27:AW27))","v":51.446666666666658},{"$f":"IF(COUNT(消費意欲!AM27:AX27)<>12,\"\",AVERAGE(消費意欲!AM27:AX27))","v":51.713333333333331},{"$f":"IF(COUNT(消費意欲!AN27:AY27)<>12,\"\",AVERAGE(消費意欲!AN27:AY27))","v":51.728333333333332},{"$f":"IF(COUNT(消費意欲!AO27:AZ27)<>12,\"\",AVERAGE(消費意欲!AO27:AZ27))","v":52.020833333333336},{"$f":"IF(COUNT(消費意欲!AP27:BA27)<>12,\"\",AVERAGE(消費意欲!AP27:BA27))","v":51.888333333333343},{"$f":"IF(COUNT(消費意欲!AQ27:BB27)<>12,\"\",AVERAGE(消費意欲!AQ27:BB27))","v":51.8125},{"$f":"IF(COUNT(消費意欲!AR27:BC27)<>12,\"\",AVERAGE(消費意欲!AR27:BC27))","v":51.898333333333333},{"$f":"IF(COUNT(消費意欲!AS27:BD27)<>12,\"\",AVERAGE(消費意欲!AS27:BD27))","v":51.731666666666662},{"$f":"IF(COUNT(消費意欲!AT27:BE27)<>12,\"\",AVERAGE(消費意欲!AT27:BE27))","v":""},{"$f":"IF(COUNT(消費意欲!AU27:BF27)<>12,\"\",AVERAGE(消費意欲!AU27:BF27))","v":""},{"$f":"IF(COUNT(消費意欲!AV27:BG27)<>12,\"\",AVERAGE(消費意欲!AV27:BG27))","v":""},{"$f":"IF(COUNT(消費意欲!AW27:BH27)<>12,\"\",AVERAGE(消費意欲!AW27:BH27))","v":""},{"$f":"IF(COUNT(消費意欲!AX27:BI27)<>12,\"\",AVERAGE(消費意欲!AX27:BI27))","v":""},{"$f":"IF(COUNT(消費意欲!AY27:BJ27)<>12,\"\",AVERAGE(消費意欲!AY27:BJ27))","v":""},{"$f":"IF(COUNT(消費意欲!AZ27:BK27)<>12,\"\",AVERAGE(消費意欲!AZ27:BK27))","v":""},{"$f":"IF(COUNT(消費意欲!BA27:BL27)<>12,\"\",AVERAGE(消費意欲!BA27:BL27))","v":""},{"$f":"IF(COUNT(消費意欲!BB27:BM27)<>12,\"\",AVERAGE(消費意欲!BB27:BM27))","v":""},{"$f":"IF(COUNT(消費意欲!BC27:BN27)<>12,\"\",AVERAGE(消費意欲!BC27:BN27))","v":""},{"$f":"IF(COUNT(消費意欲!BD27:BO27)<>12,\"\",AVERAGE(消費意欲!BD27:BO27))","v":""},{"$f":"IF(COUNT(消費意欲!BE27:BP27)<>12,\"\",AVERAGE(消費意欲!BE27:BP27))","v":""},{"$f":"IF(COUNT(消費意欲!BF27:BQ27)<>12,\"\",AVERAGE(消費意欲!BF27:BQ27))","v":""},{"$f":"IF(COUNT(消費意欲!BG27:BR27)<>12,\"\",AVERAGE(消費意欲!BG27:BR27))","v":""},{"$f":"IF(COUNT(消費意欲!BH27:BS27)<>12,\"\",AVERAGE(消費意欲!BH27:BS27))","v":""},{"$f":"IF(COUNT(消費意欲!BI27:BT27)<>12,\"\",AVERAGE(消費意欲!BI27:BT27))","v":""},{"$f":"IF(COUNT(消費意欲!BJ27:BU27)<>12,\"\",AVERAGE(消費意欲!BJ27:BU27))","v":""},{"$f":"IF(COUNT(消費意欲!BK27:BV27)<>12,\"\",AVERAGE(消費意欲!BK27:BV27))","v":""},{"$f":"IF(COUNT(消費意欲!BL27:BW27)<>12,\"\",AVERAGE(消費意欲!BL27:BW27))","v":""},{"$f":"IF(COUNT(消費意欲!BM27:BX27)<>12,\"\",AVERAGE(消費意欲!BM27:BX27))","v":""},{"$f":"IF(COUNT(消費意欲!BN27:BY27)<>12,\"\",AVERAGE(消費意欲!BN27:BY27))","v":""},{"$f":"IF(COUNT(消費意欲!BO27:BZ27)<>12,\"\",AVERAGE(消費意欲!BO27:BZ27))","v":""},{"$f":"IF(COUNT(消費意欲!BP27:CA27)<>12,\"\",AVERAGE(消費意欲!BP27:CA27))","v":""},{"$f":"IF(COUNT(消費意欲!BQ27:CB27)<>12,\"\",AVERAGE(消費意欲!BQ27:CB27))","v":""},{"$f":"IF(COUNT(消費意欲!BR27:CC27)<>12,\"\",AVERAGE(消費意欲!BR27:CC27))","v":""},{"$f":"IF(COUNT(消費意欲!BS27:CD27)<>12,\"\",AVERAGE(消費意欲!BS27:CD27))","v":""},{"$f":"IF(COUNT(消費意欲!BT27:CE27)<>12,\"\",AVERAGE(消費意欲!BT27:CE27))","v":""},{"$f":"IF(COUNT(消費意欲!BU27:CF27)<>12,\"\",AVERAGE(消費意欲!BU27:CF27))","v":""},{"$f":"IF(COUNT(消費意欲!BV27:CG27)<>12,\"\",AVERAGE(消費意欲!BV27:CG27))","v":""},{"$f":"IF(COUNT(消費意欲!BW27:CH27)<>12,\"\",AVERAGE(消費意欲!BW27:CH27))","v":""},{"$f":"IF(COUNT(消費意欲!BX27:CI27)<>12,\"\",AVERAGE(消費意欲!BX27:CI27))","v":""},{"$f":"IF(COUNT(消費意欲!BY27:CJ27)<>12,\"\",AVERAGE(消費意欲!BY27:CJ27))","v":""},{"$f":"IF(COUNT(消費意欲!BZ27:CK27)<>12,\"\",AVERAGE(消費意欲!BZ27:CK27))","v":""},{"$f":"IF(COUNT(消費意欲!CA27:CL27)<>12,\"\",AVERAGE(消費意欲!CA27:CL27))","v":""},{"$f":"IF(COUNT(消費意欲!CB27:CM27)<>12,\"\",AVERAGE(消費意欲!CB27:CM27))","v":""},{"$f":"IF(COUNT(消費意欲!CC27:CN27)<>12,\"\",AVERAGE(消費意欲!CC27:CN27))","v":""},{"$f":"IF(COUNT(消費意欲!CD27:CO27)<>12,\"\",AVERAGE(消費意欲!CD27:CO27))","v":""},{"$f":"IF(COUNT(消費意欲!CE27:CP27)<>12,\"\",AVERAGE(消費意欲!CE27:CP27))","v":""},{"$f":"IF(COUNT(消費意欲!CF27:CQ27)<>12,\"\",AVERAGE(消費意欲!CF27:CQ27))","v":""},{"$f":"IF(COUNT(消費意欲!CG27:CR27)<>12,\"\",AVERAGE(消費意欲!CG27:CR27))","v":""},{"$f":"IF(COUNT(消費意欲!CH27:CS27)<>12,\"\",AVERAGE(消費意欲!CH27:CS27))","v":""},{"$f":"IF(COUNT(消費意欲!CI27:CT27)<>12,\"\",AVERAGE(消費意欲!CI27:CT27))","v":""},{"$f":"IF(COUNT(消費意欲!CJ27:CU27)<>12,\"\",AVERAGE(消費意欲!CJ27:CU27))","v":""},{"$f":"IF(COUNT(消費意欲!CK27:CV27)<>12,\"\",AVERAGE(消費意欲!CK27:CV27))","v":""},{"$f":"IF(COUNT(消費意欲!CL27:CW27)<>12,\"\",AVERAGE(消費意欲!CL27:CW27))","v":""},{"$f":"IF(COUNT(消費意欲!CM27:CX27)<>12,\"\",AVERAGE(消費意欲!CM27:CX27))","v":""},{"$f":"IF(COUNT(消費意欲!CN27:CY27)<>12,\"\",AVERAGE(消費意欲!CN27:CY27))","v":""},{"$f":"IF(COUNT(消費意欲!CO27:CZ27)<>12,\"\",AVERAGE(消費意欲!CO27:CZ27))","v":""},{"$f":"IF(COUNT(消費意欲!CP27:DA27)<>12,\"\",AVERAGE(消費意欲!CP27:DA27))","v":""},{"$f":"IF(COUNT(消費意欲!CQ27:DB27)<>12,\"\",AVERAGE(消費意欲!CQ27:DB27))","v":""},{"$f":"IF(COUNT(消費意欲!CR27:DC27)<>12,\"\",AVERAGE(消費意欲!CR27:DC27))","v":""},{"$f":"IF(COUNT(消費意欲!CS27:DD27)<>12,\"\",AVERAGE(消費意欲!CS27:DD27))","v":""},{"$f":"IF(COUNT(消費意欲!CT27:DE27)<>12,\"\",AVERAGE(消費意欲!CT27:DE27))","v":""},{"$f":"IF(COUNT(消費意欲!CU27:DF27)<>12,\"\",AVERAGE(消費意欲!CU27:DF27))","v":""},{"$f":"IF(COUNT(消費意欲!CV27:DG27)<>12,\"\",AVERAGE(消費意欲!CV27:DG27))","v":""}]
[null,"地域別","首都40km圏",null,null,null,null,null,null,null,null,null,null,null,null,null,null,null,{"$f":"IF(COUNT(消費意欲!H28:S28)<>12,\"\",AVERAGE(消費意欲!H28:S28))","v":51.128333333333337},{"$f":"IF(COUNT(消費意欲!I28:T28)<>12,\"\",AVERAGE(消費意欲!I28:T28))","v":51.052500000000009},{"$f":"IF(COUNT(消費意欲!J28:U28)<>12,\"\",AVERAGE(消費意欲!J28:U28))","v":50.799166666666672},{"$f":"IF(COUNT(消費意欲!K28:V28)<>12,\"\",AVERAGE(消費意欲!K28:V28))","v":50.545833333333327},{"$f":"IF(COUNT(消費意欲!L28:W28)<>12,\"\",AVERAGE(消費意欲!L28:W28))","v":50.769999999999989},{"$f":"IF(COUNT(消費意欲!M28:X28)<>12,\"\",AVERAGE(消費意欲!M28:X28))","v":50.24916666666666},{"$f":"IF(COUNT(消費意欲!N28:Y28)<>12,\"\",AVERAGE(消費意欲!N28:Y28))","v":50.526666666666671},{"$f":"IF(COUNT(消費意欲!O28:Z28)<>12,\"\",AVERAGE(消費意欲!O28:Z28))","v":50.454166666666673},{"$f":"IF(COUNT(消費意欲!P28:AA28)<>12,\"\",AVERAGE(消費意欲!P28:AA28))","v":50.322500000000012},{"$f":"IF(COUNT(消費意欲!Q28:AB28)<>12,\"\",AVERAGE(消費意欲!Q28:AB28))","v":49.665833333333332},{"$f":"IF(COUNT(消費意欲!R28:AC28)<>12,\"\",AVERAGE(消費意欲!R28:AC28))","v":49.814999999999998},{"$f":"IF(COUNT(消費意欲!S28:AD28)<>12,\"\",AVERAGE(消費意欲!S28:AD28))","v":50.164999999999999},{"$f":"IF(COUNT(消費意欲!T28:AE28)<>12,\"\",AVERAGE(消費意欲!T28:AE28))","v":49.717500000000001},{"$f":"IF(COUNT(消費意欲!U28:AF28)<>12,\"\",AVERAGE(消費意欲!U28:AF28))","v":49.445},{"$f":"IF(COUNT(消費意欲!V28:AG28)<>12,\"\",AVERAGE(消費意欲!V28:AG28))","v":49.391666666666659},{"$f":"IF(COUNT(消費意欲!W28:AH28)<>12,\"\",AVERAGE(消費意欲!W28:AH28))","v":49.348333333333329},{"$f":"IF(COUNT(消費意欲!X28:AI28)<>12,\"\",AVERAGE(消費意欲!X28:AI28))","v":49.196666666666665},{"$f":"IF(COUNT(消費意欲!Y28:AJ28)<>12,\"\",AVERAGE(消費意欲!Y28:AJ28))","v":49.424166666666657},{"$f":"IF(COUNT(消費意欲!Z28:AK28)<>12,\"\",AVERAGE(消費意欲!Z28:AK28))","v":49.199166666666663},{"$f":"IF(COUNT(消費意欲!AA28:AL28)<>12,\"\",AVERAGE(消費意欲!AA28:AL28))","v":48.93333333333333},{"$f":"IF(COUNT(消費意欲!AB28:AM28)<>12,\"\",AVERAGE(消費意欲!AB28:AM28))","v":49.146666666666654},{"$f":"IF(COUNT(消費意欲!AC28:AN28)<>12,\"\",AVERAGE(消費意欲!AC28:AN28))","v":49.187499999999993},{"$f":"IF(COUNT(消費意欲!AD28:AO28)<>12,\"\",AVERAGE(消費意欲!AD28:AO28))","v":48.84},{"$f":"IF(COUNT(消費意欲!AE28:AP28)<>12,\"\",AVERAGE(消費意欲!AE28:AP28))","v":48.09},{"$f":"IF(COUNT(消費意欲!AF28:AQ28)<>12,\"\",AVERAGE(消費意欲!AF28:AQ28))","v":48.241666666666667},{"$f":"IF(COUNT(消費意欲!AG28:AR28)<>12,\"\",AVERAGE(消費意欲!AG28:AR28))","v":48.414999999999992},{"$f":"IF(COUNT(消費意欲!AH28:AS28)<>12,\"\",AVERAGE(消費意欲!AH28:AS28))","v":48.239166666666655},{"$f":"IF(COUNT(消費意欲!AI28:AT28)<>12,\"\",AVERAGE(消費意欲!AI28:AT28))","v":48.360000000000007},{"$f":"IF(COUNT(消費意欲!AJ28:AU28)<>12,\"\",AVERAGE(消費意欲!AJ28:AU28))","v":48.195833333333326},{"$f":"IF(COUNT(消費意欲!AK28:AV28)<>12,\"\",AVERAGE(消費意欲!AK28:AV28))","v":48.294166666666662},{"$f":"IF(COUNT(消費意欲!AL28:AW28)<>12,\"\",AVERAGE(消費意欲!AL28:AW28))","v":48.392500000000005},{"$f":"IF(COUNT(消費意欲!AM28:AX28)<>12,\"\",AVERAGE(消費意欲!AM28:AX28))","v":48.795833333333327},{"$f":"IF(COUNT(消費意欲!AN28:AY28)<>12,\"\",AVERAGE(消費意欲!AN28:AY28))","v":48.724166666666669},{"$f":"IF(COUNT(消費意欲!AO28:AZ28)<>12,\"\",AVERAGE(消費意欲!AO28:AZ28))","v":48.768333333333338},{"$f":"IF(COUNT(消費意欲!AP28:BA28)<>12,\"\",AVERAGE(消費意欲!AP28:BA28))","v":48.650833333333338},{"$f":"IF(COUNT(消費意欲!AQ28:BB28)<>12,\"\",AVERAGE(消費意欲!AQ28:BB28))","v":48.622500000000002},{"$f":"IF(COUNT(消費意欲!AR28:BC28)<>12,\"\",AVERAGE(消費意欲!AR28:BC28))","v":48.522500000000008},{"$f":"IF(COUNT(消費意欲!AS28:BD28)<>12,\"\",AVERAGE(消費意欲!AS28:BD28))","v":48.471666666666664},{"$f":"IF(COUNT(消費意欲!AT28:BE28)<>12,\"\",AVERAGE(消費意欲!AT28:BE28))","v":""},{"$f":"IF(COUNT(消費意欲!AU28:BF28)<>12,\"\",AVERAGE(消費意欲!AU28:BF28))","v":""},{"$f":"IF(COUNT(消費意欲!AV28:BG28)<>12,\"\",AVERAGE(消費意欲!AV28:BG28))","v":""},{"$f":"IF(COUNT(消費意欲!AW28:BH28)<>12,\"\",AVERAGE(消費意欲!AW28:BH28))","v":""},{"$f":"IF(COUNT(消費意欲!AX28:BI28)<>12,\"\",AVERAGE(消費意欲!AX28:BI28))","v":""},{"$f":"IF(COUNT(消費意欲!AY28:BJ28)<>12,\"\",AVERAGE(消費意欲!AY28:BJ28))","v":""},{"$f":"IF(COUNT(消費意欲!AZ28:BK28)<>12,\"\",AVERAGE(消費意欲!AZ28:BK28))","v":""},{"$f":"IF(COUNT(消費意欲!BA28:BL28)<>12,\"\",AVERAGE(消費意欲!BA28:BL28))","v":""},{"$f":"IF(COUNT(消費意欲!BB28:BM28)<>12,\"\",AVERAGE(消費意欲!BB28:BM28))","v":""},{"$f":"IF(COUNT(消費意欲!BC28:BN28)<>12,\"\",AVERAGE(消費意欲!BC28:BN28))","v":""},{"$f":"IF(COUNT(消費意欲!BD28:BO28)<>12,\"\",AVERAGE(消費意欲!BD28:BO28))","v":""},{"$f":"IF(COUNT(消費意欲!BE28:BP28)<>12,\"\",AVERAGE(消費意欲!BE28:BP28))","v":""},{"$f":"IF(COUNT(消費意欲!BF28:BQ28)<>12,\"\",AVERAGE(消費意欲!BF28:BQ28))","v":""},{"$f":"IF(COUNT(消費意欲!BG28:BR28)<>12,\"\",AVERAGE(消費意欲!BG28:BR28))","v":""},{"$f":"IF(COUNT(消費意欲!BH28:BS28)<>12,\"\",AVERAGE(消費意欲!BH28:BS28))","v":""},{"$f":"IF(COUNT(消費意欲!BI28:BT28)<>12,\"\",AVERAGE(消費意欲!BI28:BT28))","v":""},{"$f":"IF(COUNT(消費意欲!BJ28:BU28)<>12,\"\",AVERAGE(消費意欲!BJ28:BU28))","v":""},{"$f":"IF(COUNT(消費意欲!BK28:BV28)<>12,\"\",AVERAGE(消費意欲!BK28:BV28))","v":""},{"$f":"IF(COUNT(消費意欲!BL28:BW28)<>12,\"\",AVERAGE(消費意欲!BL28:BW28))","v":""},{"$f":"IF(COUNT(消費意欲!BM28:BX28)<>12,\"\",AVERAGE(消費意欲!BM28:BX28))","v":""},{"$f":"IF(COUNT(消費意欲!BN28:BY28)<>12,\"\",AVERAGE(消費意欲!BN28:BY28))","v":""},{"$f":"IF(COUNT(消費意欲!BO28:BZ28)<>12,\"\",AVERAGE(消費意欲!BO28:BZ28))","v":""},{"$f":"IF(COUNT(消費意欲!BP28:CA28)<>12,\"\",AVERAGE(消費意欲!BP28:CA28))","v":""},{"$f":"IF(COUNT(消費意欲!BQ28:CB28)<>12,\"\",AVERAGE(消費意欲!BQ28:CB28))","v":""},{"$f":"IF(COUNT(消費意欲!BR28:CC28)<>12,\"\",AVERAGE(消費意欲!BR28:CC28))","v":""},{"$f":"IF(COUNT(消費意欲!BS28:CD28)<>12,\"\",AVERAGE(消費意欲!BS28:CD28))","v":""},{"$f":"IF(COUNT(消費意欲!BT28:CE28)<>12,\"\",AVERAGE(消費意欲!BT28:CE28))","v":""},{"$f":"IF(COUNT(消費意欲!BU28:CF28)<>12,\"\",AVERAGE(消費意欲!BU28:CF28))","v":""},{"$f":"IF(COUNT(消費意欲!BV28:CG28)<>12,\"\",AVERAGE(消費意欲!BV28:CG28))","v":""},{"$f":"IF(COUNT(消費意欲!BW28:CH28)<>12,\"\",AVERAGE(消費意欲!BW28:CH28))","v":""},{"$f":"IF(COUNT(消費意欲!BX28:CI28)<>12,\"\",AVERAGE(消費意欲!BX28:CI28))","v":""},{"$f":"IF(COUNT(消費意欲!BY28:CJ28)<>12,\"\",AVERAGE(消費意欲!BY28:CJ28))","v":""},{"$f":"IF(COUNT(消費意欲!BZ28:CK28)<>12,\"\",AVERAGE(消費意欲!BZ28:CK28))","v":""},{"$f":"IF(COUNT(消費意欲!CA28:CL28)<>12,\"\",AVERAGE(消費意欲!CA28:CL28))","v":""},{"$f":"IF(COUNT(消費意欲!CB28:CM28)<>12,\"\",AVERAGE(消費意欲!CB28:CM28))","v":""},{"$f":"IF(COUNT(消費意欲!CC28:CN28)<>12,\"\",AVERAGE(消費意欲!CC28:CN28))","v":""},{"$f":"IF(COUNT(消費意欲!CD28:CO28)<>12,\"\",AVERAGE(消費意欲!CD28:CO28))","v":""},{"$f":"IF(COUNT(消費意欲!CE28:CP28)<>12,\"\",AVERAGE(消費意欲!CE28:CP28))","v":""},{"$f":"IF(COUNT(消費意欲!CF28:CQ28)<>12,\"\",AVERAGE(消費意欲!CF28:CQ28))","v":""},{"$f":"IF(COUNT(消費意欲!CG28:CR28)<>12,\"\",AVERAGE(消費意欲!CG28:CR28))","v":""},{"$f":"IF(COUNT(消費意欲!CH28:CS28)<>12,\"\",AVERAGE(消費意欲!CH28:CS28))","v":""},{"$f":"IF(COUNT(消費意欲!CI28:CT28)<>12,\"\",AVERAGE(消費意欲!CI28:CT28))","v":""},{"$f":"IF(COUNT(消費意欲!CJ28:CU28)<>12,\"\",AVERAGE(消費意欲!CJ28:CU28))","v":""},{"$f":"IF(COUNT(消費意欲!CK28:CV28)<>12,\"\",AVERAGE(消費意欲!CK28:CV28))","v":""},{"$f":"IF(COUNT(消費意欲!CL28:CW28)<>12,\"\",AVERAGE(消費意欲!CL28:CW28))","v":""},{"$f":"IF(COUNT(消費意欲!CM28:CX28)<>12,\"\",AVERAGE(消費意欲!CM28:CX28))","v":""},{"$f":"IF(COUNT(消費意欲!CN28:CY28)<>12,\"\",AVERAGE(消費意欲!CN28:CY28))","v":""},{"$f":"IF(COUNT(消費意欲!CO28:CZ28)<>12,\"\",AVERAGE(消費意欲!CO28:CZ28))","v":""},{"$f":"IF(COUNT(消費意欲!CP28:DA28)<>12,\"\",AVERAGE(消費意欲!CP28:DA28))","v":""},{"$f":"IF(COUNT(消費意欲!CQ28:DB28)<>12,\"\",AVERAGE(消費意欲!CQ28:DB28))","v":""},{"$f":"IF(COUNT(消費意欲!CR28:DC28)<>12,\"\",AVERAGE(消費意欲!CR28:DC28))","v":""},{"$f":"IF(COUNT(消費意欲!CS28:DD28)<>12,\"\",AVERAGE(消費意欲!CS28:DD28))","v":""},{"$f":"IF(COUNT(消費意欲!CT28:DE28)<>12,\"\",AVERAGE(消費意欲!CT28:DE28))","v":""},{"$f":"IF(COUNT(消費意欲!CU28:DF28)<>12,\"\",AVERAGE(消費意欲!CU28:DF28))","v":""},{"$f":"IF(COUNT(消費意欲!CV28:DG28)<>12,\"\",AVERAGE(消費意欲!CV28:DG28))","v":""}]
[null,null,"名古屋40km圏",null,null,null,null,null,null,null,null,null,null,null,null,null,null,null,{"$f":"IF(COUNT(消費意欲!H29:S29)<>12,\"\",AVERAGE(消費意欲!H29:S29))","v":50.625},{"$f":"IF(COUNT(消費意欲!I29:T29)<>12,\"\",AVERAGE(消費意欲!I29:T29))","v":50.6875},{"$f":"IF(COUNT(消費意欲!J29:U29)<>12,\"\",AVERAGE(消費意欲!J29:U29))","v":50.466666666666661},{"$f":"IF(COUNT(消費意欲!K29:V29)<>12,\"\",AVERAGE(消費意欲!K29:V29))","v":50.174166666666657},{"$f":"IF(COUNT(消費意欲!L29:W29)<>12,\"\",AVERAGE(消費意欲!L29:W29))","v":50.088333333333331},{"$f":"IF(COUNT(消費意欲!M29:X29)<>12,\"\",AVERAGE(消費意欲!M29:X29))","v":49.87},{"$f":"IF(COUNT(消費意欲!N29:Y29)<>12,\"\",AVERAGE(消費意欲!N29:Y29))","v":49.981666666666662},{"$f":"IF(COUNT(消費意欲!O29:Z29)<>12,\"\",AVERAGE(消費意欲!O29:Z29))","v":49.866666666666667},{"$f":"IF(COUNT(消費意欲!P29:AA29)<>12,\"\",AVERAGE(消費意欲!P29:AA29))","v":49.98416666666666},{"$f":"IF(COUNT(消費意欲!Q29:AB29)<>12,\"\",AVERAGE(消費意欲!Q29:AB29))","v":49.807499999999997},{"$f":"IF(COUNT(消費意欲!R29:AC29)<>12,\"\",AVERAGE(消費意欲!R29:AC29))","v":50.138333333333328},{"$f":"IF(COUNT(消費意欲!S29:AD29)<>12,\"\",AVERAGE(消費意欲!S29:AD29))","v":50.340833333333329},{"$f":"IF(COUNT(消費意欲!T29:AE29)<>12,\"\",AVERAGE(消費意欲!T29:AE29))","v":50.156666666666666},{"$f":"IF(COUNT(消費意欲!U29:AF29)<>12,\"\",AVERAGE(消費意欲!U29:AF29))","v":49.741666666666667},{"$f":"IF(COUNT(消費意欲!V29:AG29)<>12,\"\",AVERAGE(消費意欲!V29:AG29))","v":49.559166666666663},{"$f":"IF(COUNT(消費意欲!W29:AH29)<>12,\"\",AVERAGE(消費意欲!W29:AH29))","v":49.275833333333331},{"$f":"IF(COUNT(消費意欲!X29:AI29)<>12,\"\",AVERAGE(消費意欲!X29:AI29))","v":49.175833333333323},{"$f":"IF(COUNT(消費意欲!Y29:AJ29)<>12,\"\",AVERAGE(消費意欲!Y29:AJ29))","v":49.263333333333343},{"$f":"IF(COUNT(消費意欲!Z29:AK29)<>12,\"\",AVERAGE(消費意欲!Z29:AK29))","v":49.055833333333339},{"$f":"IF(COUNT(消費意欲!AA29:AL29)<>12,\"\",AVERAGE(消費意欲!AA29:AL29))","v":48.957500000000003},{"$f":"IF(COUNT(消費意欲!AB29:AM29)<>12,\"\",AVERAGE(消費意欲!AB29:AM29))","v":48.846666666666671},{"$f":"IF(COUNT(消費意欲!AC29:AN29)<>12,\"\",AVERAGE(消費意欲!AC29:AN29))","v":48.499166666666667},{"$f":"IF(COUNT(消費意欲!AD29:AO29)<>12,\"\",AVERAGE(消費意欲!AD29:AO29))","v":48.085833333333319},{"$f":"IF(COUNT(消費意欲!AE29:AP29)<>12,\"\",AVERAGE(消費意欲!AE29:AP29))","v":47.6},{"$f":"IF(COUNT(消費意欲!AF29:AQ29)<>12,\"\",AVERAGE(消費意欲!AF29:AQ29))","v":47.696666666666658},{"$f":"IF(COUNT(消費意欲!AG29:AR29)<>12,\"\",AVERAGE(消費意欲!AG29:AR29))","v":48.193333333333328},{"$f":"IF(COUNT(消費意欲!AH29:AS29)<>12,\"\",AVERAGE(消費意欲!AH29:AS29))","v":48.111666666666672},{"$f":"IF(COUNT(消費意欲!AI29:AT29)<>12,\"\",AVERAGE(消費意欲!AI29:AT29))","v":48.313333333333333},{"$f":"IF(COUNT(消費意欲!AJ29:AU29)<>12,\"\",AVERAGE(消費意欲!AJ29:AU29))","v":48.199166666666663},{"$f":"IF(COUNT(消費意欲!AK29:AV29)<>12,\"\",AVERAGE(消費意欲!AK29:AV29))","v":48.033333333333339},{"$f":"IF(COUNT(消費意欲!AL29:AW29)<>12,\"\",AVERAGE(消費意欲!AL29:AW29))","v":48.287499999999994},{"$f":"IF(COUNT(消費意欲!AM29:AX29)<>12,\"\",AVERAGE(消費意欲!AM29:AX29))","v":48.365000000000009},{"$f":"IF(COUNT(消費意欲!AN29:AY29)<>12,\"\",AVERAGE(消費意欲!AN29:AY29))","v":48.32},{"$f":"IF(COUNT(消費意欲!AO29:AZ29)<>12,\"\",AVERAGE(消費意欲!AO29:AZ29))","v":48.612500000000004},{"$f":"IF(COUNT(消費意欲!AP29:BA29)<>12,\"\",AVERAGE(消費意欲!AP29:BA29))","v":48.664166666666667},{"$f":"IF(COUNT(消費意欲!AQ29:BB29)<>12,\"\",AVERAGE(消費意欲!AQ29:BB29))","v":48.432499999999997},{"$f":"IF(COUNT(消費意欲!AR29:BC29)<>12,\"\",AVERAGE(消費意欲!AR29:BC29))","v":48.480833333333329},{"$f":"IF(COUNT(消費意欲!AS29:BD29)<>12,\"\",AVERAGE(消費意欲!AS29:BD29))","v":48.227499999999999},{"$f":"IF(COUNT(消費意欲!AT29:BE29)<>12,\"\",AVERAGE(消費意欲!AT29:BE29))","v":""},{"$f":"IF(COUNT(消費意欲!AU29:BF29)<>12,\"\",AVERAGE(消費意欲!AU29:BF29))","v":""},{"$f":"IF(COUNT(消費意欲!AV29:BG29)<>12,\"\",AVERAGE(消費意欲!AV29:BG29))","v":""},{"$f":"IF(COUNT(消費意欲!AW29:BH29)<>12,\"\",AVERAGE(消費意欲!AW29:BH29))","v":""},{"$f":"IF(COUNT(消費意欲!AX29:BI29)<>12,\"\",AVERAGE(消費意欲!AX29:BI29))","v":""},{"$f":"IF(COUNT(消費意欲!AY29:BJ29)<>12,\"\",AVERAGE(消費意欲!AY29:BJ29))","v":""},{"$f":"IF(COUNT(消費意欲!AZ29:BK29)<>12,\"\",AVERAGE(消費意欲!AZ29:BK29))","v":""},{"$f":"IF(COUNT(消費意欲!BA29:BL29)<>12,\"\",AVERAGE(消費意欲!BA29:BL29))","v":""},{"$f":"IF(COUNT(消費意欲!BB29:BM29)<>12,\"\",AVERAGE(消費意欲!BB29:BM29))","v":""},{"$f":"IF(COUNT(消費意欲!BC29:BN29)<>12,\"\",AVERAGE(消費意欲!BC29:BN29))","v":""},{"$f":"IF(COUNT(消費意欲!BD29:BO29)<>12,\"\",AVERAGE(消費意欲!BD29:BO29))","v":""},{"$f":"IF(COUNT(消費意欲!BE29:BP29)<>12,\"\",AVERAGE(消費意欲!BE29:BP29))","v":""},{"$f":"IF(COUNT(消費意欲!BF29:BQ29)<>12,\"\",AVERAGE(消費意欲!BF29:BQ29))","v":""},{"$f":"IF(COUNT(消費意欲!BG29:BR29)<>12,\"\",AVERAGE(消費意欲!BG29:BR29))","v":""},{"$f":"IF(COUNT(消費意欲!BH29:BS29)<>12,\"\",AVERAGE(消費意欲!BH29:BS29))","v":""},{"$f":"IF(COUNT(消費意欲!BI29:BT29)<>12,\"\",AVERAGE(消費意欲!BI29:BT29))","v":""},{"$f":"IF(COUNT(消費意欲!BJ29:BU29)<>12,\"\",AVERAGE(消費意欲!BJ29:BU29))","v":""},{"$f":"IF(COUNT(消費意欲!BK29:BV29)<>12,\"\",AVERAGE(消費意欲!BK29:BV29))","v":""},{"$f":"IF(COUNT(消費意欲!BL29:BW29)<>12,\"\",AVERAGE(消費意欲!BL29:BW29))","v":""},{"$f":"IF(COUNT(消費意欲!BM29:BX29)<>12,\"\",AVERAGE(消費意欲!BM29:BX29))","v":""},{"$f":"IF(COUNT(消費意欲!BN29:BY29)<>12,\"\",AVERAGE(消費意欲!BN29:BY29))","v":""},{"$f":"IF(COUNT(消費意欲!BO29:BZ29)<>12,\"\",AVERAGE(消費意欲!BO29:BZ29))","v":""},{"$f":"IF(COUNT(消費意欲!BP29:CA29)<>12,\"\",AVERAGE(消費意欲!BP29:CA29))","v":""},{"$f":"IF(COUNT(消費意欲!BQ29:CB29)<>12,\"\",AVERAGE(消費意欲!BQ29:CB29))","v":""},{"$f":"IF(COUNT(消費意欲!BR29:CC29)<>12,\"\",AVERAGE(消費意欲!BR29:CC29))","v":""},{"$f":"IF(COUNT(消費意欲!BS29:CD29)<>12,\"\",AVERAGE(消費意欲!BS29:CD29))","v":""},{"$f":"IF(COUNT(消費意欲!BT29:CE29)<>12,\"\",AVERAGE(消費意欲!BT29:CE29))","v":""},{"$f":"IF(COUNT(消費意欲!BU29:CF29)<>12,\"\",AVERAGE(消費意欲!BU29:CF29))","v":""},{"$f":"IF(COUNT(消費意欲!BV29:CG29)<>12,\"\",AVERAGE(消費意欲!BV29:CG29))","v":""},{"$f":"IF(COUNT(消費意欲!BW29:CH29)<>12,\"\",AVERAGE(消費意欲!BW29:CH29))","v":""},{"$f":"IF(COUNT(消費意欲!BX29:CI29)<>12,\"\",AVERAGE(消費意欲!BX29:CI29))","v":""},{"$f":"IF(COUNT(消費意欲!BY29:CJ29)<>12,\"\",AVERAGE(消費意欲!BY29:CJ29))","v":""},{"$f":"IF(COUNT(消費意欲!BZ29:CK29)<>12,\"\",AVERAGE(消費意欲!BZ29:CK29))","v":""},{"$f":"IF(COUNT(消費意欲!CA29:CL29)<>12,\"\",AVERAGE(消費意欲!CA29:CL29))","v":""},{"$f":"IF(COUNT(消費意欲!CB29:CM29)<>12,\"\",AVERAGE(消費意欲!CB29:CM29))","v":""},{"$f":"IF(COUNT(消費意欲!CC29:CN29)<>12,\"\",AVERAGE(消費意欲!CC29:CN29))","v":""},{"$f":"IF(COUNT(消費意欲!CD29:CO29)<>12,\"\",AVERAGE(消費意欲!CD29:CO29))","v":""},{"$f":"IF(COUNT(消費意欲!CE29:CP29)<>12,\"\",AVERAGE(消費意欲!CE29:CP29))","v":""},{"$f":"IF(COUNT(消費意欲!CF29:CQ29)<>12,\"\",AVERAGE(消費意欲!CF29:CQ29))","v":""},{"$f":"IF(COUNT(消費意欲!CG29:CR29)<>12,\"\",AVERAGE(消費意欲!CG29:CR29))","v":""},{"$f":"IF(COUNT(消費意欲!CH29:CS29)<>12,\"\",AVERAGE(消費意欲!CH29:CS29))","v":""},{"$f":"IF(COUNT(消費意欲!CI29:CT29)<>12,\"\",AVERAGE(消費意欲!CI29:CT29))","v":""},{"$f":"IF(COUNT(消費意欲!CJ29:CU29)<>12,\"\",AVERAGE(消費意欲!CJ29:CU29))","v":""},{"$f":"IF(COUNT(消費意欲!CK29:CV29)<>12,\"\",AVERAGE(消費意欲!CK29:CV29))","v":""},{"$f":"IF(COUNT(消費意欲!CL29:CW29)<>12,\"\",AVERAGE(消費意欲!CL29:CW29))","v":""},{"$f":"IF(COUNT(消費意欲!CM29:CX29)<>12,\"\",AVERAGE(消費意欲!CM29:CX29))","v":""},{"$f":"IF(COUNT(消費意欲!CN29:CY29)<>12,\"\",AVERAGE(消費意欲!CN29:CY29))","v":""},{"$f":"IF(COUNT(消費意欲!CO29:CZ29)<>12,\"\",AVERAGE(消費意欲!CO29:CZ29))","v":""},{"$f":"IF(COUNT(消費意欲!CP29:DA29)<>12,\"\",AVERAGE(消費意欲!CP29:DA29))","v":""},{"$f":"IF(COUNT(消費意欲!CQ29:DB29)<>12,\"\",AVERAGE(消費意欲!CQ29:DB29))","v":""},{"$f":"IF(COUNT(消費意欲!CR29:DC29)<>12,\"\",AVERAGE(消費意欲!CR29:DC29))","v":""},{"$f":"IF(COUNT(消費意欲!CS29:DD29)<>12,\"\",AVERAGE(消費意欲!CS29:DD29))","v":""},{"$f":"IF(COUNT(消費意欲!CT29:DE29)<>12,\"\",AVERAGE(消費意欲!CT29:DE29))","v":""},{"$f":"IF(COUNT(消費意欲!CU29:DF29)<>12,\"\",AVERAGE(消費意欲!CU29:DF29))","v":""},{"$f":"IF(COUNT(消費意欲!CV29:DG29)<>12,\"\",AVERAGE(消費意欲!CV29:DG29))","v":""}]
[null,null,"阪神30km圏",null,null,null,null,null,null,null,null,null,null,null,null,null,null,null,{"$f":"IF(COUNT(消費意欲!H30:S30)<>12,\"\",AVERAGE(消費意欲!H30:S30))","v":51.784999999999997},{"$f":"IF(COUNT(消費意欲!I30:T30)<>12,\"\",AVERAGE(消費意欲!I30:T30))","v":51.5075},{"$f":"IF(COUNT(消費意欲!J30:U30)<>12,\"\",AVERAGE(消費意欲!J30:U30))","v":51.219166666666666},{"$f":"IF(COUNT(消費意欲!K30:V30)<>12,\"\",AVERAGE(消費意欲!K30:V30))","v":50.94666666666668},{"$f":"IF(COUNT(消費意欲!L30:W30)<>12,\"\",AVERAGE(消費意欲!L30:W30))","v":51.03},{"$f":"IF(COUNT(消費意欲!M30:X30)<>12,\"\",AVERAGE(消費意欲!M30:X30))","v":50.481666666666662},{"$f":"IF(COUNT(消費意欲!N30:Y30)<>12,\"\",AVERAGE(消費意欲!N30:Y30))","v":50.547499999999992},{"$f":"IF(COUNT(消費意欲!O30:Z30)<>12,\"\",AVERAGE(消費意欲!O30:Z30))","v":50.165833333333332},{"$f":"IF(COUNT(消費意欲!P30:AA30)<>12,\"\",AVERAGE(消費意欲!P30:AA30))","v":50.140000000000008},{"$f":"IF(COUNT(消費意欲!Q30:AB30)<>12,\"\",AVERAGE(消費意欲!Q30:AB30))","v":49.82},{"$f":"IF(COUNT(消費意欲!R30:AC30)<>12,\"\",AVERAGE(消費意欲!R30:AC30))","v":50.19083333333333},{"$f":"IF(COUNT(消費意欲!S30:AD30)<>12,\"\",AVERAGE(消費意欲!S30:AD30))","v":50.522500000000001},{"$f":"IF(COUNT(消費意欲!T30:AE30)<>12,\"\",AVERAGE(消費意欲!T30:AE30))","v":49.949166666666663},{"$f":"IF(COUNT(消費意欲!U30:AF30)<>12,\"\",AVERAGE(消費意欲!U30:AF30))","v":49.602499999999999},{"$f":"IF(COUNT(消費意欲!V30:AG30)<>12,\"\",AVERAGE(消費意欲!V30:AG30))","v":49.546666666666674},{"$f":"IF(COUNT(消費意欲!W30:AH30)<>12,\"\",AVERAGE(消費意欲!W30:AH30))","v":49.463333333333338},{"$f":"IF(COUNT(消費意欲!X30:AI30)<>12,\"\",AVERAGE(消費意欲!X30:AI30))","v":49.284166666666664},{"$f":"IF(COUNT(消費意欲!Y30:AJ30)<>12,\"\",AVERAGE(消費意欲!Y30:AJ30))","v":49.420833333333327},{"$f":"IF(COUNT(消費意欲!Z30:AK30)<>12,\"\",AVERAGE(消費意欲!Z30:AK30))","v":49.203333333333326},{"$f":"IF(COUNT(消費意欲!AA30:AL30)<>12,\"\",AVERAGE(消費意欲!AA30:AL30))","v":48.990833333333335},{"$f":"IF(COUNT(消費意欲!AB30:AM30)<>12,\"\",AVERAGE(消費意欲!AB30:AM30))","v":49.191666666666663},{"$f":"IF(COUNT(消費意欲!AC30:AN30)<>12,\"\",AVERAGE(消費意欲!AC30:AN30))","v":49.047499999999992},{"$f":"IF(COUNT(消費意欲!AD30:AO30)<>12,\"\",AVERAGE(消費意欲!AD30:AO30))","v":48.722499999999997},{"$f":"IF(COUNT(消費意欲!AE30:AP30)<>12,\"\",AVERAGE(消費意欲!AE30:AP30))","v":48.072499999999998},{"$f":"IF(COUNT(消費意欲!AF30:AQ30)<>12,\"\",AVERAGE(消費意欲!AF30:AQ30))","v":48.381666666666668},{"$f":"IF(COUNT(消費意欲!AG30:AR30)<>12,\"\",AVERAGE(消費意欲!AG30:AR30))","v":48.688333333333333},{"$f":"IF(COUNT(消費意欲!AH30:AS30)<>12,\"\",AVERAGE(消費意欲!AH30:AS30))","v":48.567499999999995},{"$f":"IF(COUNT(消費意欲!AI30:AT30)<>12,\"\",AVERAGE(消費意欲!AI30:AT30))","v":48.453333333333326},{"$f":"IF(COUNT(消費意欲!AJ30:AU30)<>12,\"\",AVERAGE(消費意欲!AJ30:AU30))","v":48.41},{"$f":"IF(COUNT(消費意欲!AK30:AV30)<>12,\"\",AVERAGE(消費意欲!AK30:AV30))","v":48.460833333333319},{"$f":"IF(COUNT(消費意欲!AL30:AW30)<>12,\"\",AVERAGE(消費意欲!AL30:AW30))","v":48.669999999999987},{"$f":"IF(COUNT(消費意欲!AM30:AX30)<>12,\"\",AVERAGE(消費意欲!AM30:AX30))","v":48.780833333333334},{"$f":"IF(COUNT(消費意欲!AN30:AY30)<>12,\"\",AVERAGE(消費意欲!AN30:AY30))","v":48.585000000000001},{"$f":"IF(COUNT(消費意欲!AO30:AZ30)<>12,\"\",AVERAGE(消費意欲!AO30:AZ30))","v":48.709166666666668},{"$f":"IF(COUNT(消費意欲!AP30:BA30)<>12,\"\",AVERAGE(消費意欲!AP30:BA30))","v":48.511666666666663},{"$f":"IF(COUNT(消費意欲!AQ30:BB30)<>12,\"\",AVERAGE(消費意欲!AQ30:BB30))","v":48.660833333333329},{"$f":"IF(COUNT(消費意欲!AR30:BC30)<>12,\"\",AVERAGE(消費意欲!AR30:BC30))","v":48.9375},{"$f":"IF(COUNT(消費意欲!AS30:BD30)<>12,\"\",AVERAGE(消費意欲!AS30:BD30))","v":48.636666666666663},{"$f":"IF(COUNT(消費意欲!AT30:BE30)<>12,\"\",AVERAGE(消費意欲!AT30:BE30))","v":""},{"$f":"IF(COUNT(消費意欲!AU30:BF30)<>12,\"\",AVERAGE(消費意欲!AU30:BF30))","v":""},{"$f":"IF(COUNT(消費意欲!AV30:BG30)<>12,\"\",AVERAGE(消費意欲!AV30:BG30))","v":""},{"$f":"IF(COUNT(消費意欲!AW30:BH30)<>12,\"\",AVERAGE(消費意欲!AW30:BH30))","v":""},{"$f":"IF(COUNT(消費意欲!AX30:BI30)<>12,\"\",AVERAGE(消費意欲!AX30:BI30))","v":""},{"$f":"IF(COUNT(消費意欲!AY30:BJ30)<>12,\"\",AVERAGE(消費意欲!AY30:BJ30))","v":""},{"$f":"IF(COUNT(消費意欲!AZ30:BK30)<>12,\"\",AVERAGE(消費意欲!AZ30:BK30))","v":""},{"$f":"IF(COUNT(消費意欲!BA30:BL30)<>12,\"\",AVERAGE(消費意欲!BA30:BL30))","v":""},{"$f":"IF(COUNT(消費意欲!BB30:BM30)<>12,\"\",AVERAGE(消費意欲!BB30:BM30))","v":""},{"$f":"IF(COUNT(消費意欲!BC30:BN30)<>12,\"\",AVERAGE(消費意欲!BC30:BN30))","v":""},{"$f":"IF(COUNT(消費意欲!BD30:BO30)<>12,\"\",AVERAGE(消費意欲!BD30:BO30))","v":""},{"$f":"IF(COUNT(消費意欲!BE30:BP30)<>12,\"\",AVERAGE(消費意欲!BE30:BP30))","v":""},{"$f":"IF(COUNT(消費意欲!BF30:BQ30)<>12,\"\",AVERAGE(消費意欲!BF30:BQ30))","v":""},{"$f":"IF(COUNT(消費意欲!BG30:BR30)<>12,\"\",AVERAGE(消費意欲!BG30:BR30))","v":""},{"$f":"IF(COUNT(消費意欲!BH30:BS30)<>12,\"\",AVERAGE(消費意欲!BH30:BS30))","v":""},{"$f":"IF(COUNT(消費意欲!BI30:BT30)<>12,\"\",AVERAGE(消費意欲!BI30:BT30))","v":""},{"$f":"IF(COUNT(消費意欲!BJ30:BU30)<>12,\"\",AVERAGE(消費意欲!BJ30:BU30))","v":""},{"$f":"IF(COUNT(消費意欲!BK30:BV30)<>12,\"\",AVERAGE(消費意欲!BK30:BV30))","v":""},{"$f":"IF(COUNT(消費意欲!BL30:BW30)<>12,\"\",AVERAGE(消費意欲!BL30:BW30))","v":""},{"$f":"IF(COUNT(消費意欲!BM30:BX30)<>12,\"\",AVERAGE(消費意欲!BM30:BX30))","v":""},{"$f":"IF(COUNT(消費意欲!BN30:BY30)<>12,\"\",AVERAGE(消費意欲!BN30:BY30))","v":""},{"$f":"IF(COUNT(消費意欲!BO30:BZ30)<>12,\"\",AVERAGE(消費意欲!BO30:BZ30))","v":""},{"$f":"IF(COUNT(消費意欲!BP30:CA30)<>12,\"\",AVERAGE(消費意欲!BP30:CA30))","v":""},{"$f":"IF(COUNT(消費意欲!BQ30:CB30)<>12,\"\",AVERAGE(消費意欲!BQ30:CB30))","v":""},{"$f":"IF(COUNT(消費意欲!BR30:CC30)<>12,\"\",AVERAGE(消費意欲!BR30:CC30))","v":""},{"$f":"IF(COUNT(消費意欲!BS30:CD30)<>12,\"\",AVERAGE(消費意欲!BS30:CD30))","v":""},{"$f":"IF(COUNT(消費意欲!BT30:CE30)<>12,\"\",AVERAGE(消費意欲!BT30:CE30))","v":""},{"$f":"IF(COUNT(消費意欲!BU30:CF30)<>12,\"\",AVERAGE(消費意欲!BU30:CF30))","v":""},{"$f":"IF(COUNT(消費意欲!BV30:CG30)<>12,\"\",AVERAGE(消費意欲!BV30:CG30))","v":""},{"$f":"IF(COUNT(消費意欲!BW30:CH30)<>12,\"\",AVERAGE(消費意欲!BW30:CH30))","v":""},{"$f":"IF(COUNT(消費意欲!BX30:CI30)<>12,\"\",AVERAGE(消費意欲!BX30:CI30))","v":""},{"$f":"IF(COUNT(消費意欲!BY30:CJ30)<>12,\"\",AVERAGE(消費意欲!BY30:CJ30))","v":""},{"$f":"IF(COUNT(消費意欲!BZ30:CK30)<>12,\"\",AVERAGE(消費意欲!BZ30:CK30))","v":""},{"$f":"IF(COUNT(消費意欲!CA30:CL30)<>12,\"\",AVERAGE(消費意欲!CA30:CL30))","v":""},{"$f":"IF(COUNT(消費意欲!CB30:CM30)<>12,\"\",AVERAGE(消費意欲!CB30:CM30))","v":""},{"$f":"IF(COUNT(消費意欲!CC30:CN30)<>12,\"\",AVERAGE(消費意欲!CC30:CN30))","v":""},{"$f":"IF(COUNT(消費意欲!CD30:CO30)<>12,\"\",AVERAGE(消費意欲!CD30:CO30))","v":""},{"$f":"IF(COUNT(消費意欲!CE30:CP30)<>12,\"\",AVERAGE(消費意欲!CE30:CP30))","v":""},{"$f":"IF(COUNT(消費意欲!CF30:CQ30)<>12,\"\",AVERAGE(消費意欲!CF30:CQ30))","v":""},{"$f":"IF(COUNT(消費意欲!CG30:CR30)<>12,\"\",AVERAGE(消費意欲!CG30:CR30))","v":""},{"$f":"IF(COUNT(消費意欲!CH30:CS30)<>12,\"\",AVERAGE(消費意欲!CH30:CS30))","v":""},{"$f":"IF(COUNT(消費意欲!CI30:CT30)<>12,\"\",AVERAGE(消費意欲!CI30:CT30))","v":""},{"$f":"IF(COUNT(消費意欲!CJ30:CU30)<>12,\"\",AVERAGE(消費意欲!CJ30:CU30))","v":""},{"$f":"IF(COUNT(消費意欲!CK30:CV30)<>12,\"\",AVERAGE(消費意欲!CK30:CV30))","v":""},{"$f":"IF(COUNT(消費意欲!CL30:CW30)<>12,\"\",AVERAGE(消費意欲!CL30:CW30))","v":""},{"$f":"IF(COUNT(消費意欲!CM30:CX30)<>12,\"\",AVERAGE(消費意欲!CM30:CX30))","v":""},{"$f":"IF(COUNT(消費意欲!CN30:CY30)<>12,\"\",AVERAGE(消費意欲!CN30:CY30))","v":""},{"$f":"IF(COUNT(消費意欲!CO30:CZ30)<>12,\"\",AVERAGE(消費意欲!CO30:CZ30))","v":""},{"$f":"IF(COUNT(消費意欲!CP30:DA30)<>12,\"\",AVERAGE(消費意欲!CP30:DA30))","v":""},{"$f":"IF(COUNT(消費意欲!CQ30:DB30)<>12,\"\",AVERAGE(消費意欲!CQ30:DB30))","v":""},{"$f":"IF(COUNT(消費意欲!CR30:DC30)<>12,\"\",AVERAGE(消費意欲!CR30:DC30))","v":""},{"$f":"IF(COUNT(消費意欲!CS30:DD30)<>12,\"\",AVERAGE(消費意欲!CS30:DD30))","v":""},{"$f":"IF(COUNT(消費意欲!CT30:DE30)<>12,\"\",AVERAGE(消費意欲!CT30:DE30))","v":""},{"$f":"IF(COUNT(消費意欲!CU30:DF30)<>12,\"\",AVERAGE(消費意欲!CU30:DF30))","v":""},{"$f":"IF(COUNT(消費意欲!CV30:DG30)<>12,\"\",AVERAGE(消費意欲!CV30:DG30))","v":""}]
[null,"性別×地域別","男性／首都40km圏",null,null,null,null,null,null,null,null,null,null,null,null,null,null,null,{"$f":"IF(COUNT(消費意欲!H31:S31)<>12,\"\",AVERAGE(消費意欲!H31:S31))","v":48.076666666666675},{"$f":"IF(COUNT(消費意欲!I31:T31)<>12,\"\",AVERAGE(消費意欲!I31:T31))","v":47.930833333333347},{"$f":"IF(COUNT(消費意欲!J31:U31)<>12,\"\",AVERAGE(消費意欲!J31:U31))","v":47.738333333333337},{"$f":"IF(COUNT(消費意欲!K31:V31)<>12,\"\",AVERAGE(消費意欲!K31:V31))","v":47.428333333333335},{"$f":"IF(COUNT(消費意欲!L31:W31)<>12,\"\",AVERAGE(消費意欲!L31:W31))","v":47.760833333333331},{"$f":"IF(COUNT(消費意欲!M31:X31)<>12,\"\",AVERAGE(消費意欲!M31:X31))","v":47.143333333333338},{"$f":"IF(COUNT(消費意欲!N31:Y31)<>12,\"\",AVERAGE(消費意欲!N31:Y31))","v":47.319166666666661},{"$f":"IF(COUNT(消費意欲!O31:Z31)<>12,\"\",AVERAGE(消費意欲!O31:Z31))","v":47.271666666666668},{"$f":"IF(COUNT(消費意欲!P31:AA31)<>12,\"\",AVERAGE(消費意欲!P31:AA31))","v":47.365000000000002},{"$f":"IF(COUNT(消費意欲!Q31:AB31)<>12,\"\",AVERAGE(消費意欲!Q31:AB31))","v":46.609999999999992},{"$f":"IF(COUNT(消費意欲!R31:AC31)<>12,\"\",AVERAGE(消費意欲!R31:AC31))","v":46.889999999999993},{"$f":"IF(COUNT(消費意欲!S31:AD31)<>12,\"\",AVERAGE(消費意欲!S31:AD31))","v":47.030833333333327},{"$f":"IF(COUNT(消費意欲!T31:AE31)<>12,\"\",AVERAGE(消費意欲!T31:AE31))","v":46.844166666666666},{"$f":"IF(COUNT(消費意欲!U31:AF31)<>12,\"\",AVERAGE(消費意欲!U31:AF31))","v":46.940000000000005},{"$f":"IF(COUNT(消費意欲!V31:AG31)<>12,\"\",AVERAGE(消費意欲!V31:AG31))","v":46.730833333333329},{"$f":"IF(COUNT(消費意欲!W31:AH31)<>12,\"\",AVERAGE(消費意欲!W31:AH31))","v":46.794166666666662},{"$f":"IF(COUNT(消費意欲!X31:AI31)<>12,\"\",AVERAGE(消費意欲!X31:AI31))","v":46.653333333333336},{"$f":"IF(COUNT(消費意欲!Y31:AJ31)<>12,\"\",AVERAGE(消費意欲!Y31:AJ31))","v":46.947499999999998},{"$f":"IF(COUNT(消費意欲!Z31:AK31)<>12,\"\",AVERAGE(消費意欲!Z31:AK31))","v":46.879166666666663},{"$f":"IF(COUNT(消費意欲!AA31:AL31)<>12,\"\",AVERAGE(消費意欲!AA31:AL31))","v":46.694166666666668},{"$f":"IF(COUNT(消費意欲!AB31:AM31)<>12,\"\",AVERAGE(消費意欲!AB31:AM31))","v":46.929999999999986},{"$f":"IF(COUNT(消費意欲!AC31:AN31)<>12,\"\",AVERAGE(消費意欲!AC31:AN31))","v":47.479166666666657},{"$f":"IF(COUNT(消費意欲!AD31:AO31)<>12,\"\",AVERAGE(消費意欲!AD31:AO31))","v":46.94666666666668},{"$f":"IF(COUNT(消費意欲!AE31:AP31)<>12,\"\",AVERAGE(消費意欲!AE31:AP31))","v":46.321666666666658},{"$f":"IF(COUNT(消費意欲!AF31:AQ31)<>12,\"\",AVERAGE(消費意欲!AF31:AQ31))","v":46.243333333333339},{"$f":"IF(COUNT(消費意欲!AG31:AR31)<>12,\"\",AVERAGE(消費意欲!AG31:AR31))","v":46.118333333333332},{"$f":"IF(COUNT(消費意欲!AH31:AS31)<>12,\"\",AVERAGE(消費意欲!AH31:AS31))","v":45.949999999999996},{"$f":"IF(COUNT(消費意欲!AI31:AT31)<>12,\"\",AVERAGE(消費意欲!AI31:AT31))","v":46.12166666666667},{"$f":"IF(COUNT(消費意欲!AJ31:AU31)<>12,\"\",AVERAGE(消費意欲!AJ31:AU31))","v":45.908333333333339},{"$f":"IF(COUNT(消費意欲!AK31:AV31)<>12,\"\",AVERAGE(消費意欲!AK31:AV31))","v":45.82},{"$f":"IF(COUNT(消費意欲!AL31:AW31)<>12,\"\",AVERAGE(消費意欲!AL31:AW31))","v":45.88},{"$f":"IF(COUNT(消費意欲!AM31:AX31)<>12,\"\",AVERAGE(消費意欲!AM31:AX31))","v":46.104999999999997},{"$f":"IF(COUNT(消費意欲!AN31:AY31)<>12,\"\",AVERAGE(消費意欲!AN31:AY31))","v":45.858333333333327},{"$f":"IF(COUNT(消費意欲!AO31:AZ31)<>12,\"\",AVERAGE(消費意欲!AO31:AZ31))","v":45.467499999999994},{"$f":"IF(COUNT(消費意欲!AP31:BA31)<>12,\"\",AVERAGE(消費意欲!AP31:BA31))","v":45.327499999999993},{"$f":"IF(COUNT(消費意欲!AQ31:BB31)<>12,\"\",AVERAGE(消費意欲!AQ31:BB31))","v":45.529999999999994},{"$f":"IF(COUNT(消費意欲!AR31:BC31)<>12,\"\",AVERAGE(消費意欲!AR31:BC31))","v":45.461666666666666},{"$f":"IF(COUNT(消費意欲!AS31:BD31)<>12,\"\",AVERAGE(消費意欲!AS31:BD31))","v":45.401666666666671},{"$f":"IF(COUNT(消費意欲!AT31:BE31)<>12,\"\",AVERAGE(消費意欲!AT31:BE31))","v":""},{"$f":"IF(COUNT(消費意欲!AU31:BF31)<>12,\"\",AVERAGE(消費意欲!AU31:BF31))","v":""},{"$f":"IF(COUNT(消費意欲!AV31:BG31)<>12,\"\",AVERAGE(消費意欲!AV31:BG31))","v":""},{"$f":"IF(COUNT(消費意欲!AW31:BH31)<>12,\"\",AVERAGE(消費意欲!AW31:BH31))","v":""},{"$f":"IF(COUNT(消費意欲!AX31:BI31)<>12,\"\",AVERAGE(消費意欲!AX31:BI31))","v":""},{"$f":"IF(COUNT(消費意欲!AY31:BJ31)<>12,\"\",AVERAGE(消費意欲!AY31:BJ31))","v":""},{"$f":"IF(COUNT(消費意欲!AZ31:BK31)<>12,\"\",AVERAGE(消費意欲!AZ31:BK31))","v":""},{"$f":"IF(COUNT(消費意欲!BA31:BL31)<>12,\"\",AVERAGE(消費意欲!BA31:BL31))","v":""},{"$f":"IF(COUNT(消費意欲!BB31:BM31)<>12,\"\",AVERAGE(消費意欲!BB31:BM31))","v":""},{"$f":"IF(COUNT(消費意欲!BC31:BN31)<>12,\"\",AVERAGE(消費意欲!BC31:BN31))","v":""},{"$f":"IF(COUNT(消費意欲!BD31:BO31)<>12,\"\",AVERAGE(消費意欲!BD31:BO31))","v":""},{"$f":"IF(COUNT(消費意欲!BE31:BP31)<>12,\"\",AVERAGE(消費意欲!BE31:BP31))","v":""},{"$f":"IF(COUNT(消費意欲!BF31:BQ31)<>12,\"\",AVERAGE(消費意欲!BF31:BQ31))","v":""},{"$f":"IF(COUNT(消費意欲!BG31:BR31)<>12,\"\",AVERAGE(消費意欲!BG31:BR31))","v":""},{"$f":"IF(COUNT(消費意欲!BH31:BS31)<>12,\"\",AVERAGE(消費意欲!BH31:BS31))","v":""},{"$f":"IF(COUNT(消費意欲!BI31:BT31)<>12,\"\",AVERAGE(消費意欲!BI31:BT31))","v":""},{"$f":"IF(COUNT(消費意欲!BJ31:BU31)<>12,\"\",AVERAGE(消費意欲!BJ31:BU31))","v":""},{"$f":"IF(COUNT(消費意欲!BK31:BV31)<>12,\"\",AVERAGE(消費意欲!BK31:BV31))","v":""},{"$f":"IF(COUNT(消費意欲!BL31:BW31)<>12,\"\",AVERAGE(消費意欲!BL31:BW31))","v":""},{"$f":"IF(COUNT(消費意欲!BM31:BX31)<>12,\"\",AVERAGE(消費意欲!BM31:BX31))","v":""},{"$f":"IF(COUNT(消費意欲!BN31:BY31)<>12,\"\",AVERAGE(消費意欲!BN31:BY31))","v":""},{"$f":"IF(COUNT(消費意欲!BO31:BZ31)<>12,\"\",AVERAGE(消費意欲!BO31:BZ31))","v":""},{"$f":"IF(COUNT(消費意欲!BP31:CA31)<>12,\"\",AVERAGE(消費意欲!BP31:CA31))","v":""},{"$f":"IF(COUNT(消費意欲!BQ31:CB31)<>12,\"\",AVERAGE(消費意欲!BQ31:CB31))","v":""},{"$f":"IF(COUNT(消費意欲!BR31:CC31)<>12,\"\",AVERAGE(消費意欲!BR31:CC31))","v":""},{"$f":"IF(COUNT(消費意欲!BS31:CD31)<>12,\"\",AVERAGE(消費意欲!BS31:CD31))","v":""},{"$f":"IF(COUNT(消費意欲!BT31:CE31)<>12,\"\",AVERAGE(消費意欲!BT31:CE31))","v":""},{"$f":"IF(COUNT(消費意欲!BU31:CF31)<>12,\"\",AVERAGE(消費意欲!BU31:CF31))","v":""},{"$f":"IF(COUNT(消費意欲!BV31:CG31)<>12,\"\",AVERAGE(消費意欲!BV31:CG31))","v":""},{"$f":"IF(COUNT(消費意欲!BW31:CH31)<>12,\"\",AVERAGE(消費意欲!BW31:CH31))","v":""},{"$f":"IF(COUNT(消費意欲!BX31:CI31)<>12,\"\",AVERAGE(消費意欲!BX31:CI31))","v":""},{"$f":"IF(COUNT(消費意欲!BY31:CJ31)<>12,\"\",AVERAGE(消費意欲!BY31:CJ31))","v":""},{"$f":"IF(COUNT(消費意欲!BZ31:CK31)<>12,\"\",AVERAGE(消費意欲!BZ31:CK31))","v":""},{"$f":"IF(COUNT(消費意欲!CA31:CL31)<>12,\"\",AVERAGE(消費意欲!CA31:CL31))","v":""},{"$f":"IF(COUNT(消費意欲!CB31:CM31)<>12,\"\",AVERAGE(消費意欲!CB31:CM31))","v":""},{"$f":"IF(COUNT(消費意欲!CC31:CN31)<>12,\"\",AVERAGE(消費意欲!CC31:CN31))","v":""},{"$f":"IF(COUNT(消費意欲!CD31:CO31)<>12,\"\",AVERAGE(消費意欲!CD31:CO31))","v":""},{"$f":"IF(COUNT(消費意欲!CE31:CP31)<>12,\"\",AVERAGE(消費意欲!CE31:CP31))","v":""},{"$f":"IF(COUNT(消費意欲!CF31:CQ31)<>12,\"\",AVERAGE(消費意欲!CF31:CQ31))","v":""},{"$f":"IF(COUNT(消費意欲!CG31:CR31)<>12,\"\",AVERAGE(消費意欲!CG31:CR31))","v":""},{"$f":"IF(COUNT(消費意欲!CH31:CS31)<>12,\"\",AVERAGE(消費意欲!CH31:CS31))","v":""},{"$f":"IF(COUNT(消費意欲!CI31:CT31)<>12,\"\",AVERAGE(消費意欲!CI31:CT31))","v":""},{"$f":"IF(COUNT(消費意欲!CJ31:CU31)<>12,\"\",AVERAGE(消費意欲!CJ31:CU31))","v":""},{"$f":"IF(COUNT(消費意欲!CK31:CV31)<>12,\"\",AVERAGE(消費意欲!CK31:CV31))","v":""},{"$f":"IF(COUNT(消費意欲!CL31:CW31)<>12,\"\",AVERAGE(消費意欲!CL31:CW31))","v":""},{"$f":"IF(COUNT(消費意欲!CM31:CX31)<>12,\"\",AVERAGE(消費意欲!CM31:CX31))","v":""},{"$f":"IF(COUNT(消費意欲!CN31:CY31)<>12,\"\",AVERAGE(消費意欲!CN31:CY31))","v":""},{"$f":"IF(COUNT(消費意欲!CO31:CZ31)<>12,\"\",AVERAGE(消費意欲!CO31:CZ31))","v":""},{"$f":"IF(COUNT(消費意欲!CP31:DA31)<>12,\"\",AVERAGE(消費意欲!CP31:DA31))","v":""},{"$f":"IF(COUNT(消費意欲!CQ31:DB31)<>12,\"\",AVERAGE(消費意欲!CQ31:DB31))","v":""},{"$f":"IF(COUNT(消費意欲!CR31:DC31)<>12,\"\",AVERAGE(消費意欲!CR31:DC31))","v":""},{"$f":"IF(COUNT(消費意欲!CS31:DD31)<>12,\"\",AVERAGE(消費意欲!CS31:DD31))","v":""},{"$f":"IF(COUNT(消費意欲!CT31:DE31)<>12,\"\",AVERAGE(消費意欲!CT31:DE31))","v":""},{"$f":"IF(COUNT(消費意欲!CU31:DF31)<>12,\"\",AVERAGE(消費意欲!CU31:DF31))","v":""},{"$f":"IF(COUNT(消費意欲!CV31:DG31)<>12,\"\",AVERAGE(消費意欲!CV31:DG31))","v":""}]
[null,null,"男性／名古屋40km圏",null,null,null,null,null,null,null,null,null,null,null,null,null,null,null,{"$f":"IF(COUNT(消費意欲!H32:S32)<>12,\"\",AVERAGE(消費意欲!H32:S32))","v":47.443333333333328},{"$f":"IF(COUNT(消費意欲!I32:T32)<>12,\"\",AVERAGE(消費意欲!I32:T32))","v":47.608333333333341},{"$f":"IF(COUNT(消費意欲!J32:U32)<>12,\"\",AVERAGE(消費意欲!J32:U32))","v":47.205000000000005},{"$f":"IF(COUNT(消費意欲!K32:V32)<>12,\"\",AVERAGE(消費意欲!K32:V32))","v":46.968333333333334},{"$f":"IF(COUNT(消費意欲!L32:W32)<>12,\"\",AVERAGE(消費意欲!L32:W32))","v":46.554166666666667},{"$f":"IF(COUNT(消費意欲!M32:X32)<>12,\"\",AVERAGE(消費意欲!M32:X32))","v":46.36249999999999},{"$f":"IF(COUNT(消費意欲!N32:Y32)<>12,\"\",AVERAGE(消費意欲!N32:Y32))","v":46.414999999999999},{"$f":"IF(COUNT(消費意欲!O32:Z32)<>12,\"\",AVERAGE(消費意欲!O32:Z32))","v":46.392500000000005},{"$f":"IF(COUNT(消費意欲!P32:AA32)<>12,\"\",AVERAGE(消費意欲!P32:AA32))","v":46.57833333333334},{"$f":"IF(COUNT(消費意欲!Q32:AB32)<>12,\"\",AVERAGE(消費意欲!Q32:AB32))","v":46.594166666666666},{"$f":"IF(COUNT(消費意欲!R32:AC32)<>12,\"\",AVERAGE(消費意欲!R32:AC32))","v":46.917499999999997},{"$f":"IF(COUNT(消費意欲!S32:AD32)<>12,\"\",AVERAGE(消費意欲!S32:AD32))","v":47.158333333333331},{"$f":"IF(COUNT(消費意欲!T32:AE32)<>12,\"\",AVERAGE(消費意欲!T32:AE32))","v":47.058333333333337},{"$f":"IF(COUNT(消費意欲!U32:AF32)<>12,\"\",AVERAGE(消費意欲!U32:AF32))","v":46.847500000000004},{"$f":"IF(COUNT(消費意欲!V32:AG32)<>12,\"\",AVERAGE(消費意欲!V32:AG32))","v":46.825833333333328},{"$f":"IF(COUNT(消費意欲!W32:AH32)<>12,\"\",AVERAGE(消費意欲!W32:AH32))","v":46.430833333333332},{"$f":"IF(COUNT(消費意欲!X32:AI32)<>12,\"\",AVERAGE(消費意欲!X32:AI32))","v":46.505833333333328},{"$f":"IF(COUNT(消費意欲!Y32:AJ32)<>12,\"\",AVERAGE(消費意欲!Y32:AJ32))","v":46.554166666666667},{"$f":"IF(COUNT(消費意欲!Z32:AK32)<>12,\"\",AVERAGE(消費意欲!Z32:AK32))","v":46.348333333333322},{"$f":"IF(COUNT(消費意欲!AA32:AL32)<>12,\"\",AVERAGE(消費意欲!AA32:AL32))","v":46.488333333333323},{"$f":"IF(COUNT(消費意欲!AB32:AM32)<>12,\"\",AVERAGE(消費意欲!AB32:AM32))","v":46.150833333333331},{"$f":"IF(COUNT(消費意欲!AC32:AN32)<>12,\"\",AVERAGE(消費意欲!AC32:AN32))","v":45.603333333333332},{"$f":"IF(COUNT(消費意欲!AD32:AO32)<>12,\"\",AVERAGE(消費意欲!AD32:AO32))","v":45.103333333333332},{"$f":"IF(COUNT(消費意欲!AE32:AP32)<>12,\"\",AVERAGE(消費意欲!AE32:AP32))","v":44.910833333333336},{"$f":"IF(COUNT(消費意欲!AF32:AQ32)<>12,\"\",AVERAGE(消費意欲!AF32:AQ32))","v":44.911666666666669},{"$f":"IF(COUNT(消費意欲!AG32:AR32)<>12,\"\",AVERAGE(消費意欲!AG32:AR32))","v":45.261666666666663},{"$f":"IF(COUNT(消費意欲!AH32:AS32)<>12,\"\",AVERAGE(消費意欲!AH32:AS32))","v":45.068333333333335},{"$f":"IF(COUNT(消費意欲!AI32:AT32)<>12,\"\",AVERAGE(消費意欲!AI32:AT32))","v":45.38750000000001},{"$f":"IF(COUNT(消費意欲!AJ32:AU32)<>12,\"\",AVERAGE(消費意欲!AJ32:AU32))","v":45.380833333333335},{"$f":"IF(COUNT(消費意欲!AK32:AV32)<>12,\"\",AVERAGE(消費意欲!AK32:AV32))","v":45.180833333333332},{"$f":"IF(COUNT(消費意欲!AL32:AW32)<>12,\"\",AVERAGE(消費意欲!AL32:AW32))","v":45.400833333333338},{"$f":"IF(COUNT(消費意欲!AM32:AX32)<>12,\"\",AVERAGE(消費意欲!AM32:AX32))","v":45.227499999999999},{"$f":"IF(COUNT(消費意欲!AN32:AY32)<>12,\"\",AVERAGE(消費意欲!AN32:AY32))","v":45.25},{"$f":"IF(COUNT(消費意欲!AO32:AZ32)<>12,\"\",AVERAGE(消費意欲!AO32:AZ32))","v":45.680833333333332},{"$f":"IF(COUNT(消費意欲!AP32:BA32)<>12,\"\",AVERAGE(消費意欲!AP32:BA32))","v":45.785000000000004},{"$f":"IF(COUNT(消費意欲!AQ32:BB32)<>12,\"\",AVERAGE(消費意欲!AQ32:BB32))","v":45.319999999999993},{"$f":"IF(COUNT(消費意欲!AR32:BC32)<>12,\"\",AVERAGE(消費意欲!AR32:BC32))","v":45.498333333333335},{"$f":"IF(COUNT(消費意欲!AS32:BD32)<>12,\"\",AVERAGE(消費意欲!AS32:BD32))","v":45.311666666666667},{"$f":"IF(COUNT(消費意欲!AT32:BE32)<>12,\"\",AVERAGE(消費意欲!AT32:BE32))","v":""},{"$f":"IF(COUNT(消費意欲!AU32:BF32)<>12,\"\",AVERAGE(消費意欲!AU32:BF32))","v":""},{"$f":"IF(COUNT(消費意欲!AV32:BG32)<>12,\"\",AVERAGE(消費意欲!AV32:BG32))","v":""},{"$f":"IF(COUNT(消費意欲!AW32:BH32)<>12,\"\",AVERAGE(消費意欲!AW32:BH32))","v":""},{"$f":"IF(COUNT(消費意欲!AX32:BI32)<>12,\"\",AVERAGE(消費意欲!AX32:BI32))","v":""},{"$f":"IF(COUNT(消費意欲!AY32:BJ32)<>12,\"\",AVERAGE(消費意欲!AY32:BJ32))","v":""},{"$f":"IF(COUNT(消費意欲!AZ32:BK32)<>12,\"\",AVERAGE(消費意欲!AZ32:BK32))","v":""},{"$f":"IF(COUNT(消費意欲!BA32:BL32)<>12,\"\",AVERAGE(消費意欲!BA32:BL32))","v":""},{"$f":"IF(COUNT(消費意欲!BB32:BM32)<>12,\"\",AVERAGE(消費意欲!BB32:BM32))","v":""},{"$f":"IF(COUNT(消費意欲!BC32:BN32)<>12,\"\",AVERAGE(消費意欲!BC32:BN32))","v":""},{"$f":"IF(COUNT(消費意欲!BD32:BO32)<>12,\"\",AVERAGE(消費意欲!BD32:BO32))","v":""},{"$f":"IF(COUNT(消費意欲!BE32:BP32)<>12,\"\",AVERAGE(消費意欲!BE32:BP32))","v":""},{"$f":"IF(COUNT(消費意欲!BF32:BQ32)<>12,\"\",AVERAGE(消費意欲!BF32:BQ32))","v":""},{"$f":"IF(COUNT(消費意欲!BG32:BR32)<>12,\"\",AVERAGE(消費意欲!BG32:BR32))","v":""},{"$f":"IF(COUNT(消費意欲!BH32:BS32)<>12,\"\",AVERAGE(消費意欲!BH32:BS32))","v":""},{"$f":"IF(COUNT(消費意欲!BI32:BT32)<>12,\"\",AVERAGE(消費意欲!BI32:BT32))","v":""},{"$f":"IF(COUNT(消費意欲!BJ32:BU32)<>12,\"\",AVERAGE(消費意欲!BJ32:BU32))","v":""},{"$f":"IF(COUNT(消費意欲!BK32:BV32)<>12,\"\",AVERAGE(消費意欲!BK32:BV32))","v":""},{"$f":"IF(COUNT(消費意欲!BL32:BW32)<>12,\"\",AVERAGE(消費意欲!BL32:BW32))","v":""},{"$f":"IF(COUNT(消費意欲!BM32:BX32)<>12,\"\",AVERAGE(消費意欲!BM32:BX32))","v":""},{"$f":"IF(COUNT(消費意欲!BN32:BY32)<>12,\"\",AVERAGE(消費意欲!BN32:BY32))","v":""},{"$f":"IF(COUNT(消費意欲!BO32:BZ32)<>12,\"\",AVERAGE(消費意欲!BO32:BZ32))","v":""},{"$f":"IF(COUNT(消費意欲!BP32:CA32)<>12,\"\",AVERAGE(消費意欲!BP32:CA32))","v":""},{"$f":"IF(COUNT(消費意欲!BQ32:CB32)<>12,\"\",AVERAGE(消費意欲!BQ32:CB32))","v":""},{"$f":"IF(COUNT(消費意欲!BR32:CC32)<>12,\"\",AVERAGE(消費意欲!BR32:CC32))","v":""},{"$f":"IF(COUNT(消費意欲!BS32:CD32)<>12,\"\",AVERAGE(消費意欲!BS32:CD32))","v":""},{"$f":"IF(COUNT(消費意欲!BT32:CE32)<>12,\"\",AVERAGE(消費意欲!BT32:CE32))","v":""},{"$f":"IF(COUNT(消費意欲!BU32:CF32)<>12,\"\",AVERAGE(消費意欲!BU32:CF32))","v":""},{"$f":"IF(COUNT(消費意欲!BV32:CG32)<>12,\"\",AVERAGE(消費意欲!BV32:CG32))","v":""},{"$f":"IF(COUNT(消費意欲!BW32:CH32)<>12,\"\",AVERAGE(消費意欲!BW32:CH32))","v":""},{"$f":"IF(COUNT(消費意欲!BX32:CI32)<>12,\"\",AVERAGE(消費意欲!BX32:CI32))","v":""},{"$f":"IF(COUNT(消費意欲!BY32:CJ32)<>12,\"\",AVERAGE(消費意欲!BY32:CJ32))","v":""},{"$f":"IF(COUNT(消費意欲!BZ32:CK32)<>12,\"\",AVERAGE(消費意欲!BZ32:CK32))","v":""},{"$f":"IF(COUNT(消費意欲!CA32:CL32)<>12,\"\",AVERAGE(消費意欲!CA32:CL32))","v":""},{"$f":"IF(COUNT(消費意欲!CB32:CM32)<>12,\"\",AVERAGE(消費意欲!CB32:CM32))","v":""},{"$f":"IF(COUNT(消費意欲!CC32:CN32)<>12,\"\",AVERAGE(消費意欲!CC32:CN32))","v":""},{"$f":"IF(COUNT(消費意欲!CD32:CO32)<>12,\"\",AVERAGE(消費意欲!CD32:CO32))","v":""},{"$f":"IF(COUNT(消費意欲!CE32:CP32)<>12,\"\",AVERAGE(消費意欲!CE32:CP32))","v":""},{"$f":"IF(COUNT(消費意欲!CF32:CQ32)<>12,\"\",AVERAGE(消費意欲!CF32:CQ32))","v":""},{"$f":"IF(COUNT(消費意欲!CG32:CR32)<>12,\"\",AVERAGE(消費意欲!CG32:CR32))","v":""},{"$f":"IF(COUNT(消費意欲!CH32:CS32)<>12,\"\",AVERAGE(消費意欲!CH32:CS32))","v":""},{"$f":"IF(COUNT(消費意欲!CI32:CT32)<>12,\"\",AVERAGE(消費意欲!CI32:CT32))","v":""},{"$f":"IF(COUNT(消費意欲!CJ32:CU32)<>12,\"\",AVERAGE(消費意欲!CJ32:CU32))","v":""},{"$f":"IF(COUNT(消費意欲!CK32:CV32)<>12,\"\",AVERAGE(消費意欲!CK32:CV32))","v":""},{"$f":"IF(COUNT(消費意欲!CL32:CW32)<>12,\"\",AVERAGE(消費意欲!CL32:CW32))","v":""},{"$f":"IF(COUNT(消費意欲!CM32:CX32)<>12,\"\",AVERAGE(消費意欲!CM32:CX32))","v":""},{"$f":"IF(COUNT(消費意欲!CN32:CY32)<>12,\"\",AVERAGE(消費意欲!CN32:CY32))","v":""},{"$f":"IF(COUNT(消費意欲!CO32:CZ32)<>12,\"\",AVERAGE(消費意欲!CO32:CZ32))","v":""},{"$f":"IF(COUNT(消費意欲!CP32:DA32)<>12,\"\",AVERAGE(消費意欲!CP32:DA32))","v":""},{"$f":"IF(COUNT(消費意欲!CQ32:DB32)<>12,\"\",AVERAGE(消費意欲!CQ32:DB32))","v":""},{"$f":"IF(COUNT(消費意欲!CR32:DC32)<>12,\"\",AVERAGE(消費意欲!CR32:DC32))","v":""},{"$f":"IF(COUNT(消費意欲!CS32:DD32)<>12,\"\",AVERAGE(消費意欲!CS32:DD32))","v":""},{"$f":"IF(COUNT(消費意欲!CT32:DE32)<>12,\"\",AVERAGE(消費意欲!CT32:DE32))","v":""},{"$f":"IF(COUNT(消費意欲!CU32:DF32)<>12,\"\",AVERAGE(消費意欲!CU32:DF32))","v":""},{"$f":"IF(COUNT(消費意欲!CV32:DG32)<>12,\"\",AVERAGE(消費意欲!CV32:DG32))","v":""}]
[null,null,"男性／阪神30km圏",null,null,null,null,null,null,null,null,null,null,null,null,null,null,null,{"$f":"IF(COUNT(消費意欲!H33:S33)<>12,\"\",AVERAGE(消費意欲!H33:S33))","v":48.115833333333335},{"$f":"IF(COUNT(消費意欲!I33:T33)<>12,\"\",AVERAGE(消費意欲!I33:T33))","v":47.960000000000008},{"$f":"IF(COUNT(消費意欲!J33:U33)<>12,\"\",AVERAGE(消費意欲!J33:U33))","v":47.826666666666675},{"$f":"IF(COUNT(消費意欲!K33:V33)<>12,\"\",AVERAGE(消費意欲!K33:V33))","v":47.668333333333329},{"$f":"IF(COUNT(消費意欲!L33:W33)<>12,\"\",AVERAGE(消費意欲!L33:W33))","v":47.502499999999991},{"$f":"IF(COUNT(消費意欲!M33:X33)<>12,\"\",AVERAGE(消費意欲!M33:X33))","v":47.151666666666664},{"$f":"IF(COUNT(消費意欲!N33:Y33)<>12,\"\",AVERAGE(消費意欲!N33:Y33))","v":47.307499999999997},{"$f":"IF(COUNT(消費意欲!O33:Z33)<>12,\"\",AVERAGE(消費意欲!O33:Z33))","v":47.126666666666665},{"$f":"IF(COUNT(消費意欲!P33:AA33)<>12,\"\",AVERAGE(消費意欲!P33:AA33))","v":47.339166666666671},{"$f":"IF(COUNT(消費意欲!Q33:AB33)<>12,\"\",AVERAGE(消費意欲!Q33:AB33))","v":47.239999999999988},{"$f":"IF(COUNT(消費意欲!R33:AC33)<>12,\"\",AVERAGE(消費意欲!R33:AC33))","v":47.550833333333323},{"$f":"IF(COUNT(消費意欲!S33:AD33)<>12,\"\",AVERAGE(消費意欲!S33:AD33))","v":47.731666666666676},{"$f":"IF(COUNT(消費意欲!T33:AE33)<>12,\"\",AVERAGE(消費意欲!T33:AE33))","v":47.201666666666661},{"$f":"IF(COUNT(消費意欲!U33:AF33)<>12,\"\",AVERAGE(消費意欲!U33:AF33))","v":47.011666666666663},{"$f":"IF(COUNT(消費意欲!V33:AG33)<>12,\"\",AVERAGE(消費意欲!V33:AG33))","v":47.075833333333343},{"$f":"IF(COUNT(消費意欲!W33:AH33)<>12,\"\",AVERAGE(消費意欲!W33:AH33))","v":46.798333333333339},{"$f":"IF(COUNT(消費意欲!X33:AI33)<>12,\"\",AVERAGE(消費意欲!X33:AI33))","v":46.697500000000012},{"$f":"IF(COUNT(消費意欲!Y33:AJ33)<>12,\"\",AVERAGE(消費意欲!Y33:AJ33))","v":46.810833333333335},{"$f":"IF(COUNT(消費意欲!Z33:AK33)<>12,\"\",AVERAGE(消費意欲!Z33:AK33))","v":46.435000000000002},{"$f":"IF(COUNT(消費意欲!AA33:AL33)<>12,\"\",AVERAGE(消費意欲!AA33:AL33))","v":46.240833333333342},{"$f":"IF(COUNT(消費意欲!AB33:AM33)<>12,\"\",AVERAGE(消費意欲!AB33:AM33))","v":46.354999999999997},{"$f":"IF(COUNT(消費意欲!AC33:AN33)<>12,\"\",AVERAGE(消費意欲!AC33:AN33))","v":46.194999999999993},{"$f":"IF(COUNT(消費意欲!AD33:AO33)<>12,\"\",AVERAGE(消費意欲!AD33:AO33))","v":45.964166666666664},{"$f":"IF(COUNT(消費意欲!AE33:AP33)<>12,\"\",AVERAGE(消費意欲!AE33:AP33))","v":45.51},{"$f":"IF(COUNT(消費意欲!AF33:AQ33)<>12,\"\",AVERAGE(消費意欲!AF33:AQ33))","v":45.856666666666662},{"$f":"IF(COUNT(消費意欲!AG33:AR33)<>12,\"\",AVERAGE(消費意欲!AG33:AR33))","v":46.01},{"$f":"IF(COUNT(消費意欲!AH33:AS33)<>12,\"\",AVERAGE(消費意欲!AH33:AS33))","v":45.983333333333327},{"$f":"IF(COUNT(消費意欲!AI33:AT33)<>12,\"\",AVERAGE(消費意欲!AI33:AT33))","v":45.984999999999992},{"$f":"IF(COUNT(消費意欲!AJ33:AU33)<>12,\"\",AVERAGE(消費意欲!AJ33:AU33))","v":45.87833333333333},{"$f":"IF(COUNT(消費意欲!AK33:AV33)<>12,\"\",AVERAGE(消費意欲!AK33:AV33))","v":45.700833333333328},{"$f":"IF(COUNT(消費意欲!AL33:AW33)<>12,\"\",AVERAGE(消費意欲!AL33:AW33))","v":45.942499999999995},{"$f":"IF(COUNT(消費意欲!AM33:AX33)<>12,\"\",AVERAGE(消費意欲!AM33:AX33))","v":46.068333333333335},{"$f":"IF(COUNT(消費意欲!AN33:AY33)<>12,\"\",AVERAGE(消費意欲!AN33:AY33))","v":45.74},{"$f":"IF(COUNT(消費意欲!AO33:AZ33)<>12,\"\",AVERAGE(消費意欲!AO33:AZ33))","v":45.836666666666673},{"$f":"IF(COUNT(消費意欲!AP33:BA33)<>12,\"\",AVERAGE(消費意欲!AP33:BA33))","v":45.479166666666679},{"$f":"IF(COUNT(消費意欲!AQ33:BB33)<>12,\"\",AVERAGE(消費意欲!AQ33:BB33))","v":45.715833333333329},{"$f":"IF(COUNT(消費意欲!AR33:BC33)<>12,\"\",AVERAGE(消費意欲!AR33:BC33))","v":45.986666666666672},{"$f":"IF(COUNT(消費意欲!AS33:BD33)<>12,\"\",AVERAGE(消費意欲!AS33:BD33))","v":45.724166666666669},{"$f":"IF(COUNT(消費意欲!AT33:BE33)<>12,\"\",AVERAGE(消費意欲!AT33:BE33))","v":""},{"$f":"IF(COUNT(消費意欲!AU33:BF33)<>12,\"\",AVERAGE(消費意欲!AU33:BF33))","v":""},{"$f":"IF(COUNT(消費意欲!AV33:BG33)<>12,\"\",AVERAGE(消費意欲!AV33:BG33))","v":""},{"$f":"IF(COUNT(消費意欲!AW33:BH33)<>12,\"\",AVERAGE(消費意欲!AW33:BH33))","v":""},{"$f":"IF(COUNT(消費意欲!AX33:BI33)<>12,\"\",AVERAGE(消費意欲!AX33:BI33))","v":""},{"$f":"IF(COUNT(消費意欲!AY33:BJ33)<>12,\"\",AVERAGE(消費意欲!AY33:BJ33))","v":""},{"$f":"IF(COUNT(消費意欲!AZ33:BK33)<>12,\"\",AVERAGE(消費意欲!AZ33:BK33))","v":""},{"$f":"IF(COUNT(消費意欲!BA33:BL33)<>12,\"\",AVERAGE(消費意欲!BA33:BL33))","v":""},{"$f":"IF(COUNT(消費意欲!BB33:BM33)<>12,\"\",AVERAGE(消費意欲!BB33:BM33))","v":""},{"$f":"IF(COUNT(消費意欲!BC33:BN33)<>12,\"\",AVERAGE(消費意欲!BC33:BN33))","v":""},{"$f":"IF(COUNT(消費意欲!BD33:BO33)<>12,\"\",AVERAGE(消費意欲!BD33:BO33))","v":""},{"$f":"IF(COUNT(消費意欲!BE33:BP33)<>12,\"\",AVERAGE(消費意欲!BE33:BP33))","v":""},{"$f":"IF(COUNT(消費意欲!BF33:BQ33)<>12,\"\",AVERAGE(消費意欲!BF33:BQ33))","v":""},{"$f":"IF(COUNT(消費意欲!BG33:BR33)<>12,\"\",AVERAGE(消費意欲!BG33:BR33))","v":""},{"$f":"IF(COUNT(消費意欲!BH33:BS33)<>12,\"\",AVERAGE(消費意欲!BH33:BS33))","v":""},{"$f":"IF(COUNT(消費意欲!BI33:BT33)<>12,\"\",AVERAGE(消費意欲!BI33:BT33))","v":""},{"$f":"IF(COUNT(消費意欲!BJ33:BU33)<>12,\"\",AVERAGE(消費意欲!BJ33:BU33))","v":""},{"$f":"IF(COUNT(消費意欲!BK33:BV33)<>12,\"\",AVERAGE(消費意欲!BK33:BV33))","v":""},{"$f":"IF(COUNT(消費意欲!BL33:BW33)<>12,\"\",AVERAGE(消費意欲!BL33:BW33))","v":""},{"$f":"IF(COUNT(消費意欲!BM33:BX33)<>12,\"\",AVERAGE(消費意欲!BM33:BX33))","v":""},{"$f":"IF(COUNT(消費意欲!BN33:BY33)<>12,\"\",AVERAGE(消費意欲!BN33:BY33))","v":""},{"$f":"IF(COUNT(消費意欲!BO33:BZ33)<>12,\"\",AVERAGE(消費意欲!BO33:BZ33))","v":""},{"$f":"IF(COUNT(消費意欲!BP33:CA33)<>12,\"\",AVERAGE(消費意欲!BP33:CA33))","v":""},{"$f":"IF(COUNT(消費意欲!BQ33:CB33)<>12,\"\",AVERAGE(消費意欲!BQ33:CB33))","v":""},{"$f":"IF(COUNT(消費意欲!BR33:CC33)<>12,\"\",AVERAGE(消費意欲!BR33:CC33))","v":""},{"$f":"IF(COUNT(消費意欲!BS33:CD33)<>12,\"\",AVERAGE(消費意欲!BS33:CD33))","v":""},{"$f":"IF(COUNT(消費意欲!BT33:CE33)<>12,\"\",AVERAGE(消費意欲!BT33:CE33))","v":""},{"$f":"IF(COUNT(消費意欲!BU33:CF33)<>12,\"\",AVERAGE(消費意欲!BU33:CF33))","v":""},{"$f":"IF(COUNT(消費意欲!BV33:CG33)<>12,\"\",AVERAGE(消費意欲!BV33:CG33))","v":""},{"$f":"IF(COUNT(消費意欲!BW33:CH33)<>12,\"\",AVERAGE(消費意欲!BW33:CH33))","v":""},{"$f":"IF(COUNT(消費意欲!BX33:CI33)<>12,\"\",AVERAGE(消費意欲!BX33:CI33))","v":""},{"$f":"IF(COUNT(消費意欲!BY33:CJ33)<>12,\"\",AVERAGE(消費意欲!BY33:CJ33))","v":""},{"$f":"IF(COUNT(消費意欲!BZ33:CK33)<>12,\"\",AVERAGE(消費意欲!BZ33:CK33))","v":""},{"$f":"IF(COUNT(消費意欲!CA33:CL33)<>12,\"\",AVERAGE(消費意欲!CA33:CL33))","v":""},{"$f":"IF(COUNT(消費意欲!CB33:CM33)<>12,\"\",AVERAGE(消費意欲!CB33:CM33))","v":""},{"$f":"IF(COUNT(消費意欲!CC33:CN33)<>12,\"\",AVERAGE(消費意欲!CC33:CN33))","v":""},{"$f":"IF(COUNT(消費意欲!CD33:CO33)<>12,\"\",AVERAGE(消費意欲!CD33:CO33))","v":""},{"$f":"IF(COUNT(消費意欲!CE33:CP33)<>12,\"\",AVERAGE(消費意欲!CE33:CP33))","v":""},{"$f":"IF(COUNT(消費意欲!CF33:CQ33)<>12,\"\",AVERAGE(消費意欲!CF33:CQ33))","v":""},{"$f":"IF(COUNT(消費意欲!CG33:CR33)<>12,\"\",AVERAGE(消費意欲!CG33:CR33))","v":""},{"$f":"IF(COUNT(消費意欲!CH33:CS33)<>12,\"\",AVERAGE(消費意欲!CH33:CS33))","v":""},{"$f":"IF(COUNT(消費意欲!CI33:CT33)<>12,\"\",AVERAGE(消費意欲!CI33:CT33))","v":""},{"$f":"IF(COUNT(消費意欲!CJ33:CU33)<>12,\"\",AVERAGE(消費意欲!CJ33:CU33))","v":""},{"$f":"IF(COUNT(消費意欲!CK33:CV33)<>12,\"\",AVERAGE(消費意欲!CK33:CV33))","v":""},{"$f":"IF(COUNT(消費意欲!CL33:CW33)<>12,\"\",AVERAGE(消費意欲!CL33:CW33))","v":""},{"$f":"IF(COUNT(消費意欲!CM33:CX33)<>12,\"\",AVERAGE(消費意欲!CM33:CX33))","v":""},{"$f":"IF(COUNT(消費意欲!CN33:CY33)<>12,\"\",AVERAGE(消費意欲!CN33:CY33))","v":""},{"$f":"IF(COUNT(消費意欲!CO33:CZ33)<>12,\"\",AVERAGE(消費意欲!CO33:CZ33))","v":""},{"$f":"IF(COUNT(消費意欲!CP33:DA33)<>12,\"\",AVERAGE(消費意欲!CP33:DA33))","v":""},{"$f":"IF(COUNT(消費意欲!CQ33:DB33)<>12,\"\",AVERAGE(消費意欲!CQ33:DB33))","v":""},{"$f":"IF(COUNT(消費意欲!CR33:DC33)<>12,\"\",AVERAGE(消費意欲!CR33:DC33))","v":""},{"$f":"IF(COUNT(消費意欲!CS33:DD33)<>12,\"\",AVERAGE(消費意欲!CS33:DD33))","v":""},{"$f":"IF(COUNT(消費意欲!CT33:DE33)<>12,\"\",AVERAGE(消費意欲!CT33:DE33))","v":""},{"$f":"IF(COUNT(消費意欲!CU33:DF33)<>12,\"\",AVERAGE(消費意欲!CU33:DF33))","v":""},{"$f":"IF(COUNT(消費意欲!CV33:DG33)<>12,\"\",AVERAGE(消費意欲!CV33:DG33))","v":""}]
[null,null,"女性／首都40km圏",null,null,null,null,null,null,null,null,null,null,null,null,null,null,null,{"$f":"IF(COUNT(消費意欲!H34:S34)<>12,\"\",AVERAGE(消費意欲!H34:S34))","v":54.355833333333329},{"$f":"IF(COUNT(消費意欲!I34:T34)<>12,\"\",AVERAGE(消費意欲!I34:T34))","v":54.351666666666667},{"$f":"IF(COUNT(消費意欲!J34:U34)<>12,\"\",AVERAGE(消費意欲!J34:U34))","v":54.031666666666673},{"$f":"IF(COUNT(消費意欲!K34:V34)<>12,\"\",AVERAGE(消費意欲!K34:V34))","v":53.834166666666654},{"$f":"IF(COUNT(消費意欲!L34:W34)<>12,\"\",AVERAGE(消費意欲!L34:W34))","v":53.941666666666656},{"$f":"IF(COUNT(消費意欲!M34:X34)<>12,\"\",AVERAGE(消費意欲!M34:X34))","v":53.520833333333321},{"$f":"IF(COUNT(消費意欲!N34:Y34)<>12,\"\",AVERAGE(消費意欲!N34:Y34))","v":53.902500000000003},{"$f":"IF(COUNT(消費意欲!O34:Z34)<>12,\"\",AVERAGE(消費意欲!O34:Z34))","v":53.802500000000002},{"$f":"IF(COUNT(消費意欲!P34:AA34)<>12,\"\",AVERAGE(消費意欲!P34:AA34))","v":53.433333333333337},{"$f":"IF(COUNT(消費意欲!Q34:AB34)<>12,\"\",AVERAGE(消費意欲!Q34:AB34))","v":52.875833333333333},{"$f":"IF(COUNT(消費意欲!R34:AC34)<>12,\"\",AVERAGE(消費意欲!R34:AC34))","v":52.886666666666663},{"$f":"IF(COUNT(消費意欲!S34:AD34)<>12,\"\",AVERAGE(消費意欲!S34:AD34))","v":53.455833333333338},{"$f":"IF(COUNT(消費意欲!T34:AE34)<>12,\"\",AVERAGE(消費意欲!T34:AE34))","v":52.733333333333341},{"$f":"IF(COUNT(消費意欲!U34:AF34)<>12,\"\",AVERAGE(消費意欲!U34:AF34))","v":52.073333333333331},{"$f":"IF(COUNT(消費意欲!V34:AG34)<>12,\"\",AVERAGE(消費意欲!V34:AG34))","v":52.18333333333333},{"$f":"IF(COUNT(消費意欲!W34:AH34)<>12,\"\",AVERAGE(消費意欲!W34:AH34))","v":52.028333333333336},{"$f":"IF(COUNT(消費意欲!X34:AI34)<>12,\"\",AVERAGE(消費意欲!X34:AI34))","v":51.865833333333342},{"$f":"IF(COUNT(消費意欲!Y34:AJ34)<>12,\"\",AVERAGE(消費意欲!Y34:AJ34))","v":52.024166666666673},{"$f":"IF(COUNT(消費意欲!Z34:AK34)<>12,\"\",AVERAGE(消費意欲!Z34:AK34))","v":51.634999999999998},{"$f":"IF(COUNT(消費意欲!AA34:AL34)<>12,\"\",AVERAGE(消費意欲!AA34:AL34))","v":51.284166666666664},{"$f":"IF(COUNT(消費意欲!AB34:AM34)<>12,\"\",AVERAGE(消費意欲!AB34:AM34))","v":51.473333333333329},{"$f":"IF(COUNT(消費意欲!AC34:AN34)<>12,\"\",AVERAGE(消費意欲!AC34:AN34))","v":50.97999999999999},{"$f":"IF(COUNT(消費意欲!AD34:AO34)<>12,\"\",AVERAGE(消費意欲!AD34:AO34))","v":50.825833333333321},{"$f":"IF(COUNT(消費意欲!AE34:AP34)<>12,\"\",AVERAGE(消費意欲!AE34:AP34))","v":49.944166666666668},{"$f":"IF(COUNT(消費意欲!AF34:AQ34)<>12,\"\",AVERAGE(消費意欲!AF34:AQ34))","v":50.336666666666666},{"$f":"IF(COUNT(消費意欲!AG34:AR34)<>12,\"\",AVERAGE(消費意欲!AG34:AR34))","v":50.824166666666677},{"$f":"IF(COUNT(消費意欲!AH34:AS34)<>12,\"\",AVERAGE(消費意欲!AH34:AS34))","v":50.64083333333334},{"$f":"IF(COUNT(消費意欲!AI34:AT34)<>12,\"\",AVERAGE(消費意欲!AI34:AT34))","v":50.708333333333336},{"$f":"IF(COUNT(消費意欲!AJ34:AU34)<>12,\"\",AVERAGE(消費意欲!AJ34:AU34))","v":50.595833333333331},{"$f":"IF(COUNT(消費意欲!AK34:AV34)<>12,\"\",AVERAGE(消費意欲!AK34:AV34))","v":50.889166666666661},{"$f":"IF(COUNT(消費意欲!AL34:AW34)<>12,\"\",AVERAGE(消費意欲!AL34:AW34))","v":51.026666666666664},{"$f":"IF(COUNT(消費意欲!AM34:AX34)<>12,\"\",AVERAGE(消費意欲!AM34:AX34))","v":51.6175},{"$f":"IF(COUNT(消費意欲!AN34:AY34)<>12,\"\",AVERAGE(消費意欲!AN34:AY34))","v":51.73},{"$f":"IF(COUNT(消費意欲!AO34:AZ34)<>12,\"\",AVERAGE(消費意欲!AO34:AZ34))","v":52.230000000000011},{"$f":"IF(COUNT(消費意欲!AP34:BA34)<>12,\"\",AVERAGE(消費意欲!AP34:BA34))","v":52.135833333333331},{"$f":"IF(COUNT(消費意欲!AQ34:BB34)<>12,\"\",AVERAGE(消費意欲!AQ34:BB34))","v":51.865000000000002},{"$f":"IF(COUNT(消費意欲!AR34:BC34)<>12,\"\",AVERAGE(消費意欲!AR34:BC34))","v":51.730833333333344},{"$f":"IF(COUNT(消費意欲!AS34:BD34)<>12,\"\",AVERAGE(消費意欲!AS34:BD34))","v":51.689166666666665},{"$f":"IF(COUNT(消費意欲!AT34:BE34)<>12,\"\",AVERAGE(消費意欲!AT34:BE34))","v":""},{"$f":"IF(COUNT(消費意欲!AU34:BF34)<>12,\"\",AVERAGE(消費意欲!AU34:BF34))","v":""},{"$f":"IF(COUNT(消費意欲!AV34:BG34)<>12,\"\",AVERAGE(消費意欲!AV34:BG34))","v":""},{"$f":"IF(COUNT(消費意欲!AW34:BH34)<>12,\"\",AVERAGE(消費意欲!AW34:BH34))","v":""},{"$f":"IF(COUNT(消費意欲!AX34:BI34)<>12,\"\",AVERAGE(消費意欲!AX34:BI34))","v":""},{"$f":"IF(COUNT(消費意欲!AY34:BJ34)<>12,\"\",AVERAGE(消費意欲!AY34:BJ34))","v":""},{"$f":"IF(COUNT(消費意欲!AZ34:BK34)<>12,\"\",AVERAGE(消費意欲!AZ34:BK34))","v":""},{"$f":"IF(COUNT(消費意欲!BA34:BL34)<>12,\"\",AVERAGE(消費意欲!BA34:BL34))","v":""},{"$f":"IF(COUNT(消費意欲!BB34:BM34)<>12,\"\",AVERAGE(消費意欲!BB34:BM34))","v":""},{"$f":"IF(COUNT(消費意欲!BC34:BN34)<>12,\"\",AVERAGE(消費意欲!BC34:BN34))","v":""},{"$f":"IF(COUNT(消費意欲!BD34:BO34)<>12,\"\",AVERAGE(消費意欲!BD34:BO34))","v":""},{"$f":"IF(COUNT(消費意欲!BE34:BP34)<>12,\"\",AVERAGE(消費意欲!BE34:BP34))","v":""},{"$f":"IF(COUNT(消費意欲!BF34:BQ34)<>12,\"\",AVERAGE(消費意欲!BF34:BQ34))","v":""},{"$f":"IF(COUNT(消費意欲!BG34:BR34)<>12,\"\",AVERAGE(消費意欲!BG34:BR34))","v":""},{"$f":"IF(COUNT(消費意欲!BH34:BS34)<>12,\"\",AVERAGE(消費意欲!BH34:BS34))","v":""},{"$f":"IF(COUNT(消費意欲!BI34:BT34)<>12,\"\",AVERAGE(消費意欲!BI34:BT34))","v":""},{"$f":"IF(COUNT(消費意欲!BJ34:BU34)<>12,\"\",AVERAGE(消費意欲!BJ34:BU34))","v":""},{"$f":"IF(COUNT(消費意欲!BK34:BV34)<>12,\"\",AVERAGE(消費意欲!BK34:BV34))","v":""},{"$f":"IF(COUNT(消費意欲!BL34:BW34)<>12,\"\",AVERAGE(消費意欲!BL34:BW34))","v":""},{"$f":"IF(COUNT(消費意欲!BM34:BX34)<>12,\"\",AVERAGE(消費意欲!BM34:BX34))","v":""},{"$f":"IF(COUNT(消費意欲!BN34:BY34)<>12,\"\",AVERAGE(消費意欲!BN34:BY34))","v":""},{"$f":"IF(COUNT(消費意欲!BO34:BZ34)<>12,\"\",AVERAGE(消費意欲!BO34:BZ34))","v":""},{"$f":"IF(COUNT(消費意欲!BP34:CA34)<>12,\"\",AVERAGE(消費意欲!BP34:CA34))","v":""},{"$f":"IF(COUNT(消費意欲!BQ34:CB34)<>12,\"\",AVERAGE(消費意欲!BQ34:CB34))","v":""},{"$f":"IF(COUNT(消費意欲!BR34:CC34)<>12,\"\",AVERAGE(消費意欲!BR34:CC34))","v":""},{"$f":"IF(COUNT(消費意欲!BS34:CD34)<>12,\"\",AVERAGE(消費意欲!BS34:CD34))","v":""},{"$f":"IF(COUNT(消費意欲!BT34:CE34)<>12,\"\",AVERAGE(消費意欲!BT34:CE34))","v":""},{"$f":"IF(COUNT(消費意欲!BU34:CF34)<>12,\"\",AVERAGE(消費意欲!BU34:CF34))","v":""},{"$f":"IF(COUNT(消費意欲!BV34:CG34)<>12,\"\",AVERAGE(消費意欲!BV34:CG34))","v":""},{"$f":"IF(COUNT(消費意欲!BW34:CH34)<>12,\"\",AVERAGE(消費意欲!BW34:CH34))","v":""},{"$f":"IF(COUNT(消費意欲!BX34:CI34)<>12,\"\",AVERAGE(消費意欲!BX34:CI34))","v":""},{"$f":"IF(COUNT(消費意欲!BY34:CJ34)<>12,\"\",AVERAGE(消費意欲!BY34:CJ34))","v":""},{"$f":"IF(COUNT(消費意欲!BZ34:CK34)<>12,\"\",AVERAGE(消費意欲!BZ34:CK34))","v":""},{"$f":"IF(COUNT(消費意欲!CA34:CL34)<>12,\"\",AVERAGE(消費意欲!CA34:CL34))","v":""},{"$f":"IF(COUNT(消費意欲!CB34:CM34)<>12,\"\",AVERAGE(消費意欲!CB34:CM34))","v":""},{"$f":"IF(COUNT(消費意欲!CC34:CN34)<>12,\"\",AVERAGE(消費意欲!CC34:CN34))","v":""},{"$f":"IF(COUNT(消費意欲!CD34:CO34)<>12,\"\",AVERAGE(消費意欲!CD34:CO34))","v":""},{"$f":"IF(COUNT(消費意欲!CE34:CP34)<>12,\"\",AVERAGE(消費意欲!CE34:CP34))","v":""},{"$f":"IF(COUNT(消費意欲!CF34:CQ34)<>12,\"\",AVERAGE(消費意欲!CF34:CQ34))","v":""},{"$f":"IF(COUNT(消費意欲!CG34:CR34)<>12,\"\",AVERAGE(消費意欲!CG34:CR34))","v":""},{"$f":"IF(COUNT(消費意欲!CH34:CS34)<>12,\"\",AVERAGE(消費意欲!CH34:CS34))","v":""},{"$f":"IF(COUNT(消費意欲!CI34:CT34)<>12,\"\",AVERAGE(消費意欲!CI34:CT34))","v":""},{"$f":"IF(COUNT(消費意欲!CJ34:CU34)<>12,\"\",AVERAGE(消費意欲!CJ34:CU34))","v":""},{"$f":"IF(COUNT(消費意欲!CK34:CV34)<>12,\"\",AVERAGE(消費意欲!CK34:CV34))","v":""},{"$f":"IF(COUNT(消費意欲!CL34:CW34)<>12,\"\",AVERAGE(消費意欲!CL34:CW34))","v":""},{"$f":"IF(COUNT(消費意欲!CM34:CX34)<>12,\"\",AVERAGE(消費意欲!CM34:CX34))","v":""},{"$f":"IF(COUNT(消費意欲!CN34:CY34)<>12,\"\",AVERAGE(消費意欲!CN34:CY34))","v":""},{"$f":"IF(COUNT(消費意欲!CO34:CZ34)<>12,\"\",AVERAGE(消費意欲!CO34:CZ34))","v":""},{"$f":"IF(COUNT(消費意欲!CP34:DA34)<>12,\"\",AVERAGE(消費意欲!CP34:DA34))","v":""},{"$f":"IF(COUNT(消費意欲!CQ34:DB34)<>12,\"\",AVERAGE(消費意欲!CQ34:DB34))","v":""},{"$f":"IF(COUNT(消費意欲!CR34:DC34)<>12,\"\",AVERAGE(消費意欲!CR34:DC34))","v":""},{"$f":"IF(COUNT(消費意欲!CS34:DD34)<>12,\"\",AVERAGE(消費意欲!CS34:DD34))","v":""},{"$f":"IF(COUNT(消費意欲!CT34:DE34)<>12,\"\",AVERAGE(消費意欲!CT34:DE34))","v":""},{"$f":"IF(COUNT(消費意欲!CU34:DF34)<>12,\"\",AVERAGE(消費意欲!CU34:DF34))","v":""},{"$f":"IF(COUNT(消費意欲!CV34:DG34)<>12,\"\",AVERAGE(消費意欲!CV34:DG34))","v":""}]
[null,null,"女性／名古屋40km圏",null,null,null,null,null,null,null,null,null,null,null,null,null,null,null,{"$f":"IF(COUNT(消費意欲!H35:S35)<>12,\"\",AVERAGE(消費意欲!H35:S35))","v":53.939166666666665},{"$f":"IF(COUNT(消費意欲!I35:T35)<>12,\"\",AVERAGE(消費意欲!I35:T35))","v":53.893333333333324},{"$f":"IF(COUNT(消費意欲!J35:U35)<>12,\"\",AVERAGE(消費意欲!J35:U35))","v":53.859999999999992},{"$f":"IF(COUNT(消費意欲!K35:V35)<>12,\"\",AVERAGE(消費意欲!K35:V35))","v":53.5075},{"$f":"IF(COUNT(消費意欲!L35:W35)<>12,\"\",AVERAGE(消費意欲!L35:W35))","v":53.758333333333333},{"$f":"IF(COUNT(消費意欲!M35:X35)<>12,\"\",AVERAGE(消費意欲!M35:X35))","v":53.508333333333326},{"$f":"IF(COUNT(消費意欲!N35:Y35)<>12,\"\",AVERAGE(消費意欲!N35:Y35))","v":53.67833333333332},{"$f":"IF(COUNT(消費意欲!O35:Z35)<>12,\"\",AVERAGE(消費意欲!O35:Z35))","v":53.463333333333338},{"$f":"IF(COUNT(消費意欲!P35:AA35)<>12,\"\",AVERAGE(消費意欲!P35:AA35))","v":53.507499999999993},{"$f":"IF(COUNT(消費意欲!Q35:AB35)<>12,\"\",AVERAGE(消費意欲!Q35:AB35))","v":53.129166666666656},{"$f":"IF(COUNT(消費意欲!R35:AC35)<>12,\"\",AVERAGE(消費意欲!R35:AC35))","v":53.467499999999994},{"$f":"IF(COUNT(消費意欲!S35:AD35)<>12,\"\",AVERAGE(消費意欲!S35:AD35))","v":53.627499999999998},{"$f":"IF(COUNT(消費意欲!T35:AE35)<>12,\"\",AVERAGE(消費意欲!T35:AE35))","v":53.353333333333332},{"$f":"IF(COUNT(消費意欲!U35:AF35)<>12,\"\",AVERAGE(消費意欲!U35:AF35))","v":52.728333333333332},{"$f":"IF(COUNT(消費意欲!V35:AG35)<>12,\"\",AVERAGE(消費意欲!V35:AG35))","v":52.379999999999995},{"$f":"IF(COUNT(消費意欲!W35:AH35)<>12,\"\",AVERAGE(消費意欲!W35:AH35))","v":52.211666666666666},{"$f":"IF(COUNT(消費意欲!X35:AI35)<>12,\"\",AVERAGE(消費意欲!X35:AI35))","v":51.931666666666665},{"$f":"IF(COUNT(消費意欲!Y35:AJ35)<>12,\"\",AVERAGE(消費意欲!Y35:AJ35))","v":52.060833333333328},{"$f":"IF(COUNT(消費意欲!Z35:AK35)<>12,\"\",AVERAGE(消費意欲!Z35:AK35))","v":51.851666666666659},{"$f":"IF(COUNT(消費意欲!AA35:AL35)<>12,\"\",AVERAGE(消費意欲!AA35:AL35))","v":51.5075},{"$f":"IF(COUNT(消費意欲!AB35:AM35)<>12,\"\",AVERAGE(消費意欲!AB35:AM35))","v":51.630833333333328},{"$f":"IF(COUNT(消費意欲!AC35:AN35)<>12,\"\",AVERAGE(消費意欲!AC35:AN35))","v":51.489166666666669},{"$f":"IF(COUNT(消費意欲!AD35:AO35)<>12,\"\",AVERAGE(消費意欲!AD35:AO35))","v":51.164999999999999},{"$f":"IF(COUNT(消費意欲!AE35:AP35)<>12,\"\",AVERAGE(消費意欲!AE35:AP35))","v":50.377499999999998},{"$f":"IF(COUNT(消費意欲!AF35:AQ35)<>12,\"\",AVERAGE(消費意欲!AF35:AQ35))","v":50.573333333333323},{"$f":"IF(COUNT(消費意欲!AG35:AR35)<>12,\"\",AVERAGE(消費意欲!AG35:AR35))","v":51.222499999999997},{"$f":"IF(COUNT(消費意欲!AH35:AS35)<>12,\"\",AVERAGE(消費意欲!AH35:AS35))","v":51.2575},{"$f":"IF(COUNT(消費意欲!AI35:AT35)<>12,\"\",AVERAGE(消費意欲!AI35:AT35))","v":51.340833333333336},{"$f":"IF(COUNT(消費意欲!AJ35:AU35)<>12,\"\",AVERAGE(消費意欲!AJ35:AU35))","v":51.1175},{"$f":"IF(COUNT(消費意欲!AK35:AV35)<>12,\"\",AVERAGE(消費意欲!AK35:AV35))","v":50.989166666666655},{"$f":"IF(COUNT(消費意欲!AL35:AW35)<>12,\"\",AVERAGE(消費意欲!AL35:AW35))","v":51.279999999999994},{"$f":"IF(COUNT(消費意欲!AM35:AX35)<>12,\"\",AVERAGE(消費意欲!AM35:AX35))","v":51.62},{"$f":"IF(COUNT(消費意欲!AN35:AY35)<>12,\"\",AVERAGE(消費意欲!AN35:AY35))","v":51.509166666666665},{"$f":"IF(COUNT(消費意欲!AO35:AZ35)<>12,\"\",AVERAGE(消費意欲!AO35:AZ35))","v":51.661666666666662},{"$f":"IF(COUNT(消費意欲!AP35:BA35)<>12,\"\",AVERAGE(消費意欲!AP35:BA35))","v":51.659166666666664},{"$f":"IF(COUNT(消費意欲!AQ35:BB35)<>12,\"\",AVERAGE(消費意欲!AQ35:BB35))","v":51.669999999999995},{"$f":"IF(COUNT(消費意欲!AR35:BC35)<>12,\"\",AVERAGE(消費意欲!AR35:BC35))","v":51.585000000000008},{"$f":"IF(COUNT(消費意欲!AS35:BD35)<>12,\"\",AVERAGE(消費意欲!AS35:BD35))","v":51.260833333333352},{"$f":"IF(COUNT(消費意欲!AT35:BE35)<>12,\"\",AVERAGE(消費意欲!AT35:BE35))","v":""},{"$f":"IF(COUNT(消費意欲!AU35:BF35)<>12,\"\",AVERAGE(消費意欲!AU35:BF35))","v":""},{"$f":"IF(COUNT(消費意欲!AV35:BG35)<>12,\"\",AVERAGE(消費意欲!AV35:BG35))","v":""},{"$f":"IF(COUNT(消費意欲!AW35:BH35)<>12,\"\",AVERAGE(消費意欲!AW35:BH35))","v":""},{"$f":"IF(COUNT(消費意欲!AX35:BI35)<>12,\"\",AVERAGE(消費意欲!AX35:BI35))","v":""},{"$f":"IF(COUNT(消費意欲!AY35:BJ35)<>12,\"\",AVERAGE(消費意欲!AY35:BJ35))","v":""},{"$f":"IF(COUNT(消費意欲!AZ35:BK35)<>12,\"\",AVERAGE(消費意欲!AZ35:BK35))","v":""},{"$f":"IF(COUNT(消費意欲!BA35:BL35)<>12,\"\",AVERAGE(消費意欲!BA35:BL35))","v":""},{"$f":"IF(COUNT(消費意欲!BB35:BM35)<>12,\"\",AVERAGE(消費意欲!BB35:BM35))","v":""},{"$f":"IF(COUNT(消費意欲!BC35:BN35)<>12,\"\",AVERAGE(消費意欲!BC35:BN35))","v":""},{"$f":"IF(COUNT(消費意欲!BD35:BO35)<>12,\"\",AVERAGE(消費意欲!BD35:BO35))","v":""},{"$f":"IF(COUNT(消費意欲!BE35:BP35)<>12,\"\",AVERAGE(消費意欲!BE35:BP35))","v":""},{"$f":"IF(COUNT(消費意欲!BF35:BQ35)<>12,\"\",AVERAGE(消費意欲!BF35:BQ35))","v":""},{"$f":"IF(COUNT(消費意欲!BG35:BR35)<>12,\"\",AVERAGE(消費意欲!BG35:BR35))","v":""},{"$f":"IF(COUNT(消費意欲!BH35:BS35)<>12,\"\",AVERAGE(消費意欲!BH35:BS35))","v":""},{"$f":"IF(COUNT(消費意欲!BI35:BT35)<>12,\"\",AVERAGE(消費意欲!BI35:BT35))","v":""},{"$f":"IF(COUNT(消費意欲!BJ35:BU35)<>12,\"\",AVERAGE(消費意欲!BJ35:BU35))","v":""},{"$f":"IF(COUNT(消費意欲!BK35:BV35)<>12,\"\",AVERAGE(消費意欲!BK35:BV35))","v":""},{"$f":"IF(COUNT(消費意欲!BL35:BW35)<>12,\"\",AVERAGE(消費意欲!BL35:BW35))","v":""},{"$f":"IF(COUNT(消費意欲!BM35:BX35)<>12,\"\",AVERAGE(消費意欲!BM35:BX35))","v":""},{"$f":"IF(COUNT(消費意欲!BN35:BY35)<>12,\"\",AVERAGE(消費意欲!BN35:BY35))","v":""},{"$f":"IF(COUNT(消費意欲!BO35:BZ35)<>12,\"\",AVERAGE(消費意欲!BO35:BZ35))","v":""},{"$f":"IF(COUNT(消費意欲!BP35:CA35)<>12,\"\",AVERAGE(消費意欲!BP35:CA35))","v":""},{"$f":"IF(COUNT(消費意欲!BQ35:CB35)<>12,\"\",AVERAGE(消費意欲!BQ35:CB35))","v":""},{"$f":"IF(COUNT(消費意欲!BR35:CC35)<>12,\"\",AVERAGE(消費意欲!BR35:CC35))","v":""},{"$f":"IF(COUNT(消費意欲!BS35:CD35)<>12,\"\",AVERAGE(消費意欲!BS35:CD35))","v":""},{"$f":"IF(COUNT(消費意欲!BT35:CE35)<>12,\"\",AVERAGE(消費意欲!BT35:CE35))","v":""},{"$f":"IF(COUNT(消費意欲!BU35:CF35)<>12,\"\",AVERAGE(消費意欲!BU35:CF35))","v":""},{"$f":"IF(COUNT(消費意欲!BV35:CG35)<>12,\"\",AVERAGE(消費意欲!BV35:CG35))","v":""},{"$f":"IF(COUNT(消費意欲!BW35:CH35)<>12,\"\",AVERAGE(消費意欲!BW35:CH35))","v":""},{"$f":"IF(COUNT(消費意欲!BX35:CI35)<>12,\"\",AVERAGE(消費意欲!BX35:CI35))","v":""},{"$f":"IF(COUNT(消費意欲!BY35:CJ35)<>12,\"\",AVERAGE(消費意欲!BY35:CJ35))","v":""},{"$f":"IF(COUNT(消費意欲!BZ35:CK35)<>12,\"\",AVERAGE(消費意欲!BZ35:CK35))","v":""},{"$f":"IF(COUNT(消費意欲!CA35:CL35)<>12,\"\",AVERAGE(消費意欲!CA35:CL35))","v":""},{"$f":"IF(COUNT(消費意欲!CB35:CM35)<>12,\"\",AVERAGE(消費意欲!CB35:CM35))","v":""},{"$f":"IF(COUNT(消費意欲!CC35:CN35)<>12,\"\",AVERAGE(消費意欲!CC35:CN35))","v":""},{"$f":"IF(COUNT(消費意欲!CD35:CO35)<>12,\"\",AVERAGE(消費意欲!CD35:CO35))","v":""},{"$f":"IF(COUNT(消費意欲!CE35:CP35)<>12,\"\",AVERAGE(消費意欲!CE35:CP35))","v":""},{"$f":"IF(COUNT(消費意欲!CF35:CQ35)<>12,\"\",AVERAGE(消費意欲!CF35:CQ35))","v":""},{"$f":"IF(COUNT(消費意欲!CG35:CR35)<>12,\"\",AVERAGE(消費意欲!CG35:CR35))","v":""},{"$f":"IF(COUNT(消費意欲!CH35:CS35)<>12,\"\",AVERAGE(消費意欲!CH35:CS35))","v":""},{"$f":"IF(COUNT(消費意欲!CI35:CT35)<>12,\"\",AVERAGE(消費意欲!CI35:CT35))","v":""},{"$f":"IF(COUNT(消費意欲!CJ35:CU35)<>12,\"\",AVERAGE(消費意欲!CJ35:CU35))","v":""},{"$f":"IF(COUNT(消費意欲!CK35:CV35)<>12,\"\",AVERAGE(消費意欲!CK35:CV35))","v":""},{"$f":"IF(COUNT(消費意欲!CL35:CW35)<>12,\"\",AVERAGE(消費意欲!CL35:CW35))","v":""},{"$f":"IF(COUNT(消費意欲!CM35:CX35)<>12,\"\",AVERAGE(消費意欲!CM35:CX35))","v":""},{"$f":"IF(COUNT(消費意欲!CN35:CY35)<>12,\"\",AVERAGE(消費意欲!CN35:CY35))","v":""},{"$f":"IF(COUNT(消費意欲!CO35:CZ35)<>12,\"\",AVERAGE(消費意欲!CO35:CZ35))","v":""},{"$f":"IF(COUNT(消費意欲!CP35:DA35)<>12,\"\",AVERAGE(消費意欲!CP35:DA35))","v":""},{"$f":"IF(COUNT(消費意欲!CQ35:DB35)<>12,\"\",AVERAGE(消費意欲!CQ35:DB35))","v":""},{"$f":"IF(COUNT(消費意欲!CR35:DC35)<>12,\"\",AVERAGE(消費意欲!CR35:DC35))","v":""},{"$f":"IF(COUNT(消費意欲!CS35:DD35)<>12,\"\",AVERAGE(消費意欲!CS35:DD35))","v":""},{"$f":"IF(COUNT(消費意欲!CT35:DE35)<>12,\"\",AVERAGE(消費意欲!CT35:DE35))","v":""},{"$f":"IF(COUNT(消費意欲!CU35:DF35)<>12,\"\",AVERAGE(消費意欲!CU35:DF35))","v":""},{"$f":"IF(COUNT(消費意欲!CV35:DG35)<>12,\"\",AVERAGE(消費意欲!CV35:DG35))","v":""}]
[null,null,"女性／阪神30km圏",null,null,null,null,null,null,null,null,null,null,null,null,null,null,null,{"$f":"IF(COUNT(消費意欲!H36:S36)<>12,\"\",AVERAGE(消費意欲!H36:S36))","v":55.30916666666667},{"$f":"IF(COUNT(消費意欲!I36:T36)<>12,\"\",AVERAGE(消費意欲!I36:T36))","v":54.914166666666681},{"$f":"IF(COUNT(消費意欲!J36:U36)<>12,\"\",AVERAGE(消費意欲!J36:U36))","v":54.478333333333346},{"$f":"IF(COUNT(消費意欲!K36:V36)<>12,\"\",AVERAGE(消費意欲!K36:V36))","v":54.094999999999999},{"$f":"IF(COUNT(消費意欲!L36:W36)<>12,\"\",AVERAGE(消費意欲!L36:W36))","v":54.416666666666664},{"$f":"IF(COUNT(消費意欲!M36:X36)<>12,\"\",AVERAGE(消費意欲!M36:X36))","v":53.68},{"$f":"IF(COUNT(消費意欲!N36:Y36)<>12,\"\",AVERAGE(消費意欲!N36:Y36))","v":53.659166666666664},{"$f":"IF(COUNT(消費意欲!O36:Z36)<>12,\"\",AVERAGE(消費意欲!O36:Z36))","v":53.085833333333333},{"$f":"IF(COUNT(消費意欲!P36:AA36)<>12,\"\",AVERAGE(消費意欲!P36:AA36))","v":52.830833333333338},{"$f":"IF(COUNT(消費意欲!Q36:AB36)<>12,\"\",AVERAGE(消費意欲!Q36:AB36))","v":52.298333333333339},{"$f":"IF(COUNT(消費意欲!R36:AC36)<>12,\"\",AVERAGE(消費意欲!R36:AC36))","v":52.727499999999999},{"$f":"IF(COUNT(消費意欲!S36:AD36)<>12,\"\",AVERAGE(消費意欲!S36:AD36))","v":53.205000000000005},{"$f":"IF(COUNT(消費意欲!T36:AE36)<>12,\"\",AVERAGE(消費意欲!T36:AE36))","v":52.59},{"$f":"IF(COUNT(消費意欲!U36:AF36)<>12,\"\",AVERAGE(消費意欲!U36:AF36))","v":52.092500000000001},{"$f":"IF(COUNT(消費意欲!V36:AG36)<>12,\"\",AVERAGE(消費意欲!V36:AG36))","v":51.919166666666662},{"$f":"IF(COUNT(消費意欲!W36:AH36)<>12,\"\",AVERAGE(消費意欲!W36:AH36))","v":52.021666666666668},{"$f":"IF(COUNT(消費意欲!X36:AI36)<>12,\"\",AVERAGE(消費意欲!X36:AI36))","v":51.76583333333334},{"$f":"IF(COUNT(消費意欲!Y36:AJ36)<>12,\"\",AVERAGE(消費意欲!Y36:AJ36))","v":51.924166666666672},{"$f":"IF(COUNT(消費意欲!Z36:AK36)<>12,\"\",AVERAGE(消費意欲!Z36:AK36))","v":51.856666666666676},{"$f":"IF(COUNT(消費意欲!AA36:AL36)<>12,\"\",AVERAGE(消費意欲!AA36:AL36))","v":51.624166666666667},{"$f":"IF(COUNT(消費意欲!AB36:AM36)<>12,\"\",AVERAGE(消費意欲!AB36:AM36))","v":51.905833333333334},{"$f":"IF(COUNT(消費意欲!AC36:AN36)<>12,\"\",AVERAGE(消費意欲!AC36:AN36))","v":51.774999999999999},{"$f":"IF(COUNT(消費意欲!AD36:AO36)<>12,\"\",AVERAGE(消費意欲!AD36:AO36))","v":51.359166666666674},{"$f":"IF(COUNT(消費意欲!AE36:AP36)<>12,\"\",AVERAGE(消費意欲!AE36:AP36))","v":50.518333333333345},{"$f":"IF(COUNT(消費意欲!AF36:AQ36)<>12,\"\",AVERAGE(消費意欲!AF36:AQ36))","v":50.790000000000013},{"$f":"IF(COUNT(消費意欲!AG36:AR36)<>12,\"\",AVERAGE(消費意欲!AG36:AR36))","v":51.244166666666672},{"$f":"IF(COUNT(消費意欲!AH36:AS36)<>12,\"\",AVERAGE(消費意欲!AH36:AS36))","v":51.035000000000004},{"$f":"IF(COUNT(消費意欲!AI36:AT36)<>12,\"\",AVERAGE(消費意欲!AI36:AT36))","v":50.811666666666667},{"$f":"IF(COUNT(消費意欲!AJ36:AU36)<>12,\"\",AVERAGE(消費意欲!AJ36:AU36))","v":50.831666666666656},{"$f":"IF(COUNT(消費意欲!AK36:AV36)<>12,\"\",AVERAGE(消費意欲!AK36:AV36))","v":51.101666666666667},{"$f":"IF(COUNT(消費意欲!AL36:AW36)<>12,\"\",AVERAGE(消費意欲!AL36:AW36))","v":51.281666666666666},{"$f":"IF(COUNT(消費意欲!AM36:AX36)<>12,\"\",AVERAGE(消費意欲!AM36:AX36))","v":51.379166666666663},{"$f":"IF(COUNT(消費意欲!AN36:AY36)<>12,\"\",AVERAGE(消費意欲!AN36:AY36))","v":51.313333333333333},{"$f":"IF(COUNT(消費意欲!AO36:AZ36)<>12,\"\",AVERAGE(消費意欲!AO36:AZ36))","v":51.466666666666669},{"$f":"IF(COUNT(消費意欲!AP36:BA36)<>12,\"\",AVERAGE(消費意欲!AP36:BA36))","v":51.422500000000007},{"$f":"IF(COUNT(消費意欲!AQ36:BB36)<>12,\"\",AVERAGE(消費意欲!AQ36:BB36))","v":51.49},{"$f":"IF(COUNT(消費意欲!AR36:BC36)<>12,\"\",AVERAGE(消費意欲!AR36:BC36))","v":51.773333333333333},{"$f":"IF(COUNT(消費意欲!AS36:BD36)<>12,\"\",AVERAGE(消費意欲!AS36:BD36))","v":51.435833333333335},{"$f":"IF(COUNT(消費意欲!AT36:BE36)<>12,\"\",AVERAGE(消費意欲!AT36:BE36))","v":""},{"$f":"IF(COUNT(消費意欲!AU36:BF36)<>12,\"\",AVERAGE(消費意欲!AU36:BF36))","v":""},{"$f":"IF(COUNT(消費意欲!AV36:BG36)<>12,\"\",AVERAGE(消費意欲!AV36:BG36))","v":""},{"$f":"IF(COUNT(消費意欲!AW36:BH36)<>12,\"\",AVERAGE(消費意欲!AW36:BH36))","v":""},{"$f":"IF(COUNT(消費意欲!AX36:BI36)<>12,\"\",AVERAGE(消費意欲!AX36:BI36))","v":""},{"$f":"IF(COUNT(消費意欲!AY36:BJ36)<>12,\"\",AVERAGE(消費意欲!AY36:BJ36))","v":""},{"$f":"IF(COUNT(消費意欲!AZ36:BK36)<>12,\"\",AVERAGE(消費意欲!AZ36:BK36))","v":""},{"$f":"IF(COUNT(消費意欲!BA36:BL36)<>12,\"\",AVERAGE(消費意欲!BA36:BL36))","v":""},{"$f":"IF(COUNT(消費意欲!BB36:BM36)<>12,\"\",AVERAGE(消費意欲!BB36:BM36))","v":""},{"$f":"IF(COUNT(消費意欲!BC36:BN36)<>12,\"\",AVERAGE(消費意欲!BC36:BN36))","v":""},{"$f":"IF(COUNT(消費意欲!BD36:BO36)<>12,\"\",AVERAGE(消費意欲!BD36:BO36))","v":""},{"$f":"IF(COUNT(消費意欲!BE36:BP36)<>12,\"\",AVERAGE(消費意欲!BE36:BP36))","v":""},{"$f":"IF(COUNT(消費意欲!BF36:BQ36)<>12,\"\",AVERAGE(消費意欲!BF36:BQ36))","v":""},{"$f":"IF(COUNT(消費意欲!BG36:BR36)<>12,\"\",AVERAGE(消費意欲!BG36:BR36))","v":""},{"$f":"IF(COUNT(消費意欲!BH36:BS36)<>12,\"\",AVERAGE(消費意欲!BH36:BS36))","v":""},{"$f":"IF(COUNT(消費意欲!BI36:BT36)<>12,\"\",AVERAGE(消費意欲!BI36:BT36))","v":""},{"$f":"IF(COUNT(消費意欲!BJ36:BU36)<>12,\"\",AVERAGE(消費意欲!BJ36:BU36))","v":""},{"$f":"IF(COUNT(消費意欲!BK36:BV36)<>12,\"\",AVERAGE(消費意欲!BK36:BV36))","v":""},{"$f":"IF(COUNT(消費意欲!BL36:BW36)<>12,\"\",AVERAGE(消費意欲!BL36:BW36))","v":""},{"$f":"IF(COUNT(消費意欲!BM36:BX36)<>12,\"\",AVERAGE(消費意欲!BM36:BX36))","v":""},{"$f":"IF(COUNT(消費意欲!BN36:BY36)<>12,\"\",AVERAGE(消費意欲!BN36:BY36))","v":""},{"$f":"IF(COUNT(消費意欲!BO36:BZ36)<>12,\"\",AVERAGE(消費意欲!BO36:BZ36))","v":""},{"$f":"IF(COUNT(消費意欲!BP36:CA36)<>12,\"\",AVERAGE(消費意欲!BP36:CA36))","v":""},{"$f":"IF(COUNT(消費意欲!BQ36:CB36)<>12,\"\",AVERAGE(消費意欲!BQ36:CB36))","v":""},{"$f":"IF(COUNT(消費意欲!BR36:CC36)<>12,\"\",AVERAGE(消費意欲!BR36:CC36))","v":""},{"$f":"IF(COUNT(消費意欲!BS36:CD36)<>12,\"\",AVERAGE(消費意欲!BS36:CD36))","v":""},{"$f":"IF(COUNT(消費意欲!BT36:CE36)<>12,\"\",AVERAGE(消費意欲!BT36:CE36))","v":""},{"$f":"IF(COUNT(消費意欲!BU36:CF36)<>12,\"\",AVERAGE(消費意欲!BU36:CF36))","v":""},{"$f":"IF(COUNT(消費意欲!BV36:CG36)<>12,\"\",AVERAGE(消費意欲!BV36:CG36))","v":""},{"$f":"IF(COUNT(消費意欲!BW36:CH36)<>12,\"\",AVERAGE(消費意欲!BW36:CH36))","v":""},{"$f":"IF(COUNT(消費意欲!BX36:CI36)<>12,\"\",AVERAGE(消費意欲!BX36:CI36))","v":""},{"$f":"IF(COUNT(消費意欲!BY36:CJ36)<>12,\"\",AVERAGE(消費意欲!BY36:CJ36))","v":""},{"$f":"IF(COUNT(消費意欲!BZ36:CK36)<>12,\"\",AVERAGE(消費意欲!BZ36:CK36))","v":""},{"$f":"IF(COUNT(消費意欲!CA36:CL36)<>12,\"\",AVERAGE(消費意欲!CA36:CL36))","v":""},{"$f":"IF(COUNT(消費意欲!CB36:CM36)<>12,\"\",AVERAGE(消費意欲!CB36:CM36))","v":""},{"$f":"IF(COUNT(消費意欲!CC36:CN36)<>12,\"\",AVERAGE(消費意欲!CC36:CN36))","v":""},{"$f":"IF(COUNT(消費意欲!CD36:CO36)<>12,\"\",AVERAGE(消費意欲!CD36:CO36))","v":""},{"$f":"IF(COUNT(消費意欲!CE36:CP36)<>12,\"\",AVERAGE(消費意欲!CE36:CP36))","v":""},{"$f":"IF(COUNT(消費意欲!CF36:CQ36)<>12,\"\",AVERAGE(消費意欲!CF36:CQ36))","v":""},{"$f":"IF(COUNT(消費意欲!CG36:CR36)<>12,\"\",AVERAGE(消費意欲!CG36:CR36))","v":""},{"$f":"IF(COUNT(消費意欲!CH36:CS36)<>12,\"\",AVERAGE(消費意欲!CH36:CS36))","v":""},{"$f":"IF(COUNT(消費意欲!CI36:CT36)<>12,\"\",AVERAGE(消費意欲!CI36:CT36))","v":""},{"$f":"IF(COUNT(消費意欲!CJ36:CU36)<>12,\"\",AVERAGE(消費意欲!CJ36:CU36))","v":""},{"$f":"IF(COUNT(消費意欲!CK36:CV36)<>12,\"\",AVERAGE(消費意欲!CK36:CV36))","v":""},{"$f":"IF(COUNT(消費意欲!CL36:CW36)<>12,\"\",AVERAGE(消費意欲!CL36:CW36))","v":""},{"$f":"IF(COUNT(消費意欲!CM36:CX36)<>12,\"\",AVERAGE(消費意欲!CM36:CX36))","v":""},{"$f":"IF(COUNT(消費意欲!CN36:CY36)<>12,\"\",AVERAGE(消費意欲!CN36:CY36))","v":""},{"$f":"IF(COUNT(消費意欲!CO36:CZ36)<>12,\"\",AVERAGE(消費意欲!CO36:CZ36))","v":""},{"$f":"IF(COUNT(消費意欲!CP36:DA36)<>12,\"\",AVERAGE(消費意欲!CP36:DA36))","v":""},{"$f":"IF(COUNT(消費意欲!CQ36:DB36)<>12,\"\",AVERAGE(消費意欲!CQ36:DB36))","v":""},{"$f":"IF(COUNT(消費意欲!CR36:DC36)<>12,\"\",AVERAGE(消費意欲!CR36:DC36))","v":""},{"$f":"IF(COUNT(消費意欲!CS36:DD36)<>12,\"\",AVERAGE(消費意欲!CS36:DD36))","v":""},{"$f":"IF(COUNT(消費意欲!CT36:DE36)<>12,\"\",AVERAGE(消費意欲!CT36:DE36))","v":""},{"$f":"IF(COUNT(消費意欲!CU36:DF36)<>12,\"\",AVERAGE(消費意欲!CU36:DF36))","v":""},{"$f":"IF(COUNT(消費意欲!CV36:DG36)<>12,\"\",AVERAGE(消費意欲!CV36:DG36))","v":""}]
[null,"性別×有職無職別","男性／有職",null,null,null,null,null,null,null,null,null,null,null,null,null,null,null,{"$f":"IF(COUNT(消費意欲!H37:S37)<>12,\"\",AVERAGE(消費意欲!H37:S37))","v":47.880833333333335},{"$f":"IF(COUNT(消費意欲!I37:T37)<>12,\"\",AVERAGE(消費意欲!I37:T37))","v":47.817500000000003},{"$f":"IF(COUNT(消費意欲!J37:U37)<>12,\"\",AVERAGE(消費意欲!J37:U37))","v":47.670000000000009},{"$f":"IF(COUNT(消費意欲!K37:V37)<>12,\"\",AVERAGE(消費意欲!K37:V37))","v":47.470000000000006},{"$f":"IF(COUNT(消費意欲!L37:W37)<>12,\"\",AVERAGE(消費意欲!L37:W37))","v":47.462500000000006},{"$f":"IF(COUNT(消費意欲!M37:X37)<>12,\"\",AVERAGE(消費意欲!M37:X37))","v":47.079166666666673},{"$f":"IF(COUNT(消費意欲!N37:Y37)<>12,\"\",AVERAGE(消費意欲!N37:Y37))","v":47.17166666666666},{"$f":"IF(COUNT(消費意欲!O37:Z37)<>12,\"\",AVERAGE(消費意欲!O37:Z37))","v":47.1875},{"$f":"IF(COUNT(消費意欲!P37:AA37)<>12,\"\",AVERAGE(消費意欲!P37:AA37))","v":47.407499999999992},{"$f":"IF(COUNT(消費意欲!Q37:AB37)<>12,\"\",AVERAGE(消費意欲!Q37:AB37))","v":47.097499999999997},{"$f":"IF(COUNT(消費意欲!R37:AC37)<>12,\"\",AVERAGE(消費意欲!R37:AC37))","v":47.3125},{"$f":"IF(COUNT(消費意欲!S37:AD37)<>12,\"\",AVERAGE(消費意欲!S37:AD37))","v":47.535833333333329},{"$f":"IF(COUNT(消費意欲!T37:AE37)<>12,\"\",AVERAGE(消費意欲!T37:AE37))","v":47.217499999999994},{"$f":"IF(COUNT(消費意欲!U37:AF37)<>12,\"\",AVERAGE(消費意欲!U37:AF37))","v":47.1175},{"$f":"IF(COUNT(消費意欲!V37:AG37)<>12,\"\",AVERAGE(消費意欲!V37:AG37))","v":47.103333333333332},{"$f":"IF(COUNT(消費意欲!W37:AH37)<>12,\"\",AVERAGE(消費意欲!W37:AH37))","v":46.901666666666671},{"$f":"IF(COUNT(消費意欲!X37:AI37)<>12,\"\",AVERAGE(消費意欲!X37:AI37))","v":46.7575},{"$f":"IF(COUNT(消費意欲!Y37:AJ37)<>12,\"\",AVERAGE(消費意欲!Y37:AJ37))","v":46.877499999999998},{"$f":"IF(COUNT(消費意欲!Z37:AK37)<>12,\"\",AVERAGE(消費意欲!Z37:AK37))","v":46.636666666666663},{"$f":"IF(COUNT(消費意欲!AA37:AL37)<>12,\"\",AVERAGE(消費意欲!AA37:AL37))","v":46.554166666666667},{"$f":"IF(COUNT(消費意欲!AB37:AM37)<>12,\"\",AVERAGE(消費意欲!AB37:AM37))","v":46.57},{"$f":"IF(COUNT(消費意欲!AC37:AN37)<>12,\"\",AVERAGE(消費意欲!AC37:AN37))","v":46.532499999999999},{"$f":"IF(COUNT(消費意欲!AD37:AO37)<>12,\"\",AVERAGE(消費意欲!AD37:AO37))","v":46.167499999999997},{"$f":"IF(COUNT(消費意欲!AE37:AP37)<>12,\"\",AVERAGE(消費意欲!AE37:AP37))","v":45.675833333333337},{"$f":"IF(COUNT(消費意欲!AF37:AQ37)<>12,\"\",AVERAGE(消費意欲!AF37:AQ37))","v":45.74},{"$f":"IF(COUNT(消費意欲!AG37:AR37)<>12,\"\",AVERAGE(消費意欲!AG37:AR37))","v":45.921666666666674},{"$f":"IF(COUNT(消費意欲!AH37:AS37)<>12,\"\",AVERAGE(消費意欲!AH37:AS37))","v":45.785833333333336},{"$f":"IF(COUNT(消費意欲!AI37:AT37)<>12,\"\",AVERAGE(消費意欲!AI37:AT37))","v":45.948333333333331},{"$f":"IF(COUNT(消費意欲!AJ37:AU37)<>12,\"\",AVERAGE(消費意欲!AJ37:AU37))","v":45.79999999999999},{"$f":"IF(COUNT(消費意欲!AK37:AV37)<>12,\"\",AVERAGE(消費意欲!AK37:AV37))","v":45.678333333333335},{"$f":"IF(COUNT(消費意欲!AL37:AW37)<>12,\"\",AVERAGE(消費意欲!AL37:AW37))","v":45.898333333333333},{"$f":"IF(COUNT(消費意欲!AM37:AX37)<>12,\"\",AVERAGE(消費意欲!AM37:AX37))","v":45.909166666666664},{"$f":"IF(COUNT(消費意欲!AN37:AY37)<>12,\"\",AVERAGE(消費意欲!AN37:AY37))","v":45.716666666666661},{"$f":"IF(COUNT(消費意欲!AO37:AZ37)<>12,\"\",AVERAGE(消費意欲!AO37:AZ37))","v":45.789166666666667},{"$f":"IF(COUNT(消費意欲!AP37:BA37)<>12,\"\",AVERAGE(消費意欲!AP37:BA37))","v":45.633333333333333},{"$f":"IF(COUNT(消費意欲!AQ37:BB37)<>12,\"\",AVERAGE(消費意欲!AQ37:BB37))","v":45.698333333333331},{"$f":"IF(COUNT(消費意欲!AR37:BC37)<>12,\"\",AVERAGE(消費意欲!AR37:BC37))","v":45.801666666666669},{"$f":"IF(COUNT(消費意欲!AS37:BD37)<>12,\"\",AVERAGE(消費意欲!AS37:BD37))","v":45.605000000000011},{"$f":"IF(COUNT(消費意欲!AT37:BE37)<>12,\"\",AVERAGE(消費意欲!AT37:BE37))","v":""},{"$f":"IF(COUNT(消費意欲!AU37:BF37)<>12,\"\",AVERAGE(消費意欲!AU37:BF37))","v":""},{"$f":"IF(COUNT(消費意欲!AV37:BG37)<>12,\"\",AVERAGE(消費意欲!AV37:BG37))","v":""},{"$f":"IF(COUNT(消費意欲!AW37:BH37)<>12,\"\",AVERAGE(消費意欲!AW37:BH37))","v":""},{"$f":"IF(COUNT(消費意欲!AX37:BI37)<>12,\"\",AVERAGE(消費意欲!AX37:BI37))","v":""},{"$f":"IF(COUNT(消費意欲!AY37:BJ37)<>12,\"\",AVERAGE(消費意欲!AY37:BJ37))","v":""},{"$f":"IF(COUNT(消費意欲!AZ37:BK37)<>12,\"\",AVERAGE(消費意欲!AZ37:BK37))","v":""},{"$f":"IF(COUNT(消費意欲!BA37:BL37)<>12,\"\",AVERAGE(消費意欲!BA37:BL37))","v":""},{"$f":"IF(COUNT(消費意欲!BB37:BM37)<>12,\"\",AVERAGE(消費意欲!BB37:BM37))","v":""},{"$f":"IF(COUNT(消費意欲!BC37:BN37)<>12,\"\",AVERAGE(消費意欲!BC37:BN37))","v":""},{"$f":"IF(COUNT(消費意欲!BD37:BO37)<>12,\"\",AVERAGE(消費意欲!BD37:BO37))","v":""},{"$f":"IF(COUNT(消費意欲!BE37:BP37)<>12,\"\",AVERAGE(消費意欲!BE37:BP37))","v":""},{"$f":"IF(COUNT(消費意欲!BF37:BQ37)<>12,\"\",AVERAGE(消費意欲!BF37:BQ37))","v":""},{"$f":"IF(COUNT(消費意欲!BG37:BR37)<>12,\"\",AVERAGE(消費意欲!BG37:BR37))","v":""},{"$f":"IF(COUNT(消費意欲!BH37:BS37)<>12,\"\",AVERAGE(消費意欲!BH37:BS37))","v":""},{"$f":"IF(COUNT(消費意欲!BI37:BT37)<>12,\"\",AVERAGE(消費意欲!BI37:BT37))","v":""},{"$f":"IF(COUNT(消費意欲!BJ37:BU37)<>12,\"\",AVERAGE(消費意欲!BJ37:BU37))","v":""},{"$f":"IF(COUNT(消費意欲!BK37:BV37)<>12,\"\",AVERAGE(消費意欲!BK37:BV37))","v":""},{"$f":"IF(COUNT(消費意欲!BL37:BW37)<>12,\"\",AVERAGE(消費意欲!BL37:BW37))","v":""},{"$f":"IF(COUNT(消費意欲!BM37:BX37)<>12,\"\",AVERAGE(消費意欲!BM37:BX37))","v":""},{"$f":"IF(COUNT(消費意欲!BN37:BY37)<>12,\"\",AVERAGE(消費意欲!BN37:BY37))","v":""},{"$f":"IF(COUNT(消費意欲!BO37:BZ37)<>12,\"\",AVERAGE(消費意欲!BO37:BZ37))","v":""},{"$f":"IF(COUNT(消費意欲!BP37:CA37)<>12,\"\",AVERAGE(消費意欲!BP37:CA37))","v":""},{"$f":"IF(COUNT(消費意欲!BQ37:CB37)<>12,\"\",AVERAGE(消費意欲!BQ37:CB37))","v":""},{"$f":"IF(COUNT(消費意欲!BR37:CC37)<>12,\"\",AVERAGE(消費意欲!BR37:CC37))","v":""},{"$f":"IF(COUNT(消費意欲!BS37:CD37)<>12,\"\",AVERAGE(消費意欲!BS37:CD37))","v":""},{"$f":"IF(COUNT(消費意欲!BT37:CE37)<>12,\"\",AVERAGE(消費意欲!BT37:CE37))","v":""},{"$f":"IF(COUNT(消費意欲!BU37:CF37)<>12,\"\",AVERAGE(消費意欲!BU37:CF37))","v":""},{"$f":"IF(COUNT(消費意欲!BV37:CG37)<>12,\"\",AVERAGE(消費意欲!BV37:CG37))","v":""},{"$f":"IF(COUNT(消費意欲!BW37:CH37)<>12,\"\",AVERAGE(消費意欲!BW37:CH37))","v":""},{"$f":"IF(COUNT(消費意欲!BX37:CI37)<>12,\"\",AVERAGE(消費意欲!BX37:CI37))","v":""},{"$f":"IF(COUNT(消費意欲!BY37:CJ37)<>12,\"\",AVERAGE(消費意欲!BY37:CJ37))","v":""},{"$f":"IF(COUNT(消費意欲!BZ37:CK37)<>12,\"\",AVERAGE(消費意欲!BZ37:CK37))","v":""},{"$f":"IF(COUNT(消費意欲!CA37:CL37)<>12,\"\",AVERAGE(消費意欲!CA37:CL37))","v":""},{"$f":"IF(COUNT(消費意欲!CB37:CM37)<>12,\"\",AVERAGE(消費意欲!CB37:CM37))","v":""},{"$f":"IF(COUNT(消費意欲!CC37:CN37)<>12,\"\",AVERAGE(消費意欲!CC37:CN37))","v":""},{"$f":"IF(COUNT(消費意欲!CD37:CO37)<>12,\"\",AVERAGE(消費意欲!CD37:CO37))","v":""},{"$f":"IF(COUNT(消費意欲!CE37:CP37)<>12,\"\",AVERAGE(消費意欲!CE37:CP37))","v":""},{"$f":"IF(COUNT(消費意欲!CF37:CQ37)<>12,\"\",AVERAGE(消費意欲!CF37:CQ37))","v":""},{"$f":"IF(COUNT(消費意欲!CG37:CR37)<>12,\"\",AVERAGE(消費意欲!CG37:CR37))","v":""},{"$f":"IF(COUNT(消費意欲!CH37:CS37)<>12,\"\",AVERAGE(消費意欲!CH37:CS37))","v":""},{"$f":"IF(COUNT(消費意欲!CI37:CT37)<>12,\"\",AVERAGE(消費意欲!CI37:CT37))","v":""},{"$f":"IF(COUNT(消費意欲!CJ37:CU37)<>12,\"\",AVERAGE(消費意欲!CJ37:CU37))","v":""},{"$f":"IF(COUNT(消費意欲!CK37:CV37)<>12,\"\",AVERAGE(消費意欲!CK37:CV37))","v":""},{"$f":"IF(COUNT(消費意欲!CL37:CW37)<>12,\"\",AVERAGE(消費意欲!CL37:CW37))","v":""},{"$f":"IF(COUNT(消費意欲!CM37:CX37)<>12,\"\",AVERAGE(消費意欲!CM37:CX37))","v":""},{"$f":"IF(COUNT(消費意欲!CN37:CY37)<>12,\"\",AVERAGE(消費意欲!CN37:CY37))","v":""},{"$f":"IF(COUNT(消費意欲!CO37:CZ37)<>12,\"\",AVERAGE(消費意欲!CO37:CZ37))","v":""},{"$f":"IF(COUNT(消費意欲!CP37:DA37)<>12,\"\",AVERAGE(消費意欲!CP37:DA37))","v":""},{"$f":"IF(COUNT(消費意欲!CQ37:DB37)<>12,\"\",AVERAGE(消費意欲!CQ37:DB37))","v":""},{"$f":"IF(COUNT(消費意欲!CR37:DC37)<>12,\"\",AVERAGE(消費意欲!CR37:DC37))","v":""},{"$f":"IF(COUNT(消費意欲!CS37:DD37)<>12,\"\",AVERAGE(消費意欲!CS37:DD37))","v":""},{"$f":"IF(COUNT(消費意欲!CT37:DE37)<>12,\"\",AVERAGE(消費意欲!CT37:DE37))","v":""},{"$f":"IF(COUNT(消費意欲!CU37:DF37)<>12,\"\",AVERAGE(消費意欲!CU37:DF37))","v":""},{"$f":"IF(COUNT(消費意欲!CV37:DG37)<>12,\"\",AVERAGE(消費意欲!CV37:DG37))","v":""}]
[null,null,"女性／有職",null,null,null,null,null,null,null,null,null,null,null,null,null,null,null,{"$f":"IF(COUNT(消費意欲!H38:S38)<>12,\"\",AVERAGE(消費意欲!H38:S38))","v":54.282499999999999},{"$f":"IF(COUNT(消費意欲!I38:T38)<>12,\"\",AVERAGE(消費意欲!I38:T38))","v":54.016666666666673},{"$f":"IF(COUNT(消費意欲!J38:U38)<>12,\"\",AVERAGE(消費意欲!J38:U38))","v":53.869166666666672},{"$f":"IF(COUNT(消費意欲!K38:V38)<>12,\"\",AVERAGE(消費意欲!K38:V38))","v":53.442500000000003},{"$f":"IF(COUNT(消費意欲!L38:W38)<>12,\"\",AVERAGE(消費意欲!L38:W38))","v":53.529166666666661},{"$f":"IF(COUNT(消費意欲!M38:X38)<>12,\"\",AVERAGE(消費意欲!M38:X38))","v":53.222499999999997},{"$f":"IF(COUNT(消費意欲!N38:Y38)<>12,\"\",AVERAGE(消費意欲!N38:Y38))","v":53.400833333333338},{"$f":"IF(COUNT(消費意欲!O38:Z38)<>12,\"\",AVERAGE(消費意欲!O38:Z38))","v":53.186666666666675},{"$f":"IF(COUNT(消費意欲!P38:AA38)<>12,\"\",AVERAGE(消費意欲!P38:AA38))","v":53.033333333333339},{"$f":"IF(COUNT(消費意欲!Q38:AB38)<>12,\"\",AVERAGE(消費意欲!Q38:AB38))","v":52.646666666666668},{"$f":"IF(COUNT(消費意欲!R38:AC38)<>12,\"\",AVERAGE(消費意欲!R38:AC38))","v":52.977499999999999},{"$f":"IF(COUNT(消費意欲!S38:AD38)<>12,\"\",AVERAGE(消費意欲!S38:AD38))","v":53.50333333333333},{"$f":"IF(COUNT(消費意欲!T38:AE38)<>12,\"\",AVERAGE(消費意欲!T38:AE38))","v":52.874999999999993},{"$f":"IF(COUNT(消費意欲!U38:AF38)<>12,\"\",AVERAGE(消費意欲!U38:AF38))","v":52.282499999999999},{"$f":"IF(COUNT(消費意欲!V38:AG38)<>12,\"\",AVERAGE(消費意欲!V38:AG38))","v":52.044999999999995},{"$f":"IF(COUNT(消費意欲!W38:AH38)<>12,\"\",AVERAGE(消費意欲!W38:AH38))","v":52.027499999999996},{"$f":"IF(COUNT(消費意欲!X38:AI38)<>12,\"\",AVERAGE(消費意欲!X38:AI38))","v":51.790833333333332},{"$f":"IF(COUNT(消費意欲!Y38:AJ38)<>12,\"\",AVERAGE(消費意欲!Y38:AJ38))","v":51.92833333333332},{"$f":"IF(COUNT(消費意欲!Z38:AK38)<>12,\"\",AVERAGE(消費意欲!Z38:AK38))","v":51.828333333333326},{"$f":"IF(COUNT(消費意欲!AA38:AL38)<>12,\"\",AVERAGE(消費意欲!AA38:AL38))","v":51.474999999999994},{"$f":"IF(COUNT(消費意欲!AB38:AM38)<>12,\"\",AVERAGE(消費意欲!AB38:AM38))","v":51.603333333333332},{"$f":"IF(COUNT(消費意欲!AC38:AN38)<>12,\"\",AVERAGE(消費意欲!AC38:AN38))","v":51.369999999999983},{"$f":"IF(COUNT(消費意欲!AD38:AO38)<>12,\"\",AVERAGE(消費意欲!AD38:AO38))","v":51.074166666666663},{"$f":"IF(COUNT(消費意欲!AE38:AP38)<>12,\"\",AVERAGE(消費意欲!AE38:AP38))","v":50.252499999999998},{"$f":"IF(COUNT(消費意欲!AF38:AQ38)<>12,\"\",AVERAGE(消費意欲!AF38:AQ38))","v":50.616666666666667},{"$f":"IF(COUNT(消費意欲!AG38:AR38)<>12,\"\",AVERAGE(消費意欲!AG38:AR38))","v":51.128333333333337},{"$f":"IF(COUNT(消費意欲!AH38:AS38)<>12,\"\",AVERAGE(消費意欲!AH38:AS38))","v":51.040833333333332},{"$f":"IF(COUNT(消費意欲!AI38:AT38)<>12,\"\",AVERAGE(消費意欲!AI38:AT38))","v":51.02},{"$f":"IF(COUNT(消費意欲!AJ38:AU38)<>12,\"\",AVERAGE(消費意欲!AJ38:AU38))","v":50.949166666666663},{"$f":"IF(COUNT(消費意欲!AK38:AV38)<>12,\"\",AVERAGE(消費意欲!AK38:AV38))","v":51.118333333333332},{"$f":"IF(COUNT(消費意欲!AL38:AW38)<>12,\"\",AVERAGE(消費意欲!AL38:AW38))","v":51.345833333333324},{"$f":"IF(COUNT(消費意欲!AM38:AX38)<>12,\"\",AVERAGE(消費意欲!AM38:AX38))","v":51.505833333333328},{"$f":"IF(COUNT(消費意欲!AN38:AY38)<>12,\"\",AVERAGE(消費意欲!AN38:AY38))","v":51.655833333333334},{"$f":"IF(COUNT(消費意欲!AO38:AZ38)<>12,\"\",AVERAGE(消費意欲!AO38:AZ38))","v":51.836666666666673},{"$f":"IF(COUNT(消費意欲!AP38:BA38)<>12,\"\",AVERAGE(消費意欲!AP38:BA38))","v":51.640000000000008},{"$f":"IF(COUNT(消費意欲!AQ38:BB38)<>12,\"\",AVERAGE(消費意欲!AQ38:BB38))","v":51.710833333333341},{"$f":"IF(COUNT(消費意欲!AR38:BC38)<>12,\"\",AVERAGE(消費意欲!AR38:BC38))","v":51.76583333333334},{"$f":"IF(COUNT(消費意欲!AS38:BD38)<>12,\"\",AVERAGE(消費意欲!AS38:BD38))","v":51.678333333333335},{"$f":"IF(COUNT(消費意欲!AT38:BE38)<>12,\"\",AVERAGE(消費意欲!AT38:BE38))","v":""},{"$f":"IF(COUNT(消費意欲!AU38:BF38)<>12,\"\",AVERAGE(消費意欲!AU38:BF38))","v":""},{"$f":"IF(COUNT(消費意欲!AV38:BG38)<>12,\"\",AVERAGE(消費意欲!AV38:BG38))","v":""},{"$f":"IF(COUNT(消費意欲!AW38:BH38)<>12,\"\",AVERAGE(消費意欲!AW38:BH38))","v":""},{"$f":"IF(COUNT(消費意欲!AX38:BI38)<>12,\"\",AVERAGE(消費意欲!AX38:BI38))","v":""},{"$f":"IF(COUNT(消費意欲!AY38:BJ38)<>12,\"\",AVERAGE(消費意欲!AY38:BJ38))","v":""},{"$f":"IF(COUNT(消費意欲!AZ38:BK38)<>12,\"\",AVERAGE(消費意欲!AZ38:BK38))","v":""},{"$f":"IF(COUNT(消費意欲!BA38:BL38)<>12,\"\",AVERAGE(消費意欲!BA38:BL38))","v":""},{"$f":"IF(COUNT(消費意欲!BB38:BM38)<>12,\"\",AVERAGE(消費意欲!BB38:BM38))","v":""},{"$f":"IF(COUNT(消費意欲!BC38:BN38)<>12,\"\",AVERAGE(消費意欲!BC38:BN38))","v":""},{"$f":"IF(COUNT(消費意欲!BD38:BO38)<>12,\"\",AVERAGE(消費意欲!BD38:BO38))","v":""},{"$f":"IF(COUNT(消費意欲!BE38:BP38)<>12,\"\",AVERAGE(消費意欲!BE38:BP38))","v":""},{"$f":"IF(COUNT(消費意欲!BF38:BQ38)<>12,\"\",AVERAGE(消費意欲!BF38:BQ38))","v":""},{"$f":"IF(COUNT(消費意欲!BG38:BR38)<>12,\"\",AVERAGE(消費意欲!BG38:BR38))","v":""},{"$f":"IF(COUNT(消費意欲!BH38:BS38)<>12,\"\",AVERAGE(消費意欲!BH38:BS38))","v":""},{"$f":"IF(COUNT(消費意欲!BI38:BT38)<>12,\"\",AVERAGE(消費意欲!BI38:BT38))","v":""},{"$f":"IF(COUNT(消費意欲!BJ38:BU38)<>12,\"\",AVERAGE(消費意欲!BJ38:BU38))","v":""},{"$f":"IF(COUNT(消費意欲!BK38:BV38)<>12,\"\",AVERAGE(消費意欲!BK38:BV38))","v":""},{"$f":"IF(COUNT(消費意欲!BL38:BW38)<>12,\"\",AVERAGE(消費意欲!BL38:BW38))","v":""},{"$f":"IF(COUNT(消費意欲!BM38:BX38)<>12,\"\",AVERAGE(消費意欲!BM38:BX38))","v":""},{"$f":"IF(COUNT(消費意欲!BN38:BY38)<>12,\"\",AVERAGE(消費意欲!BN38:BY38))","v":""},{"$f":"IF(COUNT(消費意欲!BO38:BZ38)<>12,\"\",AVERAGE(消費意欲!BO38:BZ38))","v":""},{"$f":"IF(COUNT(消費意欲!BP38:CA38)<>12,\"\",AVERAGE(消費意欲!BP38:CA38))","v":""},{"$f":"IF(COUNT(消費意欲!BQ38:CB38)<>12,\"\",AVERAGE(消費意欲!BQ38:CB38))","v":""},{"$f":"IF(COUNT(消費意欲!BR38:CC38)<>12,\"\",AVERAGE(消費意欲!BR38:CC38))","v":""},{"$f":"IF(COUNT(消費意欲!BS38:CD38)<>12,\"\",AVERAGE(消費意欲!BS38:CD38))","v":""},{"$f":"IF(COUNT(消費意欲!BT38:CE38)<>12,\"\",AVERAGE(消費意欲!BT38:CE38))","v":""},{"$f":"IF(COUNT(消費意欲!BU38:CF38)<>12,\"\",AVERAGE(消費意欲!BU38:CF38))","v":""},{"$f":"IF(COUNT(消費意欲!BV38:CG38)<>12,\"\",AVERAGE(消費意欲!BV38:CG38))","v":""},{"$f":"IF(COUNT(消費意欲!BW38:CH38)<>12,\"\",AVERAGE(消費意欲!BW38:CH38))","v":""},{"$f":"IF(COUNT(消費意欲!BX38:CI38)<>12,\"\",AVERAGE(消費意欲!BX38:CI38))","v":""},{"$f":"IF(COUNT(消費意欲!BY38:CJ38)<>12,\"\",AVERAGE(消費意欲!BY38:CJ38))","v":""},{"$f":"IF(COUNT(消費意欲!BZ38:CK38)<>12,\"\",AVERAGE(消費意欲!BZ38:CK38))","v":""},{"$f":"IF(COUNT(消費意欲!CA38:CL38)<>12,\"\",AVERAGE(消費意欲!CA38:CL38))","v":""},{"$f":"IF(COUNT(消費意欲!CB38:CM38)<>12,\"\",AVERAGE(消費意欲!CB38:CM38))","v":""},{"$f":"IF(COUNT(消費意欲!CC38:CN38)<>12,\"\",AVERAGE(消費意欲!CC38:CN38))","v":""},{"$f":"IF(COUNT(消費意欲!CD38:CO38)<>12,\"\",AVERAGE(消費意欲!CD38:CO38))","v":""},{"$f":"IF(COUNT(消費意欲!CE38:CP38)<>12,\"\",AVERAGE(消費意欲!CE38:CP38))","v":""},{"$f":"IF(COUNT(消費意欲!CF38:CQ38)<>12,\"\",AVERAGE(消費意欲!CF38:CQ38))","v":""},{"$f":"IF(COUNT(消費意欲!CG38:CR38)<>12,\"\",AVERAGE(消費意欲!CG38:CR38))","v":""},{"$f":"IF(COUNT(消費意欲!CH38:CS38)<>12,\"\",AVERAGE(消費意欲!CH38:CS38))","v":""},{"$f":"IF(COUNT(消費意欲!CI38:CT38)<>12,\"\",AVERAGE(消費意欲!CI38:CT38))","v":""},{"$f":"IF(COUNT(消費意欲!CJ38:CU38)<>12,\"\",AVERAGE(消費意欲!CJ38:CU38))","v":""},{"$f":"IF(COUNT(消費意欲!CK38:CV38)<>12,\"\",AVERAGE(消費意欲!CK38:CV38))","v":""},{"$f":"IF(COUNT(消費意欲!CL38:CW38)<>12,\"\",AVERAGE(消費意欲!CL38:CW38))","v":""},{"$f":"IF(COUNT(消費意欲!CM38:CX38)<>12,\"\",AVERAGE(消費意欲!CM38:CX38))","v":""},{"$f":"IF(COUNT(消費意欲!CN38:CY38)<>12,\"\",AVERAGE(消費意欲!CN38:CY38))","v":""},{"$f":"IF(COUNT(消費意欲!CO38:CZ38)<>12,\"\",AVERAGE(消費意欲!CO38:CZ38))","v":""},{"$f":"IF(COUNT(消費意欲!CP38:DA38)<>12,\"\",AVERAGE(消費意欲!CP38:DA38))","v":""},{"$f":"IF(COUNT(消費意欲!CQ38:DB38)<>12,\"\",AVERAGE(消費意欲!CQ38:DB38))","v":""},{"$f":"IF(COUNT(消費意欲!CR38:DC38)<>12,\"\",AVERAGE(消費意欲!CR38:DC38))","v":""},{"$f":"IF(COUNT(消費意欲!CS38:DD38)<>12,\"\",AVERAGE(消費意欲!CS38:DD38))","v":""},{"$f":"IF(COUNT(消費意欲!CT38:DE38)<>12,\"\",AVERAGE(消費意欲!CT38:DE38))","v":""},{"$f":"IF(COUNT(消費意欲!CU38:DF38)<>12,\"\",AVERAGE(消費意欲!CU38:DF38))","v":""},{"$f":"IF(COUNT(消費意欲!CV38:DG38)<>12,\"\",AVERAGE(消費意欲!CV38:DG38))","v":""}]
[null,null,"男性／無職",null,null,null,null,null,null,null,null,null,null,null,null,null,null,null,{"$f":"IF(COUNT(消費意欲!H39:S39)<>12,\"\",AVERAGE(消費意欲!H39:S39))","v":47.806666666666665},{"$f":"IF(COUNT(消費意欲!I39:T39)<>12,\"\",AVERAGE(消費意欲!I39:T39))","v":47.835000000000001},{"$f":"IF(COUNT(消費意欲!J39:U39)<>12,\"\",AVERAGE(消費意欲!J39:U39))","v":47.234999999999992},{"$f":"IF(COUNT(消費意欲!K39:V39)<>12,\"\",AVERAGE(消費意欲!K39:V39))","v":46.856666666666662},{"$f":"IF(COUNT(消費意欲!L39:W39)<>12,\"\",AVERAGE(消費意欲!L39:W39))","v":46.497499999999995},{"$f":"IF(COUNT(消費意欲!M39:X39)<>12,\"\",AVERAGE(消費意欲!M39:X39))","v":46.094166666666666},{"$f":"IF(COUNT(消費意欲!N39:Y39)<>12,\"\",AVERAGE(消費意欲!N39:Y39))","v":46.348333333333329},{"$f":"IF(COUNT(消費意欲!O39:Z39)<>12,\"\",AVERAGE(消費意欲!O39:Z39))","v":45.904166666666669},{"$f":"IF(COUNT(消費意欲!P39:AA39)<>12,\"\",AVERAGE(消費意欲!P39:AA39))","v":45.889999999999993},{"$f":"IF(COUNT(消費意欲!Q39:AB39)<>12,\"\",AVERAGE(消費意欲!Q39:AB39))","v":45.702499999999993},{"$f":"IF(COUNT(消費意欲!R39:AC39)<>12,\"\",AVERAGE(消費意欲!R39:AC39))","v":46.342499999999994},{"$f":"IF(COUNT(消費意欲!S39:AD39)<>12,\"\",AVERAGE(消費意欲!S39:AD39))","v":46.403333333333329},{"$f":"IF(COUNT(消費意欲!T39:AE39)<>12,\"\",AVERAGE(消費意欲!T39:AE39))","v":46.364166666666655},{"$f":"IF(COUNT(消費意欲!U39:AF39)<>12,\"\",AVERAGE(消費意欲!U39:AF39))","v":46.262499999999996},{"$f":"IF(COUNT(消費意欲!V39:AG39)<>12,\"\",AVERAGE(消費意欲!V39:AG39))","v":46.037500000000001},{"$f":"IF(COUNT(消費意欲!W39:AH39)<>12,\"\",AVERAGE(消費意欲!W39:AH39))","v":45.826666666666675},{"$f":"IF(COUNT(消費意欲!X39:AI39)<>12,\"\",AVERAGE(消費意欲!X39:AI39))","v":46.127499999999998},{"$f":"IF(COUNT(消費意欲!Y39:AJ39)<>12,\"\",AVERAGE(消費意欲!Y39:AJ39))","v":46.407499999999992},{"$f":"IF(COUNT(消費意欲!Z39:AK39)<>12,\"\",AVERAGE(消費意欲!Z39:AK39))","v":46.301666666666655},{"$f":"IF(COUNT(消費意欲!AA39:AL39)<>12,\"\",AVERAGE(消費意欲!AA39:AL39))","v":46.233333333333327},{"$f":"IF(COUNT(消費意欲!AB39:AM39)<>12,\"\",AVERAGE(消費意欲!AB39:AM39))","v":46.165833333333332},{"$f":"IF(COUNT(消費意欲!AC39:AN39)<>12,\"\",AVERAGE(消費意欲!AC39:AN39))","v":46.077499999999993},{"$f":"IF(COUNT(消費意欲!AD39:AO39)<>12,\"\",AVERAGE(消費意欲!AD39:AO39))","v":45.434999999999995},{"$f":"IF(COUNT(消費意欲!AE39:AP39)<>12,\"\",AVERAGE(消費意欲!AE39:AP39))","v":45.277500000000003},{"$f":"IF(COUNT(消費意欲!AF39:AQ39)<>12,\"\",AVERAGE(消費意欲!AF39:AQ39))","v":45.42166666666666},{"$f":"IF(COUNT(消費意欲!AG39:AR39)<>12,\"\",AVERAGE(消費意欲!AG39:AR39))","v":45.319166666666668},{"$f":"IF(COUNT(消費意欲!AH39:AS39)<>12,\"\",AVERAGE(消費意欲!AH39:AS39))","v":45.218333333333334},{"$f":"IF(COUNT(消費意欲!AI39:AT39)<>12,\"\",AVERAGE(消費意欲!AI39:AT39))","v":45.396666666666668},{"$f":"IF(COUNT(消費意欲!AJ39:AU39)<>12,\"\",AVERAGE(消費意欲!AJ39:AU39))","v":45.430833333333339},{"$f":"IF(COUNT(消費意欲!AK39:AV39)<>12,\"\",AVERAGE(消費意欲!AK39:AV39))","v":45.152500000000003},{"$f":"IF(COUNT(消費意欲!AL39:AW39)<>12,\"\",AVERAGE(消費意欲!AL39:AW39))","v":45.143333333333338},{"$f":"IF(COUNT(消費意欲!AM39:AX39)<>12,\"\",AVERAGE(消費意欲!AM39:AX39))","v":45.393333333333345},{"$f":"IF(COUNT(消費意欲!AN39:AY39)<>12,\"\",AVERAGE(消費意欲!AN39:AY39))","v":45.245833333333337},{"$f":"IF(COUNT(消費意欲!AO39:AZ39)<>12,\"\",AVERAGE(消費意欲!AO39:AZ39))","v":45.164999999999999},{"$f":"IF(COUNT(消費意欲!AP39:BA39)<>12,\"\",AVERAGE(消費意欲!AP39:BA39))","v":45.139166666666675},{"$f":"IF(COUNT(消費意欲!AQ39:BB39)<>12,\"\",AVERAGE(消費意欲!AQ39:BB39))","v":44.82500000000001},{"$f":"IF(COUNT(消費意欲!AR39:BC39)<>12,\"\",AVERAGE(消費意欲!AR39:BC39))","v":45.035833333333336},{"$f":"IF(COUNT(消費意欲!AS39:BD39)<>12,\"\",AVERAGE(消費意欲!AS39:BD39))","v":44.990833333333335},{"$f":"IF(COUNT(消費意欲!AT39:BE39)<>12,\"\",AVERAGE(消費意欲!AT39:BE39))","v":""},{"$f":"IF(COUNT(消費意欲!AU39:BF39)<>12,\"\",AVERAGE(消費意欲!AU39:BF39))","v":""},{"$f":"IF(COUNT(消費意欲!AV39:BG39)<>12,\"\",AVERAGE(消費意欲!AV39:BG39))","v":""},{"$f":"IF(COUNT(消費意欲!AW39:BH39)<>12,\"\",AVERAGE(消費意欲!AW39:BH39))","v":""},{"$f":"IF(COUNT(消費意欲!AX39:BI39)<>12,\"\",AVERAGE(消費意欲!AX39:BI39))","v":""},{"$f":"IF(COUNT(消費意欲!AY39:BJ39)<>12,\"\",AVERAGE(消費意欲!AY39:BJ39))","v":""},{"$f":"IF(COUNT(消費意欲!AZ39:BK39)<>12,\"\",AVERAGE(消費意欲!AZ39:BK39))","v":""},{"$f":"IF(COUNT(消費意欲!BA39:BL39)<>12,\"\",AVERAGE(消費意欲!BA39:BL39))","v":""},{"$f":"IF(COUNT(消費意欲!BB39:BM39)<>12,\"\",AVERAGE(消費意欲!BB39:BM39))","v":""},{"$f":"IF(COUNT(消費意欲!BC39:BN39)<>12,\"\",AVERAGE(消費意欲!BC39:BN39))","v":""},{"$f":"IF(COUNT(消費意欲!BD39:BO39)<>12,\"\",AVERAGE(消費意欲!BD39:BO39))","v":""},{"$f":"IF(COUNT(消費意欲!BE39:BP39)<>12,\"\",AVERAGE(消費意欲!BE39:BP39))","v":""},{"$f":"IF(COUNT(消費意欲!BF39:BQ39)<>12,\"\",AVERAGE(消費意欲!BF39:BQ39))","v":""},{"$f":"IF(COUNT(消費意欲!BG39:BR39)<>12,\"\",AVERAGE(消費意欲!BG39:BR39))","v":""},{"$f":"IF(COUNT(消費意欲!BH39:BS39)<>12,\"\",AVERAGE(消費意欲!BH39:BS39))","v":""},{"$f":"IF(COUNT(消費意欲!BI39:BT39)<>12,\"\",AVERAGE(消費意欲!BI39:BT39))","v":""},{"$f":"IF(COUNT(消費意欲!BJ39:BU39)<>12,\"\",AVERAGE(消費意欲!BJ39:BU39))","v":""},{"$f":"IF(COUNT(消費意欲!BK39:BV39)<>12,\"\",AVERAGE(消費意欲!BK39:BV39))","v":""},{"$f":"IF(COUNT(消費意欲!BL39:BW39)<>12,\"\",AVERAGE(消費意欲!BL39:BW39))","v":""},{"$f":"IF(COUNT(消費意欲!BM39:BX39)<>12,\"\",AVERAGE(消費意欲!BM39:BX39))","v":""},{"$f":"IF(COUNT(消費意欲!BN39:BY39)<>12,\"\",AVERAGE(消費意欲!BN39:BY39))","v":""},{"$f":"IF(COUNT(消費意欲!BO39:BZ39)<>12,\"\",AVERAGE(消費意欲!BO39:BZ39))","v":""},{"$f":"IF(COUNT(消費意欲!BP39:CA39)<>12,\"\",AVERAGE(消費意欲!BP39:CA39))","v":""},{"$f":"IF(COUNT(消費意欲!BQ39:CB39)<>12,\"\",AVERAGE(消費意欲!BQ39:CB39))","v":""},{"$f":"IF(COUNT(消費意欲!BR39:CC39)<>12,\"\",AVERAGE(消費意欲!BR39:CC39))","v":""},{"$f":"IF(COUNT(消費意欲!BS39:CD39)<>12,\"\",AVERAGE(消費意欲!BS39:CD39))","v":""},{"$f":"IF(COUNT(消費意欲!BT39:CE39)<>12,\"\",AVERAGE(消費意欲!BT39:CE39))","v":""},{"$f":"IF(COUNT(消費意欲!BU39:CF39)<>12,\"\",AVERAGE(消費意欲!BU39:CF39))","v":""},{"$f":"IF(COUNT(消費意欲!BV39:CG39)<>12,\"\",AVERAGE(消費意欲!BV39:CG39))","v":""},{"$f":"IF(COUNT(消費意欲!BW39:CH39)<>12,\"\",AVERAGE(消費意欲!BW39:CH39))","v":""},{"$f":"IF(COUNT(消費意欲!BX39:CI39)<>12,\"\",AVERAGE(消費意欲!BX39:CI39))","v":""},{"$f":"IF(COUNT(消費意欲!BY39:CJ39)<>12,\"\",AVERAGE(消費意欲!BY39:CJ39))","v":""},{"$f":"IF(COUNT(消費意欲!BZ39:CK39)<>12,\"\",AVERAGE(消費意欲!BZ39:CK39))","v":""},{"$f":"IF(COUNT(消費意欲!CA39:CL39)<>12,\"\",AVERAGE(消費意欲!CA39:CL39))","v":""},{"$f":"IF(COUNT(消費意欲!CB39:CM39)<>12,\"\",AVERAGE(消費意欲!CB39:CM39))","v":""},{"$f":"IF(COUNT(消費意欲!CC39:CN39)<>12,\"\",AVERAGE(消費意欲!CC39:CN39))","v":""},{"$f":"IF(COUNT(消費意欲!CD39:CO39)<>12,\"\",AVERAGE(消費意欲!CD39:CO39))","v":""},{"$f":"IF(COUNT(消費意欲!CE39:CP39)<>12,\"\",AVERAGE(消費意欲!CE39:CP39))","v":""},{"$f":"IF(COUNT(消費意欲!CF39:CQ39)<>12,\"\",AVERAGE(消費意欲!CF39:CQ39))","v":""},{"$f":"IF(COUNT(消費意欲!CG39:CR39)<>12,\"\",AVERAGE(消費意欲!CG39:CR39))","v":""},{"$f":"IF(COUNT(消費意欲!CH39:CS39)<>12,\"\",AVERAGE(消費意欲!CH39:CS39))","v":""},{"$f":"IF(COUNT(消費意欲!CI39:CT39)<>12,\"\",AVERAGE(消費意欲!CI39:CT39))","v":""},{"$f":"IF(COUNT(消費意欲!CJ39:CU39)<>12,\"\",AVERAGE(消費意欲!CJ39:CU39))","v":""},{"$f":"IF(COUNT(消費意欲!CK39:CV39)<>12,\"\",AVERAGE(消費意欲!CK39:CV39))","v":""},{"$f":"IF(COUNT(消費意欲!CL39:CW39)<>12,\"\",AVERAGE(消費意欲!CL39:CW39))","v":""},{"$f":"IF(COUNT(消費意欲!CM39:CX39)<>12,\"\",AVERAGE(消費意欲!CM39:CX39))","v":""},{"$f":"IF(COUNT(消費意欲!CN39:CY39)<>12,\"\",AVERAGE(消費意欲!CN39:CY39))","v":""},{"$f":"IF(COUNT(消費意欲!CO39:CZ39)<>12,\"\",AVERAGE(消費意欲!CO39:CZ39))","v":""},{"$f":"IF(COUNT(消費意欲!CP39:DA39)<>12,\"\",AVERAGE(消費意欲!CP39:DA39))","v":""},{"$f":"IF(COUNT(消費意欲!CQ39:DB39)<>12,\"\",AVERAGE(消費意欲!CQ39:DB39))","v":""},{"$f":"IF(COUNT(消費意欲!CR39:DC39)<>12,\"\",AVERAGE(消費意欲!CR39:DC39))","v":""},{"$f":"IF(COUNT(消費意欲!CS39:DD39)<>12,\"\",AVERAGE(消費意欲!CS39:DD39))","v":""},{"$f":"IF(COUNT(消費意欲!CT39:DE39)<>12,\"\",AVERAGE(消費意欲!CT39:DE39))","v":""},{"$f":"IF(COUNT(消費意欲!CU39:DF39)<>12,\"\",AVERAGE(消費意欲!CU39:DF39))","v":""},{"$f":"IF(COUNT(消費意欲!CV39:DG39)<>12,\"\",AVERAGE(消費意欲!CV39:DG39))","v":""}]
[null,null,"女性／無職",null,null,null,null,null,null,null,null,null,null,null,null,null,null,null,{"$f":"IF(COUNT(消費意欲!H40:S40)<>12,\"\",AVERAGE(消費意欲!H40:S40))","v":54.81},{"$f":"IF(COUNT(消費意欲!I40:T40)<>12,\"\",AVERAGE(消費意欲!I40:T40))","v":54.741666666666653},{"$f":"IF(COUNT(消費意欲!J40:U40)<>12,\"\",AVERAGE(消費意欲!J40:U40))","v":54.371666666666648},{"$f":"IF(COUNT(消費意欲!K40:V40)<>12,\"\",AVERAGE(消費意欲!K40:V40))","v":54.139166666666661},{"$f":"IF(COUNT(消費意欲!L40:W40)<>12,\"\",AVERAGE(消費意欲!L40:W40))","v":54.481666666666662},{"$f":"IF(COUNT(消費意欲!M40:X40)<>12,\"\",AVERAGE(消費意欲!M40:X40))","v":53.875833333333333},{"$f":"IF(COUNT(消費意欲!N40:Y40)<>12,\"\",AVERAGE(消費意欲!N40:Y40))","v":54.038333333333334},{"$f":"IF(COUNT(消費意欲!O40:Z40)<>12,\"\",AVERAGE(消費意欲!O40:Z40))","v":53.664166666666659},{"$f":"IF(COUNT(消費意欲!P40:AA40)<>12,\"\",AVERAGE(消費意欲!P40:AA40))","v":53.441666666666663},{"$f":"IF(COUNT(消費意欲!Q40:AB40)<>12,\"\",AVERAGE(消費意欲!Q40:AB40))","v":52.876666666666665},{"$f":"IF(COUNT(消費意欲!R40:AC40)<>12,\"\",AVERAGE(消費意欲!R40:AC40))","v":53.086666666666666},{"$f":"IF(COUNT(消費意欲!S40:AD40)<>12,\"\",AVERAGE(消費意欲!S40:AD40))","v":53.366666666666667},{"$f":"IF(COUNT(消費意欲!T40:AE40)<>12,\"\",AVERAGE(消費意欲!T40:AE40))","v":52.899166666666666},{"$f":"IF(COUNT(消費意欲!U40:AF40)<>12,\"\",AVERAGE(消費意欲!U40:AF40))","v":52.308333333333337},{"$f":"IF(COUNT(消費意欲!V40:AG40)<>12,\"\",AVERAGE(消費意欲!V40:AG40))","v":52.257500000000014},{"$f":"IF(COUNT(消費意欲!W40:AH40)<>12,\"\",AVERAGE(消費意欲!W40:AH40))","v":52.137499999999996},{"$f":"IF(COUNT(消費意欲!X40:AI40)<>12,\"\",AVERAGE(消費意欲!X40:AI40))","v":51.906666666666659},{"$f":"IF(COUNT(消費意欲!Y40:AJ40)<>12,\"\",AVERAGE(消費意欲!Y40:AJ40))","v":52.064166666666665},{"$f":"IF(COUNT(消費意欲!Z40:AK40)<>12,\"\",AVERAGE(消費意欲!Z40:AK40))","v":51.744999999999997},{"$f":"IF(COUNT(消費意欲!AA40:AL40)<>12,\"\",AVERAGE(消費意欲!AA40:AL40))","v":51.478333333333332},{"$f":"IF(COUNT(消費意欲!AB40:AM40)<>12,\"\",AVERAGE(消費意欲!AB40:AM40))","v":51.724166666666669},{"$f":"IF(COUNT(消費意欲!AC40:AN40)<>12,\"\",AVERAGE(消費意欲!AC40:AN40))","v":51.452499999999993},{"$f":"IF(COUNT(消費意欲!AD40:AO40)<>12,\"\",AVERAGE(消費意欲!AD40:AO40))","v":51.13750000000001},{"$f":"IF(COUNT(消費意欲!AE40:AP40)<>12,\"\",AVERAGE(消費意欲!AE40:AP40))","v":50.293333333333329},{"$f":"IF(COUNT(消費意欲!AF40:AQ40)<>12,\"\",AVERAGE(消費意欲!AF40:AQ40))","v":50.51583333333334},{"$f":"IF(COUNT(消費意欲!AG40:AR40)<>12,\"\",AVERAGE(消費意欲!AG40:AR40))","v":51.06},{"$f":"IF(COUNT(消費意欲!AH40:AS40)<>12,\"\",AVERAGE(消費意欲!AH40:AS40))","v":50.910833333333336},{"$f":"IF(COUNT(消費意欲!AI40:AT40)<>12,\"\",AVERAGE(消費意欲!AI40:AT40))","v":50.876666666666672},{"$f":"IF(COUNT(消費意欲!AJ40:AU40)<>12,\"\",AVERAGE(消費意欲!AJ40:AU40))","v":50.743333333333339},{"$f":"IF(COUNT(消費意欲!AK40:AV40)<>12,\"\",AVERAGE(消費意欲!AK40:AV40))","v":50.870833333333337},{"$f":"IF(COUNT(消費意欲!AL40:AW40)<>12,\"\",AVERAGE(消費意欲!AL40:AW40))","v":51.051666666666669},{"$f":"IF(COUNT(消費意欲!AM40:AX40)<>12,\"\",AVERAGE(消費意欲!AM40:AX40))","v":51.538333333333327},{"$f":"IF(COUNT(消費意欲!AN40:AY40)<>12,\"\",AVERAGE(消費意欲!AN40:AY40))","v":51.372500000000002},{"$f":"IF(COUNT(消費意欲!AO40:AZ40)<>12,\"\",AVERAGE(消費意欲!AO40:AZ40))","v":51.715833333333336},{"$f":"IF(COUNT(消費意欲!AP40:BA40)<>12,\"\",AVERAGE(消費意欲!AP40:BA40))","v":51.800833333333337},{"$f":"IF(COUNT(消費意欲!AQ40:BB40)<>12,\"\",AVERAGE(消費意欲!AQ40:BB40))","v":51.62},{"$f":"IF(COUNT(消費意欲!AR40:BC40)<>12,\"\",AVERAGE(消費意欲!AR40:BC40))","v":51.614999999999988},{"$f":"IF(COUNT(消費意欲!AS40:BD40)<>12,\"\",AVERAGE(消費意欲!AS40:BD40))","v":51.253333333333337},{"$f":"IF(COUNT(消費意欲!AT40:BE40)<>12,\"\",AVERAGE(消費意欲!AT40:BE40))","v":""},{"$f":"IF(COUNT(消費意欲!AU40:BF40)<>12,\"\",AVERAGE(消費意欲!AU40:BF40))","v":""},{"$f":"IF(COUNT(消費意欲!AV40:BG40)<>12,\"\",AVERAGE(消費意欲!AV40:BG40))","v":""},{"$f":"IF(COUNT(消費意欲!AW40:BH40)<>12,\"\",AVERAGE(消費意欲!AW40:BH40))","v":""},{"$f":"IF(COUNT(消費意欲!AX40:BI40)<>12,\"\",AVERAGE(消費意欲!AX40:BI40))","v":""},{"$f":"IF(COUNT(消費意欲!AY40:BJ40)<>12,\"\",AVERAGE(消費意欲!AY40:BJ40))","v":""},{"$f":"IF(COUNT(消費意欲!AZ40:BK40)<>12,\"\",AVERAGE(消費意欲!AZ40:BK40))","v":""},{"$f":"IF(COUNT(消費意欲!BA40:BL40)<>12,\"\",AVERAGE(消費意欲!BA40:BL40))","v":""},{"$f":"IF(COUNT(消費意欲!BB40:BM40)<>12,\"\",AVERAGE(消費意欲!BB40:BM40))","v":""},{"$f":"IF(COUNT(消費意欲!BC40:BN40)<>12,\"\",AVERAGE(消費意欲!BC40:BN40))","v":""},{"$f":"IF(COUNT(消費意欲!BD40:BO40)<>12,\"\",AVERAGE(消費意欲!BD40:BO40))","v":""},{"$f":"IF(COUNT(消費意欲!BE40:BP40)<>12,\"\",AVERAGE(消費意欲!BE40:BP40))","v":""},{"$f":"IF(COUNT(消費意欲!BF40:BQ40)<>12,\"\",AVERAGE(消費意欲!BF40:BQ40))","v":""},{"$f":"IF(COUNT(消費意欲!BG40:BR40)<>12,\"\",AVERAGE(消費意欲!BG40:BR40))","v":""},{"$f":"IF(COUNT(消費意欲!BH40:BS40)<>12,\"\",AVERAGE(消費意欲!BH40:BS40))","v":""},{"$f":"IF(COUNT(消費意欲!BI40:BT40)<>12,\"\",AVERAGE(消費意欲!BI40:BT40))","v":""},{"$f":"IF(COUNT(消費意欲!BJ40:BU40)<>12,\"\",AVERAGE(消費意欲!BJ40:BU40))","v":""},{"$f":"IF(COUNT(消費意欲!BK40:BV40)<>12,\"\",AVERAGE(消費意欲!BK40:BV40))","v":""},{"$f":"IF(COUNT(消費意欲!BL40:BW40)<>12,\"\",AVERAGE(消費意欲!BL40:BW40))","v":""},{"$f":"IF(COUNT(消費意欲!BM40:BX40)<>12,\"\",AVERAGE(消費意欲!BM40:BX40))","v":""},{"$f":"IF(COUNT(消費意欲!BN40:BY40)<>12,\"\",AVERAGE(消費意欲!BN40:BY40))","v":""},{"$f":"IF(COUNT(消費意欲!BO40:BZ40)<>12,\"\",AVERAGE(消費意欲!BO40:BZ40))","v":""},{"$f":"IF(COUNT(消費意欲!BP40:CA40)<>12,\"\",AVERAGE(消費意欲!BP40:CA40))","v":""},{"$f":"IF(COUNT(消費意欲!BQ40:CB40)<>12,\"\",AVERAGE(消費意欲!BQ40:CB40))","v":""},{"$f":"IF(COUNT(消費意欲!BR40:CC40)<>12,\"\",AVERAGE(消費意欲!BR40:CC40))","v":""},{"$f":"IF(COUNT(消費意欲!BS40:CD40)<>12,\"\",AVERAGE(消費意欲!BS40:CD40))","v":""},{"$f":"IF(COUNT(消費意欲!BT40:CE40)<>12,\"\",AVERAGE(消費意欲!BT40:CE40))","v":""},{"$f":"IF(COUNT(消費意欲!BU40:CF40)<>12,\"\",AVERAGE(消費意欲!BU40:CF40))","v":""},{"$f":"IF(COUNT(消費意欲!BV40:CG40)<>12,\"\",AVERAGE(消費意欲!BV40:CG40))","v":""},{"$f":"IF(COUNT(消費意欲!BW40:CH40)<>12,\"\",AVERAGE(消費意欲!BW40:CH40))","v":""},{"$f":"IF(COUNT(消費意欲!BX40:CI40)<>12,\"\",AVERAGE(消費意欲!BX40:CI40))","v":""},{"$f":"IF(COUNT(消費意欲!BY40:CJ40)<>12,\"\",AVERAGE(消費意欲!BY40:CJ40))","v":""},{"$f":"IF(COUNT(消費意欲!BZ40:CK40)<>12,\"\",AVERAGE(消費意欲!BZ40:CK40))","v":""},{"$f":"IF(COUNT(消費意欲!CA40:CL40)<>12,\"\",AVERAGE(消費意欲!CA40:CL40))","v":""},{"$f":"IF(COUNT(消費意欲!CB40:CM40)<>12,\"\",AVERAGE(消費意欲!CB40:CM40))","v":""},{"$f":"IF(COUNT(消費意欲!CC40:CN40)<>12,\"\",AVERAGE(消費意欲!CC40:CN40))","v":""},{"$f":"IF(COUNT(消費意欲!CD40:CO40)<>12,\"\",AVERAGE(消費意欲!CD40:CO40))","v":""},{"$f":"IF(COUNT(消費意欲!CE40:CP40)<>12,\"\",AVERAGE(消費意欲!CE40:CP40))","v":""},{"$f":"IF(COUNT(消費意欲!CF40:CQ40)<>12,\"\",AVERAGE(消費意欲!CF40:CQ40))","v":""},{"$f":"IF(COUNT(消費意欲!CG40:CR40)<>12,\"\",AVERAGE(消費意欲!CG40:CR40))","v":""},{"$f":"IF(COUNT(消費意欲!CH40:CS40)<>12,\"\",AVERAGE(消費意欲!CH40:CS40))","v":""},{"$f":"IF(COUNT(消費意欲!CI40:CT40)<>12,\"\",AVERAGE(消費意欲!CI40:CT40))","v":""},{"$f":"IF(COUNT(消費意欲!CJ40:CU40)<>12,\"\",AVERAGE(消費意欲!CJ40:CU40))","v":""},{"$f":"IF(COUNT(消費意欲!CK40:CV40)<>12,\"\",AVERAGE(消費意欲!CK40:CV40))","v":""},{"$f":"IF(COUNT(消費意欲!CL40:CW40)<>12,\"\",AVERAGE(消費意欲!CL40:CW40))","v":""},{"$f":"IF(COUNT(消費意欲!CM40:CX40)<>12,\"\",AVERAGE(消費意欲!CM40:CX40))","v":""},{"$f":"IF(COUNT(消費意欲!CN40:CY40)<>12,\"\",AVERAGE(消費意欲!CN40:CY40))","v":""},{"$f":"IF(COUNT(消費意欲!CO40:CZ40)<>12,\"\",AVERAGE(消費意欲!CO40:CZ40))","v":""},{"$f":"IF(COUNT(消費意欲!CP40:DA40)<>12,\"\",AVERAGE(消費意欲!CP40:DA40))","v":""},{"$f":"IF(COUNT(消費意欲!CQ40:DB40)<>12,\"\",AVERAGE(消費意欲!CQ40:DB40))","v":""},{"$f":"IF(COUNT(消費意欲!CR40:DC40)<>12,\"\",AVERAGE(消費意欲!CR40:DC40))","v":""},{"$f":"IF(COUNT(消費意欲!CS40:DD40)<>12,\"\",AVERAGE(消費意欲!CS40:DD40))","v":""},{"$f":"IF(COUNT(消費意欲!CT40:DE40)<>12,\"\",AVERAGE(消費意欲!CT40:DE40))","v":""},{"$f":"IF(COUNT(消費意欲!CU40:DF40)<>12,\"\",AVERAGE(消費意欲!CU40:DF40))","v":""},{"$f":"IF(COUNT(消費意欲!CV40:DG40)<>12,\"\",AVERAGE(消費意欲!CV40:DG40))","v":""}]
[null,"職業別","勤め人（未婚）",null,null,null,null,null,null,null,null,null,null,null,null,null,null,null,{"$f":"IF(COUNT(消費意欲!H41:S41)<>12,\"\",AVERAGE(消費意欲!H41:S41))","v":51.137499999999996},{"$f":"IF(COUNT(消費意欲!I41:T41)<>12,\"\",AVERAGE(消費意欲!I41:T41))","v":50.775833333333331},{"$f":"IF(COUNT(消費意欲!J41:U41)<>12,\"\",AVERAGE(消費意欲!J41:U41))","v":50.792499999999997},{"$f":"IF(COUNT(消費意欲!K41:V41)<>12,\"\",AVERAGE(消費意欲!K41:V41))","v":50.404166666666676},{"$f":"IF(COUNT(消費意欲!L41:W41)<>12,\"\",AVERAGE(消費意欲!L41:W41))","v":50.710833333333333},{"$f":"IF(COUNT(消費意欲!M41:X41)<>12,\"\",AVERAGE(消費意欲!M41:X41))","v":50.545833333333327},{"$f":"IF(COUNT(消費意欲!N41:Y41)<>12,\"\",AVERAGE(消費意欲!N41:Y41))","v":50.586666666666652},{"$f":"IF(COUNT(消費意欲!O41:Z41)<>12,\"\",AVERAGE(消費意欲!O41:Z41))","v":50.628333333333337},{"$f":"IF(COUNT(消費意欲!P41:AA41)<>12,\"\",AVERAGE(消費意欲!P41:AA41))","v":50.851666666666667},{"$f":"IF(COUNT(消費意欲!Q41:AB41)<>12,\"\",AVERAGE(消費意欲!Q41:AB41))","v":50.422500000000007},{"$f":"IF(COUNT(消費意欲!R41:AC41)<>12,\"\",AVERAGE(消費意欲!R41:AC41))","v":50.511666666666663},{"$f":"IF(COUNT(消費意欲!S41:AD41)<>12,\"\",AVERAGE(消費意欲!S41:AD41))","v":50.646666666666668},{"$f":"IF(COUNT(消費意欲!T41:AE41)<>12,\"\",AVERAGE(消費意欲!T41:AE41))","v":50.012499999999996},{"$f":"IF(COUNT(消費意欲!U41:AF41)<>12,\"\",AVERAGE(消費意欲!U41:AF41))","v":49.844166666666666},{"$f":"IF(COUNT(消費意欲!V41:AG41)<>12,\"\",AVERAGE(消費意欲!V41:AG41))","v":49.604166666666664},{"$f":"IF(COUNT(消費意欲!W41:AH41)<>12,\"\",AVERAGE(消費意欲!W41:AH41))","v":49.665833333333332},{"$f":"IF(COUNT(消費意欲!X41:AI41)<>12,\"\",AVERAGE(消費意欲!X41:AI41))","v":49.373333333333335},{"$f":"IF(COUNT(消費意欲!Y41:AJ41)<>12,\"\",AVERAGE(消費意欲!Y41:AJ41))","v":49.594166666666666},{"$f":"IF(COUNT(消費意欲!Z41:AK41)<>12,\"\",AVERAGE(消費意欲!Z41:AK41))","v":49.696666666666665},{"$f":"IF(COUNT(消費意欲!AA41:AL41)<>12,\"\",AVERAGE(消費意欲!AA41:AL41))","v":49.646666666666668},{"$f":"IF(COUNT(消費意欲!AB41:AM41)<>12,\"\",AVERAGE(消費意欲!AB41:AM41))","v":49.627499999999998},{"$f":"IF(COUNT(消費意欲!AC41:AN41)<>12,\"\",AVERAGE(消費意欲!AC41:AN41))","v":49.583333333333336},{"$f":"IF(COUNT(消費意欲!AD41:AO41)<>12,\"\",AVERAGE(消費意欲!AD41:AO41))","v":49.201666666666654},{"$f":"IF(COUNT(消費意欲!AE41:AP41)<>12,\"\",AVERAGE(消費意欲!AE41:AP41))","v":48.760833333333345},{"$f":"IF(COUNT(消費意欲!AF41:AQ41)<>12,\"\",AVERAGE(消費意欲!AF41:AQ41))","v":49.218333333333334},{"$f":"IF(COUNT(消費意欲!AG41:AR41)<>12,\"\",AVERAGE(消費意欲!AG41:AR41))","v":49.400000000000006},{"$f":"IF(COUNT(消費意欲!AH41:AS41)<>12,\"\",AVERAGE(消費意欲!AH41:AS41))","v":49.170833333333341},{"$f":"IF(COUNT(消費意欲!AI41:AT41)<>12,\"\",AVERAGE(消費意欲!AI41:AT41))","v":49.070833333333326},{"$f":"IF(COUNT(消費意欲!AJ41:AU41)<>12,\"\",AVERAGE(消費意欲!AJ41:AU41))","v":48.925833333333323},{"$f":"IF(COUNT(消費意欲!AK41:AV41)<>12,\"\",AVERAGE(消費意欲!AK41:AV41))","v":48.694999999999993},{"$f":"IF(COUNT(消費意欲!AL41:AW41)<>12,\"\",AVERAGE(消費意欲!AL41:AW41))","v":48.902499999999996},{"$f":"IF(COUNT(消費意欲!AM41:AX41)<>12,\"\",AVERAGE(消費意欲!AM41:AX41))","v":48.813333333333333},{"$f":"IF(COUNT(消費意欲!AN41:AY41)<>12,\"\",AVERAGE(消費意欲!AN41:AY41))","v":48.92499999999999},{"$f":"IF(COUNT(消費意欲!AO41:AZ41)<>12,\"\",AVERAGE(消費意欲!AO41:AZ41))","v":48.922499999999992},{"$f":"IF(COUNT(消費意欲!AP41:BA41)<>12,\"\",AVERAGE(消費意欲!AP41:BA41))","v":49.047499999999992},{"$f":"IF(COUNT(消費意欲!AQ41:BB41)<>12,\"\",AVERAGE(消費意欲!AQ41:BB41))","v":48.974999999999994},{"$f":"IF(COUNT(消費意欲!AR41:BC41)<>12,\"\",AVERAGE(消費意欲!AR41:BC41))","v":48.857500000000009},{"$f":"IF(COUNT(消費意欲!AS41:BD41)<>12,\"\",AVERAGE(消費意欲!AS41:BD41))","v":48.67833333333332},{"$f":"IF(COUNT(消費意欲!AT41:BE41)<>12,\"\",AVERAGE(消費意欲!AT41:BE41))","v":""},{"$f":"IF(COUNT(消費意欲!AU41:BF41)<>12,\"\",AVERAGE(消費意欲!AU41:BF41))","v":""},{"$f":"IF(COUNT(消費意欲!AV41:BG41)<>12,\"\",AVERAGE(消費意欲!AV41:BG41))","v":""},{"$f":"IF(COUNT(消費意欲!AW41:BH41)<>12,\"\",AVERAGE(消費意欲!AW41:BH41))","v":""},{"$f":"IF(COUNT(消費意欲!AX41:BI41)<>12,\"\",AVERAGE(消費意欲!AX41:BI41))","v":""},{"$f":"IF(COUNT(消費意欲!AY41:BJ41)<>12,\"\",AVERAGE(消費意欲!AY41:BJ41))","v":""},{"$f":"IF(COUNT(消費意欲!AZ41:BK41)<>12,\"\",AVERAGE(消費意欲!AZ41:BK41))","v":""},{"$f":"IF(COUNT(消費意欲!BA41:BL41)<>12,\"\",AVERAGE(消費意欲!BA41:BL41))","v":""},{"$f":"IF(COUNT(消費意欲!BB41:BM41)<>12,\"\",AVERAGE(消費意欲!BB41:BM41))","v":""},{"$f":"IF(COUNT(消費意欲!BC41:BN41)<>12,\"\",AVERAGE(消費意欲!BC41:BN41))","v":""},{"$f":"IF(COUNT(消費意欲!BD41:BO41)<>12,\"\",AVERAGE(消費意欲!BD41:BO41))","v":""},{"$f":"IF(COUNT(消費意欲!BE41:BP41)<>12,\"\",AVERAGE(消費意欲!BE41:BP41))","v":""},{"$f":"IF(COUNT(消費意欲!BF41:BQ41)<>12,\"\",AVERAGE(消費意欲!BF41:BQ41))","v":""},{"$f":"IF(COUNT(消費意欲!BG41:BR41)<>12,\"\",AVERAGE(消費意欲!BG41:BR41))","v":""},{"$f":"IF(COUNT(消費意欲!BH41:BS41)<>12,\"\",AVERAGE(消費意欲!BH41:BS41))","v":""},{"$f":"IF(COUNT(消費意欲!BI41:BT41)<>12,\"\",AVERAGE(消費意欲!BI41:BT41))","v":""},{"$f":"IF(COUNT(消費意欲!BJ41:BU41)<>12,\"\",AVERAGE(消費意欲!BJ41:BU41))","v":""},{"$f":"IF(COUNT(消費意欲!BK41:BV41)<>12,\"\",AVERAGE(消費意欲!BK41:BV41))","v":""},{"$f":"IF(COUNT(消費意欲!BL41:BW41)<>12,\"\",AVERAGE(消費意欲!BL41:BW41))","v":""},{"$f":"IF(COUNT(消費意欲!BM41:BX41)<>12,\"\",AVERAGE(消費意欲!BM41:BX41))","v":""},{"$f":"IF(COUNT(消費意欲!BN41:BY41)<>12,\"\",AVERAGE(消費意欲!BN41:BY41))","v":""},{"$f":"IF(COUNT(消費意欲!BO41:BZ41)<>12,\"\",AVERAGE(消費意欲!BO41:BZ41))","v":""},{"$f":"IF(COUNT(消費意欲!BP41:CA41)<>12,\"\",AVERAGE(消費意欲!BP41:CA41))","v":""},{"$f":"IF(COUNT(消費意欲!BQ41:CB41)<>12,\"\",AVERAGE(消費意欲!BQ41:CB41))","v":""},{"$f":"IF(COUNT(消費意欲!BR41:CC41)<>12,\"\",AVERAGE(消費意欲!BR41:CC41))","v":""},{"$f":"IF(COUNT(消費意欲!BS41:CD41)<>12,\"\",AVERAGE(消費意欲!BS41:CD41))","v":""},{"$f":"IF(COUNT(消費意欲!BT41:CE41)<>12,\"\",AVERAGE(消費意欲!BT41:CE41))","v":""},{"$f":"IF(COUNT(消費意欲!BU41:CF41)<>12,\"\",AVERAGE(消費意欲!BU41:CF41))","v":""},{"$f":"IF(COUNT(消費意欲!BV41:CG41)<>12,\"\",AVERAGE(消費意欲!BV41:CG41))","v":""},{"$f":"IF(COUNT(消費意欲!BW41:CH41)<>12,\"\",AVERAGE(消費意欲!BW41:CH41))","v":""},{"$f":"IF(COUNT(消費意欲!BX41:CI41)<>12,\"\",AVERAGE(消費意欲!BX41:CI41))","v":""},{"$f":"IF(COUNT(消費意欲!BY41:CJ41)<>12,\"\",AVERAGE(消費意欲!BY41:CJ41))","v":""},{"$f":"IF(COUNT(消費意欲!BZ41:CK41)<>12,\"\",AVERAGE(消費意欲!BZ41:CK41))","v":""},{"$f":"IF(COUNT(消費意欲!CA41:CL41)<>12,\"\",AVERAGE(消費意欲!CA41:CL41))","v":""},{"$f":"IF(COUNT(消費意欲!CB41:CM41)<>12,\"\",AVERAGE(消費意欲!CB41:CM41))","v":""},{"$f":"IF(COUNT(消費意欲!CC41:CN41)<>12,\"\",AVERAGE(消費意欲!CC41:CN41))","v":""},{"$f":"IF(COUNT(消費意欲!CD41:CO41)<>12,\"\",AVERAGE(消費意欲!CD41:CO41))","v":""},{"$f":"IF(COUNT(消費意欲!CE41:CP41)<>12,\"\",AVERAGE(消費意欲!CE41:CP41))","v":""},{"$f":"IF(COUNT(消費意欲!CF41:CQ41)<>12,\"\",AVERAGE(消費意欲!CF41:CQ41))","v":""},{"$f":"IF(COUNT(消費意欲!CG41:CR41)<>12,\"\",AVERAGE(消費意欲!CG41:CR41))","v":""},{"$f":"IF(COUNT(消費意欲!CH41:CS41)<>12,\"\",AVERAGE(消費意欲!CH41:CS41))","v":""},{"$f":"IF(COUNT(消費意欲!CI41:CT41)<>12,\"\",AVERAGE(消費意欲!CI41:CT41))","v":""},{"$f":"IF(COUNT(消費意欲!CJ41:CU41)<>12,\"\",AVERAGE(消費意欲!CJ41:CU41))","v":""},{"$f":"IF(COUNT(消費意欲!CK41:CV41)<>12,\"\",AVERAGE(消費意欲!CK41:CV41))","v":""},{"$f":"IF(COUNT(消費意欲!CL41:CW41)<>12,\"\",AVERAGE(消費意欲!CL41:CW41))","v":""},{"$f":"IF(COUNT(消費意欲!CM41:CX41)<>12,\"\",AVERAGE(消費意欲!CM41:CX41))","v":""},{"$f":"IF(COUNT(消費意欲!CN41:CY41)<>12,\"\",AVERAGE(消費意欲!CN41:CY41))","v":""},{"$f":"IF(COUNT(消費意欲!CO41:CZ41)<>12,\"\",AVERAGE(消費意欲!CO41:CZ41))","v":""},{"$f":"IF(COUNT(消費意欲!CP41:DA41)<>12,\"\",AVERAGE(消費意欲!CP41:DA41))","v":""},{"$f":"IF(COUNT(消費意欲!CQ41:DB41)<>12,\"\",AVERAGE(消費意欲!CQ41:DB41))","v":""},{"$f":"IF(COUNT(消費意欲!CR41:DC41)<>12,\"\",AVERAGE(消費意欲!CR41:DC41))","v":""},{"$f":"IF(COUNT(消費意欲!CS41:DD41)<>12,\"\",AVERAGE(消費意欲!CS41:DD41))","v":""},{"$f":"IF(COUNT(消費意欲!CT41:DE41)<>12,\"\",AVERAGE(消費意欲!CT41:DE41))","v":""},{"$f":"IF(COUNT(消費意欲!CU41:DF41)<>12,\"\",AVERAGE(消費意欲!CU41:DF41))","v":""},{"$f":"IF(COUNT(消費意欲!CV41:DG41)<>12,\"\",AVERAGE(消費意欲!CV41:DG41))","v":""}]
[null,null,"勤め人（既婚）",null,null,null,null,null,null,null,null,null,null,null,null,null,null,null,{"$f":"IF(COUNT(消費意欲!H42:S42)<>12,\"\",AVERAGE(消費意欲!H42:S42))","v":49.488333333333323},{"$f":"IF(COUNT(消費意欲!I42:T42)<>12,\"\",AVERAGE(消費意欲!I42:T42))","v":49.430833333333332},{"$f":"IF(COUNT(消費意欲!J42:U42)<>12,\"\",AVERAGE(消費意欲!J42:U42))","v":49.296666666666674},{"$f":"IF(COUNT(消費意欲!K42:V42)<>12,\"\",AVERAGE(消費意欲!K42:V42))","v":49.124166666666667},{"$f":"IF(COUNT(消費意欲!L42:W42)<>12,\"\",AVERAGE(消費意欲!L42:W42))","v":49.087499999999999},{"$f":"IF(COUNT(消費意欲!M42:X42)<>12,\"\",AVERAGE(消費意欲!M42:X42))","v":48.490833333333335},{"$f":"IF(COUNT(消費意欲!N42:Y42)<>12,\"\",AVERAGE(消費意欲!N42:Y42))","v":48.670833333333341},{"$f":"IF(COUNT(消費意欲!O42:Z42)<>12,\"\",AVERAGE(消費意欲!O42:Z42))","v":48.638333333333328},{"$f":"IF(COUNT(消費意欲!P42:AA42)<>12,\"\",AVERAGE(消費意欲!P42:AA42))","v":48.719166666666659},{"$f":"IF(COUNT(消費意欲!Q42:AB42)<>12,\"\",AVERAGE(消費意欲!Q42:AB42))","v":48.454999999999991},{"$f":"IF(COUNT(消費意欲!R42:AC42)<>12,\"\",AVERAGE(消費意欲!R42:AC42))","v":48.540833333333332},{"$f":"IF(COUNT(消費意欲!S42:AD42)<>12,\"\",AVERAGE(消費意欲!S42:AD42))","v":48.793333333333329},{"$f":"IF(COUNT(消費意欲!T42:AE42)<>12,\"\",AVERAGE(消費意欲!T42:AE42))","v":48.305833333333339},{"$f":"IF(COUNT(消費意欲!U42:AF42)<>12,\"\",AVERAGE(消費意欲!U42:AF42))","v":48.016666666666659},{"$f":"IF(COUNT(消費意欲!V42:AG42)<>12,\"\",AVERAGE(消費意欲!V42:AG42))","v":47.932500000000005},{"$f":"IF(COUNT(消費意欲!W42:AH42)<>12,\"\",AVERAGE(消費意欲!W42:AH42))","v":47.645833333333336},{"$f":"IF(COUNT(消費意欲!X42:AI42)<>12,\"\",AVERAGE(消費意欲!X42:AI42))","v":47.56166666666666},{"$f":"IF(COUNT(消費意欲!Y42:AJ42)<>12,\"\",AVERAGE(消費意欲!Y42:AJ42))","v":47.693333333333328},{"$f":"IF(COUNT(消費意欲!Z42:AK42)<>12,\"\",AVERAGE(消費意欲!Z42:AK42))","v":47.474166666666662},{"$f":"IF(COUNT(消費意欲!AA42:AL42)<>12,\"\",AVERAGE(消費意欲!AA42:AL42))","v":47.378333333333337},{"$f":"IF(COUNT(消費意欲!AB42:AM42)<>12,\"\",AVERAGE(消費意欲!AB42:AM42))","v":47.435833333333335},{"$f":"IF(COUNT(消費意欲!AC42:AN42)<>12,\"\",AVERAGE(消費意欲!AC42:AN42))","v":47.273333333333333},{"$f":"IF(COUNT(消費意欲!AD42:AO42)<>12,\"\",AVERAGE(消費意欲!AD42:AO42))","v":47.027500000000003},{"$f":"IF(COUNT(消費意欲!AE42:AP42)<>12,\"\",AVERAGE(消費意欲!AE42:AP42))","v":46.545833333333327},{"$f":"IF(COUNT(消費意欲!AF42:AQ42)<>12,\"\",AVERAGE(消費意欲!AF42:AQ42))","v":46.72},{"$f":"IF(COUNT(消費意欲!AG42:AR42)<>12,\"\",AVERAGE(消費意欲!AG42:AR42))","v":46.964166666666664},{"$f":"IF(COUNT(消費意欲!AH42:AS42)<>12,\"\",AVERAGE(消費意欲!AH42:AS42))","v":46.864999999999988},{"$f":"IF(COUNT(消費意欲!AI42:AT42)<>12,\"\",AVERAGE(消費意欲!AI42:AT42))","v":47.195833333333333},{"$f":"IF(COUNT(消費意欲!AJ42:AU42)<>12,\"\",AVERAGE(消費意欲!AJ42:AU42))","v":47.179166666666674},{"$f":"IF(COUNT(消費意欲!AK42:AV42)<>12,\"\",AVERAGE(消費意欲!AK42:AV42))","v":47.290833333333332},{"$f":"IF(COUNT(消費意欲!AL42:AW42)<>12,\"\",AVERAGE(消費意欲!AL42:AW42))","v":47.37833333333333},{"$f":"IF(COUNT(消費意欲!AM42:AX42)<>12,\"\",AVERAGE(消費意欲!AM42:AX42))","v":47.400000000000006},{"$f":"IF(COUNT(消費意欲!AN42:AY42)<>12,\"\",AVERAGE(消費意欲!AN42:AY42))","v":47.263333333333328},{"$f":"IF(COUNT(消費意欲!AO42:AZ42)<>12,\"\",AVERAGE(消費意欲!AO42:AZ42))","v":47.465000000000003},{"$f":"IF(COUNT(消費意欲!AP42:BA42)<>12,\"\",AVERAGE(消費意欲!AP42:BA42))","v":47.278333333333336},{"$f":"IF(COUNT(消費意欲!AQ42:BB42)<>12,\"\",AVERAGE(消費意欲!AQ42:BB42))","v":47.435000000000002},{"$f":"IF(COUNT(消費意欲!AR42:BC42)<>12,\"\",AVERAGE(消費意欲!AR42:BC42))","v":47.684999999999995},{"$f":"IF(COUNT(消費意欲!AS42:BD42)<>12,\"\",AVERAGE(消費意欲!AS42:BD42))","v":47.615000000000002},{"$f":"IF(COUNT(消費意欲!AT42:BE42)<>12,\"\",AVERAGE(消費意欲!AT42:BE42))","v":""},{"$f":"IF(COUNT(消費意欲!AU42:BF42)<>12,\"\",AVERAGE(消費意欲!AU42:BF42))","v":""},{"$f":"IF(COUNT(消費意欲!AV42:BG42)<>12,\"\",AVERAGE(消費意欲!AV42:BG42))","v":""},{"$f":"IF(COUNT(消費意欲!AW42:BH42)<>12,\"\",AVERAGE(消費意欲!AW42:BH42))","v":""},{"$f":"IF(COUNT(消費意欲!AX42:BI42)<>12,\"\",AVERAGE(消費意欲!AX42:BI42))","v":""},{"$f":"IF(COUNT(消費意欲!AY42:BJ42)<>12,\"\",AVERAGE(消費意欲!AY42:BJ42))","v":""},{"$f":"IF(COUNT(消費意欲!AZ42:BK42)<>12,\"\",AVERAGE(消費意欲!AZ42:BK42))","v":""},{"$f":"IF(COUNT(消費意欲!BA42:BL42)<>12,\"\",AVERAGE(消費意欲!BA42:BL42))","v":""},{"$f":"IF(COUNT(消費意欲!BB42:BM42)<>12,\"\",AVERAGE(消費意欲!BB42:BM42))","v":""},{"$f":"IF(COUNT(消費意欲!BC42:BN42)<>12,\"\",AVERAGE(消費意欲!BC42:BN42))","v":""},{"$f":"IF(COUNT(消費意欲!BD42:BO42)<>12,\"\",AVERAGE(消費意欲!BD42:BO42))","v":""},{"$f":"IF(COUNT(消費意欲!BE42:BP42)<>12,\"\",AVERAGE(消費意欲!BE42:BP42))","v":""},{"$f":"IF(COUNT(消費意欲!BF42:BQ42)<>12,\"\",AVERAGE(消費意欲!BF42:BQ42))","v":""},{"$f":"IF(COUNT(消費意欲!BG42:BR42)<>12,\"\",AVERAGE(消費意欲!BG42:BR42))","v":""},{"$f":"IF(COUNT(消費意欲!BH42:BS42)<>12,\"\",AVERAGE(消費意欲!BH42:BS42))","v":""},{"$f":"IF(COUNT(消費意欲!BI42:BT42)<>12,\"\",AVERAGE(消費意欲!BI42:BT42))","v":""},{"$f":"IF(COUNT(消費意欲!BJ42:BU42)<>12,\"\",AVERAGE(消費意欲!BJ42:BU42))","v":""},{"$f":"IF(COUNT(消費意欲!BK42:BV42)<>12,\"\",AVERAGE(消費意欲!BK42:BV42))","v":""},{"$f":"IF(COUNT(消費意欲!BL42:BW42)<>12,\"\",AVERAGE(消費意欲!BL42:BW42))","v":""},{"$f":"IF(COUNT(消費意欲!BM42:BX42)<>12,\"\",AVERAGE(消費意欲!BM42:BX42))","v":""},{"$f":"IF(COUNT(消費意欲!BN42:BY42)<>12,\"\",AVERAGE(消費意欲!BN42:BY42))","v":""},{"$f":"IF(COUNT(消費意欲!BO42:BZ42)<>12,\"\",AVERAGE(消費意欲!BO42:BZ42))","v":""},{"$f":"IF(COUNT(消費意欲!BP42:CA42)<>12,\"\",AVERAGE(消費意欲!BP42:CA42))","v":""},{"$f":"IF(COUNT(消費意欲!BQ42:CB42)<>12,\"\",AVERAGE(消費意欲!BQ42:CB42))","v":""},{"$f":"IF(COUNT(消費意欲!BR42:CC42)<>12,\"\",AVERAGE(消費意欲!BR42:CC42))","v":""},{"$f":"IF(COUNT(消費意欲!BS42:CD42)<>12,\"\",AVERAGE(消費意欲!BS42:CD42))","v":""},{"$f":"IF(COUNT(消費意欲!BT42:CE42)<>12,\"\",AVERAGE(消費意欲!BT42:CE42))","v":""},{"$f":"IF(COUNT(消費意欲!BU42:CF42)<>12,\"\",AVERAGE(消費意欲!BU42:CF42))","v":""},{"$f":"IF(COUNT(消費意欲!BV42:CG42)<>12,\"\",AVERAGE(消費意欲!BV42:CG42))","v":""},{"$f":"IF(COUNT(消費意欲!BW42:CH42)<>12,\"\",AVERAGE(消費意欲!BW42:CH42))","v":""},{"$f":"IF(COUNT(消費意欲!BX42:CI42)<>12,\"\",AVERAGE(消費意欲!BX42:CI42))","v":""},{"$f":"IF(COUNT(消費意欲!BY42:CJ42)<>12,\"\",AVERAGE(消費意欲!BY42:CJ42))","v":""},{"$f":"IF(COUNT(消費意欲!BZ42:CK42)<>12,\"\",AVERAGE(消費意欲!BZ42:CK42))","v":""},{"$f":"IF(COUNT(消費意欲!CA42:CL42)<>12,\"\",AVERAGE(消費意欲!CA42:CL42))","v":""},{"$f":"IF(COUNT(消費意欲!CB42:CM42)<>12,\"\",AVERAGE(消費意欲!CB42:CM42))","v":""},{"$f":"IF(COUNT(消費意欲!CC42:CN42)<>12,\"\",AVERAGE(消費意欲!CC42:CN42))","v":""},{"$f":"IF(COUNT(消費意欲!CD42:CO42)<>12,\"\",AVERAGE(消費意欲!CD42:CO42))","v":""},{"$f":"IF(COUNT(消費意欲!CE42:CP42)<>12,\"\",AVERAGE(消費意欲!CE42:CP42))","v":""},{"$f":"IF(COUNT(消費意欲!CF42:CQ42)<>12,\"\",AVERAGE(消費意欲!CF42:CQ42))","v":""},{"$f":"IF(COUNT(消費意欲!CG42:CR42)<>12,\"\",AVERAGE(消費意欲!CG42:CR42))","v":""},{"$f":"IF(COUNT(消費意欲!CH42:CS42)<>12,\"\",AVERAGE(消費意欲!CH42:CS42))","v":""},{"$f":"IF(COUNT(消費意欲!CI42:CT42)<>12,\"\",AVERAGE(消費意欲!CI42:CT42))","v":""},{"$f":"IF(COUNT(消費意欲!CJ42:CU42)<>12,\"\",AVERAGE(消費意欲!CJ42:CU42))","v":""},{"$f":"IF(COUNT(消費意欲!CK42:CV42)<>12,\"\",AVERAGE(消費意欲!CK42:CV42))","v":""},{"$f":"IF(COUNT(消費意欲!CL42:CW42)<>12,\"\",AVERAGE(消費意欲!CL42:CW42))","v":""},{"$f":"IF(COUNT(消費意欲!CM42:CX42)<>12,\"\",AVERAGE(消費意欲!CM42:CX42))","v":""},{"$f":"IF(COUNT(消費意欲!CN42:CY42)<>12,\"\",AVERAGE(消費意欲!CN42:CY42))","v":""},{"$f":"IF(COUNT(消費意欲!CO42:CZ42)<>12,\"\",AVERAGE(消費意欲!CO42:CZ42))","v":""},{"$f":"IF(COUNT(消費意欲!CP42:DA42)<>12,\"\",AVERAGE(消費意欲!CP42:DA42))","v":""},{"$f":"IF(COUNT(消費意欲!CQ42:DB42)<>12,\"\",AVERAGE(消費意欲!CQ42:DB42))","v":""},{"$f":"IF(COUNT(消費意欲!CR42:DC42)<>12,\"\",AVERAGE(消費意欲!CR42:DC42))","v":""},{"$f":"IF(COUNT(消費意欲!CS42:DD42)<>12,\"\",AVERAGE(消費意欲!CS42:DD42))","v":""},{"$f":"IF(COUNT(消費意欲!CT42:DE42)<>12,\"\",AVERAGE(消費意欲!CT42:DE42))","v":""},{"$f":"IF(COUNT(消費意欲!CU42:DF42)<>12,\"\",AVERAGE(消費意欲!CU42:DF42))","v":""},{"$f":"IF(COUNT(消費意欲!CV42:DG42)<>12,\"\",AVERAGE(消費意欲!CV42:DG42))","v":""}]
[null,null,"自由・自営業",null,null,null,null,null,null,null,null,null,null,null,null,null,null,null,{"$f":"IF(COUNT(消費意欲!H43:S43)<>12,\"\",AVERAGE(消費意欲!H43:S43))","v":46.835000000000001},{"$f":"IF(COUNT(消費意欲!I43:T43)<>12,\"\",AVERAGE(消費意欲!I43:T43))","v":47.0075},{"$f":"IF(COUNT(消費意欲!J43:U43)<>12,\"\",AVERAGE(消費意欲!J43:U43))","v":46.784166666666664},{"$f":"IF(COUNT(消費意欲!K43:V43)<>12,\"\",AVERAGE(消費意欲!K43:V43))","v":46.677500000000009},{"$f":"IF(COUNT(消費意欲!L43:W43)<>12,\"\",AVERAGE(消費意欲!L43:W43))","v":46.775833333333338},{"$f":"IF(COUNT(消費意欲!M43:X43)<>12,\"\",AVERAGE(消費意欲!M43:X43))","v":46.710833333333333},{"$f":"IF(COUNT(消費意欲!N43:Y43)<>12,\"\",AVERAGE(消費意欲!N43:Y43))","v":47.02},{"$f":"IF(COUNT(消費意欲!O43:Z43)<>12,\"\",AVERAGE(消費意欲!O43:Z43))","v":46.744166666666665},{"$f":"IF(COUNT(消費意欲!P43:AA43)<>12,\"\",AVERAGE(消費意欲!P43:AA43))","v":46.977499999999999},{"$f":"IF(COUNT(消費意欲!Q43:AB43)<>12,\"\",AVERAGE(消費意欲!Q43:AB43))","v":46.76},{"$f":"IF(COUNT(消費意欲!R43:AC43)<>12,\"\",AVERAGE(消費意欲!R43:AC43))","v":47.571666666666665},{"$f":"IF(COUNT(消費意欲!S43:AD43)<>12,\"\",AVERAGE(消費意欲!S43:AD43))","v":47.644166666666671},{"$f":"IF(COUNT(消費意欲!T43:AE43)<>12,\"\",AVERAGE(消費意欲!T43:AE43))","v":47.662499999999987},{"$f":"IF(COUNT(消費意欲!U43:AF43)<>12,\"\",AVERAGE(消費意欲!U43:AF43))","v":47.384166666666665},{"$f":"IF(COUNT(消費意欲!V43:AG43)<>12,\"\",AVERAGE(消費意欲!V43:AG43))","v":47.333333333333336},{"$f":"IF(COUNT(消費意欲!W43:AH43)<>12,\"\",AVERAGE(消費意欲!W43:AH43))","v":46.910833333333336},{"$f":"IF(COUNT(消費意欲!X43:AI43)<>12,\"\",AVERAGE(消費意欲!X43:AI43))","v":46.411666666666669},{"$f":"IF(COUNT(消費意欲!Y43:AJ43)<>12,\"\",AVERAGE(消費意欲!Y43:AJ43))","v":46.657500000000006},{"$f":"IF(COUNT(消費意欲!Z43:AK43)<>12,\"\",AVERAGE(消費意欲!Z43:AK43))","v":46.034999999999997},{"$f":"IF(COUNT(消費意欲!AA43:AL43)<>12,\"\",AVERAGE(消費意欲!AA43:AL43))","v":45.704166666666673},{"$f":"IF(COUNT(消費意欲!AB43:AM43)<>12,\"\",AVERAGE(消費意欲!AB43:AM43))","v":45.770833333333336},{"$f":"IF(COUNT(消費意欲!AC43:AN43)<>12,\"\",AVERAGE(消費意欲!AC43:AN43))","v":45.646666666666654},{"$f":"IF(COUNT(消費意欲!AD43:AO43)<>12,\"\",AVERAGE(消費意欲!AD43:AO43))","v":45.465833333333336},{"$f":"IF(COUNT(消費意欲!AE43:AP43)<>12,\"\",AVERAGE(消費意欲!AE43:AP43))","v":44.71},{"$f":"IF(COUNT(消費意欲!AF43:AQ43)<>12,\"\",AVERAGE(消費意欲!AF43:AQ43))","v":44.620833333333337},{"$f":"IF(COUNT(消費意欲!AG43:AR43)<>12,\"\",AVERAGE(消費意欲!AG43:AR43))","v":45.307499999999997},{"$f":"IF(COUNT(消費意欲!AH43:AS43)<>12,\"\",AVERAGE(消費意欲!AH43:AS43))","v":45.261666666666663},{"$f":"IF(COUNT(消費意欲!AI43:AT43)<>12,\"\",AVERAGE(消費意欲!AI43:AT43))","v":45.163333333333327},{"$f":"IF(COUNT(消費意欲!AJ43:AU43)<>12,\"\",AVERAGE(消費意欲!AJ43:AU43))","v":45.084166666666654},{"$f":"IF(COUNT(消費意欲!AK43:AV43)<>12,\"\",AVERAGE(消費意欲!AK43:AV43))","v":44.732499999999995},{"$f":"IF(COUNT(消費意欲!AL43:AW43)<>12,\"\",AVERAGE(消費意欲!AL43:AW43))","v":45.513333333333343},{"$f":"IF(COUNT(消費意欲!AM43:AX43)<>12,\"\",AVERAGE(消費意欲!AM43:AX43))","v":45.961666666666673},{"$f":"IF(COUNT(消費意欲!AN43:AY43)<>12,\"\",AVERAGE(消費意欲!AN43:AY43))","v":45.800833333333337},{"$f":"IF(COUNT(消費意欲!AO43:AZ43)<>12,\"\",AVERAGE(消費意欲!AO43:AZ43))","v":45.783333333333339},{"$f":"IF(COUNT(消費意欲!AP43:BA43)<>12,\"\",AVERAGE(消費意欲!AP43:BA43))","v":45.091666666666669},{"$f":"IF(COUNT(消費意欲!AQ43:BB43)<>12,\"\",AVERAGE(消費意欲!AQ43:BB43))","v":45.185833333333335},{"$f":"IF(COUNT(消費意欲!AR43:BC43)<>12,\"\",AVERAGE(消費意欲!AR43:BC43))","v":45.042499999999997},{"$f":"IF(COUNT(消費意欲!AS43:BD43)<>12,\"\",AVERAGE(消費意欲!AS43:BD43))","v":44.44},{"$f":"IF(COUNT(消費意欲!AT43:BE43)<>12,\"\",AVERAGE(消費意欲!AT43:BE43))","v":""},{"$f":"IF(COUNT(消費意欲!AU43:BF43)<>12,\"\",AVERAGE(消費意欲!AU43:BF43))","v":""},{"$f":"IF(COUNT(消費意欲!AV43:BG43)<>12,\"\",AVERAGE(消費意欲!AV43:BG43))","v":""},{"$f":"IF(COUNT(消費意欲!AW43:BH43)<>12,\"\",AVERAGE(消費意欲!AW43:BH43))","v":""},{"$f":"IF(COUNT(消費意欲!AX43:BI43)<>12,\"\",AVERAGE(消費意欲!AX43:BI43))","v":""},{"$f":"IF(COUNT(消費意欲!AY43:BJ43)<>12,\"\",AVERAGE(消費意欲!AY43:BJ43))","v":""},{"$f":"IF(COUNT(消費意欲!AZ43:BK43)<>12,\"\",AVERAGE(消費意欲!AZ43:BK43))","v":""},{"$f":"IF(COUNT(消費意欲!BA43:BL43)<>12,\"\",AVERAGE(消費意欲!BA43:BL43))","v":""},{"$f":"IF(COUNT(消費意欲!BB43:BM43)<>12,\"\",AVERAGE(消費意欲!BB43:BM43))","v":""},{"$f":"IF(COUNT(消費意欲!BC43:BN43)<>12,\"\",AVERAGE(消費意欲!BC43:BN43))","v":""},{"$f":"IF(COUNT(消費意欲!BD43:BO43)<>12,\"\",AVERAGE(消費意欲!BD43:BO43))","v":""},{"$f":"IF(COUNT(消費意欲!BE43:BP43)<>12,\"\",AVERAGE(消費意欲!BE43:BP43))","v":""},{"$f":"IF(COUNT(消費意欲!BF43:BQ43)<>12,\"\",AVERAGE(消費意欲!BF43:BQ43))","v":""},{"$f":"IF(COUNT(消費意欲!BG43:BR43)<>12,\"\",AVERAGE(消費意欲!BG43:BR43))","v":""},{"$f":"IF(COUNT(消費意欲!BH43:BS43)<>12,\"\",AVERAGE(消費意欲!BH43:BS43))","v":""},{"$f":"IF(COUNT(消費意欲!BI43:BT43)<>12,\"\",AVERAGE(消費意欲!BI43:BT43))","v":""},{"$f":"IF(COUNT(消費意欲!BJ43:BU43)<>12,\"\",AVERAGE(消費意欲!BJ43:BU43))","v":""},{"$f":"IF(COUNT(消費意欲!BK43:BV43)<>12,\"\",AVERAGE(消費意欲!BK43:BV43))","v":""},{"$f":"IF(COUNT(消費意欲!BL43:BW43)<>12,\"\",AVERAGE(消費意欲!BL43:BW43))","v":""},{"$f":"IF(COUNT(消費意欲!BM43:BX43)<>12,\"\",AVERAGE(消費意欲!BM43:BX43))","v":""},{"$f":"IF(COUNT(消費意欲!BN43:BY43)<>12,\"\",AVERAGE(消費意欲!BN43:BY43))","v":""},{"$f":"IF(COUNT(消費意欲!BO43:BZ43)<>12,\"\",AVERAGE(消費意欲!BO43:BZ43))","v":""},{"$f":"IF(COUNT(消費意欲!BP43:CA43)<>12,\"\",AVERAGE(消費意欲!BP43:CA43))","v":""},{"$f":"IF(COUNT(消費意欲!BQ43:CB43)<>12,\"\",AVERAGE(消費意欲!BQ43:CB43))","v":""},{"$f":"IF(COUNT(消費意欲!BR43:CC43)<>12,\"\",AVERAGE(消費意欲!BR43:CC43))","v":""},{"$f":"IF(COUNT(消費意欲!BS43:CD43)<>12,\"\",AVERAGE(消費意欲!BS43:CD43))","v":""},{"$f":"IF(COUNT(消費意欲!BT43:CE43)<>12,\"\",AVERAGE(消費意欲!BT43:CE43))","v":""},{"$f":"IF(COUNT(消費意欲!BU43:CF43)<>12,\"\",AVERAGE(消費意欲!BU43:CF43))","v":""},{"$f":"IF(COUNT(消費意欲!BV43:CG43)<>12,\"\",AVERAGE(消費意欲!BV43:CG43))","v":""},{"$f":"IF(COUNT(消費意欲!BW43:CH43)<>12,\"\",AVERAGE(消費意欲!BW43:CH43))","v":""},{"$f":"IF(COUNT(消費意欲!BX43:CI43)<>12,\"\",AVERAGE(消費意欲!BX43:CI43))","v":""},{"$f":"IF(COUNT(消費意欲!BY43:CJ43)<>12,\"\",AVERAGE(消費意欲!BY43:CJ43))","v":""},{"$f":"IF(COUNT(消費意欲!BZ43:CK43)<>12,\"\",AVERAGE(消費意欲!BZ43:CK43))","v":""},{"$f":"IF(COUNT(消費意欲!CA43:CL43)<>12,\"\",AVERAGE(消費意欲!CA43:CL43))","v":""},{"$f":"IF(COUNT(消費意欲!CB43:CM43)<>12,\"\",AVERAGE(消費意欲!CB43:CM43))","v":""},{"$f":"IF(COUNT(消費意欲!CC43:CN43)<>12,\"\",AVERAGE(消費意欲!CC43:CN43))","v":""},{"$f":"IF(COUNT(消費意欲!CD43:CO43)<>12,\"\",AVERAGE(消費意欲!CD43:CO43))","v":""},{"$f":"IF(COUNT(消費意欲!CE43:CP43)<>12,\"\",AVERAGE(消費意欲!CE43:CP43))","v":""},{"$f":"IF(COUNT(消費意欲!CF43:CQ43)<>12,\"\",AVERAGE(消費意欲!CF43:CQ43))","v":""},{"$f":"IF(COUNT(消費意欲!CG43:CR43)<>12,\"\",AVERAGE(消費意欲!CG43:CR43))","v":""},{"$f":"IF(COUNT(消費意欲!CH43:CS43)<>12,\"\",AVERAGE(消費意欲!CH43:CS43))","v":""},{"$f":"IF(COUNT(消費意欲!CI43:CT43)<>12,\"\",AVERAGE(消費意欲!CI43:CT43))","v":""},{"$f":"IF(COUNT(消費意欲!CJ43:CU43)<>12,\"\",AVERAGE(消費意欲!CJ43:CU43))","v":""},{"$f":"IF(COUNT(消費意欲!CK43:CV43)<>12,\"\",AVERAGE(消費意欲!CK43:CV43))","v":""},{"$f":"IF(COUNT(消費意欲!CL43:CW43)<>12,\"\",AVERAGE(消費意欲!CL43:CW43))","v":""},{"$f":"IF(COUNT(消費意欲!CM43:CX43)<>12,\"\",AVERAGE(消費意欲!CM43:CX43))","v":""},{"$f":"IF(COUNT(消費意欲!CN43:CY43)<>12,\"\",AVERAGE(消費意欲!CN43:CY43))","v":""},{"$f":"IF(COUNT(消費意欲!CO43:CZ43)<>12,\"\",AVERAGE(消費意欲!CO43:CZ43))","v":""},{"$f":"IF(COUNT(消費意欲!CP43:DA43)<>12,\"\",AVERAGE(消費意欲!CP43:DA43))","v":""},{"$f":"IF(COUNT(消費意欲!CQ43:DB43)<>12,\"\",AVERAGE(消費意欲!CQ43:DB43))","v":""},{"$f":"IF(COUNT(消費意欲!CR43:DC43)<>12,\"\",AVERAGE(消費意欲!CR43:DC43))","v":""},{"$f":"IF(COUNT(消費意欲!CS43:DD43)<>12,\"\",AVERAGE(消費意欲!CS43:DD43))","v":""},{"$f":"IF(COUNT(消費意欲!CT43:DE43)<>12,\"\",AVERAGE(消費意欲!CT43:DE43))","v":""},{"$f":"IF(COUNT(消費意欲!CU43:DF43)<>12,\"\",AVERAGE(消費意欲!CU43:DF43))","v":""},{"$f":"IF(COUNT(消費意欲!CV43:DG43)<>12,\"\",AVERAGE(消費意欲!CV43:DG43))","v":""}]
[null,null,"パート・アルバイト",null,null,null,null,null,null,null,null,null,null,null,null,null,null,null,{"$f":"IF(COUNT(消費意欲!H44:S44)<>12,\"\",AVERAGE(消費意欲!H44:S44))","v":52.306666666666672},{"$f":"IF(COUNT(消費意欲!I44:T44)<>12,\"\",AVERAGE(消費意欲!I44:T44))","v":52.164166666666667},{"$f":"IF(COUNT(消費意欲!J44:U44)<>12,\"\",AVERAGE(消費意欲!J44:U44))","v":51.748333333333335},{"$f":"IF(COUNT(消費意欲!K44:V44)<>12,\"\",AVERAGE(消費意欲!K44:V44))","v":51.384166666666665},{"$f":"IF(COUNT(消費意欲!L44:W44)<>12,\"\",AVERAGE(消費意欲!L44:W44))","v":51.164166666666667},{"$f":"IF(COUNT(消費意欲!M44:X44)<>12,\"\",AVERAGE(消費意欲!M44:X44))","v":50.883333333333333},{"$f":"IF(COUNT(消費意欲!N44:Y44)<>12,\"\",AVERAGE(消費意欲!N44:Y44))","v":50.869166666666665},{"$f":"IF(COUNT(消費意欲!O44:Z44)<>12,\"\",AVERAGE(消費意欲!O44:Z44))","v":50.7425},{"$f":"IF(COUNT(消費意欲!P44:AA44)<>12,\"\",AVERAGE(消費意欲!P44:AA44))","v":50.617500000000007},{"$f":"IF(COUNT(消費意欲!Q44:AB44)<>12,\"\",AVERAGE(消費意欲!Q44:AB44))","v":50.190833333333337},{"$f":"IF(COUNT(消費意欲!R44:AC44)<>12,\"\",AVERAGE(消費意欲!R44:AC44))","v":50.622499999999995},{"$f":"IF(COUNT(消費意欲!S44:AD44)<>12,\"\",AVERAGE(消費意欲!S44:AD44))","v":51.392500000000005},{"$f":"IF(COUNT(消費意欲!T44:AE44)<>12,\"\",AVERAGE(消費意欲!T44:AE44))","v":51.12166666666667},{"$f":"IF(COUNT(消費意欲!U44:AF44)<>12,\"\",AVERAGE(消費意欲!U44:AF44))","v":50.680000000000007},{"$f":"IF(COUNT(消費意欲!V44:AG44)<>12,\"\",AVERAGE(消費意欲!V44:AG44))","v":50.720833333333339},{"$f":"IF(COUNT(消費意欲!W44:AH44)<>12,\"\",AVERAGE(消費意欲!W44:AH44))","v":50.725833333333334},{"$f":"IF(COUNT(消費意欲!X44:AI44)<>12,\"\",AVERAGE(消費意欲!X44:AI44))","v":50.636666666666663},{"$f":"IF(COUNT(消費意欲!Y44:AJ44)<>12,\"\",AVERAGE(消費意欲!Y44:AJ44))","v":50.564166666666665},{"$f":"IF(COUNT(消費意欲!Z44:AK44)<>12,\"\",AVERAGE(消費意欲!Z44:AK44))","v":50.317499999999995},{"$f":"IF(COUNT(消費意欲!AA44:AL44)<>12,\"\",AVERAGE(消費意欲!AA44:AL44))","v":49.929166666666653},{"$f":"IF(COUNT(消費意欲!AB44:AM44)<>12,\"\",AVERAGE(消費意欲!AB44:AM44))","v":50.020833333333336},{"$f":"IF(COUNT(消費意欲!AC44:AN44)<>12,\"\",AVERAGE(消費意欲!AC44:AN44))","v":49.975833333333334},{"$f":"IF(COUNT(消費意欲!AD44:AO44)<>12,\"\",AVERAGE(消費意欲!AD44:AO44))","v":49.477499999999999},{"$f":"IF(COUNT(消費意欲!AE44:AP44)<>12,\"\",AVERAGE(消費意欲!AE44:AP44))","v":48.594166666666666},{"$f":"IF(COUNT(消費意欲!AF44:AQ44)<>12,\"\",AVERAGE(消費意欲!AF44:AQ44))","v":48.579166666666673},{"$f":"IF(COUNT(消費意欲!AG44:AR44)<>12,\"\",AVERAGE(消費意欲!AG44:AR44))","v":48.898333333333333},{"$f":"IF(COUNT(消費意欲!AH44:AS44)<>12,\"\",AVERAGE(消費意欲!AH44:AS44))","v":48.858333333333341},{"$f":"IF(COUNT(消費意欲!AI44:AT44)<>12,\"\",AVERAGE(消費意欲!AI44:AT44))","v":48.961666666666673},{"$f":"IF(COUNT(消費意欲!AJ44:AU44)<>12,\"\",AVERAGE(消費意欲!AJ44:AU44))","v":48.702500000000008},{"$f":"IF(COUNT(消費意欲!AK44:AV44)<>12,\"\",AVERAGE(消費意欲!AK44:AV44))","v":48.898333333333333},{"$f":"IF(COUNT(消費意欲!AL44:AW44)<>12,\"\",AVERAGE(消費意欲!AL44:AW44))","v":49.146666666666668},{"$f":"IF(COUNT(消費意欲!AM44:AX44)<>12,\"\",AVERAGE(消費意欲!AM44:AX44))","v":49.224166666666662},{"$f":"IF(COUNT(消費意欲!AN44:AY44)<>12,\"\",AVERAGE(消費意欲!AN44:AY44))","v":49.224999999999994},{"$f":"IF(COUNT(消費意欲!AO44:AZ44)<>12,\"\",AVERAGE(消費意欲!AO44:AZ44))","v":49.319999999999993},{"$f":"IF(COUNT(消費意欲!AP44:BA44)<>12,\"\",AVERAGE(消費意欲!AP44:BA44))","v":49.024166666666666},{"$f":"IF(COUNT(消費意欲!AQ44:BB44)<>12,\"\",AVERAGE(消費意欲!AQ44:BB44))","v":49.039166666666659},{"$f":"IF(COUNT(消費意欲!AR44:BC44)<>12,\"\",AVERAGE(消費意欲!AR44:BC44))","v":49.139166666666661},{"$f":"IF(COUNT(消費意欲!AS44:BD44)<>12,\"\",AVERAGE(消費意欲!AS44:BD44))","v":49.112500000000004},{"$f":"IF(COUNT(消費意欲!AT44:BE44)<>12,\"\",AVERAGE(消費意欲!AT44:BE44))","v":""},{"$f":"IF(COUNT(消費意欲!AU44:BF44)<>12,\"\",AVERAGE(消費意欲!AU44:BF44))","v":""},{"$f":"IF(COUNT(消費意欲!AV44:BG44)<>12,\"\",AVERAGE(消費意欲!AV44:BG44))","v":""},{"$f":"IF(COUNT(消費意欲!AW44:BH44)<>12,\"\",AVERAGE(消費意欲!AW44:BH44))","v":""},{"$f":"IF(COUNT(消費意欲!AX44:BI44)<>12,\"\",AVERAGE(消費意欲!AX44:BI44))","v":""},{"$f":"IF(COUNT(消費意欲!AY44:BJ44)<>12,\"\",AVERAGE(消費意欲!AY44:BJ44))","v":""},{"$f":"IF(COUNT(消費意欲!AZ44:BK44)<>12,\"\",AVERAGE(消費意欲!AZ44:BK44))","v":""},{"$f":"IF(COUNT(消費意欲!BA44:BL44)<>12,\"\",AVERAGE(消費意欲!BA44:BL44))","v":""},{"$f":"IF(COUNT(消費意欲!BB44:BM44)<>12,\"\",AVERAGE(消費意欲!BB44:BM44))","v":""},{"$f":"IF(COUNT(消費意欲!BC44:BN44)<>12,\"\",AVERAGE(消費意欲!BC44:BN44))","v":""},{"$f":"IF(COUNT(消費意欲!BD44:BO44)<>12,\"\",AVERAGE(消費意欲!BD44:BO44))","v":""},{"$f":"IF(COUNT(消費意欲!BE44:BP44)<>12,\"\",AVERAGE(消費意欲!BE44:BP44))","v":""},{"$f":"IF(COUNT(消費意欲!BF44:BQ44)<>12,\"\",AVERAGE(消費意欲!BF44:BQ44))","v":""},{"$f":"IF(COUNT(消費意欲!BG44:BR44)<>12,\"\",AVERAGE(消費意欲!BG44:BR44))","v":""},{"$f":"IF(COUNT(消費意欲!BH44:BS44)<>12,\"\",AVERAGE(消費意欲!BH44:BS44))","v":""},{"$f":"IF(COUNT(消費意欲!BI44:BT44)<>12,\"\",AVERAGE(消費意欲!BI44:BT44))","v":""},{"$f":"IF(COUNT(消費意欲!BJ44:BU44)<>12,\"\",AVERAGE(消費意欲!BJ44:BU44))","v":""},{"$f":"IF(COUNT(消費意欲!BK44:BV44)<>12,\"\",AVERAGE(消費意欲!BK44:BV44))","v":""},{"$f":"IF(COUNT(消費意欲!BL44:BW44)<>12,\"\",AVERAGE(消費意欲!BL44:BW44))","v":""},{"$f":"IF(COUNT(消費意欲!BM44:BX44)<>12,\"\",AVERAGE(消費意欲!BM44:BX44))","v":""},{"$f":"IF(COUNT(消費意欲!BN44:BY44)<>12,\"\",AVERAGE(消費意欲!BN44:BY44))","v":""},{"$f":"IF(COUNT(消費意欲!BO44:BZ44)<>12,\"\",AVERAGE(消費意欲!BO44:BZ44))","v":""},{"$f":"IF(COUNT(消費意欲!BP44:CA44)<>12,\"\",AVERAGE(消費意欲!BP44:CA44))","v":""},{"$f":"IF(COUNT(消費意欲!BQ44:CB44)<>12,\"\",AVERAGE(消費意欲!BQ44:CB44))","v":""},{"$f":"IF(COUNT(消費意欲!BR44:CC44)<>12,\"\",AVERAGE(消費意欲!BR44:CC44))","v":""},{"$f":"IF(COUNT(消費意欲!BS44:CD44)<>12,\"\",AVERAGE(消費意欲!BS44:CD44))","v":""},{"$f":"IF(COUNT(消費意欲!BT44:CE44)<>12,\"\",AVERAGE(消費意欲!BT44:CE44))","v":""},{"$f":"IF(COUNT(消費意欲!BU44:CF44)<>12,\"\",AVERAGE(消費意欲!BU44:CF44))","v":""},{"$f":"IF(COUNT(消費意欲!BV44:CG44)<>12,\"\",AVERAGE(消費意欲!BV44:CG44))","v":""},{"$f":"IF(COUNT(消費意欲!BW44:CH44)<>12,\"\",AVERAGE(消費意欲!BW44:CH44))","v":""},{"$f":"IF(COUNT(消費意欲!BX44:CI44)<>12,\"\",AVERAGE(消費意欲!BX44:CI44))","v":""},{"$f":"IF(COUNT(消費意欲!BY44:CJ44)<>12,\"\",AVERAGE(消費意欲!BY44:CJ44))","v":""},{"$f":"IF(COUNT(消費意欲!BZ44:CK44)<>12,\"\",AVERAGE(消費意欲!BZ44:CK44))","v":""},{"$f":"IF(COUNT(消費意欲!CA44:CL44)<>12,\"\",AVERAGE(消費意欲!CA44:CL44))","v":""},{"$f":"IF(COUNT(消費意欲!CB44:CM44)<>12,\"\",AVERAGE(消費意欲!CB44:CM44))","v":""},{"$f":"IF(COUNT(消費意欲!CC44:CN44)<>12,\"\",AVERAGE(消費意欲!CC44:CN44))","v":""},{"$f":"IF(COUNT(消費意欲!CD44:CO44)<>12,\"\",AVERAGE(消費意欲!CD44:CO44))","v":""},{"$f":"IF(COUNT(消費意欲!CE44:CP44)<>12,\"\",AVERAGE(消費意欲!CE44:CP44))","v":""},{"$f":"IF(COUNT(消費意欲!CF44:CQ44)<>12,\"\",AVERAGE(消費意欲!CF44:CQ44))","v":""},{"$f":"IF(COUNT(消費意欲!CG44:CR44)<>12,\"\",AVERAGE(消費意欲!CG44:CR44))","v":""},{"$f":"IF(COUNT(消費意欲!CH44:CS44)<>12,\"\",AVERAGE(消費意欲!CH44:CS44))","v":""},{"$f":"IF(COUNT(消費意欲!CI44:CT44)<>12,\"\",AVERAGE(消費意欲!CI44:CT44))","v":""},{"$f":"IF(COUNT(消費意欲!CJ44:CU44)<>12,\"\",AVERAGE(消費意欲!CJ44:CU44))","v":""},{"$f":"IF(COUNT(消費意欲!CK44:CV44)<>12,\"\",AVERAGE(消費意欲!CK44:CV44))","v":""},{"$f":"IF(COUNT(消費意欲!CL44:CW44)<>12,\"\",AVERAGE(消費意欲!CL44:CW44))","v":""},{"$f":"IF(COUNT(消費意欲!CM44:CX44)<>12,\"\",AVERAGE(消費意欲!CM44:CX44))","v":""},{"$f":"IF(COUNT(消費意欲!CN44:CY44)<>12,\"\",AVERAGE(消費意欲!CN44:CY44))","v":""},{"$f":"IF(COUNT(消費意欲!CO44:CZ44)<>12,\"\",AVERAGE(消費意欲!CO44:CZ44))","v":""},{"$f":"IF(COUNT(消費意欲!CP44:DA44)<>12,\"\",AVERAGE(消費意欲!CP44:DA44))","v":""},{"$f":"IF(COUNT(消費意欲!CQ44:DB44)<>12,\"\",AVERAGE(消費意欲!CQ44:DB44))","v":""},{"$f":"IF(COUNT(消費意欲!CR44:DC44)<>12,\"\",AVERAGE(消費意欲!CR44:DC44))","v":""},{"$f":"IF(COUNT(消費意欲!CS44:DD44)<>12,\"\",AVERAGE(消費意欲!CS44:DD44))","v":""},{"$f":"IF(COUNT(消費意欲!CT44:DE44)<>12,\"\",AVERAGE(消費意欲!CT44:DE44))","v":""},{"$f":"IF(COUNT(消費意欲!CU44:DF44)<>12,\"\",AVERAGE(消費意欲!CU44:DF44))","v":""},{"$f":"IF(COUNT(消費意欲!CV44:DG44)<>12,\"\",AVERAGE(消費意欲!CV44:DG44))","v":""}]
[null,null,"専業主婦",null,null,null,null,null,null,null,null,null,null,null,null,null,null,null,{"$f":"IF(COUNT(消費意欲!H45:S45)<>12,\"\",AVERAGE(消費意欲!H45:S45))","v":55.119166666666665},{"$f":"IF(COUNT(消費意欲!I45:T45)<>12,\"\",AVERAGE(消費意欲!I45:T45))","v":55.074999999999996},{"$f":"IF(COUNT(消費意欲!J45:U45)<>12,\"\",AVERAGE(消費意欲!J45:U45))","v":54.654166666666661},{"$f":"IF(COUNT(消費意欲!K45:V45)<>12,\"\",AVERAGE(消費意欲!K45:V45))","v":54.507499999999993},{"$f":"IF(COUNT(消費意欲!L45:W45)<>12,\"\",AVERAGE(消費意欲!L45:W45))","v":54.82},{"$f":"IF(COUNT(消費意欲!M45:X45)<>12,\"\",AVERAGE(消費意欲!M45:X45))","v":54.164999999999999},{"$f":"IF(COUNT(消費意欲!N45:Y45)<>12,\"\",AVERAGE(消費意欲!N45:Y45))","v":54.124166666666667},{"$f":"IF(COUNT(消費意欲!O45:Z45)<>12,\"\",AVERAGE(消費意欲!O45:Z45))","v":53.782499999999992},{"$f":"IF(COUNT(消費意欲!P45:AA45)<>12,\"\",AVERAGE(消費意欲!P45:AA45))","v":53.618333333333339},{"$f":"IF(COUNT(消費意欲!Q45:AB45)<>12,\"\",AVERAGE(消費意欲!Q45:AB45))","v":53.070833333333333},{"$f":"IF(COUNT(消費意欲!R45:AC45)<>12,\"\",AVERAGE(消費意欲!R45:AC45))","v":53.219166666666659},{"$f":"IF(COUNT(消費意欲!S45:AD45)<>12,\"\",AVERAGE(消費意欲!S45:AD45))","v":53.696666666666665},{"$f":"IF(COUNT(消費意欲!T45:AE45)<>12,\"\",AVERAGE(消費意欲!T45:AE45))","v":53.014999999999993},{"$f":"IF(COUNT(消費意欲!U45:AF45)<>12,\"\",AVERAGE(消費意欲!U45:AF45))","v":52.42166666666666},{"$f":"IF(COUNT(消費意欲!V45:AG45)<>12,\"\",AVERAGE(消費意欲!V45:AG45))","v":52.393333333333324},{"$f":"IF(COUNT(消費意欲!W45:AH45)<>12,\"\",AVERAGE(消費意欲!W45:AH45))","v":52.133333333333326},{"$f":"IF(COUNT(消費意欲!X45:AI45)<>12,\"\",AVERAGE(消費意欲!X45:AI45))","v":51.970833333333339},{"$f":"IF(COUNT(消費意欲!Y45:AJ45)<>12,\"\",AVERAGE(消費意欲!Y45:AJ45))","v":52.205833333333338},{"$f":"IF(COUNT(消費意欲!Z45:AK45)<>12,\"\",AVERAGE(消費意欲!Z45:AK45))","v":52.039166666666652},{"$f":"IF(COUNT(消費意欲!AA45:AL45)<>12,\"\",AVERAGE(消費意欲!AA45:AL45))","v":51.9},{"$f":"IF(COUNT(消費意欲!AB45:AM45)<>12,\"\",AVERAGE(消費意欲!AB45:AM45))","v":52.151666666666664},{"$f":"IF(COUNT(消費意欲!AC45:AN45)<>12,\"\",AVERAGE(消費意欲!AC45:AN45))","v":51.909166666666664},{"$f":"IF(COUNT(消費意欲!AD45:AO45)<>12,\"\",AVERAGE(消費意欲!AD45:AO45))","v":51.688333333333325},{"$f":"IF(COUNT(消費意欲!AE45:AP45)<>12,\"\",AVERAGE(消費意欲!AE45:AP45))","v":50.810833333333328},{"$f":"IF(COUNT(消費意欲!AF45:AQ45)<>12,\"\",AVERAGE(消費意欲!AF45:AQ45))","v":51.06666666666667},{"$f":"IF(COUNT(消費意欲!AG45:AR45)<>12,\"\",AVERAGE(消費意欲!AG45:AR45))","v":51.56583333333333},{"$f":"IF(COUNT(消費意欲!AH45:AS45)<>12,\"\",AVERAGE(消費意欲!AH45:AS45))","v":51.395000000000003},{"$f":"IF(COUNT(消費意欲!AI45:AT45)<>12,\"\",AVERAGE(消費意欲!AI45:AT45))","v":51.497500000000002},{"$f":"IF(COUNT(消費意欲!AJ45:AU45)<>12,\"\",AVERAGE(消費意欲!AJ45:AU45))","v":51.381666666666661},{"$f":"IF(COUNT(消費意欲!AK45:AV45)<>12,\"\",AVERAGE(消費意欲!AK45:AV45))","v":51.44166666666667},{"$f":"IF(COUNT(消費意欲!AL45:AW45)<>12,\"\",AVERAGE(消費意欲!AL45:AW45))","v":51.55916666666667},{"$f":"IF(COUNT(消費意欲!AM45:AX45)<>12,\"\",AVERAGE(消費意欲!AM45:AX45))","v":51.859166666666674},{"$f":"IF(COUNT(消費意欲!AN45:AY45)<>12,\"\",AVERAGE(消費意欲!AN45:AY45))","v":51.788333333333327},{"$f":"IF(COUNT(消費意欲!AO45:AZ45)<>12,\"\",AVERAGE(消費意欲!AO45:AZ45))","v":52.099999999999994},{"$f":"IF(COUNT(消費意欲!AP45:BA45)<>12,\"\",AVERAGE(消費意欲!AP45:BA45))","v":52.022500000000001},{"$f":"IF(COUNT(消費意欲!AQ45:BB45)<>12,\"\",AVERAGE(消費意欲!AQ45:BB45))","v":51.812500000000007},{"$f":"IF(COUNT(消費意欲!AR45:BC45)<>12,\"\",AVERAGE(消費意欲!AR45:BC45))","v":51.849166666666669},{"$f":"IF(COUNT(消費意欲!AS45:BD45)<>12,\"\",AVERAGE(消費意欲!AS45:BD45))","v":51.459999999999987},{"$f":"IF(COUNT(消費意欲!AT45:BE45)<>12,\"\",AVERAGE(消費意欲!AT45:BE45))","v":""},{"$f":"IF(COUNT(消費意欲!AU45:BF45)<>12,\"\",AVERAGE(消費意欲!AU45:BF45))","v":""},{"$f":"IF(COUNT(消費意欲!AV45:BG45)<>12,\"\",AVERAGE(消費意欲!AV45:BG45))","v":""},{"$f":"IF(COUNT(消費意欲!AW45:BH45)<>12,\"\",AVERAGE(消費意欲!AW45:BH45))","v":""},{"$f":"IF(COUNT(消費意欲!AX45:BI45)<>12,\"\",AVERAGE(消費意欲!AX45:BI45))","v":""},{"$f":"IF(COUNT(消費意欲!AY45:BJ45)<>12,\"\",AVERAGE(消費意欲!AY45:BJ45))","v":""},{"$f":"IF(COUNT(消費意欲!AZ45:BK45)<>12,\"\",AVERAGE(消費意欲!AZ45:BK45))","v":""},{"$f":"IF(COUNT(消費意欲!BA45:BL45)<>12,\"\",AVERAGE(消費意欲!BA45:BL45))","v":""},{"$f":"IF(COUNT(消費意欲!BB45:BM45)<>12,\"\",AVERAGE(消費意欲!BB45:BM45))","v":""},{"$f":"IF(COUNT(消費意欲!BC45:BN45)<>12,\"\",AVERAGE(消費意欲!BC45:BN45))","v":""},{"$f":"IF(COUNT(消費意欲!BD45:BO45)<>12,\"\",AVERAGE(消費意欲!BD45:BO45))","v":""},{"$f":"IF(COUNT(消費意欲!BE45:BP45)<>12,\"\",AVERAGE(消費意欲!BE45:BP45))","v":""},{"$f":"IF(COUNT(消費意欲!BF45:BQ45)<>12,\"\",AVERAGE(消費意欲!BF45:BQ45))","v":""},{"$f":"IF(COUNT(消費意欲!BG45:BR45)<>12,\"\",AVERAGE(消費意欲!BG45:BR45))","v":""},{"$f":"IF(COUNT(消費意欲!BH45:BS45)<>12,\"\",AVERAGE(消費意欲!BH45:BS45))","v":""},{"$f":"IF(COUNT(消費意欲!BI45:BT45)<>12,\"\",AVERAGE(消費意欲!BI45:BT45))","v":""},{"$f":"IF(COUNT(消費意欲!BJ45:BU45)<>12,\"\",AVERAGE(消費意欲!BJ45:BU45))","v":""},{"$f":"IF(COUNT(消費意欲!BK45:BV45)<>12,\"\",AVERAGE(消費意欲!BK45:BV45))","v":""},{"$f":"IF(COUNT(消費意欲!BL45:BW45)<>12,\"\",AVERAGE(消費意欲!BL45:BW45))","v":""},{"$f":"IF(COUNT(消費意欲!BM45:BX45)<>12,\"\",AVERAGE(消費意欲!BM45:BX45))","v":""},{"$f":"IF(COUNT(消費意欲!BN45:BY45)<>12,\"\",AVERAGE(消費意欲!BN45:BY45))","v":""},{"$f":"IF(COUNT(消費意欲!BO45:BZ45)<>12,\"\",AVERAGE(消費意欲!BO45:BZ45))","v":""},{"$f":"IF(COUNT(消費意欲!BP45:CA45)<>12,\"\",AVERAGE(消費意欲!BP45:CA45))","v":""},{"$f":"IF(COUNT(消費意欲!BQ45:CB45)<>12,\"\",AVERAGE(消費意欲!BQ45:CB45))","v":""},{"$f":"IF(COUNT(消費意欲!BR45:CC45)<>12,\"\",AVERAGE(消費意欲!BR45:CC45))","v":""},{"$f":"IF(COUNT(消費意欲!BS45:CD45)<>12,\"\",AVERAGE(消費意欲!BS45:CD45))","v":""},{"$f":"IF(COUNT(消費意欲!BT45:CE45)<>12,\"\",AVERAGE(消費意欲!BT45:CE45))","v":""},{"$f":"IF(COUNT(消費意欲!BU45:CF45)<>12,\"\",AVERAGE(消費意欲!BU45:CF45))","v":""},{"$f":"IF(COUNT(消費意欲!BV45:CG45)<>12,\"\",AVERAGE(消費意欲!BV45:CG45))","v":""},{"$f":"IF(COUNT(消費意欲!BW45:CH45)<>12,\"\",AVERAGE(消費意欲!BW45:CH45))","v":""},{"$f":"IF(COUNT(消費意欲!BX45:CI45)<>12,\"\",AVERAGE(消費意欲!BX45:CI45))","v":""},{"$f":"IF(COUNT(消費意欲!BY45:CJ45)<>12,\"\",AVERAGE(消費意欲!BY45:CJ45))","v":""},{"$f":"IF(COUNT(消費意欲!BZ45:CK45)<>12,\"\",AVERAGE(消費意欲!BZ45:CK45))","v":""},{"$f":"IF(COUNT(消費意欲!CA45:CL45)<>12,\"\",AVERAGE(消費意欲!CA45:CL45))","v":""},{"$f":"IF(COUNT(消費意欲!CB45:CM45)<>12,\"\",AVERAGE(消費意欲!CB45:CM45))","v":""},{"$f":"IF(COUNT(消費意欲!CC45:CN45)<>12,\"\",AVERAGE(消費意欲!CC45:CN45))","v":""},{"$f":"IF(COUNT(消費意欲!CD45:CO45)<>12,\"\",AVERAGE(消費意欲!CD45:CO45))","v":""},{"$f":"IF(COUNT(消費意欲!CE45:CP45)<>12,\"\",AVERAGE(消費意欲!CE45:CP45))","v":""},{"$f":"IF(COUNT(消費意欲!CF45:CQ45)<>12,\"\",AVERAGE(消費意欲!CF45:CQ45))","v":""},{"$f":"IF(COUNT(消費意欲!CG45:CR45)<>12,\"\",AVERAGE(消費意欲!CG45:CR45))","v":""},{"$f":"IF(COUNT(消費意欲!CH45:CS45)<>12,\"\",AVERAGE(消費意欲!CH45:CS45))","v":""},{"$f":"IF(COUNT(消費意欲!CI45:CT45)<>12,\"\",AVERAGE(消費意欲!CI45:CT45))","v":""},{"$f":"IF(COUNT(消費意欲!CJ45:CU45)<>12,\"\",AVERAGE(消費意欲!CJ45:CU45))","v":""},{"$f":"IF(COUNT(消費意欲!CK45:CV45)<>12,\"\",AVERAGE(消費意欲!CK45:CV45))","v":""},{"$f":"IF(COUNT(消費意欲!CL45:CW45)<>12,\"\",AVERAGE(消費意欲!CL45:CW45))","v":""},{"$f":"IF(COUNT(消費意欲!CM45:CX45)<>12,\"\",AVERAGE(消費意欲!CM45:CX45))","v":""},{"$f":"IF(COUNT(消費意欲!CN45:CY45)<>12,\"\",AVERAGE(消費意欲!CN45:CY45))","v":""},{"$f":"IF(COUNT(消費意欲!CO45:CZ45)<>12,\"\",AVERAGE(消費意欲!CO45:CZ45))","v":""},{"$f":"IF(COUNT(消費意欲!CP45:DA45)<>12,\"\",AVERAGE(消費意欲!CP45:DA45))","v":""},{"$f":"IF(COUNT(消費意欲!CQ45:DB45)<>12,\"\",AVERAGE(消費意欲!CQ45:DB45))","v":""},{"$f":"IF(COUNT(消費意欲!CR45:DC45)<>12,\"\",AVERAGE(消費意欲!CR45:DC45))","v":""},{"$f":"IF(COUNT(消費意欲!CS45:DD45)<>12,\"\",AVERAGE(消費意欲!CS45:DD45))","v":""},{"$f":"IF(COUNT(消費意欲!CT45:DE45)<>12,\"\",AVERAGE(消費意欲!CT45:DE45))","v":""},{"$f":"IF(COUNT(消費意欲!CU45:DF45)<>12,\"\",AVERAGE(消費意欲!CU45:DF45))","v":""},{"$f":"IF(COUNT(消費意欲!CV45:DG45)<>12,\"\",AVERAGE(消費意欲!CV45:DG45))","v":""}]
[null,null,"学生",null,null,null,null,null,null,null,null,null,null,null,null,null,null,null,{"$f":"IF(COUNT(消費意欲!H46:S46)<>12,\"\",AVERAGE(消費意欲!H46:S46))","v":55.45333333333334},{"$f":"IF(COUNT(消費意欲!I46:T46)<>12,\"\",AVERAGE(消費意欲!I46:T46))","v":55.622500000000002},{"$f":"IF(COUNT(消費意欲!J46:U46)<>12,\"\",AVERAGE(消費意欲!J46:U46))","v":54.681666666666672},{"$f":"IF(COUNT(消費意欲!K46:V46)<>12,\"\",AVERAGE(消費意欲!K46:V46))","v":53.934166666666663},{"$f":"IF(COUNT(消費意欲!L46:W46)<>12,\"\",AVERAGE(消費意欲!L46:W46))","v":53.880833333333328},{"$f":"IF(COUNT(消費意欲!M46:X46)<>12,\"\",AVERAGE(消費意欲!M46:X46))","v":53.453333333333319},{"$f":"IF(COUNT(消費意欲!N46:Y46)<>12,\"\",AVERAGE(消費意欲!N46:Y46))","v":53.892500000000005},{"$f":"IF(COUNT(消費意欲!O46:Z46)<>12,\"\",AVERAGE(消費意欲!O46:Z46))","v":53.373333333333335},{"$f":"IF(COUNT(消費意欲!P46:AA46)<>12,\"\",AVERAGE(消費意欲!P46:AA46))","v":53.46},{"$f":"IF(COUNT(消費意欲!Q46:AB46)<>12,\"\",AVERAGE(消費意欲!Q46:AB46))","v":53.344166666666666},{"$f":"IF(COUNT(消費意欲!R46:AC46)<>12,\"\",AVERAGE(消費意欲!R46:AC46))","v":53.85},{"$f":"IF(COUNT(消費意欲!S46:AD46)<>12,\"\",AVERAGE(消費意欲!S46:AD46))","v":54.157499999999999},{"$f":"IF(COUNT(消費意欲!T46:AE46)<>12,\"\",AVERAGE(消費意欲!T46:AE46))","v":54.910833333333329},{"$f":"IF(COUNT(消費意欲!U46:AF46)<>12,\"\",AVERAGE(消費意欲!U46:AF46))","v":55.06},{"$f":"IF(COUNT(消費意欲!V46:AG46)<>12,\"\",AVERAGE(消費意欲!V46:AG46))","v":55.103333333333325},{"$f":"IF(COUNT(消費意欲!W46:AH46)<>12,\"\",AVERAGE(消費意欲!W46:AH46))","v":54.808333333333316},{"$f":"IF(COUNT(消費意欲!X46:AI46)<>12,\"\",AVERAGE(消費意欲!X46:AI46))","v":54.848333333333329},{"$f":"IF(COUNT(消費意欲!Y46:AJ46)<>12,\"\",AVERAGE(消費意欲!Y46:AJ46))","v":54.770833333333336},{"$f":"IF(COUNT(消費意欲!Z46:AK46)<>12,\"\",AVERAGE(消費意欲!Z46:AK46))","v":54.153333333333336},{"$f":"IF(COUNT(消費意欲!AA46:AL46)<>12,\"\",AVERAGE(消費意欲!AA46:AL46))","v":54.488333333333337},{"$f":"IF(COUNT(消費意欲!AB46:AM46)<>12,\"\",AVERAGE(消費意欲!AB46:AM46))","v":54.673333333333325},{"$f":"IF(COUNT(消費意欲!AC46:AN46)<>12,\"\",AVERAGE(消費意欲!AC46:AN46))","v":54.741666666666667},{"$f":"IF(COUNT(消費意欲!AD46:AO46)<>12,\"\",AVERAGE(消費意欲!AD46:AO46))","v":54.239999999999988},{"$f":"IF(COUNT(消費意欲!AE46:AP46)<>12,\"\",AVERAGE(消費意欲!AE46:AP46))","v":53.955833333333324},{"$f":"IF(COUNT(消費意欲!AF46:AQ46)<>12,\"\",AVERAGE(消費意欲!AF46:AQ46))","v":54.155000000000008},{"$f":"IF(COUNT(消費意欲!AG46:AR46)<>12,\"\",AVERAGE(消費意欲!AG46:AR46))","v":53.910833333333329},{"$f":"IF(COUNT(消費意欲!AH46:AS46)<>12,\"\",AVERAGE(消費意欲!AH46:AS46))","v":54.067499999999995},{"$f":"IF(COUNT(消費意欲!AI46:AT46)<>12,\"\",AVERAGE(消費意欲!AI46:AT46))","v":54.249166666666667},{"$f":"IF(COUNT(消費意欲!AJ46:AU46)<>12,\"\",AVERAGE(消費意欲!AJ46:AU46))","v":54.224999999999994},{"$f":"IF(COUNT(消費意欲!AK46:AV46)<>12,\"\",AVERAGE(消費意欲!AK46:AV46))","v":53.77000000000001},{"$f":"IF(COUNT(消費意欲!AL46:AW46)<>12,\"\",AVERAGE(消費意欲!AL46:AW46))","v":53.695833333333326},{"$f":"IF(COUNT(消費意欲!AM46:AX46)<>12,\"\",AVERAGE(消費意欲!AM46:AX46))","v":53.762499999999996},{"$f":"IF(COUNT(消費意欲!AN46:AY46)<>12,\"\",AVERAGE(消費意欲!AN46:AY46))","v":53.180833333333347},{"$f":"IF(COUNT(消費意欲!AO46:AZ46)<>12,\"\",AVERAGE(消費意欲!AO46:AZ46))","v":53.592500000000001},{"$f":"IF(COUNT(消費意欲!AP46:BA46)<>12,\"\",AVERAGE(消費意欲!AP46:BA46))","v":53.700833333333343},{"$f":"IF(COUNT(消費意欲!AQ46:BB46)<>12,\"\",AVERAGE(消費意欲!AQ46:BB46))","v":53.545833333333341},{"$f":"IF(COUNT(消費意欲!AR46:BC46)<>12,\"\",AVERAGE(消費意欲!AR46:BC46))","v":53.284166666666671},{"$f":"IF(COUNT(消費意欲!AS46:BD46)<>12,\"\",AVERAGE(消費意欲!AS46:BD46))","v":53.122500000000009},{"$f":"IF(COUNT(消費意欲!AT46:BE46)<>12,\"\",AVERAGE(消費意欲!AT46:BE46))","v":""},{"$f":"IF(COUNT(消費意欲!AU46:BF46)<>12,\"\",AVERAGE(消費意欲!AU46:BF46))","v":""},{"$f":"IF(COUNT(消費意欲!AV46:BG46)<>12,\"\",AVERAGE(消費意欲!AV46:BG46))","v":""},{"$f":"IF(COUNT(消費意欲!AW46:BH46)<>12,\"\",AVERAGE(消費意欲!AW46:BH46))","v":""},{"$f":"IF(COUNT(消費意欲!AX46:BI46)<>12,\"\",AVERAGE(消費意欲!AX46:BI46))","v":""},{"$f":"IF(COUNT(消費意欲!AY46:BJ46)<>12,\"\",AVERAGE(消費意欲!AY46:BJ46))","v":""},{"$f":"IF(COUNT(消費意欲!AZ46:BK46)<>12,\"\",AVERAGE(消費意欲!AZ46:BK46))","v":""},{"$f":"IF(COUNT(消費意欲!BA46:BL46)<>12,\"\",AVERAGE(消費意欲!BA46:BL46))","v":""},{"$f":"IF(COUNT(消費意欲!BB46:BM46)<>12,\"\",AVERAGE(消費意欲!BB46:BM46))","v":""},{"$f":"IF(COUNT(消費意欲!BC46:BN46)<>12,\"\",AVERAGE(消費意欲!BC46:BN46))","v":""},{"$f":"IF(COUNT(消費意欲!BD46:BO46)<>12,\"\",AVERAGE(消費意欲!BD46:BO46))","v":""},{"$f":"IF(COUNT(消費意欲!BE46:BP46)<>12,\"\",AVERAGE(消費意欲!BE46:BP46))","v":""},{"$f":"IF(COUNT(消費意欲!BF46:BQ46)<>12,\"\",AVERAGE(消費意欲!BF46:BQ46))","v":""},{"$f":"IF(COUNT(消費意欲!BG46:BR46)<>12,\"\",AVERAGE(消費意欲!BG46:BR46))","v":""},{"$f":"IF(COUNT(消費意欲!BH46:BS46)<>12,\"\",AVERAGE(消費意欲!BH46:BS46))","v":""},{"$f":"IF(COUNT(消費意欲!BI46:BT46)<>12,\"\",AVERAGE(消費意欲!BI46:BT46))","v":""},{"$f":"IF(COUNT(消費意欲!BJ46:BU46)<>12,\"\",AVERAGE(消費意欲!BJ46:BU46))","v":""},{"$f":"IF(COUNT(消費意欲!BK46:BV46)<>12,\"\",AVERAGE(消費意欲!BK46:BV46))","v":""},{"$f":"IF(COUNT(消費意欲!BL46:BW46)<>12,\"\",AVERAGE(消費意欲!BL46:BW46))","v":""},{"$f":"IF(COUNT(消費意欲!BM46:BX46)<>12,\"\",AVERAGE(消費意欲!BM46:BX46))","v":""},{"$f":"IF(COUNT(消費意欲!BN46:BY46)<>12,\"\",AVERAGE(消費意欲!BN46:BY46))","v":""},{"$f":"IF(COUNT(消費意欲!BO46:BZ46)<>12,\"\",AVERAGE(消費意欲!BO46:BZ46))","v":""},{"$f":"IF(COUNT(消費意欲!BP46:CA46)<>12,\"\",AVERAGE(消費意欲!BP46:CA46))","v":""},{"$f":"IF(COUNT(消費意欲!BQ46:CB46)<>12,\"\",AVERAGE(消費意欲!BQ46:CB46))","v":""},{"$f":"IF(COUNT(消費意欲!BR46:CC46)<>12,\"\",AVERAGE(消費意欲!BR46:CC46))","v":""},{"$f":"IF(COUNT(消費意欲!BS46:CD46)<>12,\"\",AVERAGE(消費意欲!BS46:CD46))","v":""},{"$f":"IF(COUNT(消費意欲!BT46:CE46)<>12,\"\",AVERAGE(消費意欲!BT46:CE46))","v":""},{"$f":"IF(COUNT(消費意欲!BU46:CF46)<>12,\"\",AVERAGE(消費意欲!BU46:CF46))","v":""},{"$f":"IF(COUNT(消費意欲!BV46:CG46)<>12,\"\",AVERAGE(消費意欲!BV46:CG46))","v":""},{"$f":"IF(COUNT(消費意欲!BW46:CH46)<>12,\"\",AVERAGE(消費意欲!BW46:CH46))","v":""},{"$f":"IF(COUNT(消費意欲!BX46:CI46)<>12,\"\",AVERAGE(消費意欲!BX46:CI46))","v":""},{"$f":"IF(COUNT(消費意欲!BY46:CJ46)<>12,\"\",AVERAGE(消費意欲!BY46:CJ46))","v":""},{"$f":"IF(COUNT(消費意欲!BZ46:CK46)<>12,\"\",AVERAGE(消費意欲!BZ46:CK46))","v":""},{"$f":"IF(COUNT(消費意欲!CA46:CL46)<>12,\"\",AVERAGE(消費意欲!CA46:CL46))","v":""},{"$f":"IF(COUNT(消費意欲!CB46:CM46)<>12,\"\",AVERAGE(消費意欲!CB46:CM46))","v":""},{"$f":"IF(COUNT(消費意欲!CC46:CN46)<>12,\"\",AVERAGE(消費意欲!CC46:CN46))","v":""},{"$f":"IF(COUNT(消費意欲!CD46:CO46)<>12,\"\",AVERAGE(消費意欲!CD46:CO46))","v":""},{"$f":"IF(COUNT(消費意欲!CE46:CP46)<>12,\"\",AVERAGE(消費意欲!CE46:CP46))","v":""},{"$f":"IF(COUNT(消費意欲!CF46:CQ46)<>12,\"\",AVERAGE(消費意欲!CF46:CQ46))","v":""},{"$f":"IF(COUNT(消費意欲!CG46:CR46)<>12,\"\",AVERAGE(消費意欲!CG46:CR46))","v":""},{"$f":"IF(COUNT(消費意欲!CH46:CS46)<>12,\"\",AVERAGE(消費意欲!CH46:CS46))","v":""},{"$f":"IF(COUNT(消費意欲!CI46:CT46)<>12,\"\",AVERAGE(消費意欲!CI46:CT46))","v":""},{"$f":"IF(COUNT(消費意欲!CJ46:CU46)<>12,\"\",AVERAGE(消費意欲!CJ46:CU46))","v":""},{"$f":"IF(COUNT(消費意欲!CK46:CV46)<>12,\"\",AVERAGE(消費意欲!CK46:CV46))","v":""},{"$f":"IF(COUNT(消費意欲!CL46:CW46)<>12,\"\",AVERAGE(消費意欲!CL46:CW46))","v":""},{"$f":"IF(COUNT(消費意欲!CM46:CX46)<>12,\"\",AVERAGE(消費意欲!CM46:CX46))","v":""},{"$f":"IF(COUNT(消費意欲!CN46:CY46)<>12,\"\",AVERAGE(消費意欲!CN46:CY46))","v":""},{"$f":"IF(COUNT(消費意欲!CO46:CZ46)<>12,\"\",AVERAGE(消費意欲!CO46:CZ46))","v":""},{"$f":"IF(COUNT(消費意欲!CP46:DA46)<>12,\"\",AVERAGE(消費意欲!CP46:DA46))","v":""},{"$f":"IF(COUNT(消費意欲!CQ46:DB46)<>12,\"\",AVERAGE(消費意欲!CQ46:DB46))","v":""},{"$f":"IF(COUNT(消費意欲!CR46:DC46)<>12,\"\",AVERAGE(消費意欲!CR46:DC46))","v":""},{"$f":"IF(COUNT(消費意欲!CS46:DD46)<>12,\"\",AVERAGE(消費意欲!CS46:DD46))","v":""},{"$f":"IF(COUNT(消費意欲!CT46:DE46)<>12,\"\",AVERAGE(消費意欲!CT46:DE46))","v":""},{"$f":"IF(COUNT(消費意欲!CU46:DF46)<>12,\"\",AVERAGE(消費意欲!CU46:DF46))","v":""},{"$f":"IF(COUNT(消費意欲!CV46:DG46)<>12,\"\",AVERAGE(消費意欲!CV46:DG46))","v":""}]
[null,null,"無職・その他",null,null,null,null,null,null,null,null,null,null,null,null,null,null,null,{"$f":"IF(COUNT(消費意欲!H47:S47)<>12,\"\",AVERAGE(消費意欲!H47:S47))","v":48.005833333333328},{"$f":"IF(COUNT(消費意欲!I47:T47)<>12,\"\",AVERAGE(消費意欲!I47:T47))","v":47.903333333333329},{"$f":"IF(COUNT(消費意欲!J47:U47)<>12,\"\",AVERAGE(消費意欲!J47:U47))","v":47.556666666666665},{"$f":"IF(COUNT(消費意欲!K47:V47)<>12,\"\",AVERAGE(消費意欲!K47:V47))","v":47.278333333333329},{"$f":"IF(COUNT(消費意欲!L47:W47)<>12,\"\",AVERAGE(消費意欲!L47:W47))","v":47.278333333333329},{"$f":"IF(COUNT(消費意欲!M47:X47)<>12,\"\",AVERAGE(消費意欲!M47:X47))","v":46.87583333333334},{"$f":"IF(COUNT(消費意欲!N47:Y47)<>12,\"\",AVERAGE(消費意欲!N47:Y47))","v":47.501666666666672},{"$f":"IF(COUNT(消費意欲!O47:Z47)<>12,\"\",AVERAGE(消費意欲!O47:Z47))","v":47.020833333333336},{"$f":"IF(COUNT(消費意欲!P47:AA47)<>12,\"\",AVERAGE(消費意欲!P47:AA47))","v":46.655833333333334},{"$f":"IF(COUNT(消費意欲!Q47:AB47)<>12,\"\",AVERAGE(消費意欲!Q47:AB47))","v":46.273333333333333},{"$f":"IF(COUNT(消費意欲!R47:AC47)<>12,\"\",AVERAGE(消費意欲!R47:AC47))","v":46.818333333333328},{"$f":"IF(COUNT(消費意欲!S47:AD47)<>12,\"\",AVERAGE(消費意欲!S47:AD47))","v":46.603333333333325},{"$f":"IF(COUNT(消費意欲!T47:AE47)<>12,\"\",AVERAGE(消費意欲!T47:AE47))","v":46.500833333333325},{"$f":"IF(COUNT(消費意欲!U47:AF47)<>12,\"\",AVERAGE(消費意欲!U47:AF47))","v":46.078333333333326},{"$f":"IF(COUNT(消費意欲!V47:AG47)<>12,\"\",AVERAGE(消費意欲!V47:AG47))","v":45.8125},{"$f":"IF(COUNT(消費意欲!W47:AH47)<>12,\"\",AVERAGE(消費意欲!W47:AH47))","v":45.830833333333338},{"$f":"IF(COUNT(消費意欲!X47:AI47)<>12,\"\",AVERAGE(消費意欲!X47:AI47))","v":45.793333333333329},{"$f":"IF(COUNT(消費意欲!Y47:AJ47)<>12,\"\",AVERAGE(消費意欲!Y47:AJ47))","v":46.027500000000003},{"$f":"IF(COUNT(消費意欲!Z47:AK47)<>12,\"\",AVERAGE(消費意欲!Z47:AK47))","v":45.700833333333328},{"$f":"IF(COUNT(消費意欲!AA47:AL47)<>12,\"\",AVERAGE(消費意欲!AA47:AL47))","v":45.084166666666668},{"$f":"IF(COUNT(消費意欲!AB47:AM47)<>12,\"\",AVERAGE(消費意欲!AB47:AM47))","v":45.206666666666656},{"$f":"IF(COUNT(消費意欲!AC47:AN47)<>12,\"\",AVERAGE(消費意欲!AC47:AN47))","v":44.931666666666672},{"$f":"IF(COUNT(消費意欲!AD47:AO47)<>12,\"\",AVERAGE(消費意欲!AD47:AO47))","v":44.299166666666672},{"$f":"IF(COUNT(消費意欲!AE47:AP47)<>12,\"\",AVERAGE(消費意欲!AE47:AP47))","v":43.940833333333337},{"$f":"IF(COUNT(消費意欲!AF47:AQ47)<>12,\"\",AVERAGE(消費意欲!AF47:AQ47))","v":44.07},{"$f":"IF(COUNT(消費意欲!AG47:AR47)<>12,\"\",AVERAGE(消費意欲!AG47:AR47))","v":44.459166666666668},{"$f":"IF(COUNT(消費意欲!AH47:AS47)<>12,\"\",AVERAGE(消費意欲!AH47:AS47))","v":44.330000000000005},{"$f":"IF(COUNT(消費意欲!AI47:AT47)<>12,\"\",AVERAGE(消費意欲!AI47:AT47))","v":44.210833333333333},{"$f":"IF(COUNT(消費意欲!AJ47:AU47)<>12,\"\",AVERAGE(消費意欲!AJ47:AU47))","v":44.197499999999998},{"$f":"IF(COUNT(消費意欲!AK47:AV47)<>12,\"\",AVERAGE(消費意欲!AK47:AV47))","v":44.234999999999992},{"$f":"IF(COUNT(消費意欲!AL47:AW47)<>12,\"\",AVERAGE(消費意欲!AL47:AW47))","v":44.439166666666665},{"$f":"IF(COUNT(消費意欲!AM47:AX47)<>12,\"\",AVERAGE(消費意欲!AM47:AX47))","v":45.301666666666669},{"$f":"IF(COUNT(消費意欲!AN47:AY47)<>12,\"\",AVERAGE(消費意欲!AN47:AY47))","v":45.084166666666668},{"$f":"IF(COUNT(消費意欲!AO47:AZ47)<>12,\"\",AVERAGE(消費意欲!AO47:AZ47))","v":45.174166666666657},{"$f":"IF(COUNT(消費意欲!AP47:BA47)<>12,\"\",AVERAGE(消費意欲!AP47:BA47))","v":45.43},{"$f":"IF(COUNT(消費意欲!AQ47:BB47)<>12,\"\",AVERAGE(消費意欲!AQ47:BB47))","v":45.250833333333333},{"$f":"IF(COUNT(消費意欲!AR47:BC47)<>12,\"\",AVERAGE(消費意欲!AR47:BC47))","v":45.494999999999997},{"$f":"IF(COUNT(消費意欲!AS47:BD47)<>12,\"\",AVERAGE(消費意欲!AS47:BD47))","v":45.346666666666671},{"$f":"IF(COUNT(消費意欲!AT47:BE47)<>12,\"\",AVERAGE(消費意欲!AT47:BE47))","v":""},{"$f":"IF(COUNT(消費意欲!AU47:BF47)<>12,\"\",AVERAGE(消費意欲!AU47:BF47))","v":""},{"$f":"IF(COUNT(消費意欲!AV47:BG47)<>12,\"\",AVERAGE(消費意欲!AV47:BG47))","v":""},{"$f":"IF(COUNT(消費意欲!AW47:BH47)<>12,\"\",AVERAGE(消費意欲!AW47:BH47))","v":""},{"$f":"IF(COUNT(消費意欲!AX47:BI47)<>12,\"\",AVERAGE(消費意欲!AX47:BI47))","v":""},{"$f":"IF(COUNT(消費意欲!AY47:BJ47)<>12,\"\",AVERAGE(消費意欲!AY47:BJ47))","v":""},{"$f":"IF(COUNT(消費意欲!AZ47:BK47)<>12,\"\",AVERAGE(消費意欲!AZ47:BK47))","v":""},{"$f":"IF(COUNT(消費意欲!BA47:BL47)<>12,\"\",AVERAGE(消費意欲!BA47:BL47))","v":""},{"$f":"IF(COUNT(消費意欲!BB47:BM47)<>12,\"\",AVERAGE(消費意欲!BB47:BM47))","v":""},{"$f":"IF(COUNT(消費意欲!BC47:BN47)<>12,\"\",AVERAGE(消費意欲!BC47:BN47))","v":""},{"$f":"IF(COUNT(消費意欲!BD47:BO47)<>12,\"\",AVERAGE(消費意欲!BD47:BO47))","v":""},{"$f":"IF(COUNT(消費意欲!BE47:BP47)<>12,\"\",AVERAGE(消費意欲!BE47:BP47))","v":""},{"$f":"IF(COUNT(消費意欲!BF47:BQ47)<>12,\"\",AVERAGE(消費意欲!BF47:BQ47))","v":""},{"$f":"IF(COUNT(消費意欲!BG47:BR47)<>12,\"\",AVERAGE(消費意欲!BG47:BR47))","v":""},{"$f":"IF(COUNT(消費意欲!BH47:BS47)<>12,\"\",AVERAGE(消費意欲!BH47:BS47))","v":""},{"$f":"IF(COUNT(消費意欲!BI47:BT47)<>12,\"\",AVERAGE(消費意欲!BI47:BT47))","v":""},{"$f":"IF(COUNT(消費意欲!BJ47:BU47)<>12,\"\",AVERAGE(消費意欲!BJ47:BU47))","v":""},{"$f":"IF(COUNT(消費意欲!BK47:BV47)<>12,\"\",AVERAGE(消費意欲!BK47:BV47))","v":""},{"$f":"IF(COUNT(消費意欲!BL47:BW47)<>12,\"\",AVERAGE(消費意欲!BL47:BW47))","v":""},{"$f":"IF(COUNT(消費意欲!BM47:BX47)<>12,\"\",AVERAGE(消費意欲!BM47:BX47))","v":""},{"$f":"IF(COUNT(消費意欲!BN47:BY47)<>12,\"\",AVERAGE(消費意欲!BN47:BY47))","v":""},{"$f":"IF(COUNT(消費意欲!BO47:BZ47)<>12,\"\",AVERAGE(消費意欲!BO47:BZ47))","v":""},{"$f":"IF(COUNT(消費意欲!BP47:CA47)<>12,\"\",AVERAGE(消費意欲!BP47:CA47))","v":""},{"$f":"IF(COUNT(消費意欲!BQ47:CB47)<>12,\"\",AVERAGE(消費意欲!BQ47:CB47))","v":""},{"$f":"IF(COUNT(消費意欲!BR47:CC47)<>12,\"\",AVERAGE(消費意欲!BR47:CC47))","v":""},{"$f":"IF(COUNT(消費意欲!BS47:CD47)<>12,\"\",AVERAGE(消費意欲!BS47:CD47))","v":""},{"$f":"IF(COUNT(消費意欲!BT47:CE47)<>12,\"\",AVERAGE(消費意欲!BT47:CE47))","v":""},{"$f":"IF(COUNT(消費意欲!BU47:CF47)<>12,\"\",AVERAGE(消費意欲!BU47:CF47))","v":""},{"$f":"IF(COUNT(消費意欲!BV47:CG47)<>12,\"\",AVERAGE(消費意欲!BV47:CG47))","v":""},{"$f":"IF(COUNT(消費意欲!BW47:CH47)<>12,\"\",AVERAGE(消費意欲!BW47:CH47))","v":""},{"$f":"IF(COUNT(消費意欲!BX47:CI47)<>12,\"\",AVERAGE(消費意欲!BX47:CI47))","v":""},{"$f":"IF(COUNT(消費意欲!BY47:CJ47)<>12,\"\",AVERAGE(消費意欲!BY47:CJ47))","v":""},{"$f":"IF(COUNT(消費意欲!BZ47:CK47)<>12,\"\",AVERAGE(消費意欲!BZ47:CK47))","v":""},{"$f":"IF(COUNT(消費意欲!CA47:CL47)<>12,\"\",AVERAGE(消費意欲!CA47:CL47))","v":""},{"$f":"IF(COUNT(消費意欲!CB47:CM47)<>12,\"\",AVERAGE(消費意欲!CB47:CM47))","v":""},{"$f":"IF(COUNT(消費意欲!CC47:CN47)<>12,\"\",AVERAGE(消費意欲!CC47:CN47))","v":""},{"$f":"IF(COUNT(消費意欲!CD47:CO47)<>12,\"\",AVERAGE(消費意欲!CD47:CO47))","v":""},{"$f":"IF(COUNT(消費意欲!CE47:CP47)<>12,\"\",AVERAGE(消費意欲!CE47:CP47))","v":""},{"$f":"IF(COUNT(消費意欲!CF47:CQ47)<>12,\"\",AVERAGE(消費意欲!CF47:CQ47))","v":""},{"$f":"IF(COUNT(消費意欲!CG47:CR47)<>12,\"\",AVERAGE(消費意欲!CG47:CR47))","v":""},{"$f":"IF(COUNT(消費意欲!CH47:CS47)<>12,\"\",AVERAGE(消費意欲!CH47:CS47))","v":""},{"$f":"IF(COUNT(消費意欲!CI47:CT47)<>12,\"\",AVERAGE(消費意欲!CI47:CT47))","v":""},{"$f":"IF(COUNT(消費意欲!CJ47:CU47)<>12,\"\",AVERAGE(消費意欲!CJ47:CU47))","v":""},{"$f":"IF(COUNT(消費意欲!CK47:CV47)<>12,\"\",AVERAGE(消費意欲!CK47:CV47))","v":""},{"$f":"IF(COUNT(消費意欲!CL47:CW47)<>12,\"\",AVERAGE(消費意欲!CL47:CW47))","v":""},{"$f":"IF(COUNT(消費意欲!CM47:CX47)<>12,\"\",AVERAGE(消費意欲!CM47:CX47))","v":""},{"$f":"IF(COUNT(消費意欲!CN47:CY47)<>12,\"\",AVERAGE(消費意欲!CN47:CY47))","v":""},{"$f":"IF(COUNT(消費意欲!CO47:CZ47)<>12,\"\",AVERAGE(消費意欲!CO47:CZ47))","v":""},{"$f":"IF(COUNT(消費意欲!CP47:DA47)<>12,\"\",AVERAGE(消費意欲!CP47:DA47))","v":""},{"$f":"IF(COUNT(消費意欲!CQ47:DB47)<>12,\"\",AVERAGE(消費意欲!CQ47:DB47))","v":""},{"$f":"IF(COUNT(消費意欲!CR47:DC47)<>12,\"\",AVERAGE(消費意欲!CR47:DC47))","v":""},{"$f":"IF(COUNT(消費意欲!CS47:DD47)<>12,\"\",AVERAGE(消費意欲!CS47:DD47))","v":""},{"$f":"IF(COUNT(消費意欲!CT47:DE47)<>12,\"\",AVERAGE(消費意欲!CT47:DE47))","v":""},{"$f":"IF(COUNT(消費意欲!CU47:DF47)<>12,\"\",AVERAGE(消費意欲!CU47:DF47))","v":""},{"$f":"IF(COUNT(消費意欲!CV47:DG47)<>12,\"\",AVERAGE(消費意欲!CV47:DG47))","v":""}]
[null,"世帯年収別","高（800万円以上）",null,null,null,null,null,null,null,null,null,null,null,null,null,null,null,{"$f":"IF(COUNT(消費意欲!H48:S48)<>12,\"\",AVERAGE(消費意欲!H48:S48))","v":54.441666666666663},{"$f":"IF(COUNT(消費意欲!I48:T48)<>12,\"\",AVERAGE(消費意欲!I48:T48))","v":54.20000000000001},{"$f":"IF(COUNT(消費意欲!J48:U48)<>12,\"\",AVERAGE(消費意欲!J48:U48))","v":54.052500000000009},{"$f":"IF(COUNT(消費意欲!K48:V48)<>12,\"\",AVERAGE(消費意欲!K48:V48))","v":53.785000000000018},{"$f":"IF(COUNT(消費意欲!L48:W48)<>12,\"\",AVERAGE(消費意欲!L48:W48))","v":53.94166666666667},{"$f":"IF(COUNT(消費意欲!M48:X48)<>12,\"\",AVERAGE(消費意欲!M48:X48))","v":53.459166666666675},{"$f":"IF(COUNT(消費意欲!N48:Y48)<>12,\"\",AVERAGE(消費意欲!N48:Y48))","v":53.495000000000005},{"$f":"IF(COUNT(消費意欲!O48:Z48)<>12,\"\",AVERAGE(消費意欲!O48:Z48))","v":53.199166666666677},{"$f":"IF(COUNT(消費意欲!P48:AA48)<>12,\"\",AVERAGE(消費意欲!P48:AA48))","v":53.318333333333349},{"$f":"IF(COUNT(消費意欲!Q48:AB48)<>12,\"\",AVERAGE(消費意欲!Q48:AB48))","v":52.835000000000008},{"$f":"IF(COUNT(消費意欲!R48:AC48)<>12,\"\",AVERAGE(消費意欲!R48:AC48))","v":53.210833333333333},{"$f":"IF(COUNT(消費意欲!S48:AD48)<>12,\"\",AVERAGE(消費意欲!S48:AD48))","v":53.301666666666669},{"$f":"IF(COUNT(消費意欲!T48:AE48)<>12,\"\",AVERAGE(消費意欲!T48:AE48))","v":53.142500000000005},{"$f":"IF(COUNT(消費意欲!U48:AF48)<>12,\"\",AVERAGE(消費意欲!U48:AF48))","v":52.975000000000001},{"$f":"IF(COUNT(消費意欲!V48:AG48)<>12,\"\",AVERAGE(消費意欲!V48:AG48))","v":52.853333333333332},{"$f":"IF(COUNT(消費意欲!W48:AH48)<>12,\"\",AVERAGE(消費意欲!W48:AH48))","v":52.685000000000002},{"$f":"IF(COUNT(消費意欲!X48:AI48)<>12,\"\",AVERAGE(消費意欲!X48:AI48))","v":52.586666666666673},{"$f":"IF(COUNT(消費意欲!Y48:AJ48)<>12,\"\",AVERAGE(消費意欲!Y48:AJ48))","v":52.702499999999993},{"$f":"IF(COUNT(消費意欲!Z48:AK48)<>12,\"\",AVERAGE(消費意欲!Z48:AK48))","v":52.785833333333336},{"$f":"IF(COUNT(消費意欲!AA48:AL48)<>12,\"\",AVERAGE(消費意欲!AA48:AL48))","v":52.859999999999992},{"$f":"IF(COUNT(消費意欲!AB48:AM48)<>12,\"\",AVERAGE(消費意欲!AB48:AM48))","v":52.921666666666674},{"$f":"IF(COUNT(消費意欲!AC48:AN48)<>12,\"\",AVERAGE(消費意欲!AC48:AN48))","v":53.095833333333339},{"$f":"IF(COUNT(消費意欲!AD48:AO48)<>12,\"\",AVERAGE(消費意欲!AD48:AO48))","v":52.857500000000009},{"$f":"IF(COUNT(消費意欲!AE48:AP48)<>12,\"\",AVERAGE(消費意欲!AE48:AP48))","v":52.464999999999996},{"$f":"IF(COUNT(消費意欲!AF48:AQ48)<>12,\"\",AVERAGE(消費意欲!AF48:AQ48))","v":52.281666666666666},{"$f":"IF(COUNT(消費意欲!AG48:AR48)<>12,\"\",AVERAGE(消費意欲!AG48:AR48))","v":52.388333333333343},{"$f":"IF(COUNT(消費意欲!AH48:AS48)<>12,\"\",AVERAGE(消費意欲!AH48:AS48))","v":52.30916666666667},{"$f":"IF(COUNT(消費意欲!AI48:AT48)<>12,\"\",AVERAGE(消費意欲!AI48:AT48))","v":52.490000000000009},{"$f":"IF(COUNT(消費意欲!AJ48:AU48)<>12,\"\",AVERAGE(消費意欲!AJ48:AU48))","v":52.136666666666677},{"$f":"IF(COUNT(消費意欲!AK48:AV48)<>12,\"\",AVERAGE(消費意欲!AK48:AV48))","v":52.192499999999995},{"$f":"IF(COUNT(消費意欲!AL48:AW48)<>12,\"\",AVERAGE(消費意欲!AL48:AW48))","v":52.322499999999998},{"$f":"IF(COUNT(消費意欲!AM48:AX48)<>12,\"\",AVERAGE(消費意欲!AM48:AX48))","v":52.471666666666671},{"$f":"IF(COUNT(消費意欲!AN48:AY48)<>12,\"\",AVERAGE(消費意欲!AN48:AY48))","v":52.276666666666671},{"$f":"IF(COUNT(消費意欲!AO48:AZ48)<>12,\"\",AVERAGE(消費意欲!AO48:AZ48))","v":52.366666666666667},{"$f":"IF(COUNT(消費意欲!AP48:BA48)<>12,\"\",AVERAGE(消費意欲!AP48:BA48))","v":52.004999999999988},{"$f":"IF(COUNT(消費意欲!AQ48:BB48)<>12,\"\",AVERAGE(消費意欲!AQ48:BB48))","v":51.87833333333333},{"$f":"IF(COUNT(消費意欲!AR48:BC48)<>12,\"\",AVERAGE(消費意欲!AR48:BC48))","v":52.060833333333328},{"$f":"IF(COUNT(消費意欲!AS48:BD48)<>12,\"\",AVERAGE(消費意欲!AS48:BD48))","v":51.768333333333338},{"$f":"IF(COUNT(消費意欲!AT48:BE48)<>12,\"\",AVERAGE(消費意欲!AT48:BE48))","v":""},{"$f":"IF(COUNT(消費意欲!AU48:BF48)<>12,\"\",AVERAGE(消費意欲!AU48:BF48))","v":""},{"$f":"IF(COUNT(消費意欲!AV48:BG48)<>12,\"\",AVERAGE(消費意欲!AV48:BG48))","v":""},{"$f":"IF(COUNT(消費意欲!AW48:BH48)<>12,\"\",AVERAGE(消費意欲!AW48:BH48))","v":""},{"$f":"IF(COUNT(消費意欲!AX48:BI48)<>12,\"\",AVERAGE(消費意欲!AX48:BI48))","v":""},{"$f":"IF(COUNT(消費意欲!AY48:BJ48)<>12,\"\",AVERAGE(消費意欲!AY48:BJ48))","v":""},{"$f":"IF(COUNT(消費意欲!AZ48:BK48)<>12,\"\",AVERAGE(消費意欲!AZ48:BK48))","v":""},{"$f":"IF(COUNT(消費意欲!BA48:BL48)<>12,\"\",AVERAGE(消費意欲!BA48:BL48))","v":""},{"$f":"IF(COUNT(消費意欲!BB48:BM48)<>12,\"\",AVERAGE(消費意欲!BB48:BM48))","v":""},{"$f":"IF(COUNT(消費意欲!BC48:BN48)<>12,\"\",AVERAGE(消費意欲!BC48:BN48))","v":""},{"$f":"IF(COUNT(消費意欲!BD48:BO48)<>12,\"\",AVERAGE(消費意欲!BD48:BO48))","v":""},{"$f":"IF(COUNT(消費意欲!BE48:BP48)<>12,\"\",AVERAGE(消費意欲!BE48:BP48))","v":""},{"$f":"IF(COUNT(消費意欲!BF48:BQ48)<>12,\"\",AVERAGE(消費意欲!BF48:BQ48))","v":""},{"$f":"IF(COUNT(消費意欲!BG48:BR48)<>12,\"\",AVERAGE(消費意欲!BG48:BR48))","v":""},{"$f":"IF(COUNT(消費意欲!BH48:BS48)<>12,\"\",AVERAGE(消費意欲!BH48:BS48))","v":""},{"$f":"IF(COUNT(消費意欲!BI48:BT48)<>12,\"\",AVERAGE(消費意欲!BI48:BT48))","v":""},{"$f":"IF(COUNT(消費意欲!BJ48:BU48)<>12,\"\",AVERAGE(消費意欲!BJ48:BU48))","v":""},{"$f":"IF(COUNT(消費意欲!BK48:BV48)<>12,\"\",AVERAGE(消費意欲!BK48:BV48))","v":""},{"$f":"IF(COUNT(消費意欲!BL48:BW48)<>12,\"\",AVERAGE(消費意欲!BL48:BW48))","v":""},{"$f":"IF(COUNT(消費意欲!BM48:BX48)<>12,\"\",AVERAGE(消費意欲!BM48:BX48))","v":""},{"$f":"IF(COUNT(消費意欲!BN48:BY48)<>12,\"\",AVERAGE(消費意欲!BN48:BY48))","v":""},{"$f":"IF(COUNT(消費意欲!BO48:BZ48)<>12,\"\",AVERAGE(消費意欲!BO48:BZ48))","v":""},{"$f":"IF(COUNT(消費意欲!BP48:CA48)<>12,\"\",AVERAGE(消費意欲!BP48:CA48))","v":""},{"$f":"IF(COUNT(消費意欲!BQ48:CB48)<>12,\"\",AVERAGE(消費意欲!BQ48:CB48))","v":""},{"$f":"IF(COUNT(消費意欲!BR48:CC48)<>12,\"\",AVERAGE(消費意欲!BR48:CC48))","v":""},{"$f":"IF(COUNT(消費意欲!BS48:CD48)<>12,\"\",AVERAGE(消費意欲!BS48:CD48))","v":""},{"$f":"IF(COUNT(消費意欲!BT48:CE48)<>12,\"\",AVERAGE(消費意欲!BT48:CE48))","v":""},{"$f":"IF(COUNT(消費意欲!BU48:CF48)<>12,\"\",AVERAGE(消費意欲!BU48:CF48))","v":""},{"$f":"IF(COUNT(消費意欲!BV48:CG48)<>12,\"\",AVERAGE(消費意欲!BV48:CG48))","v":""},{"$f":"IF(COUNT(消費意欲!BW48:CH48)<>12,\"\",AVERAGE(消費意欲!BW48:CH48))","v":""},{"$f":"IF(COUNT(消費意欲!BX48:CI48)<>12,\"\",AVERAGE(消費意欲!BX48:CI48))","v":""},{"$f":"IF(COUNT(消費意欲!BY48:CJ48)<>12,\"\",AVERAGE(消費意欲!BY48:CJ48))","v":""},{"$f":"IF(COUNT(消費意欲!BZ48:CK48)<>12,\"\",AVERAGE(消費意欲!BZ48:CK48))","v":""},{"$f":"IF(COUNT(消費意欲!CA48:CL48)<>12,\"\",AVERAGE(消費意欲!CA48:CL48))","v":""},{"$f":"IF(COUNT(消費意欲!CB48:CM48)<>12,\"\",AVERAGE(消費意欲!CB48:CM48))","v":""},{"$f":"IF(COUNT(消費意欲!CC48:CN48)<>12,\"\",AVERAGE(消費意欲!CC48:CN48))","v":""},{"$f":"IF(COUNT(消費意欲!CD48:CO48)<>12,\"\",AVERAGE(消費意欲!CD48:CO48))","v":""},{"$f":"IF(COUNT(消費意欲!CE48:CP48)<>12,\"\",AVERAGE(消費意欲!CE48:CP48))","v":""},{"$f":"IF(COUNT(消費意欲!CF48:CQ48)<>12,\"\",AVERAGE(消費意欲!CF48:CQ48))","v":""},{"$f":"IF(COUNT(消費意欲!CG48:CR48)<>12,\"\",AVERAGE(消費意欲!CG48:CR48))","v":""},{"$f":"IF(COUNT(消費意欲!CH48:CS48)<>12,\"\",AVERAGE(消費意欲!CH48:CS48))","v":""},{"$f":"IF(COUNT(消費意欲!CI48:CT48)<>12,\"\",AVERAGE(消費意欲!CI48:CT48))","v":""},{"$f":"IF(COUNT(消費意欲!CJ48:CU48)<>12,\"\",AVERAGE(消費意欲!CJ48:CU48))","v":""},{"$f":"IF(COUNT(消費意欲!CK48:CV48)<>12,\"\",AVERAGE(消費意欲!CK48:CV48))","v":""},{"$f":"IF(COUNT(消費意欲!CL48:CW48)<>12,\"\",AVERAGE(消費意欲!CL48:CW48))","v":""},{"$f":"IF(COUNT(消費意欲!CM48:CX48)<>12,\"\",AVERAGE(消費意欲!CM48:CX48))","v":""},{"$f":"IF(COUNT(消費意欲!CN48:CY48)<>12,\"\",AVERAGE(消費意欲!CN48:CY48))","v":""},{"$f":"IF(COUNT(消費意欲!CO48:CZ48)<>12,\"\",AVERAGE(消費意欲!CO48:CZ48))","v":""},{"$f":"IF(COUNT(消費意欲!CP48:DA48)<>12,\"\",AVERAGE(消費意欲!CP48:DA48))","v":""},{"$f":"IF(COUNT(消費意欲!CQ48:DB48)<>12,\"\",AVERAGE(消費意欲!CQ48:DB48))","v":""},{"$f":"IF(COUNT(消費意欲!CR48:DC48)<>12,\"\",AVERAGE(消費意欲!CR48:DC48))","v":""},{"$f":"IF(COUNT(消費意欲!CS48:DD48)<>12,\"\",AVERAGE(消費意欲!CS48:DD48))","v":""},{"$f":"IF(COUNT(消費意欲!CT48:DE48)<>12,\"\",AVERAGE(消費意欲!CT48:DE48))","v":""},{"$f":"IF(COUNT(消費意欲!CU48:DF48)<>12,\"\",AVERAGE(消費意欲!CU48:DF48))","v":""},{"$f":"IF(COUNT(消費意欲!CV48:DG48)<>12,\"\",AVERAGE(消費意欲!CV48:DG48))","v":""}]
[null,null,"中（400-800万円未満）",null,null,null,null,null,null,null,null,null,null,null,null,null,null,null,{"$f":"IF(COUNT(消費意欲!H49:S49)<>12,\"\",AVERAGE(消費意欲!H49:S49))","v":51.34},{"$f":"IF(COUNT(消費意欲!I49:T49)<>12,\"\",AVERAGE(消費意欲!I49:T49))","v":51.311666666666675},{"$f":"IF(COUNT(消費意欲!J49:U49)<>12,\"\",AVERAGE(消費意欲!J49:U49))","v":50.920000000000016},{"$f":"IF(COUNT(消費意欲!K49:V49)<>12,\"\",AVERAGE(消費意欲!K49:V49))","v":50.642500000000005},{"$f":"IF(COUNT(消費意欲!L49:W49)<>12,\"\",AVERAGE(消費意欲!L49:W49))","v":50.539166666666659},{"$f":"IF(COUNT(消費意欲!M49:X49)<>12,\"\",AVERAGE(消費意欲!M49:X49))","v":49.966666666666669},{"$f":"IF(COUNT(消費意欲!N49:Y49)<>12,\"\",AVERAGE(消費意欲!N49:Y49))","v":50.264999999999993},{"$f":"IF(COUNT(消費意欲!O49:Z49)<>12,\"\",AVERAGE(消費意欲!O49:Z49))","v":50.178333333333335},{"$f":"IF(COUNT(消費意欲!P49:AA49)<>12,\"\",AVERAGE(消費意欲!P49:AA49))","v":50.180833333333339},{"$f":"IF(COUNT(消費意欲!Q49:AB49)<>12,\"\",AVERAGE(消費意欲!Q49:AB49))","v":49.813333333333333},{"$f":"IF(COUNT(消費意欲!R49:AC49)<>12,\"\",AVERAGE(消費意欲!R49:AC49))","v":50.097500000000004},{"$f":"IF(COUNT(消費意欲!S49:AD49)<>12,\"\",AVERAGE(消費意欲!S49:AD49))","v":50.448333333333331},{"$f":"IF(COUNT(消費意欲!T49:AE49)<>12,\"\",AVERAGE(消費意欲!T49:AE49))","v":50.025000000000006},{"$f":"IF(COUNT(消費意欲!U49:AF49)<>12,\"\",AVERAGE(消費意欲!U49:AF49))","v":49.618333333333339},{"$f":"IF(COUNT(消費意欲!V49:AG49)<>12,\"\",AVERAGE(消費意欲!V49:AG49))","v":49.625},{"$f":"IF(COUNT(消費意欲!W49:AH49)<>12,\"\",AVERAGE(消費意欲!W49:AH49))","v":49.64083333333334},{"$f":"IF(COUNT(消費意欲!X49:AI49)<>12,\"\",AVERAGE(消費意欲!X49:AI49))","v":49.636666666666663},{"$f":"IF(COUNT(消費意欲!Y49:AJ49)<>12,\"\",AVERAGE(消費意欲!Y49:AJ49))","v":49.782499999999999},{"$f":"IF(COUNT(消費意欲!Z49:AK49)<>12,\"\",AVERAGE(消費意欲!Z49:AK49))","v":49.535833333333336},{"$f":"IF(COUNT(消費意欲!AA49:AL49)<>12,\"\",AVERAGE(消費意欲!AA49:AL49))","v":49.37583333333334},{"$f":"IF(COUNT(消費意欲!AB49:AM49)<>12,\"\",AVERAGE(消費意欲!AB49:AM49))","v":49.357499999999995},{"$f":"IF(COUNT(消費意欲!AC49:AN49)<>12,\"\",AVERAGE(消費意欲!AC49:AN49))","v":49.321666666666658},{"$f":"IF(COUNT(消費意欲!AD49:AO49)<>12,\"\",AVERAGE(消費意欲!AD49:AO49))","v":48.8825},{"$f":"IF(COUNT(消費意欲!AE49:AP49)<>12,\"\",AVERAGE(消費意欲!AE49:AP49))","v":48.202499999999993},{"$f":"IF(COUNT(消費意欲!AF49:AQ49)<>12,\"\",AVERAGE(消費意欲!AF49:AQ49))","v":48.391666666666659},{"$f":"IF(COUNT(消費意欲!AG49:AR49)<>12,\"\",AVERAGE(消費意欲!AG49:AR49))","v":48.85916666666666},{"$f":"IF(COUNT(消費意欲!AH49:AS49)<>12,\"\",AVERAGE(消費意欲!AH49:AS49))","v":48.80833333333333},{"$f":"IF(COUNT(消費意欲!AI49:AT49)<>12,\"\",AVERAGE(消費意欲!AI49:AT49))","v":48.7575},{"$f":"IF(COUNT(消費意欲!AJ49:AU49)<>12,\"\",AVERAGE(消費意欲!AJ49:AU49))","v":48.76250000000001},{"$f":"IF(COUNT(消費意欲!AK49:AV49)<>12,\"\",AVERAGE(消費意欲!AK49:AV49))","v":48.817499999999995},{"$f":"IF(COUNT(消費意欲!AL49:AW49)<>12,\"\",AVERAGE(消費意欲!AL49:AW49))","v":48.865000000000002},{"$f":"IF(COUNT(消費意欲!AM49:AX49)<>12,\"\",AVERAGE(消費意欲!AM49:AX49))","v":48.977499999999999},{"$f":"IF(COUNT(消費意欲!AN49:AY49)<>12,\"\",AVERAGE(消費意欲!AN49:AY49))","v":48.93416666666667},{"$f":"IF(COUNT(消費意欲!AO49:AZ49)<>12,\"\",AVERAGE(消費意欲!AO49:AZ49))","v":49.047500000000007},{"$f":"IF(COUNT(消費意欲!AP49:BA49)<>12,\"\",AVERAGE(消費意欲!AP49:BA49))","v":48.985833333333325},{"$f":"IF(COUNT(消費意欲!AQ49:BB49)<>12,\"\",AVERAGE(消費意欲!AQ49:BB49))","v":48.957500000000003},{"$f":"IF(COUNT(消費意欲!AR49:BC49)<>12,\"\",AVERAGE(消費意欲!AR49:BC49))","v":49.104166666666664},{"$f":"IF(COUNT(消費意欲!AS49:BD49)<>12,\"\",AVERAGE(消費意欲!AS49:BD49))","v":48.818333333333328},{"$f":"IF(COUNT(消費意欲!AT49:BE49)<>12,\"\",AVERAGE(消費意欲!AT49:BE49))","v":""},{"$f":"IF(COUNT(消費意欲!AU49:BF49)<>12,\"\",AVERAGE(消費意欲!AU49:BF49))","v":""},{"$f":"IF(COUNT(消費意欲!AV49:BG49)<>12,\"\",AVERAGE(消費意欲!AV49:BG49))","v":""},{"$f":"IF(COUNT(消費意欲!AW49:BH49)<>12,\"\",AVERAGE(消費意欲!AW49:BH49))","v":""},{"$f":"IF(COUNT(消費意欲!AX49:BI49)<>12,\"\",AVERAGE(消費意欲!AX49:BI49))","v":""},{"$f":"IF(COUNT(消費意欲!AY49:BJ49)<>12,\"\",AVERAGE(消費意欲!AY49:BJ49))","v":""},{"$f":"IF(COUNT(消費意欲!AZ49:BK49)<>12,\"\",AVERAGE(消費意欲!AZ49:BK49))","v":""},{"$f":"IF(COUNT(消費意欲!BA49:BL49)<>12,\"\",AVERAGE(消費意欲!BA49:BL49))","v":""},{"$f":"IF(COUNT(消費意欲!BB49:BM49)<>12,\"\",AVERAGE(消費意欲!BB49:BM49))","v":""},{"$f":"IF(COUNT(消費意欲!BC49:BN49)<>12,\"\",AVERAGE(消費意欲!BC49:BN49))","v":""},{"$f":"IF(COUNT(消費意欲!BD49:BO49)<>12,\"\",AVERAGE(消費意欲!BD49:BO49))","v":""},{"$f":"IF(COUNT(消費意欲!BE49:BP49)<>12,\"\",AVERAGE(消費意欲!BE49:BP49))","v":""},{"$f":"IF(COUNT(消費意欲!BF49:BQ49)<>12,\"\",AVERAGE(消費意欲!BF49:BQ49))","v":""},{"$f":"IF(COUNT(消費意欲!BG49:BR49)<>12,\"\",AVERAGE(消費意欲!BG49:BR49))","v":""},{"$f":"IF(COUNT(消費意欲!BH49:BS49)<>12,\"\",AVERAGE(消費意欲!BH49:BS49))","v":""},{"$f":"IF(COUNT(消費意欲!BI49:BT49)<>12,\"\",AVERAGE(消費意欲!BI49:BT49))","v":""},{"$f":"IF(COUNT(消費意欲!BJ49:BU49)<>12,\"\",AVERAGE(消費意欲!BJ49:BU49))","v":""},{"$f":"IF(COUNT(消費意欲!BK49:BV49)<>12,\"\",AVERAGE(消費意欲!BK49:BV49))","v":""},{"$f":"IF(COUNT(消費意欲!BL49:BW49)<>12,\"\",AVERAGE(消費意欲!BL49:BW49))","v":""},{"$f":"IF(COUNT(消費意欲!BM49:BX49)<>12,\"\",AVERAGE(消費意欲!BM49:BX49))","v":""},{"$f":"IF(COUNT(消費意欲!BN49:BY49)<>12,\"\",AVERAGE(消費意欲!BN49:BY49))","v":""},{"$f":"IF(COUNT(消費意欲!BO49:BZ49)<>12,\"\",AVERAGE(消費意欲!BO49:BZ49))","v":""},{"$f":"IF(COUNT(消費意欲!BP49:CA49)<>12,\"\",AVERAGE(消費意欲!BP49:CA49))","v":""},{"$f":"IF(COUNT(消費意欲!BQ49:CB49)<>12,\"\",AVERAGE(消費意欲!BQ49:CB49))","v":""},{"$f":"IF(COUNT(消費意欲!BR49:CC49)<>12,\"\",AVERAGE(消費意欲!BR49:CC49))","v":""},{"$f":"IF(COUNT(消費意欲!BS49:CD49)<>12,\"\",AVERAGE(消費意欲!BS49:CD49))","v":""},{"$f":"IF(COUNT(消費意欲!BT49:CE49)<>12,\"\",AVERAGE(消費意欲!BT49:CE49))","v":""},{"$f":"IF(COUNT(消費意欲!BU49:CF49)<>12,\"\",AVERAGE(消費意欲!BU49:CF49))","v":""},{"$f":"IF(COUNT(消費意欲!BV49:CG49)<>12,\"\",AVERAGE(消費意欲!BV49:CG49))","v":""},{"$f":"IF(COUNT(消費意欲!BW49:CH49)<>12,\"\",AVERAGE(消費意欲!BW49:CH49))","v":""},{"$f":"IF(COUNT(消費意欲!BX49:CI49)<>12,\"\",AVERAGE(消費意欲!BX49:CI49))","v":""},{"$f":"IF(COUNT(消費意欲!BY49:CJ49)<>12,\"\",AVERAGE(消費意欲!BY49:CJ49))","v":""},{"$f":"IF(COUNT(消費意欲!BZ49:CK49)<>12,\"\",AVERAGE(消費意欲!BZ49:CK49))","v":""},{"$f":"IF(COUNT(消費意欲!CA49:CL49)<>12,\"\",AVERAGE(消費意欲!CA49:CL49))","v":""},{"$f":"IF(COUNT(消費意欲!CB49:CM49)<>12,\"\",AVERAGE(消費意欲!CB49:CM49))","v":""},{"$f":"IF(COUNT(消費意欲!CC49:CN49)<>12,\"\",AVERAGE(消費意欲!CC49:CN49))","v":""},{"$f":"IF(COUNT(消費意欲!CD49:CO49)<>12,\"\",AVERAGE(消費意欲!CD49:CO49))","v":""},{"$f":"IF(COUNT(消費意欲!CE49:CP49)<>12,\"\",AVERAGE(消費意欲!CE49:CP49))","v":""},{"$f":"IF(COUNT(消費意欲!CF49:CQ49)<>12,\"\",AVERAGE(消費意欲!CF49:CQ49))","v":""},{"$f":"IF(COUNT(消費意欲!CG49:CR49)<>12,\"\",AVERAGE(消費意欲!CG49:CR49))","v":""},{"$f":"IF(COUNT(消費意欲!CH49:CS49)<>12,\"\",AVERAGE(消費意欲!CH49:CS49))","v":""},{"$f":"IF(COUNT(消費意欲!CI49:CT49)<>12,\"\",AVERAGE(消費意欲!CI49:CT49))","v":""},{"$f":"IF(COUNT(消費意欲!CJ49:CU49)<>12,\"\",AVERAGE(消費意欲!CJ49:CU49))","v":""},{"$f":"IF(COUNT(消費意欲!CK49:CV49)<>12,\"\",AVERAGE(消費意欲!CK49:CV49))","v":""},{"$f":"IF(COUNT(消費意欲!CL49:CW49)<>12,\"\",AVERAGE(消費意欲!CL49:CW49))","v":""},{"$f":"IF(COUNT(消費意欲!CM49:CX49)<>12,\"\",AVERAGE(消費意欲!CM49:CX49))","v":""},{"$f":"IF(COUNT(消費意欲!CN49:CY49)<>12,\"\",AVERAGE(消費意欲!CN49:CY49))","v":""},{"$f":"IF(COUNT(消費意欲!CO49:CZ49)<>12,\"\",AVERAGE(消費意欲!CO49:CZ49))","v":""},{"$f":"IF(COUNT(消費意欲!CP49:DA49)<>12,\"\",AVERAGE(消費意欲!CP49:DA49))","v":""},{"$f":"IF(COUNT(消費意欲!CQ49:DB49)<>12,\"\",AVERAGE(消費意欲!CQ49:DB49))","v":""},{"$f":"IF(COUNT(消費意欲!CR49:DC49)<>12,\"\",AVERAGE(消費意欲!CR49:DC49))","v":""},{"$f":"IF(COUNT(消費意欲!CS49:DD49)<>12,\"\",AVERAGE(消費意欲!CS49:DD49))","v":""},{"$f":"IF(COUNT(消費意欲!CT49:DE49)<>12,\"\",AVERAGE(消費意欲!CT49:DE49))","v":""},{"$f":"IF(COUNT(消費意欲!CU49:DF49)<>12,\"\",AVERAGE(消費意欲!CU49:DF49))","v":""},{"$f":"IF(COUNT(消費意欲!CV49:DG49)<>12,\"\",AVERAGE(消費意欲!CV49:DG49))","v":""}]
[null,null,"低（400万円未満）",null,null,null,null,null,null,null,null,null,null,null,null,null,null,null,{"$f":"IF(COUNT(消費意欲!H50:S50)<>12,\"\",AVERAGE(消費意欲!H50:S50))","v":48.715833333333343},{"$f":"IF(COUNT(消費意欲!I50:T50)<>12,\"\",AVERAGE(消費意欲!I50:T50))","v":48.633333333333333},{"$f":"IF(COUNT(消費意欲!J50:U50)<>12,\"\",AVERAGE(消費意欲!J50:U50))","v":48.363333333333323},{"$f":"IF(COUNT(消費意欲!K50:V50)<>12,\"\",AVERAGE(消費意欲!K50:V50))","v":48.140833333333326},{"$f":"IF(COUNT(消費意欲!L50:W50)<>12,\"\",AVERAGE(消費意欲!L50:W50))","v":48.28},{"$f":"IF(COUNT(消費意欲!M50:X50)<>12,\"\",AVERAGE(消費意欲!M50:X50))","v":48.064166666666665},{"$f":"IF(COUNT(消費意欲!N50:Y50)<>12,\"\",AVERAGE(消費意欲!N50:Y50))","v":48.231666666666676},{"$f":"IF(COUNT(消費意欲!O50:Z50)<>12,\"\",AVERAGE(消費意欲!O50:Z50))","v":47.966666666666676},{"$f":"IF(COUNT(消費意欲!P50:AA50)<>12,\"\",AVERAGE(消費意欲!P50:AA50))","v":47.759166666666665},{"$f":"IF(COUNT(消費意欲!Q50:AB50)<>12,\"\",AVERAGE(消費意欲!Q50:AB50))","v":47.221666666666664},{"$f":"IF(COUNT(消費意欲!R50:AC50)<>12,\"\",AVERAGE(消費意欲!R50:AC50))","v":47.529166666666669},{"$f":"IF(COUNT(消費意欲!S50:AD50)<>12,\"\",AVERAGE(消費意欲!S50:AD50))","v":47.987500000000011},{"$f":"IF(COUNT(消費意欲!T50:AE50)<>12,\"\",AVERAGE(消費意欲!T50:AE50))","v":47.629166666666663},{"$f":"IF(COUNT(消費意欲!U50:AF50)<>12,\"\",AVERAGE(消費意欲!U50:AF50))","v":47.353333333333332},{"$f":"IF(COUNT(消費意欲!V50:AG50)<>12,\"\",AVERAGE(消費意欲!V50:AG50))","v":47.220833333333331},{"$f":"IF(COUNT(消費意欲!W50:AH50)<>12,\"\",AVERAGE(消費意欲!W50:AH50))","v":46.97},{"$f":"IF(COUNT(消費意欲!X50:AI50)<>12,\"\",AVERAGE(消費意欲!X50:AI50))","v":46.68333333333333},{"$f":"IF(COUNT(消費意欲!Y50:AJ50)<>12,\"\",AVERAGE(消費意欲!Y50:AJ50))","v":46.780833333333327},{"$f":"IF(COUNT(消費意欲!Z50:AK50)<>12,\"\",AVERAGE(消費意欲!Z50:AK50))","v":46.486666666666679},{"$f":"IF(COUNT(消費意欲!AA50:AL50)<>12,\"\",AVERAGE(消費意欲!AA50:AL50))","v":46.057499999999997},{"$f":"IF(COUNT(消費意欲!AB50:AM50)<>12,\"\",AVERAGE(消費意欲!AB50:AM50))","v":46.28},{"$f":"IF(COUNT(消費意欲!AC50:AN50)<>12,\"\",AVERAGE(消費意欲!AC50:AN50))","v":45.992500000000007},{"$f":"IF(COUNT(消費意欲!AD50:AO50)<>12,\"\",AVERAGE(消費意欲!AD50:AO50))","v":45.764999999999993},{"$f":"IF(COUNT(消費意欲!AE50:AP50)<>12,\"\",AVERAGE(消費意欲!AE50:AP50))","v":45.161666666666669},{"$f":"IF(COUNT(消費意欲!AF50:AQ50)<>12,\"\",AVERAGE(消費意欲!AF50:AQ50))","v":45.279166666666669},{"$f":"IF(COUNT(消費意欲!AG50:AR50)<>12,\"\",AVERAGE(消費意欲!AG50:AR50))","v":45.364166666666669},{"$f":"IF(COUNT(消費意欲!AH50:AS50)<>12,\"\",AVERAGE(消費意欲!AH50:AS50))","v":45.222499999999997},{"$f":"IF(COUNT(消費意欲!AI50:AT50)<>12,\"\",AVERAGE(消費意欲!AI50:AT50))","v":45.298333333333325},{"$f":"IF(COUNT(消費意欲!AJ50:AU50)<>12,\"\",AVERAGE(消費意欲!AJ50:AU50))","v":45.185000000000002},{"$f":"IF(COUNT(消費意欲!AK50:AV50)<>12,\"\",AVERAGE(消費意欲!AK50:AV50))","v":45.089999999999996},{"$f":"IF(COUNT(消費意欲!AL50:AW50)<>12,\"\",AVERAGE(消費意欲!AL50:AW50))","v":45.365000000000002},{"$f":"IF(COUNT(消費意欲!AM50:AX50)<>12,\"\",AVERAGE(消費意欲!AM50:AX50))","v":45.835000000000001},{"$f":"IF(COUNT(消費意欲!AN50:AY50)<>12,\"\",AVERAGE(消費意欲!AN50:AY50))","v":45.798333333333339},{"$f":"IF(COUNT(消費意欲!AO50:AZ50)<>12,\"\",AVERAGE(消費意欲!AO50:AZ50))","v":46.1},{"$f":"IF(COUNT(消費意欲!AP50:BA50)<>12,\"\",AVERAGE(消費意欲!AP50:BA50))","v":46.109166666666674},{"$f":"IF(COUNT(消費意欲!AQ50:BB50)<>12,\"\",AVERAGE(消費意欲!AQ50:BB50))","v":45.99666666666667},{"$f":"IF(COUNT(消費意欲!AR50:BC50)<>12,\"\",AVERAGE(消費意欲!AR50:BC50))","v":46.07166666666668},{"$f":"IF(COUNT(消費意欲!AS50:BD50)<>12,\"\",AVERAGE(消費意欲!AS50:BD50))","v":46.033333333333339},{"$f":"IF(COUNT(消費意欲!AT50:BE50)<>12,\"\",AVERAGE(消費意欲!AT50:BE50))","v":""},{"$f":"IF(COUNT(消費意欲!AU50:BF50)<>12,\"\",AVERAGE(消費意欲!AU50:BF50))","v":""},{"$f":"IF(COUNT(消費意欲!AV50:BG50)<>12,\"\",AVERAGE(消費意欲!AV50:BG50))","v":""},{"$f":"IF(COUNT(消費意欲!AW50:BH50)<>12,\"\",AVERAGE(消費意欲!AW50:BH50))","v":""},{"$f":"IF(COUNT(消費意欲!AX50:BI50)<>12,\"\",AVERAGE(消費意欲!AX50:BI50))","v":""},{"$f":"IF(COUNT(消費意欲!AY50:BJ50)<>12,\"\",AVERAGE(消費意欲!AY50:BJ50))","v":""},{"$f":"IF(COUNT(消費意欲!AZ50:BK50)<>12,\"\",AVERAGE(消費意欲!AZ50:BK50))","v":""},{"$f":"IF(COUNT(消費意欲!BA50:BL50)<>12,\"\",AVERAGE(消費意欲!BA50:BL50))","v":""},{"$f":"IF(COUNT(消費意欲!BB50:BM50)<>12,\"\",AVERAGE(消費意欲!BB50:BM50))","v":""},{"$f":"IF(COUNT(消費意欲!BC50:BN50)<>12,\"\",AVERAGE(消費意欲!BC50:BN50))","v":""},{"$f":"IF(COUNT(消費意欲!BD50:BO50)<>12,\"\",AVERAGE(消費意欲!BD50:BO50))","v":""},{"$f":"IF(COUNT(消費意欲!BE50:BP50)<>12,\"\",AVERAGE(消費意欲!BE50:BP50))","v":""},{"$f":"IF(COUNT(消費意欲!BF50:BQ50)<>12,\"\",AVERAGE(消費意欲!BF50:BQ50))","v":""},{"$f":"IF(COUNT(消費意欲!BG50:BR50)<>12,\"\",AVERAGE(消費意欲!BG50:BR50))","v":""},{"$f":"IF(COUNT(消費意欲!BH50:BS50)<>12,\"\",AVERAGE(消費意欲!BH50:BS50))","v":""},{"$f":"IF(COUNT(消費意欲!BI50:BT50)<>12,\"\",AVERAGE(消費意欲!BI50:BT50))","v":""},{"$f":"IF(COUNT(消費意欲!BJ50:BU50)<>12,\"\",AVERAGE(消費意欲!BJ50:BU50))","v":""},{"$f":"IF(COUNT(消費意欲!BK50:BV50)<>12,\"\",AVERAGE(消費意欲!BK50:BV50))","v":""},{"$f":"IF(COUNT(消費意欲!BL50:BW50)<>12,\"\",AVERAGE(消費意欲!BL50:BW50))","v":""},{"$f":"IF(COUNT(消費意欲!BM50:BX50)<>12,\"\",AVERAGE(消費意欲!BM50:BX50))","v":""},{"$f":"IF(COUNT(消費意欲!BN50:BY50)<>12,\"\",AVERAGE(消費意欲!BN50:BY50))","v":""},{"$f":"IF(COUNT(消費意欲!BO50:BZ50)<>12,\"\",AVERAGE(消費意欲!BO50:BZ50))","v":""},{"$f":"IF(COUNT(消費意欲!BP50:CA50)<>12,\"\",AVERAGE(消費意欲!BP50:CA50))","v":""},{"$f":"IF(COUNT(消費意欲!BQ50:CB50)<>12,\"\",AVERAGE(消費意欲!BQ50:CB50))","v":""},{"$f":"IF(COUNT(消費意欲!BR50:CC50)<>12,\"\",AVERAGE(消費意欲!BR50:CC50))","v":""},{"$f":"IF(COUNT(消費意欲!BS50:CD50)<>12,\"\",AVERAGE(消費意欲!BS50:CD50))","v":""},{"$f":"IF(COUNT(消費意欲!BT50:CE50)<>12,\"\",AVERAGE(消費意欲!BT50:CE50))","v":""},{"$f":"IF(COUNT(消費意欲!BU50:CF50)<>12,\"\",AVERAGE(消費意欲!BU50:CF50))","v":""},{"$f":"IF(COUNT(消費意欲!BV50:CG50)<>12,\"\",AVERAGE(消費意欲!BV50:CG50))","v":""},{"$f":"IF(COUNT(消費意欲!BW50:CH50)<>12,\"\",AVERAGE(消費意欲!BW50:CH50))","v":""},{"$f":"IF(COUNT(消費意欲!BX50:CI50)<>12,\"\",AVERAGE(消費意欲!BX50:CI50))","v":""},{"$f":"IF(COUNT(消費意欲!BY50:CJ50)<>12,\"\",AVERAGE(消費意欲!BY50:CJ50))","v":""},{"$f":"IF(COUNT(消費意欲!BZ50:CK50)<>12,\"\",AVERAGE(消費意欲!BZ50:CK50))","v":""},{"$f":"IF(COUNT(消費意欲!CA50:CL50)<>12,\"\",AVERAGE(消費意欲!CA50:CL50))","v":""},{"$f":"IF(COUNT(消費意欲!CB50:CM50)<>12,\"\",AVERAGE(消費意欲!CB50:CM50))","v":""},{"$f":"IF(COUNT(消費意欲!CC50:CN50)<>12,\"\",AVERAGE(消費意欲!CC50:CN50))","v":""},{"$f":"IF(COUNT(消費意欲!CD50:CO50)<>12,\"\",AVERAGE(消費意欲!CD50:CO50))","v":""},{"$f":"IF(COUNT(消費意欲!CE50:CP50)<>12,\"\",AVERAGE(消費意欲!CE50:CP50))","v":""},{"$f":"IF(COUNT(消費意欲!CF50:CQ50)<>12,\"\",AVERAGE(消費意欲!CF50:CQ50))","v":""},{"$f":"IF(COUNT(消費意欲!CG50:CR50)<>12,\"\",AVERAGE(消費意欲!CG50:CR50))","v":""},{"$f":"IF(COUNT(消費意欲!CH50:CS50)<>12,\"\",AVERAGE(消費意欲!CH50:CS50))","v":""},{"$f":"IF(COUNT(消費意欲!CI50:CT50)<>12,\"\",AVERAGE(消費意欲!CI50:CT50))","v":""},{"$f":"IF(COUNT(消費意欲!CJ50:CU50)<>12,\"\",AVERAGE(消費意欲!CJ50:CU50))","v":""},{"$f":"IF(COUNT(消費意欲!CK50:CV50)<>12,\"\",AVERAGE(消費意欲!CK50:CV50))","v":""},{"$f":"IF(COUNT(消費意欲!CL50:CW50)<>12,\"\",AVERAGE(消費意欲!CL50:CW50))","v":""},{"$f":"IF(COUNT(消費意欲!CM50:CX50)<>12,\"\",AVERAGE(消費意欲!CM50:CX50))","v":""},{"$f":"IF(COUNT(消費意欲!CN50:CY50)<>12,\"\",AVERAGE(消費意欲!CN50:CY50))","v":""},{"$f":"IF(COUNT(消費意欲!CO50:CZ50)<>12,\"\",AVERAGE(消費意欲!CO50:CZ50))","v":""},{"$f":"IF(COUNT(消費意欲!CP50:DA50)<>12,\"\",AVERAGE(消費意欲!CP50:DA50))","v":""},{"$f":"IF(COUNT(消費意欲!CQ50:DB50)<>12,\"\",AVERAGE(消費意欲!CQ50:DB50))","v":""},{"$f":"IF(COUNT(消費意欲!CR50:DC50)<>12,\"\",AVERAGE(消費意欲!CR50:DC50))","v":""},{"$f":"IF(COUNT(消費意欲!CS50:DD50)<>12,\"\",AVERAGE(消費意欲!CS50:DD50))","v":""},{"$f":"IF(COUNT(消費意欲!CT50:DE50)<>12,\"\",AVERAGE(消費意欲!CT50:DE50))","v":""},{"$f":"IF(COUNT(消費意欲!CU50:DF50)<>12,\"\",AVERAGE(消費意欲!CU50:DF50))","v":""},{"$f":"IF(COUNT(消費意欲!CV50:DG50)<>12,\"\",AVERAGE(消費意欲!CV50:DG50))","v":""}]

{"sheet":"特に買いたい・利用したい","index":4,"n_rows":50,"n_cols":111,"rows_kept":50,"cut":false,"hidden":false,"merged":[]}
[]
[null,"特に買いたいモノ・利用したいサービスがある人の割合（％）"]
[]
[null,null,null,"2012年",null,null,null,null,null,null,null,null,null,null,null,"2013年",null,null,null,null,null,null,null,null,null,null,null,"2014年",null,null,null,null,null,null,null,null,null,null,null,"2015年",null,null,null,null,null,null,null,null,null,null,null,"2016年",null,null,null,null,null,null,null,null,null,null,null,"2017年",null,null,null,null,null,null,null,null,null,null,null,"2018年",null,null,null,null,null,null,null,null,null,null,null,"2019年",null,null,null,null,null,null,null,null,null,null,null,"2020年"]
[null,null,null,"1月","2月","3月","4月","5月","6月","7月","8月","9月","10月","11月","12月","1月","2月","3月","4月","5月","6月","7月","8月","9月","10月","11月","12月","1月","2月","3月","4月","5月","6月","7月","8月","9月","10月","11月","12月","1月","2月","3月","4月","5月","6月","7月","8月","9月","10月","11月","12月","1月","2月","3月","4月","5月","6月","7月","8月","9月","10月","11月","12月","1月","2月","3月","4月","5月","6月","7月","8月","9月","10月","11月","12月","1月","2月","3月","4月","5月","6月","7月","8月","9月","10月","11月","12月","1月","2月","3月","4月","5月","6月","7月","8月","9月","10月","11月","12月","1月","2月","3月","4月","5月","6月","7月","8月","9月","10月","11月","12月"]
[null,null,"全体",null,null,null,null,31.6,31.3,39,31.1,26.4,32.299999999999997,32.5,40.9,35.4,25.2,33.700000000000003,28.5,26.2,27.7,30.7,30.3,19.2,30.3,27.7,38.1,28.7,26.8,37,13.1,17.5,22.5,28.1,27.8,24.1,25.9,26.5,40.6,25.9,23.9,28,26.9,24.9,26.1,31.5,28.9,25.1,27.3,28.3,41.3,29.6,22.9,25.3,23.1,26.8]
[null,"性別","男性",null,null,null,null,26.7,29.3,36.1,30.3,25.4,29.5,27.6,37,30.5,25.4,32.200000000000003,27.6,25.3,24.2,27.8,27.8,17.2,29.3,22.8,33.5,27.5,24.6,30.5,13.2,18,21.2,22,26,22,23.9,25.1,33.700000000000003,23.7,24,26.1,25.9,23.1,26.2,28.4,28.2,22.9,24.1,25.1,33.9,25.3,19.8,23.9,23.4,25.4]
[null,null,"女性",null,null,null,null,36.6,33.4,42,32,27.5,35.299999999999997,37.4,45,40.4,25,35.299999999999997,29.3,27.1,31.3,33.6,32.9,21.2,31.4,32.799999999999997,42.7,29.9,29,43.6,13,17,23.9,34.299999999999997,29.6,26.3,28,28,47.6,28.2,23.9,29.9,27.9,26.7,25.9,34.700000000000003,29.6,27.3,30.6,31.6,48.8,34,25.9,26.6,22.8,28.2]
[null,"年代別","20代",null,null,null,null,40.4,44.6,58.8,45,36.700000000000003,45.8,45.4,52.5,46.3,37.5,42.9,41.3,37.299999999999997,37.700000000000003,40.9,43.7,28.6,42.9,36.5,48,38.5,33.299999999999997,41.3,23.4,27.5,34,42.2,40.6,36.1,38.1,32.799999999999997,49.2,35.700000000000003,40.6,35.700000000000003,41,27.7,34,39.9,41.6,29.4,35.700000000000003,38.700000000000003,45.8,43.7,39.9,39.5,29,38.200000000000003]
[null,null,"30代",null,null,null,null,39.200000000000003,35.9,43.3,36.200000000000003,28.2,30.3,32.9,44.8,38,26.4,36.799999999999997,28.2,26.6,29.9,30.5,33.799999999999997,24.5,31.4,33.5,45.3,33.5,33.5,42.3,13.6,21.7,22.7,31.4,28.9,22.7,29.2,34.200000000000003,45.7,32.9,24.2,29.8,28.3,27.2,34.9,38.5,34,26,32.700000000000003,32.4,51,41.3,23.4,30.8,25.6,29.3]
[null,null,"40代",null,null,null,null,26.4,26.1,39.700000000000003,31.5,24.5,28.8,29.1,40.9,37.299999999999997,25.8,30.6,23.6,21.2,27.1,31.5,26.8,15.3,30.9,27.9,35,25.3,23.8,36.5,14.1,12.5,20.399999999999999,24.9,24.9,22.7,22.7,23.8,39.700000000000003,24.6,21.8,25.5,24.6,22.5,23.6,28.8,25.8,25.8,27.5,24.2,42,25.5,21.4,22.8,25,21.5]
[null,null,"50代",null,null,null,null,25.6,24.8,29.4,26.7,21,29.8,27.5,32.799999999999997,29,18.3,30.2,27.5,23.3,23.6,23.6,26.7,18.2,20.5,22.5,29.5,23.3,23.3,33.299999999999997,8.5,13.3,18.600000000000001,24.7,25.1,20.5,22.1,22.8,36.9,19,19,25.9,26.2,26.3,19.3,29.6,23.7,20,18.100000000000001,23,35.200000000000003,19.600000000000001,16.3,19.3,17.8,23.4]
[null,null,"60代",null,null,null,null,27.5,27.5,27.2,19,23.3,30.2,29.9,35,28.1,19.899999999999999,29.9,25.1,24.8,21.6,27.6,22.9,11.3,26.6,18.8,32.9,24.1,20.7,31.7,7.2,14.8,19.2,20.399999999999999,22.3,21.1,20.100000000000001,20.100000000000001,33,18.600000000000001,17.3,24.8,17.600000000000001,22.2,19.899999999999999,23.1,22.2,24.4,23.4,25.9,32.6,20.6,16.8,17.100000000000001,18.7,25.2]
[null,"男性年代別","男性20代",null,null,null,null,28.5,40.700000000000003,51.2,40.700000000000003,37.4,40.700000000000003,41.5,43.1,36.6,37.4,41.5,35,34.9,30.2,40.299999999999997,39.5,24.8,42.6,31.8,40.299999999999997,34.9,31.8,32.6,23.3,29.6,31.2,31.2,33.6,35.200000000000003,35.200000000000003,30.4,37.6,29.6,41.6,29.6,40.799999999999997,27,31.1,38.5,45.1,25.4,32.799999999999997,34.4,36.9,41.8,39.299999999999997,39.299999999999997,32,32.799999999999997]
[null,null,"男性30代",null,null,null,null,31.6,31,41.5,34.5,25.1,25.1,26.3,40.9,36.299999999999997,26.9,32.700000000000003,24,25.6,26.2,22,29.2,21.4,26.8,28,39.9,32.1,28,28,11.3,19,23.3,25.8,25.8,20.2,26.4,31.9,41.7,31.9,24.5,28.8,27,27.8,31.6,34.799999999999997,29.1,20.9,32.9,24.7,40.5,34.799999999999997,21.5,26.6,23.4,27.3]
[null,null,"男性40代",null,null,null,null,22.6,27.4,39.9,35.700000000000003,19,25,22.6,36.9,28.6,23.8,31.5,23.8,20.2,22,30.6,26.6,15,28.9,24.9,34.700000000000003,23.1,26.6,34.1,15,15.1,20.100000000000001,20.7,24.6,22.3,20.100000000000001,20.7,30.7,21.8,23.5,24.6,24.6,20,25.9,24.9,25.9,28.6,23.2,22.7,36.200000000000003,22.2,17.8,22.7,27.6,19.8]
[null,null,"男性50代",null,null,null,null,21.2,24.2,25,24.2,23.5,28,28,32.6,31.1,22.7,27.3,33.299999999999997,23.3,22.5,24,21.7,15.5,23.3,17.100000000000001,26.4,24.8,14.7,24.8,6.2,13.6,15.2,18.899999999999999,25.8,12.9,22.7,26.5,34.799999999999997,18.2,17.399999999999999,25,20.5,19.899999999999999,21.3,25.7,22.8,15.4,14.7,19.899999999999999,26.5,14,14.7,16.2,16.899999999999999,23.6]
[null,null,"男性60代",null,null,null,null,28.8,25.2,23.9,17.2,24.5,31.3,23.3,31.9,21.5,18.399999999999999,29.4,25.2,24.4,21.2,23.7,23.1,10.3,26.3,12.2,25.6,23.7,21.2,32.1,10.9,14.8,17.399999999999999,14.8,21.9,20.6,17.399999999999999,17.399999999999999,24.5,17.399999999999999,15.5,23.2,18.7,21.9,21.3,20.6,21.3,22.6,17.399999999999999,25.8,28.4,16.100000000000001,9.6999999999999993,17.399999999999999,17.399999999999999,26.5]
[null,"女性年代別","女性20代",null,null,null,null,53,48.7,66.7,49.6,35.9,51.3,49.6,62.4,56.4,37.6,44.4,47.9,39.799999999999997,45.5,41.5,48,32.5,43.1,41.5,56.1,42.3,35,50.4,23.6,25.2,37,53.8,47.9,37,41.2,35.299999999999997,61.3,42,39.5,42,41.2,28.4,37.1,41.4,37.9,33.6,38.799999999999997,43.1,55.2,45.7,40.5,39.700000000000003,25.9,43.9]
[null,null,"女性30代",null,null,null,null,47,41,45.2,38,31.3,35.5,39.799999999999997,48.8,39.799999999999997,25.9,41,32.5,27.6,33.700000000000003,39.299999999999997,38.700000000000003,27.6,36.200000000000003,39.299999999999997,50.9,35,39.299999999999997,57.1,16,24.5,22,37.1,32.1,25.2,32.1,36.5,49.7,34,23.9,30.8,29.6,26.6,38.299999999999997,42.2,39,31.2,32.5,40.299999999999997,61.7,48.1,25.3,35.1,27.9,31.3]
[null,null,"女性40代",null,null,null,null,30.2,24.7,39.5,27.2,30.2,32.700000000000003,35.799999999999997,45.1,46.3,27.8,29.6,23.5,22.2,32.299999999999997,32.299999999999997,26.9,15.6,32.9,31.1,35.299999999999997,27.5,21,38.9,13.2,9.8000000000000007,20.7,29.3,25.3,23,25.3,27,48.9,27.6,20.100000000000001,26.4,24.7,25.1,21.2,33,25.7,22.9,31.8,25.7,48,29.1,25.1,22.9,22.3,23.2]
[null,null,"女性50代",null,null,null,null,30,25.4,33.799999999999997,29.2,18.5,31.5,26.9,33.1,26.9,13.8,33.1,21.5,23.3,24.8,23.3,31.8,20.9,17.8,27.9,32.6,21.7,31.8,41.9,10.9,13,22.1,30.5,24.4,28.2,21.4,19.100000000000001,38.9,19.8,20.6,26.7,32.1,32.799999999999997,17.2,33.6,24.6,24.6,21.6,26.1,44,25.4,17.899999999999999,22.4,18.7,23.2]
[null,null,"女性60代",null,null,null,null,26.2,29.8,30.4,20.8,22,29.2,36.299999999999997,38.1,34.5,21.4,30.4,25,25.2,22.1,31.3,22.7,12.3,27,25.2,39.9,24.5,20.2,31.3,3.7,14.7,20.9,25.8,22.7,21.5,22.7,22.7,41.1,19.600000000000001,19,26.4,16.600000000000001,22.4,18.600000000000001,25.5,23,26.1,29.2,26.1,36.6,24.8,23.6,16.8,19.899999999999999,24.1]
[null,"性別×未既婚別","男性／未婚",null,null,null,null,24,34,43.8,36.1,29.1,31.1,30.6,36.4,32.299999999999997,29,37.200000000000003,29.1,29.3,27.9,32.799999999999997,34.5,21.9,37.299999999999997,27.7,36.6,28.5,29.8,33.6,14.8,22.6,27.5,26.6,30.2,25.7,25.6,29.8,37.9,26.6,27.8,28.9,30.5,25.1,30.8,30.4,30.1,26.7,25.8,26.1,35.6,28.8,25.2,27.6,23.5,29]
[null,null,"女性／未婚",null,null,null,null,40.4,36.6,47.8,34.200000000000003,32.1,35.6,42.9,47.2,42,29.8,39.9,35.200000000000003,29.4,36.1,33.5,35.799999999999997,25.3,36.4,39.799999999999997,45.1,32,35,41.9,16.600000000000001,21.7,28.6,41,35.5,32.6,30,32.9,51.6,32.1,27.6,31.5,32.700000000000003,28.5,30.9,36.700000000000003,31.5,28.3,34.700000000000003,34.799999999999997,46.6,40.4,29.5,30.4,31.6,32.5]
[null,null,"男性／既婚",null,null,null,null,28.4,26.8,31.2,26.4,23.2,28.5,25.9,37.299999999999997,29.4,23.1,29.3,26.6,22.9,21.9,24.3,23.8,14,23.9,19.600000000000001,31.4,26.9,21.3,28.1,12.2,14.4,17,18.600000000000001,23.2,19.600000000000001,22.5,21.8,30.9,21.7,21.2,24.3,23,21.9,22.9,27.1,26.9,20.3,23,24.5,32.5,22.7,15.9,21.6,23.3,23]
[null,null,"女性／既婚",null,null,null,null,34.799999999999997,31.9,39.799999999999997,31.1,25.7,35.1,35.1,43.8,39.799999999999997,22.6,33.1,26.9,26,29.2,33.6,31.5,19.5,29.1,29.6,41.5,29,26.5,44.3,11.3,15.2,21.5,31.4,27.3,23.3,27,25.8,45.6,26.1,21.9,29.2,25.9,25.9,23.8,33.799999999999997,28.7,26.9,28.7,30.4,49.8,30.9,24.4,24.9,18.8,26.2]
[null,"地域別","首都40km圏",null,null,null,null,32.4,34.6,41.2,32.6,29.2,34,34.4,42.6,38.4,23.8,33.799999999999997,28.8,28,26.6,32.4,32.4,17.8,33,30,39.6,27,26.6,40,17,20.2,26.4,30.8,26.8,21.8,24.4,25.6,40.200000000000003,28.6,22.6,28,26.2,24.2,25.8,33.799999999999997,26.8,27.2,28.4,32,42,30.8,23.4,27.2,22.6,29.6]
[null,null,"名古屋40km圏",null,null,null,null,28.4,29,39.4,31.2,22,28.6,27.8,38,30.6,27.8,32,27.8,23.2,27,29.6,29.4,18.2,28,26.4,38,29.4,27.6,34,12,16,19.399999999999999,26.4,25.4,24.2,26.4,26.2,38.4,22.8,21.6,27.4,25.4,24.8,23.8,29.8,27.6,22.6,25,25.8,39.4,30,23,23.4,19.600000000000001,25]
[null,null,"阪神30km圏",null,null,null,null,34,30.4,36.4,29.6,28,34.4,35.200000000000003,42.2,37.200000000000003,24,35.4,28.8,27.4,29.6,30,29.2,21.6,30,26.8,36.6,29.8,26.2,37,10.4,16.399999999999999,21.8,27.2,31.2,26.4,27,27.8,43.2,26.4,27.6,28.6,29,25.8,28.6,31,32.200000000000003,25.4,28.6,27.2,42.4,28,22.2,25.2,27.2,25.8]
[null,"性別×地域別","男性／首都40km圏",null,null,null,null,28,31.5,37,29.6,28.8,31.1,30,36.6,33.1,22.2,35,29.6,29.7,24.2,32,30.5,14.5,30.5,26.6,35.200000000000003,21.5,24.6,32,19.5,21.5,24.6,25,26.2,18.399999999999999,23,26.2,32.799999999999997,28.1,22.3,26.6,25,23.4,26.2,30.5,26.2,24.6,23,27.7,35.9,24.2,18,28.1,23.4,26.2]
[null,null,"男性／名古屋40km圏",null,null,null,null,22,31.8,36.5,29,21.6,25.9,22.7,35.299999999999997,25.5,29,28.2,26.3,22.4,22.8,26.8,23.2,16.5,29.1,19.7,35.799999999999997,29.1,26.4,30.3,11,15.4,19.7,20.9,22.4,22,23.6,23.2,31.5,18.100000000000001,20.5,24.4,26,22.7,24.7,28.6,25.9,20.8,22.7,22,32.5,27.5,20.8,20.8,19.600000000000001,24.4]
[null,null,"男性／阪神30km圏",null,null,null,null,30.2,24.5,34.700000000000003,32.200000000000003,25.7,31.4,30.2,39.200000000000003,33.1,24.9,33.5,26.9,23.7,25.7,24.5,29.8,20.8,28.2,22,29.4,32.200000000000003,22.9,29,9,17.2,19.3,20.100000000000001,29.5,25.8,25,25.8,36.9,25,29.5,27.5,26.6,23.3,27.8,26.1,32.700000000000003,23.3,26.5,25.7,33.1,24.1,20.8,22.9,27.3,25.7]
[null,null,"女性／首都40km圏",null,null,null,null,37,37.9,45.7,35.799999999999997,29.6,37,39.1,49,44,25.5,32.5,28,26.2,29.1,32.799999999999997,34.4,21.3,35.700000000000003,33.6,44.3,32.799999999999997,28.7,48.4,14.3,18.899999999999999,28.3,36.9,27.5,25.4,25.8,25,48,29.1,23,29.5,27.5,25,25.4,37.299999999999997,27.5,29.9,34,36.5,48.4,37.700000000000003,29.1,26.2,21.7,33.200000000000003]
[null,null,"女性／名古屋40km圏",null,null,null,null,35.1,26.1,42.4,33.5,22.4,31.4,33.1,40.799999999999997,35.9,26.5,35.9,29.4,24,31.3,32.5,35.799999999999997,19.899999999999999,26.8,33.299999999999997,40.200000000000003,29.7,28.9,37.799999999999997,13,16.7,19.100000000000001,32.1,28.5,26.4,29.3,29.3,45.5,27.6,22.8,30.5,24.8,26.9,22.9,31,29.4,24.5,27.3,29.8,46.5,32.700000000000003,25.3,26.1,19.600000000000001,25.6]
[null,null,"女性／阪神30km圏",null,null,null,null,37.6,36.1,38,27.1,30.2,37.299999999999997,40,45.1,41.2,23.1,37.299999999999997,30.6,31,33.299999999999997,35.299999999999997,28.6,22.4,31.8,31.4,43.5,27.5,29.4,44.7,11.8,15.6,24.2,34,32.799999999999997,27,28.9,29.7,49.2,27.7,25.8,29.7,31.3,28.2,29.4,35.700000000000003,31.8,27.5,30.6,28.6,51.4,31.8,23.5,27.5,27.1,25.9]
[null,"性別×有職無職別","男性／有職",null,null,null,null,26.6,27.9,37.299999999999997,30.1,22.6,29.7,27.1,38.1,30.7,24.7,30.8,26.7,24.1,23,28.5,28.8,17.3,30,22.9,35.1,27,24.3,29.8,13.6,17.5,21.2,22.4,26.1,20.399999999999999,23.8,25.6,33.700000000000003,24.4,23.9,25.1,25.3,22.5,26.6,28.7,26.6,21.5,24.8,23.5,34,24,18.600000000000001,23.3,24.8,25.4]
[null,null,"女性／有職",null,null,null,null,41.1,33.5,45.6,36.5,28,34.1,36.6,44.4,40.200000000000003,27,35.200000000000003,26.8,29.2,33.200000000000003,34.1,35.1,19.899999999999999,31.6,38.799999999999997,48.3,31.6,31.4,44.3,13.3,18.3,25.7,41.5,29.9,28.7,30,28.2,46.3,30.4,27.6,30.6,29.9,30,27.5,37.4,29.3,27.4,32.9,30.1,50.1,36.9,24.7,27.2,26.8,31.4]
[null,null,"男性／無職",null,null,null,null,27.1,34.6,31.4,30.7,35.4,28.5,29.4,32.5,29.7,27.7,37.1,31.1,29.7,29.6,25.2,24,16.899999999999999,26.4,22.3,28.3,29.6,25.8,33.1,12.2,20.100000000000001,21.3,20.3,25.5,28.4,24.3,22.8,33.5,21.7,24.6,30.1,28.2,25.9,24.5,27.4,34.4,28.7,21.2,31.4,33.299999999999997,30.3,24.5,27.1,17.3,25.5]
[null,null,"女性／無職",null,null,null,null,33.200000000000003,33.200000000000003,39.6,28.5,27,36.299999999999997,38.1,45.4,40.5,23.3,35.299999999999997,31.3,25.1,29.5,33.1,31,22.3,31.3,27.2,37.5,28.5,27.1,43.1,12.8,16,22.4,28,29.4,24.3,26.4,27.9,48.6,26,20.5,29.3,26.2,24.1,24.4,32.1,29.8,27.2,28.7,32.799999999999997,47.5,31.4,26.9,26.1,19.399999999999999,25.5]
[null,"職業別","勤め人（未婚）",null,null,null,null,37.9,32.200000000000003,46,32.9,29.2,32.299999999999997,30.6,43,33.6,30.8,34.4,30.7,28.9,31.4,32.299999999999997,35.299999999999997,19.7,36.700000000000003,34.5,38.6,28.3,27.8,34.4,15.1,24.1,27.5,33.700000000000003,32.5,24.4,29,32.5,39.200000000000003,32.700000000000003,27.2,25.9,31.4,26.5,31.8,35.4,31.2,24.6,32,28.5,39.6,34.1,24,25.3,31.3,32.700000000000003]
[null,null,"勤め人（既婚）",null,null,null,null,29,30.1,35.9,31.1,26.1,31.4,27.5,41.5,34.700000000000003,26.1,28.4,23.6,22.6,23.3,27.1,28.2,16.8,26.3,23.8,37.9,29.4,22.9,30,12.2,16.7,18.2,23.7,23.4,19.100000000000001,22.8,24.1,34.1,22.4,23.9,27,25.2,23.9,23.6,30.1,26.1,22.5,24.5,25.4,37.9,25.9,19,24,25.1,25.4]
[null,null,"自由・自営業",null,null,null,null,21.4,24.5,41.2,28.6,17.5,27.1,26.3,26.8,28.7,14.2,34.700000000000003,25.9,21.3,22.9,30.3,29.8,19.600000000000001,34.6,25.2,36.1,22.6,29.1,34.9,14.3,13.6,21.9,25,23.1,30.7,26.3,21.1,38.799999999999997,27.1,23.9,27,25.9,26.9,22.4,28.6,24.8,19.3,31.8,22.6,38.700000000000003,24.5,17.3,21.2,24.3,28]
[null,null,"パート・アルバイト",null,null,null,null,36,31.1,40.299999999999997,36.799999999999997,20.8,32.299999999999997,38.799999999999997,43.7,36.9,25.2,36.299999999999997,28.4,32.200000000000003,29.3,34.5,32.200000000000003,18.600000000000001,28,32.4,47.6,31.5,31.8,44,13.3,14.6,26.2,36.1,30.9,26.6,27.7,26.9,44.7,26.5,26,29.2,26.1,24.9,29.5,33,27.2,27.2,27.5,25.5,45.7,29.3,21.4,27,19.8,24.6]
[null,null,"専業主婦",null,null,null,null,33.4,33.200000000000003,37.799999999999997,28,26.6,36.4,33.1,44.1,38.700000000000003,21.3,32.700000000000003,29.7,22.8,28.6,33.700000000000003,30.2,19.2,28.8,27.2,36.5,27.1,25.4,44.5,11.6,15.1,20,25.9,26.9,23.1,25.6,27.4,47.2,25.2,19.899999999999999,28,24.6,22.8,23.1,32.5,29.9,25.7,28.8,30.8,50.2,30.7,25.4,24.7,16.7,23.4]
[null,null,"学生",null,null,null,null,27.7,58.7,60,50.8,58.2,50.8,45.3,47.4,43.9,41.9,52.9,48.1,41,31.1,43.5,45.7,35.5,52,36.5,56.7,38.299999999999997,40.9,46.3,24.6,34.4,40.6,47.8,49,39.6,34.5,39.700000000000003,64.400000000000006,36.1,47.2,50,41.8,27.1,31.6,41,60.5,38.299999999999997,33.299999999999997,38.200000000000003,49.1,50.9,48.1,41.5,31.3,23.4]
[null,null,"無職・その他",null,null,null,null,29.3,28.5,30.1,24.2,25.8,24.1,36.299999999999997,36.6,32.6,24.1,34.799999999999997,29.2,27.6,30.9,23.5,23.4,18.399999999999999,26,20.2,23.2,29.4,23.9,31.1,10.5,15,19.100000000000001,19.899999999999999,25.3,25.3,23.7,19.100000000000001,34.1,19.600000000000001,17.8,26.1,26,26.9,25.3,25.7,26.3,28.4,21.2,33.700000000000003,31.1,25.7,21.6,25.7,19.100000000000001,29.7]
[null,"世帯年収別","高（800万円以上）",null,null,null,null,33.700000000000003,31.4,40.6,39.1,29.5,31.8,33.1,41.5,37.200000000000003,24.7,33.9,29.5,25.7,27.1,32.1,32.9,19.3,30.3,28.1,41.5,26.8,28.8,34.799999999999997,13.3,20.2,21.8,30.5,27.6,24.4,25.5,29.5,39.5,29.9,27.5,33.200000000000003,25.8,25.5,27.3,35,26.8,27.3,26.1,28.9,40.700000000000003,32.200000000000003,22.7,22.3,25,26.8]
[null,null,"中（400-800万円未満）",null,null,null,null,31.5,31.4,38.700000000000003,28.8,27.3,31.1,30.5,42.8,33.5,23.7,31.7,26.8,24.2,26.6,31,29,19.2,29.1,28.2,40,27.7,27.2,38.5,10.4,17,21.3,28.6,26.4,23.3,26,26.6,40.700000000000003,23.6,22.7,25.6,25.9,23.3,25.4,31.7,32.200000000000003,25.5,27.9,26.6,44.6,29.5,20.2,26,23.4,24.5]
[null,null,"低（400万円未満）",null,null,null,null,32.700000000000003,32.6,35.5,28.6,25,30.1,34.299999999999997,38.799999999999997,37,26.4,33.4,27.5,29.5,28.4,28.4,30.6,19.100000000000001,30.5,23,32.6,30.1,25.2,34.9,14.6,18.600000000000001,23.5,27.6,28.2,24.9,24.3,25.3,41.1,26.1,26.3,29.6,24.9,23.8,25.5,28.9,27.3,26.1,26,27.8,39.299999999999997,27.9,24.4,26.7,21.5,26.6]

{"sheet":"特に買いたい・利用したい【季節調整値】","index":5,"n_rows":50,"n_cols":111,"rows_kept":50,"cut":false,"hidden":false,"merged":[]}
[]
[null,"特に買いたいモノ・利用したいサービスがある人の割合（％）【季節調整値】"]
[]
[null,null,null,"2012年",null,null,null,null,null,null,null,null,null,null,null,"2013年",null,null,null,null,null,null,null,null,null,null,null,"2014年",null,null,null,null,null,null,null,null,null,null,null,"2015年",null,null,null,null,null,null,null,null,null,null,null,"2016年",null,null,null,null,null,null,null,null,null,null,null,"2017年",null,null,null,null,null,null,null,null,null,null,null,"2018年",null,null,null,null,null,null,null,null,null,null,null,"2019年",null,null,null,null,null,null,null,null,null,null,null,"2020年"]
[null,null,null,"1月","2月","3月","4月","5月","6月","7月","8月","9月","10月","11月","12月","1月","2月","3月","4月","5月","6月","7月","8月","9月","10月","11月","12月","1月","2月","3月","4月","5月","6月","7月","8月","9月","10月","11月","12月","1月","2月","3月","4月","5月","6月","7月","8月","9月","10月","11月","12月","1月","2月","3月","4月","5月","6月","7月","8月","9月","10月","11月","12月","1月","2月","3月","4月","5月","6月","7月","8月","9月","10月","11月","12月","1月","2月","3月","4月","5月","6月","7月","8月","9月","10月","11月","12月","1月","2月","3月","4月","5月","6月","7月","8月","9月","10月","11月","12月","1月","2月","3月","4月","5月","6月","7月","8月","9月","10月","11月","12月"]
[null,null,"全体",null,null,null,null,null,null,null,null,null,null,null,null,null,null,null,{"$f":"IF(COUNT(特に買いたい・利用したい!H6:S6)<>12,\"\",AVERAGE(特に買いたい・利用したい!H6:S6))","v":32.324999999999996},{"$f":"IF(COUNT(特に買いたい・利用したい!I6:T6)<>12,\"\",AVERAGE(特に買いたい・利用したい!I6:T6))","v":31.875},{"$f":"IF(COUNT(特に買いたい・利用したい!J6:U6)<>12,\"\",AVERAGE(特に買いたい・利用したい!J6:U6))","v":31.574999999999999},{"$f":"IF(COUNT(特に買いたい・利用したい!K6:V6)<>12,\"\",AVERAGE(特に買いたい・利用したい!K6:V6))","v":30.883333333333329},{"$f":"IF(COUNT(特に買いたい・利用したい!L6:W6)<>12,\"\",AVERAGE(特に買いたい・利用したい!L6:W6))","v":30.816666666666663},{"$f":"IF(COUNT(特に買いたい・利用したい!M6:X6)<>12,\"\",AVERAGE(特に買いたい・利用したい!M6:X6))","v":30.216666666666665},{"$f":"IF(COUNT(特に買いたい・利用したい!N6:Y6)<>12,\"\",AVERAGE(特に買いたい・利用したい!N6:Y6))","v":30.049999999999997},{"$f":"IF(COUNT(特に買いたい・利用したい!O6:Z6)<>12,\"\",AVERAGE(特に買いたい・利用したい!O6:Z6))","v":29.649999999999995},{"$f":"IF(COUNT(特に買いたい・利用したい!P6:AA6)<>12,\"\",AVERAGE(特に買いたい・利用したい!P6:AA6))","v":29.416666666666668},{"$f":"IF(COUNT(特に買いたい・利用したい!Q6:AB6)<>12,\"\",AVERAGE(特に買いたい・利用したい!Q6:AB6))","v":28.858333333333334},{"$f":"IF(COUNT(特に買いたい・利用したい!R6:AC6)<>12,\"\",AVERAGE(特に買いたい・利用したい!R6:AC6))","v":28.991666666666671},{"$f":"IF(COUNT(特に買いたい・利用したい!S6:AD6)<>12,\"\",AVERAGE(特に買いたい・利用したい!S6:AD6))","v":29.266666666666666},{"$f":"IF(COUNT(特に買いたい・利用したい!T6:AE6)<>12,\"\",AVERAGE(特に買いたい・利用したい!T6:AE6))","v":27.983333333333334},{"$f":"IF(COUNT(特に買いたい・利用したい!U6:AF6)<>12,\"\",AVERAGE(特に買いたい・利用したい!U6:AF6))","v":27.258333333333336},{"$f":"IF(COUNT(特に買いたい・利用したい!V6:AG6)<>12,\"\",AVERAGE(特に買いたい・利用したい!V6:AG6))","v":26.824999999999999},{"$f":"IF(COUNT(特に買いたい・利用したい!W6:AH6)<>12,\"\",AVERAGE(特に買いたい・利用したい!W6:AH6))","v":26.608333333333334},{"$f":"IF(COUNT(特に買いたい・利用したい!X6:AI6)<>12,\"\",AVERAGE(特に買いたい・利用したい!X6:AI6))","v":26.400000000000002},{"$f":"IF(COUNT(特に買いたい・利用したい!Y6:AJ6)<>12,\"\",AVERAGE(特に買いたい・利用したい!Y6:AJ6))","v":26.808333333333337},{"$f":"IF(COUNT(特に買いたい・利用したい!Z6:AK6)<>12,\"\",AVERAGE(特に買いたい・利用したい!Z6:AK6))","v":26.441666666666666},{"$f":"IF(COUNT(特に買いたい・利用したい!AA6:AL6)<>12,\"\",AVERAGE(特に買いたい・利用したい!AA6:AL6))","v":26.341666666666665},{"$f":"IF(COUNT(特に買いたい・利用したい!AB6:AM6)<>12,\"\",AVERAGE(特に買いたい・利用したい!AB6:AM6))","v":26.55},{"$f":"IF(COUNT(特に買いたい・利用したい!AC6:AN6)<>12,\"\",AVERAGE(特に買いたい・利用したい!AC6:AN6))","v":26.316666666666666},{"$f":"IF(COUNT(特に買いたい・利用したい!AD6:AO6)<>12,\"\",AVERAGE(特に買いたい・利用したい!AD6:AO6))","v":26.074999999999999},{"$f":"IF(COUNT(特に買いたい・利用したい!AE6:AP6)<>12,\"\",AVERAGE(特に買いたい・利用したい!AE6:AP6))","v":25.324999999999999},{"$f":"IF(COUNT(特に買いたい・利用したい!AF6:AQ6)<>12,\"\",AVERAGE(特に買いたい・利用したい!AF6:AQ6))","v":26.474999999999998},{"$f":"IF(COUNT(特に買いたい・利用したい!AG6:AR6)<>12,\"\",AVERAGE(特に買いたい・利用したい!AG6:AR6))","v":27.091666666666665},{"$f":"IF(COUNT(特に買いたい・利用したい!AH6:AS6)<>12,\"\",AVERAGE(特に買いたい・利用したい!AH6:AS6))","v":27.391666666666666},{"$f":"IF(COUNT(特に買いたい・利用したい!AI6:AT6)<>12,\"\",AVERAGE(特に買いたい・利用したい!AI6:AT6))","v":27.675000000000001},{"$f":"IF(COUNT(特に買いたい・利用したい!AJ6:AU6)<>12,\"\",AVERAGE(特に買いたい・利用したい!AJ6:AU6))","v":27.766666666666666},{"$f":"IF(COUNT(特に買いたい・利用したい!AK6:AV6)<>12,\"\",AVERAGE(特に買いたい・利用したい!AK6:AV6))","v":27.850000000000005},{"$f":"IF(COUNT(特に買いたい・利用したい!AL6:AW6)<>12,\"\",AVERAGE(特に買いたい・利用したい!AL6:AW6))","v":27.966666666666669},{"$f":"IF(COUNT(特に買いたい・利用したい!AM6:AX6)<>12,\"\",AVERAGE(特に買いたい・利用したい!AM6:AX6))","v":28.116666666666671},{"$f":"IF(COUNT(特に買いたい・利用したい!AN6:AY6)<>12,\"\",AVERAGE(特に買いたい・利用したい!AN6:AY6))","v":28.175000000000001},{"$f":"IF(COUNT(特に買いたい・利用したい!AO6:AZ6)<>12,\"\",AVERAGE(特に買いたい・利用したい!AO6:AZ6))","v":28.483333333333334},{"$f":"IF(COUNT(特に買いたい・利用したい!AP6:BA6)<>12,\"\",AVERAGE(特に買いたい・利用したい!AP6:BA6))","v":28.400000000000002},{"$f":"IF(COUNT(特に買いたい・利用したい!AQ6:BB6)<>12,\"\",AVERAGE(特に買いたい・利用したい!AQ6:BB6))","v":28.175000000000001},{"$f":"IF(COUNT(特に買いたい・利用したい!AR6:BC6)<>12,\"\",AVERAGE(特に買いたい・利用したい!AR6:BC6))","v":27.858333333333338},{"$f":"IF(COUNT(特に買いたい・利用したい!AS6:BD6)<>12,\"\",AVERAGE(特に買いたい・利用したい!AS6:BD6))","v":28.016666666666669},{"$f":"IF(COUNT(特に買いたい・利用したい!AT6:BE6)<>12,\"\",AVERAGE(特に買いたい・利用したい!AT6:BE6))","v":""},{"$f":"IF(COUNT(特に買いたい・利用したい!AU6:BF6)<>12,\"\",AVERAGE(特に買いたい・利用したい!AU6:BF6))","v":""},{"$f":"IF(COUNT(特に買いたい・利用したい!AV6:BG6)<>12,\"\",AVERAGE(特に買いたい・利用したい!AV6:BG6))","v":""},{"$f":"IF(COUNT(特に買いたい・利用したい!AW6:BH6)<>12,\"\",AVERAGE(特に買いたい・利用したい!AW6:BH6))","v":""},{"$f":"IF(COUNT(特に買いたい・利用したい!AX6:BI6)<>12,\"\",AVERAGE(特に買いたい・利用したい!AX6:BI6))","v":""},{"$f":"IF(COUNT(特に買いたい・利用したい!AY6:BJ6)<>12,\"\",AVERAGE(特に買いたい・利用したい!AY6:BJ6))","v":""},{"$f":"IF(COUNT(特に買いたい・利用したい!AZ6:BK6)<>12,\"\",AVERAGE(特に買いたい・利用したい!AZ6:BK6))","v":""},{"$f":"IF(COUNT(特に買いたい・利用したい!BA6:BL6)<>12,\"\",AVERAGE(特に買いたい・利用したい!BA6:BL6))","v":""},{"$f":"IF(COUNT(特に買いたい・利用したい!BB6:BM6)<>12,\"\",AVERAGE(特に買いたい・利用したい!BB6:BM6))","v":""},{"$f":"IF(COUNT(特に買いたい・利用したい!BC6:BN6)<>12,\"\",AVERAGE(特に買いたい・利用したい!BC6:BN6))","v":""},{"$f":"IF(COUNT(特に買いたい・利用したい!BD6:BO6)<>12,\"\",AVERAGE(特に買いたい・利用したい!BD6:BO6))","v":""},{"$f":"IF(COUNT(特に買いたい・利用したい!BE6:BP6)<>12,\"\",AVERAGE(特に買いたい・利用したい!BE6:BP6))","v":""},{"$f":"IF(COUNT(特に買いたい・利用したい!BF6:BQ6)<>12,\"\",AVERAGE(特に買いたい・利用したい!BF6:BQ6))","v":""},{"$f":"IF(COUNT(特に買いたい・利用したい!BG6:BR6)<>12,\"\",AVERAGE(特に買いたい・利用したい!BG6:BR6))","v":""},{"$f":"IF(COUNT(特に買いたい・利用したい!BH6:BS6)<>12,\"\",AVERAGE(特に買いたい・利用したい!BH6:BS6))","v":""},{"$f":"IF(COUNT(特に買いたい・利用したい!BI6:BT6)<>12,\"\",AVERAGE(特に買いたい・利用したい!BI6:BT6))","v":""},{"$f":"IF(COUNT(特に買いたい・利用したい!BJ6:BU6)<>12,\"\",AVERAGE(特に買いたい・利用したい!BJ6:BU6))","v":""},{"$f":"IF(COUNT(特に買いたい・利用したい!BK6:BV6)<>12,\"\",AVERAGE(特に買いたい・利用したい!BK6:BV6))","v":""},{"$f":"IF(COUNT(特に買いたい・利用したい!BL6:BW6)<>12,\"\",AVERAGE(特に買いたい・利用したい!BL6:BW6))","v":""},{"$f":"IF(COUNT(特に買いたい・利用したい!BM6:BX6)<>12,\"\",AVERAGE(特に買いたい・利用したい!BM6:BX6))","v":""},{"$f":"IF(COUNT(特に買いたい・利用したい!BN6:BY6)<>12,\"\",AVERAGE(特に買いたい・利用したい!BN6:BY6))","v":""},{"$f":"IF(COUNT(特に買いたい・利用したい!BO6:BZ6)<>12,\"\",AVERAGE(特に買いたい・利用したい!BO6:BZ6))","v":""},{"$f":"IF(COUNT(特に買いたい・利用したい!BP6:CA6)<>12,\"\",AVERAGE(特に買いたい・利用したい!BP6:CA6))","v":""},{"$f":"IF(COUNT(特に買いたい・利用したい!BQ6:CB6)<>12,\"\",AVERAGE(特に買いたい・利用したい!BQ6:CB6))","v":""},{"$f":"IF(COUNT(特に買いたい・利用したい!BR6:CC6)<>12,\"\",AVERAGE(特に買いたい・利用したい!BR6:CC6))","v":""},{"$f":"IF(COUNT(特に買いたい・利用したい!BS6:CD6)<>12,\"\",AVERAGE(特に買いたい・利用したい!BS6:CD6))","v":""},{"$f":"IF(COUNT(特に買いたい・利用したい!BT6:CE6)<>12,\"\",AVERAGE(特に買いたい・利用したい!BT6:CE6))","v":""},{"$f":"IF(COUNT(特に買いたい・利用したい!BU6:CF6)<>12,\"\",AVERAGE(特に買いたい・利用したい!BU6:CF6))","v":""},{"$f":"IF(COUNT(特に買いたい・利用したい!BV6:CG6)<>12,\"\",AVERAGE(特に買いたい・利用したい!BV6:CG6))","v":""},{"$f":"IF(COUNT(特に買いたい・利用したい!BW6:CH6)<>12,\"\",AVERAGE(特に買いたい・利用したい!BW6:CH6))","v":""},{"$f":"IF(COUNT(特に買いたい・利用したい!BX6:CI6)<>12,\"\",AVERAGE(特に買いたい・利用したい!BX6:CI6))","v":""},{"$f":"IF(COUNT(特に買いたい・利用したい!BY6:CJ6)<>12,\"\",AVERAGE(特に買いたい・利用したい!BY6:CJ6))","v":""},{"$f":"IF(COUNT(特に買いたい・利用したい!BZ6:CK6)<>12,\"\",AVERAGE(特に買いたい・利用したい!BZ6:CK6))","v":""},{"$f":"IF(COUNT(特に買いたい・利用したい!CA6:CL6)<>12,\"\",AVERAGE(特に買いたい・利用したい!CA6:CL6))","v":""},{"$f":"IF(COUNT(特に買いたい・利用したい!CB6:CM6)<>12,\"\",AVERAGE(特に買いたい・利用したい!CB6:CM6))","v":""},{"$f":"IF(COUNT(特に買いたい・利用したい!CC6:CN6)<>12,\"\",AVERAGE(特に買いたい・利用したい!CC6:CN6))","v":""},{"$f":"IF(COUNT(特に買いたい・利用したい!CD6:CO6)<>12,\"\",AVERAGE(特に買いたい・利用したい!CD6:CO6))","v":""},{"$f":"IF(COUNT(特に買いたい・利用したい!CE6:CP6)<>12,\"\",AVERAGE(特に買いたい・利用したい!CE6:CP6))","v":""},{"$f":"IF(COUNT(特に買いたい・利用したい!CF6:CQ6)<>12,\"\",AVERAGE(特に買いたい・利用したい!CF6:CQ6))","v":""},{"$f":"IF(COUNT(特に買いたい・利用したい!CG6:CR6)<>12,\"\",AVERAGE(特に買いたい・利用したい!CG6:CR6))","v":""},{"$f":"IF(COUNT(特に買いたい・利用したい!CH6:CS6)<>12,\"\",AVERAGE(特に買いたい・利用したい!CH6:CS6))","v":""},{"$f":"IF(COUNT(特に買いたい・利用したい!CI6:CT6)<>12,\"\",AVERAGE(特に買いたい・利用したい!CI6:CT6))","v":""},{"$f":"IF(COUNT(特に買いたい・利用したい!CJ6:CU6)<>12,\"\",AVERAGE(特に買いたい・利用したい!CJ6:CU6))","v":""},{"$f":"IF(COUNT(特に買いたい・利用したい!CK6:CV6)<>12,\"\",AVERAGE(特に買いたい・利用したい!CK6:CV6))","v":""},{"$f":"IF(COUNT(特に買いたい・利用したい!CL6:CW6)<>12,\"\",AVERAGE(特に買いたい・利用したい!CL6:CW6))","v":""},{"$f":"IF(COUNT(特に買いたい・利用したい!CM6:CX6)<>12,\"\",AVERAGE(特に買いたい・利用したい!CM6:CX6))","v":""},{"$f":"IF(COUNT(特に買いたい・利用したい!CN6:CY6)<>12,\"\",AVERAGE(特に買いたい・利用したい!CN6:CY6))","v":""},{"$f":"IF(COUNT(特に買いたい・利用したい!CO6:CZ6)<>12,\"\",AVERAGE(特に買いたい・利用したい!CO6:CZ6))","v":""},{"$f":"IF(COUNT(特に買いたい・利用したい!CP6:DA6)<>12,\"\",AVERAGE(特に買いたい・利用したい!CP6:DA6))","v":""},{"$f":"IF(COUNT(特に買いたい・利用したい!CQ6:DB6)<>12,\"\",AVERAGE(特に買いたい・利用したい!CQ6:DB6))","v":""},{"$f":"IF(COUNT(特に買いたい・利用したい!CR6:DC6)<>12,\"\",AVERAGE(特に買いたい・利用したい!CR6:DC6))","v":""},{"$f":"IF(COUNT(特に買いたい・利用したい!CS6:DD6)<>12,\"\",AVERAGE(特に買いたい・利用したい!CS6:DD6))","v":""},{"$f":"IF(COUNT(特に買いたい・利用したい!CT6:DE6)<>12,\"\",AVERAGE(特に買いたい・利用したい!CT6:DE6))","v":""},{"$f":"IF(COUNT(特に買いたい・利用したい!CU6:DF6)<>12,\"\",AVERAGE(特に買いたい・利用したい!CU6:DF6))","v":""},{"$f":"IF(COUNT(特に買いたい・利用したい!CV6:DG6)<>12,\"\",AVERAGE(特に買いたい・利用したい!CV6:DG6))","v":""}]
[null,"性別","男性",null,null,null,null,null,null,null,null,null,null,null,null,null,null,null,{"$f":"IF(COUNT(特に買いたい・利用したい!H7:S7)<>12,\"\",AVERAGE(特に買いたい・利用したい!H7:S7))","v":29.799999999999997},{"$f":"IF(COUNT(特に買いたい・利用したい!I7:T7)<>12,\"\",AVERAGE(特に買いたい・利用したい!I7:T7))","v":29.683333333333334},{"$f":"IF(COUNT(特に買いたい・利用したい!J7:U7)<>12,\"\",AVERAGE(特に買いたい・利用したい!J7:U7))","v":29.258333333333336},{"$f":"IF(COUNT(特に買いたい・利用したい!K7:V7)<>12,\"\",AVERAGE(特に買いたい・利用したい!K7:V7))","v":28.566666666666674},{"$f":"IF(COUNT(特に買いたい・利用したい!L7:W7)<>12,\"\",AVERAGE(特に買いたい・利用したい!L7:W7))","v":28.358333333333334},{"$f":"IF(COUNT(特に買いたい・利用したい!M7:X7)<>12,\"\",AVERAGE(特に買いたい・利用したい!M7:X7))","v":27.675000000000001},{"$f":"IF(COUNT(特に買いたい・利用したい!N7:Y7)<>12,\"\",AVERAGE(特に買いたい・利用したい!N7:Y7))","v":27.658333333333331},{"$f":"IF(COUNT(特に買いたい・利用したい!O7:Z7)<>12,\"\",AVERAGE(特に買いたい・利用したい!O7:Z7))","v":27.258333333333336},{"$f":"IF(COUNT(特に買いたい・利用したい!P7:AA7)<>12,\"\",AVERAGE(特に買いたい・利用したい!P7:AA7))","v":26.966666666666669},{"$f":"IF(COUNT(特に買いたい・利用したい!Q7:AB7)<>12,\"\",AVERAGE(特に買いたい・利用したい!Q7:AB7))","v":26.716666666666669},{"$f":"IF(COUNT(特に買いたい・利用したい!R7:AC7)<>12,\"\",AVERAGE(特に買いたい・利用したい!R7:AC7))","v":26.650000000000006},{"$f":"IF(COUNT(特に買いたい・利用したい!S7:AD7)<>12,\"\",AVERAGE(特に買いたい・利用したい!S7:AD7))","v":26.508333333333336},{"$f":"IF(COUNT(特に買いたい・利用したい!T7:AE7)<>12,\"\",AVERAGE(特に買いたい・利用したい!T7:AE7))","v":25.308333333333334},{"$f":"IF(COUNT(特に買いたい・利用したい!U7:AF7)<>12,\"\",AVERAGE(特に買いたい・利用したい!U7:AF7))","v":24.7},{"$f":"IF(COUNT(特に買いたい・利用したい!V7:AG7)<>12,\"\",AVERAGE(特に買いたい・利用したい!V7:AG7))","v":24.449999999999992},{"$f":"IF(COUNT(特に買いたい・利用したい!W7:AH7)<>12,\"\",AVERAGE(特に買いたい・利用したい!W7:AH7))","v":23.966666666666665},{"$f":"IF(COUNT(特に買いたい・利用したい!X7:AI7)<>12,\"\",AVERAGE(特に買いたい・利用したい!X7:AI7))","v":23.816666666666663},{"$f":"IF(COUNT(特に買いたい・利用したい!Y7:AJ7)<>12,\"\",AVERAGE(特に買いたい・利用したい!Y7:AJ7))","v":24.216666666666665},{"$f":"IF(COUNT(特に買いたい・利用したい!Z7:AK7)<>12,\"\",AVERAGE(特に買いたい・利用したい!Z7:AK7))","v":23.766666666666662},{"$f":"IF(COUNT(特に買いたい・利用したい!AA7:AL7)<>12,\"\",AVERAGE(特に買いたい・利用したい!AA7:AL7))","v":23.958333333333332},{"$f":"IF(COUNT(特に買いたい・利用したい!AB7:AM7)<>12,\"\",AVERAGE(特に買いたい・利用したい!AB7:AM7))","v":23.974999999999998},{"$f":"IF(COUNT(特に買いたい・利用したい!AC7:AN7)<>12,\"\",AVERAGE(特に買いたい・利用したい!AC7:AN7))","v":23.658333333333331},{"$f":"IF(COUNT(特に買いたい・利用したい!AD7:AO7)<>12,\"\",AVERAGE(特に買いたい・利用したい!AD7:AO7))","v":23.608333333333334},{"$f":"IF(COUNT(特に買いたい・利用したい!AE7:AP7)<>12,\"\",AVERAGE(特に買いたい・利用したい!AE7:AP7))","v":23.241666666666671},{"$f":"IF(COUNT(特に買いたい・利用したい!AF7:AQ7)<>12,\"\",AVERAGE(特に買いたい・利用したい!AF7:AQ7))","v":24.299999999999997},{"$f":"IF(COUNT(特に買いたい・利用したい!AG7:AR7)<>12,\"\",AVERAGE(特に買いたい・利用したい!AG7:AR7))","v":24.724999999999998},{"$f":"IF(COUNT(特に買いたい・利用したい!AH7:AS7)<>12,\"\",AVERAGE(特に買いたい・利用したい!AH7:AS7))","v":25.141666666666666},{"$f":"IF(COUNT(特に買いたい・利用したい!AI7:AT7)<>12,\"\",AVERAGE(特に買いたい・利用したい!AI7:AT7))","v":25.674999999999997},{"$f":"IF(COUNT(特に買いたい・利用したい!AJ7:AU7)<>12,\"\",AVERAGE(特に買いたい・利用したい!AJ7:AU7))","v":25.858333333333331},{"$f":"IF(COUNT(特に買いたい・利用したい!AK7:AV7)<>12,\"\",AVERAGE(特に買いたい・利用したい!AK7:AV7))","v":25.933333333333326},{"$f":"IF(COUNT(特に買いたい・利用したい!AL7:AW7)<>12,\"\",AVERAGE(特に買いたい・利用したい!AL7:AW7))","v":25.95},{"$f":"IF(COUNT(特に買いたい・利用したい!AM7:AX7)<>12,\"\",AVERAGE(特に買いたい・利用したい!AM7:AX7))","v":25.950000000000003},{"$f":"IF(COUNT(特に買いたい・利用したい!AN7:AY7)<>12,\"\",AVERAGE(特に買いたい・利用したい!AN7:AY7))","v":25.966666666666665},{"$f":"IF(COUNT(特に買いたい・利用したい!AO7:AZ7)<>12,\"\",AVERAGE(特に買いたい・利用したい!AO7:AZ7))","v":26.099999999999998},{"$f":"IF(COUNT(特に買いたい・利用したい!AP7:BA7)<>12,\"\",AVERAGE(特に買いたい・利用したい!AP7:BA7))","v":25.75},{"$f":"IF(COUNT(特に買いたい・利用したい!AQ7:BB7)<>12,\"\",AVERAGE(特に買いたい・利用したい!AQ7:BB7))","v":25.566666666666663},{"$f":"IF(COUNT(特に買いたい・利用したい!AR7:BC7)<>12,\"\",AVERAGE(特に買いたい・利用したい!AR7:BC7))","v":25.358333333333331},{"$f":"IF(COUNT(特に買いたい・利用したい!AS7:BD7)<>12,\"\",AVERAGE(特に買いたい・利用したい!AS7:BD7))","v":25.549999999999997},{"$f":"IF(COUNT(特に買いたい・利用したい!AT7:BE7)<>12,\"\",AVERAGE(特に買いたい・利用したい!AT7:BE7))","v":""},{"$f":"IF(COUNT(特に買いたい・利用したい!AU7:BF7)<>12,\"\",AVERAGE(特に買いたい・利用したい!AU7:BF7))","v":""},{"$f":"IF(COUNT(特に買いたい・利用したい!AV7:BG7)<>12,\"\",AVERAGE(特に買いたい・利用したい!AV7:BG7))","v":""},{"$f":"IF(COUNT(特に買いたい・利用したい!AW7:BH7)<>12,\"\",AVERAGE(特に買いたい・利用したい!AW7:BH7))","v":""},{"$f":"IF(COUNT(特に買いたい・利用したい!AX7:BI7)<>12,\"\",AVERAGE(特に買いたい・利用したい!AX7:BI7))","v":""},{"$f":"IF(COUNT(特に買いたい・利用したい!AY7:BJ7)<>12,\"\",AVERAGE(特に買いたい・利用したい!AY7:BJ7))","v":""},{"$f":"IF(COUNT(特に買いたい・利用したい!AZ7:BK7)<>12,\"\",AVERAGE(特に買いたい・利用したい!AZ7:BK7))","v":""},{"$f":"IF(COUNT(特に買いたい・利用したい!BA7:BL7)<>12,\"\",AVERAGE(特に買いたい・利用したい!BA7:BL7))","v":""},{"$f":"IF(COUNT(特に買いたい・利用したい!BB7:BM7)<>12,\"\",AVERAGE(特に買いたい・利用したい!BB7:BM7))","v":""},{"$f":"IF(COUNT(特に買いたい・利用したい!BC7:BN7)<>12,\"\",AVERAGE(特に買いたい・利用したい!BC7:BN7))","v":""},{"$f":"IF(COUNT(特に買いたい・利用したい!BD7:BO7)<>12,\"\",AVERAGE(特に買いたい・利用したい!BD7:BO7))","v":""},{"$f":"IF(COUNT(特に買いたい・利用したい!BE7:BP7)<>12,\"\",AVERAGE(特に買いたい・利用したい!BE7:BP7))","v":""},{"$f":"IF(COUNT(特に買いたい・利用したい!BF7:BQ7)<>12,\"\",AVERAGE(特に買いたい・利用したい!BF7:BQ7))","v":""},{"$f":"IF(COUNT(特に買いたい・利用したい!BG7:BR7)<>12,\"\",AVERAGE(特に買いたい・利用したい!BG7:BR7))","v":""},{"$f":"IF(COUNT(特に買いたい・利用したい!BH7:BS7)<>12,\"\",AVERAGE(特に買いたい・利用したい!BH7:BS7))","v":""},{"$f":"IF(COUNT(特に買いたい・利用したい!BI7:BT7)<>12,\"\",AVERAGE(特に買いたい・利用したい!BI7:BT7))","v":""},{"$f":"IF(COUNT(特に買いたい・利用したい!BJ7:BU7)<>12,\"\",AVERAGE(特に買いたい・利用したい!BJ7:BU7))","v":""},{"$f":"IF(COUNT(特に買いたい・利用したい!BK7:BV7)<>12,\"\",AVERAGE(特に買いたい・利用したい!BK7:BV7))","v":""},{"$f":"IF(COUNT(特に買いたい・利用したい!BL7:BW7)<>12,\"\",AVERAGE(特に買いたい・利用したい!BL7:BW7))","v":""},{"$f":"IF(COUNT(特に買いたい・利用したい!BM7:BX7)<>12,\"\",AVERAGE(特に買いたい・利用したい!BM7:BX7))","v":""},{"$f":"IF(COUNT(特に買いたい・利用したい!BN7:BY7)<>12,\"\",AVERAGE(特に買いたい・利用したい!BN7:BY7))","v":""},{"$f":"IF(COUNT(特に買いたい・利用したい!BO7:BZ7)<>12,\"\",AVERAGE(特に買いたい・利用したい!BO7:BZ7))","v":""},{"$f":"IF(COUNT(特に買いたい・利用したい!BP7:CA7)<>12,\"\",AVERAGE(特に買いたい・利用したい!BP7:CA7))","v":""},{"$f":"IF(COUNT(特に買いたい・利用したい!BQ7:CB7)<>12,\"\",AVERAGE(特に買いたい・利用したい!BQ7:CB7))","v":""},{"$f":"IF(COUNT(特に買いたい・利用したい!BR7:CC7)<>12,\"\",AVERAGE(特に買いたい・利用したい!BR7:CC7))","v":""},{"$f":"IF(COUNT(特に買いたい・利用したい!BS7:CD7)<>12,\"\",AVERAGE(特に買いたい・利用したい!BS7:CD7))","v":""},{"$f":"IF(COUNT(特に買いたい・利用したい!BT7:CE7)<>12,\"\",AVERAGE(特に買いたい・利用したい!BT7:CE7))","v":""},{"$f":"IF(COUNT(特に買いたい・利用したい!BU7:CF7)<>12,\"\",AVERAGE(特に買いたい・利用したい!BU7:CF7))","v":""},{"$f":"IF(COUNT(特に買いたい・利用したい!BV7:CG7)<>12,\"\",AVERAGE(特に買いたい・利用したい!BV7:CG7))","v":""},{"$f":"IF(COUNT(特に買いたい・利用したい!BW7:CH7)<>12,\"\",AVERAGE(特に買いたい・利用したい!BW7:CH7))","v":""},{"$f":"IF(COUNT(特に買いたい・利用したい!BX7:CI7)<>12,\"\",AVERAGE(特に買いたい・利用したい!BX7:CI7))","v":""},{"$f":"IF(COUNT(特に買いたい・利用したい!BY7:CJ7)<>12,\"\",AVERAGE(特に買いたい・利用したい!BY7:CJ7))","v":""},{"$f":"IF(COUNT(特に買いたい・利用したい!BZ7:CK7)<>12,\"\",AVERAGE(特に買いたい・利用したい!BZ7:CK7))","v":""},{"$f":"IF(COUNT(特に買いたい・利用したい!CA7:CL7)<>12,\"\",AVERAGE(特に買いたい・利用したい!CA7:CL7))","v":""},{"$f":"IF(COUNT(特に買いたい・利用したい!CB7:CM7)<>12,\"\",AVERAGE(特に買いたい・利用したい!CB7:CM7))","v":""},{"$f":"IF(COUNT(特に買いたい・利用したい!CC7:CN7)<>12,\"\",AVERAGE(特に買いたい・利用したい!CC7:CN7))","v":""},{"$f":"IF(COUNT(特に買いたい・利用したい!CD7:CO7)<>12,\"\",AVERAGE(特に買いたい・利用したい!CD7:CO7))","v":""},{"$f":"IF(COUNT(特に買いたい・利用したい!CE7:CP7)<>12,\"\",AVERAGE(特に買いたい・利用したい!CE7:CP7))","v":""},{"$f":"IF(COUNT(特に買いたい・利用したい!CF7:CQ7)<>12,\"\",AVERAGE(特に買いたい・利用したい!CF7:CQ7))","v":""},{"$f":"IF(COUNT(特に買いたい・利用したい!CG7:CR7)<>12,\"\",AVERAGE(特に買いたい・利用したい!CG7:CR7))","v":""},{"$f":"IF(COUNT(特に買いたい・利用したい!CH7:CS7)<>12,\"\",AVERAGE(特に買いたい・利用したい!CH7:CS7))","v":""},{"$f":"IF(COUNT(特に買いたい・利用したい!CI7:CT7)<>12,\"\",AVERAGE(特に買いたい・利用したい!CI7:CT7))","v":""},{"$f":"IF(COUNT(特に買いたい・利用したい!CJ7:CU7)<>12,\"\",AVERAGE(特に買いたい・利用したい!CJ7:CU7))","v":""},{"$f":"IF(COUNT(特に買いたい・利用したい!CK7:CV7)<>12,\"\",AVERAGE(特に買いたい・利用したい!CK7:CV7))","v":""},{"$f":"IF(COUNT(特に買いたい・利用したい!CL7:CW7)<>12,\"\",AVERAGE(特に買いたい・利用したい!CL7:CW7))","v":""},{"$f":"IF(COUNT(特に買いたい・利用したい!CM7:CX7)<>12,\"\",AVERAGE(特に買いたい・利用したい!CM7:CX7))","v":""},{"$f":"IF(COUNT(特に買いたい・利用したい!CN7:CY7)<>12,\"\",AVERAGE(特に買いたい・利用したい!CN7:CY7))","v":""},{"$f":"IF(COUNT(特に買いたい・利用したい!CO7:CZ7)<>12,\"\",AVERAGE(特に買いたい・利用したい!CO7:CZ7))","v":""},{"$f":"IF(COUNT(特に買いたい・利用したい!CP7:DA7)<>12,\"\",AVERAGE(特に買いたい・利用したい!CP7:DA7))","v":""},{"$f":"IF(COUNT(特に買いたい・利用したい!CQ7:DB7)<>12,\"\",AVERAGE(特に買いたい・利用したい!CQ7:DB7))","v":""},{"$f":"IF(COUNT(特に買いたい・利用したい!CR7:DC7)<>12,\"\",AVERAGE(特に買いたい・利用したい!CR7:DC7))","v":""},{"$f":"IF(COUNT(特に買いたい・利用したい!CS7:DD7)<>12,\"\",AVERAGE(特に買いたい・利用したい!CS7:DD7))","v":""},{"$f":"IF(COUNT(特に買いたい・利用したい!CT7:DE7)<>12,\"\",AVERAGE(特に買いたい・利用したい!CT7:DE7))","v":""},{"$f":"IF(COUNT(特に買いたい・利用したい!CU7:DF7)<>12,\"\",AVERAGE(特に買いたい・利用したい!CU7:DF7))","v":""},{"$f":"IF(COUNT(特に買いたい・利用したい!CV7:DG7)<>12,\"\",AVERAGE(特に買いたい・利用したい!CV7:DG7))","v":""}]
[null,null,"女性",null,null,null,null,null,null,null,null,null,null,null,null,null,null,null,{"$f":"IF(COUNT(特に買いたい・利用したい!H8:S8)<>12,\"\",AVERAGE(特に買いたい・利用したい!H8:S8))","v":34.933333333333337},{"$f":"IF(COUNT(特に買いたい・利用したい!I8:T8)<>12,\"\",AVERAGE(特に買いたい・利用したい!I8:T8))","v":34.141666666666673},{"$f":"IF(COUNT(特に買いたい・利用したい!J8:U8)<>12,\"\",AVERAGE(特に買いたい・利用したい!J8:U8))","v":33.966666666666676},{"$f":"IF(COUNT(特に買いたい・利用したい!K8:V8)<>12,\"\",AVERAGE(特に買いたい・利用したい!K8:V8))","v":33.266666666666673},{"$f":"IF(COUNT(特に買いたい・利用したい!L8:W8)<>12,\"\",AVERAGE(特に買いたい・利用したい!L8:W8))","v":33.341666666666669},{"$f":"IF(COUNT(特に買いたい・利用したい!M8:X8)<>12,\"\",AVERAGE(特に買いたい・利用したい!M8:X8))","v":32.81666666666667},{"$f":"IF(COUNT(特に買いたい・利用したい!N8:Y8)<>12,\"\",AVERAGE(特に買いたい・利用したい!N8:Y8))","v":32.491666666666667},{"$f":"IF(COUNT(特に買いたい・利用したい!O8:Z8)<>12,\"\",AVERAGE(特に買いたい・利用したい!O8:Z8))","v":32.108333333333327},{"$f":"IF(COUNT(特に買いたい・利用したい!P8:AA8)<>12,\"\",AVERAGE(特に買いたい・利用したい!P8:AA8))","v":31.916666666666668},{"$f":"IF(COUNT(特に買いたい・利用したい!Q8:AB8)<>12,\"\",AVERAGE(特に買いたい・利用したい!Q8:AB8))","v":31.041666666666661},{"$f":"IF(COUNT(特に買いたい・利用したい!R8:AC8)<>12,\"\",AVERAGE(特に買いたい・利用したい!R8:AC8))","v":31.374999999999996},{"$f":"IF(COUNT(特に買いたい・利用したい!S8:AD8)<>12,\"\",AVERAGE(特に買いたい・利用したい!S8:AD8))","v":32.06666666666667},{"$f":"IF(COUNT(特に買いたい・利用したい!T8:AE8)<>12,\"\",AVERAGE(特に買いたい・利用したい!T8:AE8))","v":30.708333333333332},{"$f":"IF(COUNT(特に買いたい・利用したい!U8:AF8)<>12,\"\",AVERAGE(特に買いたい・利用したい!U8:AF8))","v":29.866666666666664},{"$f":"IF(COUNT(特に買いたい・利用したい!V8:AG8)<>12,\"\",AVERAGE(特に買いたい・利用したい!V8:AG8))","v":29.249999999999996},{"$f":"IF(COUNT(特に買いたい・利用したい!W8:AH8)<>12,\"\",AVERAGE(特に買いたい・利用したい!W8:AH8))","v":29.308333333333334},{"$f":"IF(COUNT(特に買いたい・利用したい!X8:AI8)<>12,\"\",AVERAGE(特に買いたい・利用したい!X8:AI8))","v":29.033333333333335},{"$f":"IF(COUNT(特に買いたい・利用したい!Y8:AJ8)<>12,\"\",AVERAGE(特に買いたい・利用したい!Y8:AJ8))","v":29.458333333333332},{"$f":"IF(COUNT(特に買いたい・利用したい!Z8:AK8)<>12,\"\",AVERAGE(特に買いたい・利用したい!Z8:AK8))","v":29.175000000000001},{"$f":"IF(COUNT(特に買いたい・利用したい!AA8:AL8)<>12,\"\",AVERAGE(特に買いたい・利用したい!AA8:AL8))","v":28.775000000000002},{"$f":"IF(COUNT(特に買いたい・利用したい!AB8:AM8)<>12,\"\",AVERAGE(特に買いたい・利用したい!AB8:AM8))","v":29.183333333333337},{"$f":"IF(COUNT(特に買いたい・利用したい!AC8:AN8)<>12,\"\",AVERAGE(特に買いたい・利用したい!AC8:AN8))","v":29.041666666666671},{"$f":"IF(COUNT(特に買いたい・利用したい!AD8:AO8)<>12,\"\",AVERAGE(特に買いたい・利用したい!AD8:AO8))","v":28.616666666666664},{"$f":"IF(COUNT(特に買いたい・利用したい!AE8:AP8)<>12,\"\",AVERAGE(特に買いたい・利用したい!AE8:AP8))","v":27.474999999999994},{"$f":"IF(COUNT(特に買いたい・利用したい!AF8:AQ8)<>12,\"\",AVERAGE(特に買いたい・利用したい!AF8:AQ8))","v":28.716666666666658},{"$f":"IF(COUNT(特に買いたい・利用したい!AG8:AR8)<>12,\"\",AVERAGE(特に買いたい・利用したい!AG8:AR8))","v":29.524999999999991},{"$f":"IF(COUNT(特に買いたい・利用したい!AH8:AS8)<>12,\"\",AVERAGE(特に買いたい・利用したい!AH8:AS8))","v":29.691666666666659},{"$f":"IF(COUNT(特に買いたい・利用したい!AI8:AT8)<>12,\"\",AVERAGE(特に買いたい・利用したい!AI8:AT8))","v":29.724999999999994},{"$f":"IF(COUNT(特に買いたい・利用したい!AJ8:AU8)<>12,\"\",AVERAGE(特に買いたい・利用したい!AJ8:AU8))","v":29.724999999999998},{"$f":"IF(COUNT(特に買いたい・利用したい!AK8:AV8)<>12,\"\",AVERAGE(特に買いたい・利用したい!AK8:AV8))","v":29.808333333333334},{"$f":"IF(COUNT(特に買いたい・利用したい!AL8:AW8)<>12,\"\",AVERAGE(特に買いたい・利用したい!AL8:AW8))","v":30.025000000000006},{"$f":"IF(COUNT(特に買いたい・利用したい!AM8:AX8)<>12,\"\",AVERAGE(特に買いたい・利用したい!AM8:AX8))","v":30.325000000000006},{"$f":"IF(COUNT(特に買いたい・利用したい!AN8:AY8)<>12,\"\",AVERAGE(特に買いたい・利用したい!AN8:AY8))","v":30.425000000000001},{"$f":"IF(COUNT(特に買いたい・利用したい!AO8:AZ8)<>12,\"\",AVERAGE(特に買いたい・利用したい!AO8:AZ8))","v":30.908333333333335},{"$f":"IF(COUNT(特に買いたい・利用したい!AP8:BA8)<>12,\"\",AVERAGE(特に買いたい・利用したい!AP8:BA8))","v":31.075000000000003},{"$f":"IF(COUNT(特に買いたい・利用したい!AQ8:BB8)<>12,\"\",AVERAGE(特に買いたい・利用したい!AQ8:BB8))","v":30.8},{"$f":"IF(COUNT(特に買いたい・利用したい!AR8:BC8)<>12,\"\",AVERAGE(特に買いたい・利用したい!AR8:BC8))","v":30.375},{"$f":"IF(COUNT(特に買いたい・利用したい!AS8:BD8)<>12,\"\",AVERAGE(特に買いたい・利用したい!AS8:BD8))","v":30.5},{"$f":"IF(COUNT(特に買いたい・利用したい!AT8:BE8)<>12,\"\",AVERAGE(特に買いたい・利用したい!AT8:BE8))","v":""},{"$f":"IF(COUNT(特に買いたい・利用したい!AU8:BF8)<>12,\"\",AVERAGE(特に買いたい・利用したい!AU8:BF8))","v":""},{"$f":"IF(COUNT(特に買いたい・利用したい!AV8:BG8)<>12,\"\",AVERAGE(特に買いたい・利用したい!AV8:BG8))","v":""},{"$f":"IF(COUNT(特に買いたい・利用したい!AW8:BH8)<>12,\"\",AVERAGE(特に買いたい・利用したい!AW8:BH8))","v":""},{"$f":"IF(COUNT(特に買いたい・利用したい!AX8:BI8)<>12,\"\",AVERAGE(特に買いたい・利用したい!AX8:BI8))","v":""},{"$f":"IF(COUNT(特に買いたい・利用したい!AY8:BJ8)<>12,\"\",AVERAGE(特に買いたい・利用したい!AY8:BJ8))","v":""},{"$f":"IF(COUNT(特に買いたい・利用したい!AZ8:BK8)<>12,\"\",AVERAGE(特に買いたい・利用したい!AZ8:BK8))","v":""},{"$f":"IF(COUNT(特に買いたい・利用したい!BA8:BL8)<>12,\"\",AVERAGE(特に買いたい・利用したい!BA8:BL8))","v":""},{"$f":"IF(COUNT(特に買いたい・利用したい!BB8:BM8)<>12,\"\",AVERAGE(特に買いたい・利用したい!BB8:BM8))","v":""},{"$f":"IF(COUNT(特に買いたい・利用したい!BC8:BN8)<>12,\"\",AVERAGE(特に買いたい・利用したい!BC8:BN8))","v":""},{"$f":"IF(COUNT(特に買いたい・利用したい!BD8:BO8)<>12,\"\",AVERAGE(特に買いたい・利用したい!BD8:BO8))","v":""},{"$f":"IF(COUNT(特に買いたい・利用したい!BE8:BP8)<>12,\"\",AVERAGE(特に買いたい・利用したい!BE8:BP8))","v":""},{"$f":"IF(COUNT(特に買いたい・利用したい!BF8:BQ8)<>12,\"\",AVERAGE(特に買いたい・利用したい!BF8:BQ8))","v":""},{"$f":"IF(COUNT(特に買いたい・利用したい!BG8:BR8)<>12,\"\",AVERAGE(特に買いたい・利用したい!BG8:BR8))","v":""},{"$f":"IF(COUNT(特に買いたい・利用したい!BH8:BS8)<>12,\"\",AVERAGE(特に買いたい・利用したい!BH8:BS8))","v":""},{"$f":"IF(COUNT(特に買いたい・利用したい!BI8:BT8)<>12,\"\",AVERAGE(特に買いたい・利用したい!BI8:BT8))","v":""},{"$f":"IF(COUNT(特に買いたい・利用したい!BJ8:BU8)<>12,\"\",AVERAGE(特に買いたい・利用したい!BJ8:BU8))","v":""},{"$f":"IF(COUNT(特に買いたい・利用したい!BK8:BV8)<>12,\"\",AVERAGE(特に買いたい・利用したい!BK8:BV8))","v":""},{"$f":"IF(COUNT(特に買いたい・利用したい!BL8:BW8)<>12,\"\",AVERAGE(特に買いたい・利用したい!BL8:BW8))","v":""},{"$f":"IF(COUNT(特に買いたい・利用したい!BM8:BX8)<>12,\"\",AVERAGE(特に買いたい・利用したい!BM8:BX8))","v":""},{"$f":"IF(COUNT(特に買いたい・利用したい!BN8:BY8)<>12,\"\",AVERAGE(特に買いたい・利用したい!BN8:BY8))","v":""},{"$f":"IF(COUNT(特に買いたい・利用したい!BO8:BZ8)<>12,\"\",AVERAGE(特に買いたい・利用したい!BO8:BZ8))","v":""},{"$f":"IF(COUNT(特に買いたい・利用したい!BP8:CA8)<>12,\"\",AVERAGE(特に買いたい・利用したい!BP8:CA8))","v":""},{"$f":"IF(COUNT(特に買いたい・利用したい!BQ8:CB8)<>12,\"\",AVERAGE(特に買いたい・利用したい!BQ8:CB8))","v":""},{"$f":"IF(COUNT(特に買いたい・利用したい!BR8:CC8)<>12,\"\",AVERAGE(特に買いたい・利用したい!BR8:CC8))","v":""},{"$f":"IF(COUNT(特に買いたい・利用したい!BS8:CD8)<>12,\"\",AVERAGE(特に買いたい・利用したい!BS8:CD8))","v":""},{"$f":"IF(COUNT(特に買いたい・利用したい!BT8:CE8)<>12,\"\",AVERAGE(特に買いたい・利用したい!BT8:CE8))","v":""},{"$f":"IF(COUNT(特に買いたい・利用したい!BU8:CF8)<>12,\"\",AVERAGE(特に買いたい・利用したい!BU8:CF8))","v":""},{"$f":"IF(COUNT(特に買いたい・利用したい!BV8:CG8)<>12,\"\",AVERAGE(特に買いたい・利用したい!BV8:CG8))","v":""},{"$f":"IF(COUNT(特に買いたい・利用したい!BW8:CH8)<>12,\"\",AVERAGE(特に買いたい・利用したい!BW8:CH8))","v":""},{"$f":"IF(COUNT(特に買いたい・利用したい!BX8:CI8)<>12,\"\",AVERAGE(特に買いたい・利用したい!BX8:CI8))","v":""},{"$f":"IF(COUNT(特に買いたい・利用したい!BY8:CJ8)<>12,\"\",AVERAGE(特に買いたい・利用したい!BY8:CJ8))","v":""},{"$f":"IF(COUNT(特に買いたい・利用したい!BZ8:CK8)<>12,\"\",AVERAGE(特に買いたい・利用したい!BZ8:CK8))","v":""},{"$f":"IF(COUNT(特に買いたい・利用したい!CA8:CL8)<>12,\"\",AVERAGE(特に買いたい・利用したい!CA8:CL8))","v":""},{"$f":"IF(COUNT(特に買いたい・利用したい!CB8:CM8)<>12,\"\",AVERAGE(特に買いたい・利用したい!CB8:CM8))","v":""},{"$f":"IF(COUNT(特に買いたい・利用したい!CC8:CN8)<>12,\"\",AVERAGE(特に買いたい・利用したい!CC8:CN8))","v":""},{"$f":"IF(COUNT(特に買いたい・利用したい!CD8:CO8)<>12,\"\",AVERAGE(特に買いたい・利用したい!CD8:CO8))","v":""},{"$f":"IF(COUNT(特に買いたい・利用したい!CE8:CP8)<>12,\"\",AVERAGE(特に買いたい・利用したい!CE8:CP8))","v":""},{"$f":"IF(COUNT(特に買いたい・利用したい!CF8:CQ8)<>12,\"\",AVERAGE(特に買いたい・利用したい!CF8:CQ8))","v":""},{"$f":"IF(COUNT(特に買いたい・利用したい!CG8:CR8)<>12,\"\",AVERAGE(特に買いたい・利用したい!CG8:CR8))","v":""},{"$f":"IF(COUNT(特に買いたい・利用したい!CH8:CS8)<>12,\"\",AVERAGE(特に買いたい・利用したい!CH8:CS8))","v":""},{"$f":"IF(COUNT(特に買いたい・利用したい!CI8:CT8)<>12,\"\",AVERAGE(特に買いたい・利用したい!CI8:CT8))","v":""},{"$f":"IF(COUNT(特に買いたい・利用したい!CJ8:CU8)<>12,\"\",AVERAGE(特に買いたい・利用したい!CJ8:CU8))","v":""},{"$f":"IF(COUNT(特に買いたい・利用したい!CK8:CV8)<>12,\"\",AVERAGE(特に買いたい・利用したい!CK8:CV8))","v":""},{"$f":"IF(COUNT(特に買いたい・利用したい!CL8:CW8)<>12,\"\",AVERAGE(特に買いたい・利用したい!CL8:CW8))","v":""},{"$f":"IF(COUNT(特に買いたい・利用したい!CM8:CX8)<>12,\"\",AVERAGE(特に買いたい・利用したい!CM8:CX8))","v":""},{"$f":"IF(COUNT(特に買いたい・利用したい!CN8:CY8)<>12,\"\",AVERAGE(特に買いたい・利用したい!CN8:CY8))","v":""},{"$f":"IF(COUNT(特に買いたい・利用したい!CO8:CZ8)<>12,\"\",AVERAGE(特に買いたい・利用したい!CO8:CZ8))","v":""},{"$f":"IF(COUNT(特に買いたい・利用したい!CP8:DA8)<>12,\"\",AVERAGE(特に買いたい・利用したい!CP8:DA8))","v":""},{"$f":"IF(COUNT(特に買いたい・利用したい!CQ8:DB8)<>12,\"\",AVERAGE(特に買いたい・利用したい!CQ8:DB8))","v":""},{"$f":"IF(COUNT(特に買いたい・利用したい!CR8:DC8)<>12,\"\",AVERAGE(特に買いたい・利用したい!CR8:DC8))","v":""},{"$f":"IF(COUNT(特に買いたい・利用したい!CS8:DD8)<>12,\"\",AVERAGE(特に買いたい・利用したい!CS8:DD8))","v":""},{"$f":"IF(COUNT(特に買いたい・利用したい!CT8:DE8)<>12,\"\",AVERAGE(特に買いたい・利用したい!CT8:DE8))","v":""},{"$f":"IF(COUNT(特に買いたい・利用したい!CU8:DF8)<>12,\"\",AVERAGE(特に買いたい・利用したい!CU8:DF8))","v":""},{"$f":"IF(COUNT(特に買いたい・利用したい!CV8:DG8)<>12,\"\",AVERAGE(特に買いたい・利用したい!CV8:DG8))","v":""}]
[null,"年代別","20代",null,null,null,null,null,null,null,null,null,null,null,null,null,null,null,{"$f":"IF(COUNT(特に買いたい・利用したい!H9:S9)<>12,\"\",AVERAGE(特に買いたい・利用したい!H9:S9))","v":44.766666666666659},{"$f":"IF(COUNT(特に買いたい・利用したい!I9:T9)<>12,\"\",AVERAGE(特に買いたい・利用したい!I9:T9))","v":44.508333333333333},{"$f":"IF(COUNT(特に買いたい・利用したい!J9:U9)<>12,\"\",AVERAGE(特に買いたい・利用したい!J9:U9))","v":43.933333333333337},{"$f":"IF(COUNT(特に買いたい・利用したい!K9:V9)<>12,\"\",AVERAGE(特に買いたい・利用したい!K9:V9))","v":42.441666666666663},{"$f":"IF(COUNT(特に買いたい・利用したい!L9:W9)<>12,\"\",AVERAGE(特に買いたい・利用したい!L9:W9))","v":42.333333333333329},{"$f":"IF(COUNT(特に買いたい・利用したい!M9:X9)<>12,\"\",AVERAGE(特に買いたい・利用したい!M9:X9))","v":41.658333333333331},{"$f":"IF(COUNT(特に買いたい・利用したい!N9:Y9)<>12,\"\",AVERAGE(特に買いたい・利用したい!N9:Y9))","v":41.416666666666664},{"$f":"IF(COUNT(特に買いたい・利用したい!O9:Z9)<>12,\"\",AVERAGE(特に買いたい・利用したい!O9:Z9))","v":40.674999999999997},{"$f":"IF(COUNT(特に買いたい・利用したい!P9:AA9)<>12,\"\",AVERAGE(特に買いたい・利用したい!P9:AA9))","v":40.299999999999997},{"$f":"IF(COUNT(特に買いたい・利用したい!Q9:AB9)<>12,\"\",AVERAGE(特に買いたい・利用したい!Q9:AB9))","v":39.65},{"$f":"IF(COUNT(特に買いたい・利用したい!R9:AC9)<>12,\"\",AVERAGE(特に買いたい・利用したい!R9:AC9))","v":39.300000000000004},{"$f":"IF(COUNT(特に買いたい・利用したい!S9:AD9)<>12,\"\",AVERAGE(特に買いたい・利用したい!S9:AD9))","v":39.166666666666664},{"$f":"IF(COUNT(特に買いたい・利用したい!T9:AE9)<>12,\"\",AVERAGE(特に買いたい・利用したい!T9:AE9))","v":37.675000000000004},{"$f":"IF(COUNT(特に買いたい・利用したい!U9:AF9)<>12,\"\",AVERAGE(特に買いたい・利用したい!U9:AF9))","v":36.858333333333334},{"$f":"IF(COUNT(特に買いたい・利用したい!V9:AG9)<>12,\"\",AVERAGE(特に買いたい・利用したい!V9:AG9))","v":36.550000000000004},{"$f":"IF(COUNT(特に買いたい・利用したい!W9:AH9)<>12,\"\",AVERAGE(特に買いたい・利用したい!W9:AH9))","v":36.658333333333331},{"$f":"IF(COUNT(特に買いたい・利用したい!X9:AI9)<>12,\"\",AVERAGE(特に買いたい・利用したい!X9:AI9))","v":36.4},{"$f":"IF(COUNT(特に買いたい・利用したい!Y9:AJ9)<>12,\"\",AVERAGE(特に買いたい・利用したい!Y9:AJ9))","v":37.024999999999999},{"$f":"IF(COUNT(特に買いたい・利用したい!Z9:AK9)<>12,\"\",AVERAGE(特に買いたい・利用したい!Z9:AK9))","v":36.625000000000007},{"$f":"IF(COUNT(特に買いたい・利用したい!AA9:AL9)<>12,\"\",AVERAGE(特に買いたい・利用したい!AA9:AL9))","v":36.31666666666667},{"$f":"IF(COUNT(特に買いたい・利用したい!AB9:AM9)<>12,\"\",AVERAGE(特に買いたい・利用したい!AB9:AM9))","v":36.416666666666671},{"$f":"IF(COUNT(特に買いたい・利用したい!AC9:AN9)<>12,\"\",AVERAGE(特に買いたい・利用したい!AC9:AN9))","v":36.18333333333333},{"$f":"IF(COUNT(特に買いたい・利用したい!AD9:AO9)<>12,\"\",AVERAGE(特に買いたい・利用したい!AD9:AO9))","v":36.791666666666664},{"$f":"IF(COUNT(特に買いたい・利用したい!AE9:AP9)<>12,\"\",AVERAGE(特に買いたい・利用したい!AE9:AP9))","v":36.324999999999996},{"$f":"IF(COUNT(特に買いたい・利用したい!AF9:AQ9)<>12,\"\",AVERAGE(特に買いたい・利用したい!AF9:AQ9))","v":37.791666666666664},{"$f":"IF(COUNT(特に買いたい・利用したい!AG9:AR9)<>12,\"\",AVERAGE(特に買いたい・利用したい!AG9:AR9))","v":37.80833333333333},{"$f":"IF(COUNT(特に買いたい・利用したい!AH9:AS9)<>12,\"\",AVERAGE(特に買いたい・利用したい!AH9:AS9))","v":37.80833333333333},{"$f":"IF(COUNT(特に買いたい・利用したい!AI9:AT9)<>12,\"\",AVERAGE(特に買いたい・利用したい!AI9:AT9))","v":37.616666666666667},{"$f":"IF(COUNT(特に買いたい・利用したい!AJ9:AU9)<>12,\"\",AVERAGE(特に買いたい・利用したい!AJ9:AU9))","v":37.699999999999996},{"$f":"IF(COUNT(特に買いたい・利用したい!AK9:AV9)<>12,\"\",AVERAGE(特に買いたい・利用したい!AK9:AV9))","v":37.141666666666666},{"$f":"IF(COUNT(特に買いたい・利用したい!AL9:AW9)<>12,\"\",AVERAGE(特に買いたい・利用したい!AL9:AW9))","v":36.941666666666663},{"$f":"IF(COUNT(特に買いたい・利用したい!AM9:AX9)<>12,\"\",AVERAGE(特に買いたい・利用したい!AM9:AX9))","v":37.43333333333333},{"$f":"IF(COUNT(特に買いたい・利用したい!AN9:AY9)<>12,\"\",AVERAGE(特に買いたい・利用したい!AN9:AY9))","v":37.15},{"$f":"IF(COUNT(特に買いたい・利用したい!AO9:AZ9)<>12,\"\",AVERAGE(特に買いたい・利用したい!AO9:AZ9))","v":37.816666666666663},{"$f":"IF(COUNT(特に買いたい・利用したい!AP9:BA9)<>12,\"\",AVERAGE(特に買いたい・利用したい!AP9:BA9))","v":37.758333333333333},{"$f":"IF(COUNT(特に買いたい・利用したい!AQ9:BB9)<>12,\"\",AVERAGE(特に買いたい・利用したい!AQ9:BB9))","v":38.074999999999996},{"$f":"IF(COUNT(特に買いたい・利用したい!AR9:BC9)<>12,\"\",AVERAGE(特に買いたい・利用したい!AR9:BC9))","v":37.074999999999996},{"$f":"IF(COUNT(特に買いたい・利用したい!AS9:BD9)<>12,\"\",AVERAGE(特に買いたい・利用したい!AS9:BD9))","v":37.949999999999996},{"$f":"IF(COUNT(特に買いたい・利用したい!AT9:BE9)<>12,\"\",AVERAGE(特に買いたい・利用したい!AT9:BE9))","v":""},{"$f":"IF(COUNT(特に買いたい・利用したい!AU9:BF9)<>12,\"\",AVERAGE(特に買いたい・利用したい!AU9:BF9))","v":""},{"$f":"IF(COUNT(特に買いたい・利用したい!AV9:BG9)<>12,\"\",AVERAGE(特に買いたい・利用したい!AV9:BG9))","v":""},{"$f":"IF(COUNT(特に買いたい・利用したい!AW9:BH9)<>12,\"\",AVERAGE(特に買いたい・利用したい!AW9:BH9))","v":""},{"$f":"IF(COUNT(特に買いたい・利用したい!AX9:BI9)<>12,\"\",AVERAGE(特に買いたい・利用したい!AX9:BI9))","v":""},{"$f":"IF(COUNT(特に買いたい・利用したい!AY9:BJ9)<>12,\"\",AVERAGE(特に買いたい・利用したい!AY9:BJ9))","v":""},{"$f":"IF(COUNT(特に買いたい・利用したい!AZ9:BK9)<>12,\"\",AVERAGE(特に買いたい・利用したい!AZ9:BK9))","v":""},{"$f":"IF(COUNT(特に買いたい・利用したい!BA9:BL9)<>12,\"\",AVERAGE(特に買いたい・利用したい!BA9:BL9))","v":""},{"$f":"IF(COUNT(特に買いたい・利用したい!BB9:BM9)<>12,\"\",AVERAGE(特に買いたい・利用したい!BB9:BM9))","v":""},{"$f":"IF(COUNT(特に買いたい・利用したい!BC9:BN9)<>12,\"\",AVERAGE(特に買いたい・利用したい!BC9:BN9))","v":""},{"$f":"IF(COUNT(特に買いたい・利用したい!BD9:BO9)<>12,\"\",AVERAGE(特に買いたい・利用したい!BD9:BO9))","v":""},{"$f":"IF(COUNT(特に買いたい・利用したい!BE9:BP9)<>12,\"\",AVERAGE(特に買いたい・利用したい!BE9:BP9))","v":""},{"$f":"IF(COUNT(特に買いたい・利用したい!BF9:BQ9)<>12,\"\",AVERAGE(特に買いたい・利用したい!BF9:BQ9))","v":""},{"$f":"IF(COUNT(特に買いたい・利用したい!BG9:BR9)<>12,\"\",AVERAGE(特に買いたい・利用したい!BG9:BR9))","v":""},{"$f":"IF(COUNT(特に買いたい・利用したい!BH9:BS9)<>12,\"\",AVERAGE(特に買いたい・利用したい!BH9:BS9))","v":""},{"$f":"IF(COUNT(特に買いたい・利用したい!BI9:BT9)<>12,\"\",AVERAGE(特に買いたい・利用したい!BI9:BT9))","v":""},{"$f":"IF(COUNT(特に買いたい・利用したい!BJ9:BU9)<>12,\"\",AVERAGE(特に買いたい・利用したい!BJ9:BU9))","v":""},{"$f":"IF(COUNT(特に買いたい・利用したい!BK9:BV9)<>12,\"\",AVERAGE(特に買いたい・利用したい!BK9:BV9))","v":""},{"$f":"IF(COUNT(特に買いたい・利用したい!BL9:BW9)<>12,\"\",AVERAGE(特に買いたい・利用したい!BL9:BW9))","v":""},{"$f":"IF(COUNT(特に買いたい・利用したい!BM9:BX9)<>12,\"\",AVERAGE(特に買いたい・利用したい!BM9:BX9))","v":""},{"$f":"IF(COUNT(特に買いたい・利用したい!BN9:BY9)<>12,\"\",AVERAGE(特に買いたい・利用したい!BN9:BY9))","v":""},{"$f":"IF(COUNT(特に買いたい・利用したい!BO9:BZ9)<>12,\"\",AVERAGE(特に買いたい・利用したい!BO9:BZ9))","v":""},{"$f":"IF(COUNT(特に買いたい・利用したい!BP9:CA9)<>12,\"\",AVERAGE(特に買いたい・利用したい!BP9:CA9))","v":""},{"$f":"IF(COUNT(特に買いたい・利用したい!BQ9:CB9)<>12,\"\",AVERAGE(特に買いたい・利用したい!BQ9:CB9))","v":""},{"$f":"IF(COUNT(特に買いたい・利用したい!BR9:CC9)<>12,\"\",AVERAGE(特に買いたい・利用したい!BR9:CC9))","v":""},{"$f":"IF(COUNT(特に買いたい・利用したい!BS9:CD9)<>12,\"\",AVERAGE(特に買いたい・利用したい!BS9:CD9))","v":""},{"$f":"IF(COUNT(特に買いたい・利用したい!BT9:CE9)<>12,\"\",AVERAGE(特に買いたい・利用したい!BT9:CE9))","v":""},{"$f":"IF(COUNT(特に買いたい・利用したい!BU9:CF9)<>12,\"\",AVERAGE(特に買いたい・利用したい!BU9:CF9))","v":""},{"$f":"IF(COUNT(特に買いたい・利用したい!BV9:CG9)<>12,\"\",AVERAGE(特に買いたい・利用したい!BV9:CG9))","v":""},{"$f":"IF(COUNT(特に買いたい・利用したい!BW9:CH9)<>12,\"\",AVERAGE(特に買いたい・利用したい!BW9:CH9))","v":""},{"$f":"IF(COUNT(特に買いたい・利用したい!BX9:CI9)<>12,\"\",AVERAGE(特に買いたい・利用したい!BX9:CI9))","v":""},{"$f":"IF(COUNT(特に買いたい・利用したい!BY9:CJ9)<>12,\"\",AVERAGE(特に買いたい・利用したい!BY9:CJ9))","v":""},{"$f":"IF(COUNT(特に買いたい・利用したい!BZ9:CK9)<>12,\"\",AVERAGE(特に買いたい・利用したい!BZ9:CK9))","v":""},{"$f":"IF(COUNT(特に買いたい・利用したい!CA9:CL9)<>12,\"\",AVERAGE(特に買いたい・利用したい!CA9:CL9))","v":""},{"$f":"IF(COUNT(特に買いたい・利用したい!CB9:CM9)<>12,\"\",AVERAGE(特に買いたい・利用したい!CB9:CM9))","v":""},{"$f":"IF(COUNT(特に買いたい・利用したい!CC9:CN9)<>12,\"\",AVERAGE(特に買いたい・利用したい!CC9:CN9))","v":""},{"$f":"IF(COUNT(特に買いたい・利用したい!CD9:CO9)<>12,\"\",AVERAGE(特に買いたい・利用したい!CD9:CO9))","v":""},{"$f":"IF(COUNT(特に買いたい・利用したい!CE9:CP9)<>12,\"\",AVERAGE(特に買いたい・利用したい!CE9:CP9))","v":""},{"$f":"IF(COUNT(特に買いたい・利用したい!CF9:CQ9)<>12,\"\",AVERAGE(特に買いたい・利用したい!CF9:CQ9))","v":""},{"$f":"IF(COUNT(特に買いたい・利用したい!CG9:CR9)<>12,\"\",AVERAGE(特に買いたい・利用したい!CG9:CR9))","v":""},{"$f":"IF(COUNT(特に買いたい・利用したい!CH9:CS9)<>12,\"\",AVERAGE(特に買いたい・利用したい!CH9:CS9))","v":""},{"$f":"IF(COUNT(特に買いたい・利用したい!CI9:CT9)<>12,\"\",AVERAGE(特に買いたい・利用したい!CI9:CT9))","v":""},{"$f":"IF(COUNT(特に買いたい・利用したい!CJ9:CU9)<>12,\"\",AVERAGE(特に買いたい・利用したい!CJ9:CU9))","v":""},{"$f":"IF(COUNT(特に買いたい・利用したい!CK9:CV9)<>12,\"\",AVERAGE(特に買いたい・利用したい!CK9:CV9))","v":""},{"$f":"IF(COUNT(特に買いたい・利用したい!CL9:CW9)<>12,\"\",AVERAGE(特に買いたい・利用したい!CL9:CW9))","v":""},{"$f":"IF(COUNT(特に買いたい・利用したい!CM9:CX9)<>12,\"\",AVERAGE(特に買いたい・利用したい!CM9:CX9))","v":""},{"$f":"IF(COUNT(特に買いたい・利用したい!CN9:CY9)<>12,\"\",AVERAGE(特に買いたい・利用したい!CN9:CY9))","v":""},{"$f":"IF(COUNT(特に買いたい・利用したい!CO9:CZ9)<>12,\"\",AVERAGE(特に買いたい・利用したい!CO9:CZ9))","v":""},{"$f":"IF(COUNT(特に買いたい・利用したい!CP9:DA9)<>12,\"\",AVERAGE(特に買いたい・利用したい!CP9:DA9))","v":""},{"$f":"IF(COUNT(特に買いたい・利用したい!CQ9:DB9)<>12,\"\",AVERAGE(特に買いたい・利用したい!CQ9:DB9))","v":""},{"$f":"IF(COUNT(特に買いたい・利用したい!CR9:DC9)<>12,\"\",AVERAGE(特に買いたい・利用したい!CR9:DC9))","v":""},{"$f":"IF(COUNT(特に買いたい・利用したい!CS9:DD9)<>12,\"\",AVERAGE(特に買いたい・利用したい!CS9:DD9))","v":""},{"$f":"IF(COUNT(特に買いたい・利用したい!CT9:DE9)<>12,\"\",AVERAGE(特に買いたい・利用したい!CT9:DE9))","v":""},{"$f":"IF(COUNT(特に買いたい・利用したい!CU9:DF9)<>12,\"\",AVERAGE(特に買いたい・利用したい!CU9:DF9))","v":""},{"$f":"IF(COUNT(特に買いたい・利用したい!CV9:DG9)<>12,\"\",AVERAGE(特に買いたい・利用したい!CV9:DG9))","v":""}]
[null,null,"30代",null,null,null,null,null,null,null,null,null,null,null,null,null,null,null,{"$f":"IF(COUNT(特に買いたい・利用したい!H10:S10)<>12,\"\",AVERAGE(特に買いたい・利用したい!H10:S10))","v":35.016666666666666},{"$f":"IF(COUNT(特に買いたい・利用したい!I10:T10)<>12,\"\",AVERAGE(特に買いたい・利用したい!I10:T10))","v":33.966666666666669},{"$f":"IF(COUNT(特に買いたい・利用したい!J10:U10)<>12,\"\",AVERAGE(特に買いたい・利用したい!J10:U10))","v":33.466666666666661},{"$f":"IF(COUNT(特に買いたい・利用したい!K10:V10)<>12,\"\",AVERAGE(特に買いたい・利用したい!K10:V10))","v":32.4},{"$f":"IF(COUNT(特に買いたい・利用したい!L10:W10)<>12,\"\",AVERAGE(特に買いたい・利用したい!L10:W10))","v":32.199999999999996},{"$f":"IF(COUNT(特に買いたい・利用したい!M10:X10)<>12,\"\",AVERAGE(特に買いたい・利用したい!M10:X10))","v":31.891666666666666},{"$f":"IF(COUNT(特に買いたい・利用したい!N10:Y10)<>12,\"\",AVERAGE(特に買いたい・利用したい!N10:Y10))","v":31.983333333333331},{"$f":"IF(COUNT(特に買いたい・利用したい!O10:Z10)<>12,\"\",AVERAGE(特に買いたい・利用したい!O10:Z10))","v":32.033333333333331},{"$f":"IF(COUNT(特に買いたい・利用したい!P10:AA10)<>12,\"\",AVERAGE(特に買いたい・利用したい!P10:AA10))","v":32.074999999999996},{"$f":"IF(COUNT(特に買いたい・利用したい!Q10:AB10)<>12,\"\",AVERAGE(特に買いたい・利用したい!Q10:AB10))","v":31.7},{"$f":"IF(COUNT(特に買いたい・利用したい!R10:AC10)<>12,\"\",AVERAGE(特に買いたい・利用したい!R10:AC10))","v":32.291666666666671},{"$f":"IF(COUNT(特に買いたい・利用したい!S10:AD10)<>12,\"\",AVERAGE(特に買いたい・利用したい!S10:AD10))","v":32.75},{"$f":"IF(COUNT(特に買いたい・利用したい!T10:AE10)<>12,\"\",AVERAGE(特に買いたい・利用したい!T10:AE10))","v":31.533333333333335},{"$f":"IF(COUNT(特に買いたい・利用したい!U10:AF10)<>12,\"\",AVERAGE(特に買いたい・利用したい!U10:AF10))","v":31.125},{"$f":"IF(COUNT(特に買いたい・利用したい!V10:AG10)<>12,\"\",AVERAGE(特に買いたい・利用したい!V10:AG10))","v":30.525000000000002},{"$f":"IF(COUNT(特に買いたい・利用したい!W10:AH10)<>12,\"\",AVERAGE(特に買いたい・利用したい!W10:AH10))","v":30.599999999999998},{"$f":"IF(COUNT(特に買いたい・利用したい!X10:AI10)<>12,\"\",AVERAGE(特に買いたい・利用したい!X10:AI10))","v":30.191666666666663},{"$f":"IF(COUNT(特に買いたい・利用したい!Y10:AJ10)<>12,\"\",AVERAGE(特に買いたい・利用したい!Y10:AJ10))","v":30.041666666666661},{"$f":"IF(COUNT(特に買いたい・利用したい!Z10:AK10)<>12,\"\",AVERAGE(特に買いたい・利用したい!Z10:AK10))","v":29.858333333333331},{"$f":"IF(COUNT(特に買いたい・利用したい!AA10:AL10)<>12,\"\",AVERAGE(特に買いたい・利用したい!AA10:AL10))","v":29.916666666666661},{"$f":"IF(COUNT(特に買いたい・利用したい!AB10:AM10)<>12,\"\",AVERAGE(特に買いたい・利用したい!AB10:AM10))","v":29.95},{"$f":"IF(COUNT(特に買いたい・利用したい!AC10:AN10)<>12,\"\",AVERAGE(特に買いたい・利用したい!AC10:AN10))","v":29.899999999999995},{"$f":"IF(COUNT(特に買いたい・利用したい!AD10:AO10)<>12,\"\",AVERAGE(特に買いたい・利用したい!AD10:AO10))","v":29.124999999999996},{"$f":"IF(COUNT(特に買いたい・利用したい!AE10:AP10)<>12,\"\",AVERAGE(特に買いたい・利用したい!AE10:AP10))","v":28.083333333333329},{"$f":"IF(COUNT(特に買いたい・利用したい!AF10:AQ10)<>12,\"\",AVERAGE(特に買いたい・利用したい!AF10:AQ10))","v":29.308333333333334},{"$f":"IF(COUNT(特に買いたい・利用したい!AG10:AR10)<>12,\"\",AVERAGE(特に買いたい・利用したい!AG10:AR10))","v":29.766666666666669},{"$f":"IF(COUNT(特に買いたい・利用したい!AH10:AS10)<>12,\"\",AVERAGE(特に買いたい・利用したい!AH10:AS10))","v":30.783333333333331},{"$f":"IF(COUNT(特に買いたい・利用したい!AI10:AT10)<>12,\"\",AVERAGE(特に買いたい・利用したい!AI10:AT10))","v":31.374999999999996},{"$f":"IF(COUNT(特に買いたい・利用したい!AJ10:AU10)<>12,\"\",AVERAGE(特に買いたい・利用したい!AJ10:AU10))","v":31.8},{"$f":"IF(COUNT(特に買いたい・利用したい!AK10:AV10)<>12,\"\",AVERAGE(特に買いたい・利用したい!AK10:AV10))","v":32.074999999999996},{"$f":"IF(COUNT(特に買いたい・利用したい!AL10:AW10)<>12,\"\",AVERAGE(特に買いたい・利用したい!AL10:AW10))","v":32.366666666666667},{"$f":"IF(COUNT(特に買いたい・利用したい!AM10:AX10)<>12,\"\",AVERAGE(特に買いたい・利用したい!AM10:AX10))","v":32.216666666666661},{"$f":"IF(COUNT(特に買いたい・利用したい!AN10:AY10)<>12,\"\",AVERAGE(特に買いたい・利用したい!AN10:AY10))","v":32.658333333333324},{"$f":"IF(COUNT(特に買いたい・利用したい!AO10:AZ10)<>12,\"\",AVERAGE(特に買いたい・利用したい!AO10:AZ10))","v":33.358333333333334},{"$f":"IF(COUNT(特に買いたい・利用したい!AP10:BA10)<>12,\"\",AVERAGE(特に買いたい・利用したい!AP10:BA10))","v":33.291666666666664},{"$f":"IF(COUNT(特に買いたい・利用したい!AQ10:BB10)<>12,\"\",AVERAGE(特に買いたい・利用したい!AQ10:BB10))","v":33.375},{"$f":"IF(COUNT(特に買いたい・利用したい!AR10:BC10)<>12,\"\",AVERAGE(特に買いたい・利用したい!AR10:BC10))","v":33.150000000000006},{"$f":"IF(COUNT(特に買いたい・利用したい!AS10:BD10)<>12,\"\",AVERAGE(特に買いたい・利用したい!AS10:BD10))","v":33.325000000000003},{"$f":"IF(COUNT(特に買いたい・利用したい!AT10:BE10)<>12,\"\",AVERAGE(特に買いたい・利用したい!AT10:BE10))","v":""},{"$f":"IF(COUNT(特に買いたい・利用したい!AU10:BF10)<>12,\"\",AVERAGE(特に買いたい・利用したい!AU10:BF10))","v":""},{"$f":"IF(COUNT(特に買いたい・利用したい!AV10:BG10)<>12,\"\",AVERAGE(特に買いたい・利用したい!AV10:BG10))","v":""},{"$f":"IF(COUNT(特に買いたい・利用したい!AW10:BH10)<>12,\"\",AVERAGE(特に買いたい・利用したい!AW10:BH10))","v":""},{"$f":"IF(COUNT(特に買いたい・利用したい!AX10:BI10)<>12,\"\",AVERAGE(特に買いたい・利用したい!AX10:BI10))","v":""},{"$f":"IF(COUNT(特に買いたい・利用したい!AY10:BJ10)<>12,\"\",AVERAGE(特に買いたい・利用したい!AY10:BJ10))","v":""},{"$f":"IF(COUNT(特に買いたい・利用したい!AZ10:BK10)<>12,\"\",AVERAGE(特に買いたい・利用したい!AZ10:BK10))","v":""},{"$f":"IF(COUNT(特に買いたい・利用したい!BA10:BL10)<>12,\"\",AVERAGE(特に買いたい・利用したい!BA10:BL10))","v":""},{"$f":"IF(COUNT(特に買いたい・利用したい!BB10:BM10)<>12,\"\",AVERAGE(特に買いたい・利用したい!BB10:BM10))","v":""},{"$f":"IF(COUNT(特に買いたい・利用したい!BC10:BN10)<>12,\"\",AVERAGE(特に買いたい・利用したい!BC10:BN10))","v":""},{"$f":"IF(COUNT(特に買いたい・利用したい!BD10:BO10)<>12,\"\",AVERAGE(特に買いたい・利用したい!BD10:BO10))","v":""},{"$f":"IF(COUNT(特に買いたい・利用したい!BE10:BP10)<>12,\"\",AVERAGE(特に買いたい・利用したい!BE10:BP10))","v":""},{"$f":"IF(COUNT(特に買いたい・利用したい!BF10:BQ10)<>12,\"\",AVERAGE(特に買いたい・利用したい!BF10:BQ10))","v":""},{"$f":"IF(COUNT(特に買いたい・利用したい!BG10:BR10)<>12,\"\",AVERAGE(特に買いたい・利用したい!BG10:BR10))","v":""},{"$f":"IF(COUNT(特に買いたい・利用したい!BH10:BS10)<>12,\"\",AVERAGE(特に買いたい・利用したい!BH10:BS10))","v":""},{"$f":"IF(COUNT(特に買いたい・利用したい!BI10:BT10)<>12,\"\",AVERAGE(特に買いたい・利用したい!BI10:BT10))","v":""},{"$f":"IF(COUNT(特に買いたい・利用したい!BJ10:BU10)<>12,\"\",AVERAGE(特に買いたい・利用したい!BJ10:BU10))","v":""},{"$f":"IF(COUNT(特に買いたい・利用したい!BK10:BV10)<>12,\"\",AVERAGE(特に買いたい・利用したい!BK10:BV10))","v":""},{"$f":"IF(COUNT(特に買いたい・利用したい!BL10:BW10)<>12,\"\",AVERAGE(特に買いたい・利用したい!BL10:BW10))","v":""},{"$f":"IF(COUNT(特に買いたい・利用したい!BM10:BX10)<>12,\"\",AVERAGE(特に買いたい・利用したい!BM10:BX10))","v":""},{"$f":"IF(COUNT(特に買いたい・利用したい!BN10:BY10)<>12,\"\",AVERAGE(特に買いたい・利用したい!BN10:BY10))","v":""},{"$f":"IF(COUNT(特に買いたい・利用したい!BO10:BZ10)<>12,\"\",AVERAGE(特に買いたい・利用したい!BO10:BZ10))","v":""},{"$f":"IF(COUNT(特に買いたい・利用したい!BP10:CA10)<>12,\"\",AVERAGE(特に買いたい・利用したい!BP10:CA10))","v":""},{"$f":"IF(COUNT(特に買いたい・利用したい!BQ10:CB10)<>12,\"\",AVERAGE(特に買いたい・利用したい!BQ10:CB10))","v":""},{"$f":"IF(COUNT(特に買いたい・利用したい!BR10:CC10)<>12,\"\",AVERAGE(特に買いたい・利用したい!BR10:CC10))","v":""},{"$f":"IF(COUNT(特に買いたい・利用したい!BS10:CD10)<>12,\"\",AVERAGE(特に買いたい・利用したい!BS10:CD10))","v":""},{"$f":"IF(COUNT(特に買いたい・利用したい!BT10:CE10)<>12,\"\",AVERAGE(特に買いたい・利用したい!BT10:CE10))","v":""},{"$f":"IF(COUNT(特に買いたい・利用したい!BU10:CF10)<>12,\"\",AVERAGE(特に買いたい・利用したい!BU10:CF10))","v":""},{"$f":"IF(COUNT(特に買いたい・利用したい!BV10:CG10)<>12,\"\",AVERAGE(特に買いたい・利用したい!BV10:CG10))","v":""},{"$f":"IF(COUNT(特に買いたい・利用したい!BW10:CH10)<>12,\"\",AVERAGE(特に買いたい・利用したい!BW10:CH10))","v":""},{"$f":"IF(COUNT(特に買いたい・利用したい!BX10:CI10)<>12,\"\",AVERAGE(特に買いたい・利用したい!BX10:CI10))","v":""},{"$f":"IF(COUNT(特に買いたい・利用したい!BY10:CJ10)<>12,\"\",AVERAGE(特に買いたい・利用したい!BY10:CJ10))","v":""},{"$f":"IF(COUNT(特に買いたい・利用したい!BZ10:CK10)<>12,\"\",AVERAGE(特に買いたい・利用したい!BZ10:CK10))","v":""},{"$f":"IF(COUNT(特に買いたい・利用したい!CA10:CL10)<>12,\"\",AVERAGE(特に買いたい・利用したい!CA10:CL10))","v":""},{"$f":"IF(COUNT(特に買いたい・利用したい!CB10:CM10)<>12,\"\",AVERAGE(特に買いたい・利用したい!CB10:CM10))","v":""},{"$f":"IF(COUNT(特に買いたい・利用したい!CC10:CN10)<>12,\"\",AVERAGE(特に買いたい・利用したい!CC10:CN10))","v":""},{"$f":"IF(COUNT(特に買いたい・利用したい!CD10:CO10)<>12,\"\",AVERAGE(特に買いたい・利用したい!CD10:CO10))","v":""},{"$f":"IF(COUNT(特に買いたい・利用したい!CE10:CP10)<>12,\"\",AVERAGE(特に買いたい・利用したい!CE10:CP10))","v":""},{"$f":"IF(COUNT(特に買いたい・利用したい!CF10:CQ10)<>12,\"\",AVERAGE(特に買いたい・利用したい!CF10:CQ10))","v":""},{"$f":"IF(COUNT(特に買いたい・利用したい!CG10:CR10)<>12,\"\",AVERAGE(特に買いたい・利用したい!CG10:CR10))","v":""},{"$f":"IF(COUNT(特に買いたい・利用したい!CH10:CS10)<>12,\"\",AVERAGE(特に買いたい・利用したい!CH10:CS10))","v":""},{"$f":"IF(COUNT(特に買いたい・利用したい!CI10:CT10)<>12,\"\",AVERAGE(特に買いたい・利用したい!CI10:CT10))","v":""},{"$f":"IF(COUNT(特に買いたい・利用したい!CJ10:CU10)<>12,\"\",AVERAGE(特に買いたい・利用したい!CJ10:CU10))","v":""},{"$f":"IF(COUNT(特に買いたい・利用したい!CK10:CV10)<>12,\"\",AVERAGE(特に買いたい・利用したい!CK10:CV10))","v":""},{"$f":"IF(COUNT(特に買いたい・利用したい!CL10:CW10)<>12,\"\",AVERAGE(特に買いたい・利用したい!CL10:CW10))","v":""},{"$f":"IF(COUNT(特に買いたい・利用したい!CM10:CX10)<>12,\"\",AVERAGE(特に買いたい・利用したい!CM10:CX10))","v":""},{"$f":"IF(COUNT(特に買いたい・利用したい!CN10:CY10)<>12,\"\",AVERAGE(特に買いたい・利用したい!CN10:CY10))","v":""},{"$f":"IF(COUNT(特に買いたい・利用したい!CO10:CZ10)<>12,\"\",AVERAGE(特に買いたい・利用したい!CO10:CZ10))","v":""},{"$f":"IF(COUNT(特に買いたい・利用したい!CP10:DA10)<>12,\"\",AVERAGE(特に買いたい・利用したい!CP10:DA10))","v":""},{"$f":"IF(COUNT(特に買いたい・利用したい!CQ10:DB10)<>12,\"\",AVERAGE(特に買いたい・利用したい!CQ10:DB10))","v":""},{"$f":"IF(COUNT(特に買いたい・利用したい!CR10:DC10)<>12,\"\",AVERAGE(特に買いたい・利用したい!CR10:DC10))","v":""},{"$f":"IF(COUNT(特に買いたい・利用したい!CS10:DD10)<>12,\"\",AVERAGE(特に買いたい・利用したい!CS10:DD10))","v":""},{"$f":"IF(COUNT(特に買いたい・利用したい!CT10:DE10)<>12,\"\",AVERAGE(特に買いたい・利用したい!CT10:DE10))","v":""},{"$f":"IF(COUNT(特に買いたい・利用したい!CU10:DF10)<>12,\"\",AVERAGE(特に買いたい・利用したい!CU10:DF10))","v":""},{"$f":"IF(COUNT(特に買いたい・利用したい!CV10:DG10)<>12,\"\",AVERAGE(特に買いたい・利用したい!CV10:DG10))","v":""}]
[null,null,"40代",null,null,null,null,null,null,null,null,null,null,null,null,null,null,null,{"$f":"IF(COUNT(特に買いたい・利用したい!H11:S11)<>12,\"\",AVERAGE(特に買いたい・利用したい!H11:S11))","v":30.358333333333338},{"$f":"IF(COUNT(特に買いたい・利用したい!I11:T11)<>12,\"\",AVERAGE(特に買いたい・利用したい!I11:T11))","v":29.925000000000008},{"$f":"IF(COUNT(特に買いたい・利用したい!J11:U11)<>12,\"\",AVERAGE(特に買いたい・利用したい!J11:U11))","v":30.00833333333334},{"$f":"IF(COUNT(特に買いたい・利用したい!K11:V11)<>12,\"\",AVERAGE(特に買いたい・利用したい!K11:V11))","v":29.325000000000003},{"$f":"IF(COUNT(特に買いたい・利用したい!L11:W11)<>12,\"\",AVERAGE(特に買いたい・利用したい!L11:W11))","v":28.933333333333337},{"$f":"IF(COUNT(特に買いたい・利用したい!M11:X11)<>12,\"\",AVERAGE(特に買いたい・利用したい!M11:X11))","v":28.166666666666671},{"$f":"IF(COUNT(特に買いたい・利用したい!N11:Y11)<>12,\"\",AVERAGE(特に買いたい・利用したい!N11:Y11))","v":28.341666666666665},{"$f":"IF(COUNT(特に買いたい・利用したい!O11:Z11)<>12,\"\",AVERAGE(特に買いたい・利用したい!O11:Z11))","v":28.24166666666666},{"$f":"IF(COUNT(特に買いたい・利用したい!P11:AA11)<>12,\"\",AVERAGE(特に買いたい・利用したい!P11:AA11))","v":27.749999999999996},{"$f":"IF(COUNT(特に買いたい・利用したい!Q11:AB11)<>12,\"\",AVERAGE(特に買いたい・利用したい!Q11:AB11))","v":26.750000000000004},{"$f":"IF(COUNT(特に買いたい・利用したい!R11:AC11)<>12,\"\",AVERAGE(特に買いたい・利用したい!R11:AC11))","v":26.583333333333339},{"$f":"IF(COUNT(特に買いたい・利用したい!S11:AD11)<>12,\"\",AVERAGE(特に買いたい・利用したい!S11:AD11))","v":27.075000000000003},{"$f":"IF(COUNT(特に買いたい・利用したい!T11:AE11)<>12,\"\",AVERAGE(特に買いたい・利用したい!T11:AE11))","v":26.283333333333335},{"$f":"IF(COUNT(特に買いたい・利用したい!U11:AF11)<>12,\"\",AVERAGE(特に買いたい・利用したい!U11:AF11))","v":25.558333333333337},{"$f":"IF(COUNT(特に買いたい・利用したい!V11:AG11)<>12,\"\",AVERAGE(特に買いたい・利用したい!V11:AG11))","v":25},{"$f":"IF(COUNT(特に買いたい・利用したい!W11:AH11)<>12,\"\",AVERAGE(特に買いたい・利用したい!W11:AH11))","v":24.45},{"$f":"IF(COUNT(特に買いたい・利用したい!X11:AI11)<>12,\"\",AVERAGE(特に買いたい・利用したい!X11:AI11))","v":24.291666666666668},{"$f":"IF(COUNT(特に買いたい・利用したい!Y11:AJ11)<>12,\"\",AVERAGE(特に買いたい・利用したい!Y11:AJ11))","v":24.908333333333331},{"$f":"IF(COUNT(特に買いたい・利用したい!Z11:AK11)<>12,\"\",AVERAGE(特に買いたい・利用したい!Z11:AK11))","v":24.224999999999998},{"$f":"IF(COUNT(特に買いたい・利用したい!AA11:AL11)<>12,\"\",AVERAGE(特に買いたい・利用したい!AA11:AL11))","v":23.883333333333336},{"$f":"IF(COUNT(特に買いたい・利用したい!AB11:AM11)<>12,\"\",AVERAGE(特に買いたい・利用したい!AB11:AM11))","v":24.275000000000002},{"$f":"IF(COUNT(特に買いたい・利用したい!AC11:AN11)<>12,\"\",AVERAGE(特に買いたい・利用したい!AC11:AN11))","v":24.216666666666669},{"$f":"IF(COUNT(特に買いたい・利用したい!AD11:AO11)<>12,\"\",AVERAGE(特に買いたい・利用したい!AD11:AO11))","v":24.05},{"$f":"IF(COUNT(特に買いたい・利用したい!AE11:AP11)<>12,\"\",AVERAGE(特に買いたい・利用したい!AE11:AP11))","v":23.133333333333336},{"$f":"IF(COUNT(特に買いたい・利用したい!AF11:AQ11)<>12,\"\",AVERAGE(特に買いたい・利用したい!AF11:AQ11))","v":24.008333333333336},{"$f":"IF(COUNT(特に買いたい・利用したい!AG11:AR11)<>12,\"\",AVERAGE(特に買いたい・利用したい!AG11:AR11))","v":24.841666666666669},{"$f":"IF(COUNT(特に買いたい・利用したい!AH11:AS11)<>12,\"\",AVERAGE(特に買いたい・利用したい!AH11:AS11))","v":25.108333333333334},{"$f":"IF(COUNT(特に買いたい・利用したい!AI11:AT11)<>12,\"\",AVERAGE(特に買いたい・利用したい!AI11:AT11))","v":25.433333333333337},{"$f":"IF(COUNT(特に買いたい・利用したい!AJ11:AU11)<>12,\"\",AVERAGE(特に買いたい・利用したい!AJ11:AU11))","v":25.508333333333336},{"$f":"IF(COUNT(特に買いたい・利用したい!AK11:AV11)<>12,\"\",AVERAGE(特に買いたい・利用したい!AK11:AV11))","v":25.766666666666669},{"$f":"IF(COUNT(特に買いたい・利用したい!AL11:AW11)<>12,\"\",AVERAGE(特に買いたい・利用したい!AL11:AW11))","v":26.166666666666668},{"$f":"IF(COUNT(特に買いたい・利用したい!AM11:AX11)<>12,\"\",AVERAGE(特に買いたい・利用したい!AM11:AX11))","v":26.200000000000003},{"$f":"IF(COUNT(特に買いたい・利用したい!AN11:AY11)<>12,\"\",AVERAGE(特に買いたい・利用したい!AN11:AY11))","v":26.391666666666669},{"$f":"IF(COUNT(特に買いたい・利用したい!AO11:AZ11)<>12,\"\",AVERAGE(特に買いたい・利用したい!AO11:AZ11))","v":26.466666666666669},{"$f":"IF(COUNT(特に買いたい・利用したい!AP11:BA11)<>12,\"\",AVERAGE(特に買いたい・利用したい!AP11:BA11))","v":26.433333333333326},{"$f":"IF(COUNT(特に買いたい・利用したい!AQ11:BB11)<>12,\"\",AVERAGE(特に買いたい・利用したい!AQ11:BB11))","v":26.208333333333329},{"$f":"IF(COUNT(特に買いたい・利用したい!AR11:BC11)<>12,\"\",AVERAGE(特に買いたい・利用したい!AR11:BC11))","v":26.241666666666664},{"$f":"IF(COUNT(特に買いたい・利用したい!AS11:BD11)<>12,\"\",AVERAGE(特に買いたい・利用したい!AS11:BD11))","v":26.158333333333331},{"$f":"IF(COUNT(特に買いたい・利用したい!AT11:BE11)<>12,\"\",AVERAGE(特に買いたい・利用したい!AT11:BE11))","v":""},{"$f":"IF(COUNT(特に買いたい・利用したい!AU11:BF11)<>12,\"\",AVERAGE(特に買いたい・利用したい!AU11:BF11))","v":""},{"$f":"IF(COUNT(特に買いたい・利用したい!AV11:BG11)<>12,\"\",AVERAGE(特に買いたい・利用したい!AV11:BG11))","v":""},{"$f":"IF(COUNT(特に買いたい・利用したい!AW11:BH11)<>12,\"\",AVERAGE(特に買いたい・利用したい!AW11:BH11))","v":""},{"$f":"IF(COUNT(特に買いたい・利用したい!AX11:BI11)<>12,\"\",AVERAGE(特に買いたい・利用したい!AX11:BI11))","v":""},{"$f":"IF(COUNT(特に買いたい・利用したい!AY11:BJ11)<>12,\"\",AVERAGE(特に買いたい・利用したい!AY11:BJ11))","v":""},{"$f":"IF(COUNT(特に買いたい・利用したい!AZ11:BK11)<>12,\"\",AVERAGE(特に買いたい・利用したい!AZ11:BK11))","v":""},{"$f":"IF(COUNT(特に買いたい・利用したい!BA11:BL11)<>12,\"\",AVERAGE(特に買いたい・利用したい!BA11:BL11))","v":""},{"$f":"IF(COUNT(特に買いたい・利用したい!BB11:BM11)<>12,\"\",AVERAGE(特に買いたい・利用したい!BB11:BM11))","v":""},{"$f":"IF(COUNT(特に買いたい・利用したい!BC11:BN11)<>12,\"\",AVERAGE(特に買いたい・利用したい!BC11:BN11))","v":""},{"$f":"IF(COUNT(特に買いたい・利用したい!BD11:BO11)<>12,\"\",AVERAGE(特に買いたい・利用したい!BD11:BO11))","v":""},{"$f":"IF(COUNT(特に買いたい・利用したい!BE11:BP11)<>12,\"\",AVERAGE(特に買いたい・利用したい!BE11:BP11))","v":""},{"$f":"IF(COUNT(特に買いたい・利用したい!BF11:BQ11)<>12,\"\",AVERAGE(特に買いたい・利用したい!BF11:BQ11))","v":""},{"$f":"IF(COUNT(特に買いたい・利用したい!BG11:BR11)<>12,\"\",AVERAGE(特に買いたい・利用したい!BG11:BR11))","v":""},{"$f":"IF(COUNT(特に買いたい・利用したい!BH11:BS11)<>12,\"\",AVERAGE(特に買いたい・利用したい!BH11:BS11))","v":""},{"$f":"IF(COUNT(特に買いたい・利用したい!BI11:BT11)<>12,\"\",AVERAGE(特に買いたい・利用したい!BI11:BT11))","v":""},{"$f":"IF(COUNT(特に買いたい・利用したい!BJ11:BU11)<>12,\"\",AVERAGE(特に買いたい・利用したい!BJ11:BU11))","v":""},{"$f":"IF(COUNT(特に買いたい・利用したい!BK11:BV11)<>12,\"\",AVERAGE(特に買いたい・利用したい!BK11:BV11))","v":""},{"$f":"IF(COUNT(特に買いたい・利用したい!BL11:BW11)<>12,\"\",AVERAGE(特に買いたい・利用したい!BL11:BW11))","v":""},{"$f":"IF(COUNT(特に買いたい・利用したい!BM11:BX11)<>12,\"\",AVERAGE(特に買いたい・利用したい!BM11:BX11))","v":""},{"$f":"IF(COUNT(特に買いたい・利用したい!BN11:BY11)<>12,\"\",AVERAGE(特に買いたい・利用したい!BN11:BY11))","v":""},{"$f":"IF(COUNT(特に買いたい・利用したい!BO11:BZ11)<>12,\"\",AVERAGE(特に買いたい・利用したい!BO11:BZ11))","v":""},{"$f":"IF(COUNT(特に買いたい・利用したい!BP11:CA11)<>12,\"\",AVERAGE(特に買いたい・利用したい!BP11:CA11))","v":""},{"$f":"IF(COUNT(特に買いたい・利用したい!BQ11:CB11)<>12,\"\",AVERAGE(特に買いたい・利用したい!BQ11:CB11))","v":""},{"$f":"IF(COUNT(特に買いたい・利用したい!BR11:CC11)<>12,\"\",AVERAGE(特に買いたい・利用したい!BR11:CC11))","v":""},{"$f":"IF(COUNT(特に買いたい・利用したい!BS11:CD11)<>12,\"\",AVERAGE(特に買いたい・利用したい!BS11:CD11))","v":""},{"$f":"IF(COUNT(特に買いたい・利用したい!BT11:CE11)<>12,\"\",AVERAGE(特に買いたい・利用したい!BT11:CE11))","v":""},{"$f":"IF(COUNT(特に買いたい・利用したい!BU11:CF11)<>12,\"\",AVERAGE(特に買いたい・利用したい!BU11:CF11))","v":""},{"$f":"IF(COUNT(特に買いたい・利用したい!BV11:CG11)<>12,\"\",AVERAGE(特に買いたい・利用したい!BV11:CG11))","v":""},{"$f":"IF(COUNT(特に買いたい・利用したい!BW11:CH11)<>12,\"\",AVERAGE(特に買いたい・利用したい!BW11:CH11))","v":""},{"$f":"IF(COUNT(特に買いたい・利用したい!BX11:CI11)<>12,\"\",AVERAGE(特に買いたい・利用したい!BX11:CI11))","v":""},{"$f":"IF(COUNT(特に買いたい・利用したい!BY11:CJ11)<>12,\"\",AVERAGE(特に買いたい・利用したい!BY11:CJ11))","v":""},{"$f":"IF(COUNT(特に買いたい・利用したい!BZ11:CK11)<>12,\"\",AVERAGE(特に買いたい・利用したい!BZ11:CK11))","v":""},{"$f":"IF(COUNT(特に買いたい・利用したい!CA11:CL11)<>12,\"\",AVERAGE(特に買いたい・利用したい!CA11:CL11))","v":""},{"$f":"IF(COUNT(特に買いたい・利用したい!CB11:CM11)<>12,\"\",AVERAGE(特に買いたい・利用したい!CB11:CM11))","v":""},{"$f":"IF(COUNT(特に買いたい・利用したい!CC11:CN11)<>12,\"\",AVERAGE(特に買いたい・利用したい!CC11:CN11))","v":""},{"$f":"IF(COUNT(特に買いたい・利用したい!CD11:CO11)<>12,\"\",AVERAGE(特に買いたい・利用したい!CD11:CO11))","v":""},{"$f":"IF(COUNT(特に買いたい・利用したい!CE11:CP11)<>12,\"\",AVERAGE(特に買いたい・利用したい!CE11:CP11))","v":""},{"$f":"IF(COUNT(特に買いたい・利用したい!CF11:CQ11)<>12,\"\",AVERAGE(特に買いたい・利用したい!CF11:CQ11))","v":""},{"$f":"IF(COUNT(特に買いたい・利用したい!CG11:CR11)<>12,\"\",AVERAGE(特に買いたい・利用したい!CG11:CR11))","v":""},{"$f":"IF(COUNT(特に買いたい・利用したい!CH11:CS11)<>12,\"\",AVERAGE(特に買いたい・利用したい!CH11:CS11))","v":""},{"$f":"IF(COUNT(特に買いたい・利用したい!CI11:CT11)<>12,\"\",AVERAGE(特に買いたい・利用したい!CI11:CT11))","v":""},{"$f":"IF(COUNT(特に買いたい・利用したい!CJ11:CU11)<>12,\"\",AVERAGE(特に買いたい・利用したい!CJ11:CU11))","v":""},{"$f":"IF(COUNT(特に買いたい・利用したい!CK11:CV11)<>12,\"\",AVERAGE(特に買いたい・利用したい!CK11:CV11))","v":""},{"$f":"IF(COUNT(特に買いたい・利用したい!CL11:CW11)<>12,\"\",AVERAGE(特に買いたい・利用したい!CL11:CW11))","v":""},{"$f":"IF(COUNT(特に買いたい・利用したい!CM11:CX11)<>12,\"\",AVERAGE(特に買いたい・利用したい!CM11:CX11))","v":""},{"$f":"IF(COUNT(特に買いたい・利用したい!CN11:CY11)<>12,\"\",AVERAGE(特に買いたい・利用したい!CN11:CY11))","v":""},{"$f":"IF(COUNT(特に買いたい・利用したい!CO11:CZ11)<>12,\"\",AVERAGE(特に買いたい・利用したい!CO11:CZ11))","v":""},{"$f":"IF(COUNT(特に買いたい・利用したい!CP11:DA11)<>12,\"\",AVERAGE(特に買いたい・利用したい!CP11:DA11))","v":""},{"$f":"IF(COUNT(特に買いたい・利用したい!CQ11:DB11)<>12,\"\",AVERAGE(特に買いたい・利用したい!CQ11:DB11))","v":""},{"$f":"IF(COUNT(特に買いたい・利用したい!CR11:DC11)<>12,\"\",AVERAGE(特に買いたい・利用したい!CR11:DC11))","v":""},{"$f":"IF(COUNT(特に買いたい・利用したい!CS11:DD11)<>12,\"\",AVERAGE(特に買いたい・利用したい!CS11:DD11))","v":""},{"$f":"IF(COUNT(特に買いたい・利用したい!CT11:DE11)<>12,\"\",AVERAGE(特に買いたい・利用したい!CT11:DE11))","v":""},{"$f":"IF(COUNT(特に買いたい・利用したい!CU11:DF11)<>12,\"\",AVERAGE(特に買いたい・利用したい!CU11:DF11))","v":""},{"$f":"IF(COUNT(特に買いたい・利用したい!CV11:DG11)<>12,\"\",AVERAGE(特に買いたい・利用したい!CV11:DG11))","v":""}]
[null,null,"50代",null,null,null,null,null,null,null,null,null,null,null,null,null,null,null,{"$f":"IF(COUNT(特に買いたい・利用したい!H12:S12)<>12,\"\",AVERAGE(特に買いたい・利用したい!H12:S12))","v":26.883333333333336},{"$f":"IF(COUNT(特に買いたい・利用したい!I12:T12)<>12,\"\",AVERAGE(特に買いたい・利用したい!I12:T12))","v":26.691666666666666},{"$f":"IF(COUNT(特に買いたい・利用したい!J12:U12)<>12,\"\",AVERAGE(特に買いたい・利用したい!J12:U12))","v":26.591666666666669},{"$f":"IF(COUNT(特に買いたい・利用したい!K12:V12)<>12,\"\",AVERAGE(特に買いたい・利用したい!K12:V12))","v":26.108333333333338},{"$f":"IF(COUNT(特に買いたい・利用したい!L12:W12)<>12,\"\",AVERAGE(特に買いたい・利用したい!L12:W12))","v":26.108333333333334},{"$f":"IF(COUNT(特に買いたい・利用したい!M12:X12)<>12,\"\",AVERAGE(特に買いたい・利用したい!M12:X12))","v":25.875},{"$f":"IF(COUNT(特に買いたい・利用したい!N12:Y12)<>12,\"\",AVERAGE(特に買いたい・利用したい!N12:Y12))","v":25.099999999999998},{"$f":"IF(COUNT(特に買いたい・利用したい!O12:Z12)<>12,\"\",AVERAGE(特に買いたい・利用したい!O12:Z12))","v":24.683333333333334},{"$f":"IF(COUNT(特に買いたい・利用したい!P12:AA12)<>12,\"\",AVERAGE(特に買いたい・利用したい!P12:AA12))","v":24.408333333333331},{"$f":"IF(COUNT(特に買いたい・利用したい!Q12:AB12)<>12,\"\",AVERAGE(特に買いたい・利用したい!Q12:AB12))","v":23.933333333333334},{"$f":"IF(COUNT(特に買いたい・利用したい!R12:AC12)<>12,\"\",AVERAGE(特に買いたい・利用したい!R12:AC12))","v":24.349999999999998},{"$f":"IF(COUNT(特に買いたい・利用したい!S12:AD12)<>12,\"\",AVERAGE(特に買いたい・利用したい!S12:AD12))","v":24.608333333333334},{"$f":"IF(COUNT(特に買いたい・利用したい!T12:AE12)<>12,\"\",AVERAGE(特に買いたい・利用したい!T12:AE12))","v":23.025000000000002},{"$f":"IF(COUNT(特に買いたい・利用したい!U12:AF12)<>12,\"\",AVERAGE(特に買いたい・利用したい!U12:AF12))","v":22.191666666666674},{"$f":"IF(COUNT(特に買いたい・利用したい!V12:AG12)<>12,\"\",AVERAGE(特に買いたい・利用したい!V12:AG12))","v":21.775000000000006},{"$f":"IF(COUNT(特に買いたい・利用したい!W12:AH12)<>12,\"\",AVERAGE(特に買いたい・利用したい!W12:AH12))","v":21.866666666666671},{"$f":"IF(COUNT(特に買いたい・利用したい!X12:AI12)<>12,\"\",AVERAGE(特に買いたい・利用したい!X12:AI12))","v":21.733333333333334},{"$f":"IF(COUNT(特に買いたい・利用したい!Y12:AJ12)<>12,\"\",AVERAGE(特に買いたい・利用したい!Y12:AJ12))","v":21.924999999999997},{"$f":"IF(COUNT(特に買いたい・利用したい!Z12:AK12)<>12,\"\",AVERAGE(特に買いたい・利用したい!Z12:AK12))","v":22.058333333333334},{"$f":"IF(COUNT(特に買いたい・利用したい!AA12:AL12)<>12,\"\",AVERAGE(特に買いたい・利用したい!AA12:AL12))","v":22.083333333333329},{"$f":"IF(COUNT(特に買いたい・利用したい!AB12:AM12)<>12,\"\",AVERAGE(特に買いたい・利用したい!AB12:AM12))","v":22.7},{"$f":"IF(COUNT(特に買いたい・利用したい!AC12:AN12)<>12,\"\",AVERAGE(特に買いたい・利用したい!AC12:AN12))","v":22.341666666666669},{"$f":"IF(COUNT(特に買いたい・利用したい!AD12:AO12)<>12,\"\",AVERAGE(特に買いたい・利用したい!AD12:AO12))","v":21.983333333333334},{"$f":"IF(COUNT(特に買いたい・利用したい!AE12:AP12)<>12,\"\",AVERAGE(特に買いたい・利用したい!AE12:AP12))","v":21.366666666666671},{"$f":"IF(COUNT(特に買いたい・利用したい!AF12:AQ12)<>12,\"\",AVERAGE(特に買いたい・利用したい!AF12:AQ12))","v":22.841666666666669},{"$f":"IF(COUNT(特に買いたい・利用したい!AG12:AR12)<>12,\"\",AVERAGE(特に買いたい・利用したい!AG12:AR12))","v":23.925000000000001},{"$f":"IF(COUNT(特に買いたい・利用したい!AH12:AS12)<>12,\"\",AVERAGE(特に買いたい・利用したい!AH12:AS12))","v":23.983333333333334},{"$f":"IF(COUNT(特に買いたい・利用したい!AI12:AT12)<>12,\"\",AVERAGE(特に買いたい・利用したい!AI12:AT12))","v":24.391666666666669},{"$f":"IF(COUNT(特に買いたい・利用したい!AJ12:AU12)<>12,\"\",AVERAGE(特に買いたい・利用したい!AJ12:AU12))","v":24.275000000000002},{"$f":"IF(COUNT(特に買いたい・利用したい!AK12:AV12)<>12,\"\",AVERAGE(特に買いたい・利用したい!AK12:AV12))","v":24.233333333333334},{"$f":"IF(COUNT(特に買いたい・利用したい!AL12:AW12)<>12,\"\",AVERAGE(特に買いたい・利用したい!AL12:AW12))","v":23.900000000000002},{"$f":"IF(COUNT(特に買いたい・利用したい!AM12:AX12)<>12,\"\",AVERAGE(特に買いたい・利用したい!AM12:AX12))","v":23.916666666666668},{"$f":"IF(COUNT(特に買いたい・利用したい!AN12:AY12)<>12,\"\",AVERAGE(特に買いたい・利用したい!AN12:AY12))","v":23.774999999999995},{"$f":"IF(COUNT(特に買いたい・利用したい!AO12:AZ12)<>12,\"\",AVERAGE(特に買いたい・利用したい!AO12:AZ12))","v":23.824999999999999},{"$f":"IF(COUNT(特に買いたい・利用したい!AP12:BA12)<>12,\"\",AVERAGE(特に買いたい・利用したい!AP12:BA12))","v":23.599999999999998},{"$f":"IF(COUNT(特に買いたい・利用したい!AQ12:BB12)<>12,\"\",AVERAGE(特に買いたい・利用したい!AQ12:BB12))","v":23.05},{"$f":"IF(COUNT(特に買いたい・利用したい!AR12:BC12)<>12,\"\",AVERAGE(特に買いたい・利用したい!AR12:BC12))","v":22.349999999999998},{"$f":"IF(COUNT(特に買いたい・利用したい!AS12:BD12)<>12,\"\",AVERAGE(特に買いたい・利用したい!AS12:BD12))","v":22.108333333333338},{"$f":"IF(COUNT(特に買いたい・利用したい!AT12:BE12)<>12,\"\",AVERAGE(特に買いたい・利用したい!AT12:BE12))","v":""},{"$f":"IF(COUNT(特に買いたい・利用したい!AU12:BF12)<>12,\"\",AVERAGE(特に買いたい・利用したい!AU12:BF12))","v":""},{"$f":"IF(COUNT(特に買いたい・利用したい!AV12:BG12)<>12,\"\",AVERAGE(特に買いたい・利用したい!AV12:BG12))","v":""},{"$f":"IF(COUNT(特に買いたい・利用したい!AW12:BH12)<>12,\"\",AVERAGE(特に買いたい・利用したい!AW12:BH12))","v":""},{"$f":"IF(COUNT(特に買いたい・利用したい!AX12:BI12)<>12,\"\",AVERAGE(特に買いたい・利用したい!AX12:BI12))","v":""},{"$f":"IF(COUNT(特に買いたい・利用したい!AY12:BJ12)<>12,\"\",AVERAGE(特に買いたい・利用したい!AY12:BJ12))","v":""},{"$f":"IF(COUNT(特に買いたい・利用したい!AZ12:BK12)<>12,\"\",AVERAGE(特に買いたい・利用したい!AZ12:BK12))","v":""},{"$f":"IF(COUNT(特に買いたい・利用したい!BA12:BL12)<>12,\"\",AVERAGE(特に買いたい・利用したい!BA12:BL12))","v":""},{"$f":"IF(COUNT(特に買いたい・利用したい!BB12:BM12)<>12,\"\",AVERAGE(特に買いたい・利用したい!BB12:BM12))","v":""},{"$f":"IF(COUNT(特に買いたい・利用したい!BC12:BN12)<>12,\"\",AVERAGE(特に買いたい・利用したい!BC12:BN12))","v":""},{"$f":"IF(COUNT(特に買いたい・利用したい!BD12:BO12)<>12,\"\",AVERAGE(特に買いたい・利用したい!BD12:BO12))","v":""},{"$f":"IF(COUNT(特に買いたい・利用したい!BE12:BP12)<>12,\"\",AVERAGE(特に買いたい・利用したい!BE12:BP12))","v":""},{"$f":"IF(COUNT(特に買いたい・利用したい!BF12:BQ12)<>12,\"\",AVERAGE(特に買いたい・利用したい!BF12:BQ12))","v":""},{"$f":"IF(COUNT(特に買いたい・利用したい!BG12:BR12)<>12,\"\",AVERAGE(特に買いたい・利用したい!BG12:BR12))","v":""},{"$f":"IF(COUNT(特に買いたい・利用したい!BH12:BS12)<>12,\"\",AVERAGE(特に買いたい・利用したい!BH12:BS12))","v":""},{"$f":"IF(COUNT(特に買いたい・利用したい!BI12:BT12)<>12,\"\",AVERAGE(特に買いたい・利用したい!BI12:BT12))","v":""},{"$f":"IF(COUNT(特に買いたい・利用したい!BJ12:BU12)<>12,\"\",AVERAGE(特に買いたい・利用したい!BJ12:BU12))","v":""},{"$f":"IF(COUNT(特に買いたい・利用したい!BK12:BV12)<>12,\"\",AVERAGE(特に買いたい・利用したい!BK12:BV12))","v":""},{"$f":"IF(COUNT(特に買いたい・利用したい!BL12:BW12)<>12,\"\",AVERAGE(特に買いたい・利用したい!BL12:BW12))","v":""},{"$f":"IF(COUNT(特に買いたい・利用したい!BM12:BX12)<>12,\"\",AVERAGE(特に買いたい・利用したい!BM12:BX12))","v":""},{"$f":"IF(COUNT(特に買いたい・利用したい!BN12:BY12)<>12,\"\",AVERAGE(特に買いたい・利用したい!BN12:BY12))","v":""},{"$f":"IF(COUNT(特に買いたい・利用したい!BO12:BZ12)<>12,\"\",AVERAGE(特に買いたい・利用したい!BO12:BZ12))","v":""},{"$f":"IF(COUNT(特に買いたい・利用したい!BP12:CA12)<>12,\"\",AVERAGE(特に買いたい・利用したい!BP12:CA12))","v":""},{"$f":"IF(COUNT(特に買いたい・利用したい!BQ12:CB12)<>12,\"\",AVERAGE(特に買いたい・利用したい!BQ12:CB12))","v":""},{"$f":"IF(COUNT(特に買いたい・利用したい!BR12:CC12)<>12,\"\",AVERAGE(特に買いたい・利用したい!BR12:CC12))","v":""},{"$f":"IF(COUNT(特に買いたい・利用したい!BS12:CD12)<>12,\"\",AVERAGE(特に買いたい・利用したい!BS12:CD12))","v":""},{"$f":"IF(COUNT(特に買いたい・利用したい!BT12:CE12)<>12,\"\",AVERAGE(特に買いたい・利用したい!BT12:CE12))","v":""},{"$f":"IF(COUNT(特に買いたい・利用したい!BU12:CF12)<>12,\"\",AVERAGE(特に買いたい・利用したい!BU12:CF12))","v":""},{"$f":"IF(COUNT(特に買いたい・利用したい!BV12:CG12)<>12,\"\",AVERAGE(特に買いたい・利用したい!BV12:CG12))","v":""},{"$f":"IF(COUNT(特に買いたい・利用したい!BW12:CH12)<>12,\"\",AVERAGE(特に買いたい・利用したい!BW12:CH12))","v":""},{"$f":"IF(COUNT(特に買いたい・利用したい!BX12:CI12)<>12,\"\",AVERAGE(特に買いたい・利用したい!BX12:CI12))","v":""},{"$f":"IF(COUNT(特に買いたい・利用したい!BY12:CJ12)<>12,\"\",AVERAGE(特に買いたい・利用したい!BY12:CJ12))","v":""},{"$f":"IF(COUNT(特に買いたい・利用したい!BZ12:CK12)<>12,\"\",AVERAGE(特に買いたい・利用したい!BZ12:CK12))","v":""},{"$f":"IF(COUNT(特に買いたい・利用したい!CA12:CL12)<>12,\"\",AVERAGE(特に買いたい・利用したい!CA12:CL12))","v":""},{"$f":"IF(COUNT(特に買いたい・利用したい!CB12:CM12)<>12,\"\",AVERAGE(特に買いたい・利用したい!CB12:CM12))","v":""},{"$f":"IF(COUNT(特に買いたい・利用したい!CC12:CN12)<>12,\"\",AVERAGE(特に買いたい・利用したい!CC12:CN12))","v":""},{"$f":"IF(COUNT(特に買いたい・利用したい!CD12:CO12)<>12,\"\",AVERAGE(特に買いたい・利用したい!CD12:CO12))","v":""},{"$f":"IF(COUNT(特に買いたい・利用したい!CE12:CP12)<>12,\"\",AVERAGE(特に買いたい・利用したい!CE12:CP12))","v":""},{"$f":"IF(COUNT(特に買いたい・利用したい!CF12:CQ12)<>12,\"\",AVERAGE(特に買いたい・利用したい!CF12:CQ12))","v":""},{"$f":"IF(COUNT(特に買いたい・利用したい!CG12:CR12)<>12,\"\",AVERAGE(特に買いたい・利用したい!CG12:CR12))","v":""},{"$f":"IF(COUNT(特に買いたい・利用したい!CH12:CS12)<>12,\"\",AVERAGE(特に買いたい・利用したい!CH12:CS12))","v":""},{"$f":"IF(COUNT(特に買いたい・利用したい!CI12:CT12)<>12,\"\",AVERAGE(特に買いたい・利用したい!CI12:CT12))","v":""},{"$f":"IF(COUNT(特に買いたい・利用したい!CJ12:CU12)<>12,\"\",AVERAGE(特に買いたい・利用したい!CJ12:CU12))","v":""},{"$f":"IF(COUNT(特に買いたい・利用したい!CK12:CV12)<>12,\"\",AVERAGE(特に買いたい・利用したい!CK12:CV12))","v":""},{"$f":"IF(COUNT(特に買いたい・利用したい!CL12:CW12)<>12,\"\",AVERAGE(特に買いたい・利用したい!CL12:CW12))","v":""},{"$f":"IF(COUNT(特に買いたい・利用したい!CM12:CX12)<>12,\"\",AVERAGE(特に買いたい・利用したい!CM12:CX12))","v":""},{"$f":"IF(COUNT(特に買いたい・利用したい!CN12:CY12)<>12,\"\",AVERAGE(特に買いたい・利用したい!CN12:CY12))","v":""},{"$f":"IF(COUNT(特に買いたい・利用したい!CO12:CZ12)<>12,\"\",AVERAGE(特に買いたい・利用したい!CO12:CZ12))","v":""},{"$f":"IF(COUNT(特に買いたい・利用したい!CP12:DA12)<>12,\"\",AVERAGE(特に買いたい・利用したい!CP12:DA12))","v":""},{"$f":"IF(COUNT(特に買いたい・利用したい!CQ12:DB12)<>12,\"\",AVERAGE(特に買いたい・利用したい!CQ12:DB12))","v":""},{"$f":"IF(COUNT(特に買いたい・利用したい!CR12:DC12)<>12,\"\",AVERAGE(特に買いたい・利用したい!CR12:DC12))","v":""},{"$f":"IF(COUNT(特に買いたい・利用したい!CS12:DD12)<>12,\"\",AVERAGE(特に買いたい・利用したい!CS12:DD12))","v":""},{"$f":"IF(COUNT(特に買いたい・利用したい!CT12:DE12)<>12,\"\",AVERAGE(特に買いたい・利用したい!CT12:DE12))","v":""},{"$f":"IF(COUNT(特に買いたい・利用したい!CU12:DF12)<>12,\"\",AVERAGE(特に買いたい・利用したい!CU12:DF12))","v":""},{"$f":"IF(COUNT(特に買いたい・利用したい!CV12:DG12)<>12,\"\",AVERAGE(特に買いたい・利用したい!CV12:DG12))","v":""}]
[null,null,"60代",null,null,null,null,null,null,null,null,null,null,null,null,null,null,null,{"$f":"IF(COUNT(特に買いたい・利用したい!H13:S13)<>12,\"\",AVERAGE(特に買いたい・利用したい!H13:S13))","v":26.883333333333329},{"$f":"IF(COUNT(特に買いたい・利用したい!I13:T13)<>12,\"\",AVERAGE(特に買いたい・利用したい!I13:T13))","v":26.658333333333335},{"$f":"IF(COUNT(特に買いたい・利用したい!J13:U13)<>12,\"\",AVERAGE(特に買いたい・利用したい!J13:U13))","v":26.166666666666671},{"$f":"IF(COUNT(特に買いたい・利用したい!K13:V13)<>12,\"\",AVERAGE(特に買いたい・利用したい!K13:V13))","v":26.200000000000003},{"$f":"IF(COUNT(特に買いたい・利用したい!L13:W13)<>12,\"\",AVERAGE(特に買いたい・利用したい!L13:W13))","v":26.525000000000002},{"$f":"IF(COUNT(特に買いたい・利用したい!M13:X13)<>12,\"\",AVERAGE(特に買いたい・利用したい!M13:X13))","v":25.525000000000002},{"$f":"IF(COUNT(特に買いたい・利用したい!N13:Y13)<>12,\"\",AVERAGE(特に買いたい・利用したい!N13:Y13))","v":25.225000000000005},{"$f":"IF(COUNT(特に買いたい・利用したい!O13:Z13)<>12,\"\",AVERAGE(特に買いたい・利用したい!O13:Z13))","v":24.3},{"$f":"IF(COUNT(特に買いたい・利用したい!P13:AA13)<>12,\"\",AVERAGE(特に買いたい・利用したい!P13:AA13))","v":24.125},{"$f":"IF(COUNT(特に買いたい・利用したい!Q13:AB13)<>12,\"\",AVERAGE(特に買いたい・利用したい!Q13:AB13))","v":23.791666666666671},{"$f":"IF(COUNT(特に買いたい・利用したい!R13:AC13)<>12,\"\",AVERAGE(特に買いたい・利用したい!R13:AC13))","v":23.858333333333334},{"$f":"IF(COUNT(特に買いたい・利用したい!S13:AD13)<>12,\"\",AVERAGE(特に買いたい・利用したい!S13:AD13))","v":24.008333333333336},{"$f":"IF(COUNT(特に買いたい・利用したい!T13:AE13)<>12,\"\",AVERAGE(特に買いたい・利用したい!T13:AE13))","v":22.516666666666666},{"$f":"IF(COUNT(特に買いたい・利用したい!U13:AF13)<>12,\"\",AVERAGE(特に買いたい・利用したい!U13:AF13))","v":21.683333333333334},{"$f":"IF(COUNT(特に買いたい・利用したい!V13:AG13)<>12,\"\",AVERAGE(特に買いたい・利用したい!V13:AG13))","v":21.483333333333331},{"$f":"IF(COUNT(特に買いたい・利用したい!W13:AH13)<>12,\"\",AVERAGE(特に買いたい・利用したい!W13:AH13))","v":20.883333333333329},{"$f":"IF(COUNT(特に買いたい・利用したい!X13:AI13)<>12,\"\",AVERAGE(特に買いたい・利用したい!X13:AI13))","v":20.833333333333332},{"$f":"IF(COUNT(特に買いたい・利用したい!Y13:AJ13)<>12,\"\",AVERAGE(特に買いたい・利用したい!Y13:AJ13))","v":21.650000000000002},{"$f":"IF(COUNT(特に買いたい・利用したい!Z13:AK13)<>12,\"\",AVERAGE(特に買いたい・利用したい!Z13:AK13))","v":21.108333333333334},{"$f":"IF(COUNT(特に買いたい・利用したい!AA13:AL13)<>12,\"\",AVERAGE(特に買いたい・利用したい!AA13:AL13))","v":21.216666666666665},{"$f":"IF(COUNT(特に買いたい・利用したい!AB13:AM13)<>12,\"\",AVERAGE(特に買いたい・利用したい!AB13:AM13))","v":21.224999999999998},{"$f":"IF(COUNT(特に買いたい・利用したい!AC13:AN13)<>12,\"\",AVERAGE(特に買いたい・利用したい!AC13:AN13))","v":20.766666666666666},{"$f":"IF(COUNT(特に買いたい・利用したい!AD13:AO13)<>12,\"\",AVERAGE(特に買いたい・利用したい!AD13:AO13))","v":20.483333333333334},{"$f":"IF(COUNT(特に買いたい・利用したい!AE13:AP13)<>12,\"\",AVERAGE(特に買いたい・利用したい!AE13:AP13))","v":19.908333333333335},{"$f":"IF(COUNT(特に買いたい・利用したい!AF13:AQ13)<>12,\"\",AVERAGE(特に買いたい・利用したい!AF13:AQ13))","v":20.775000000000002},{"$f":"IF(COUNT(特に買いたい・利用したい!AG13:AR13)<>12,\"\",AVERAGE(特に買いたい・利用したい!AG13:AR13))","v":21.391666666666666},{"$f":"IF(COUNT(特に買いたい・利用したい!AH13:AS13)<>12,\"\",AVERAGE(特に買いたい・利用したい!AH13:AS13))","v":21.45},{"$f":"IF(COUNT(特に買いたい・利用したい!AI13:AT13)<>12,\"\",AVERAGE(特に買いたい・利用したい!AI13:AT13))","v":21.675000000000001},{"$f":"IF(COUNT(特に買いたい・利用したい!AJ13:AU13)<>12,\"\",AVERAGE(特に買いたい・利用したい!AJ13:AU13))","v":21.666666666666668},{"$f":"IF(COUNT(特に買いたい・利用したい!AK13:AV13)<>12,\"\",AVERAGE(特に買いたい・利用したい!AK13:AV13))","v":21.941666666666663},{"$f":"IF(COUNT(特に買いたい・利用したい!AL13:AW13)<>12,\"\",AVERAGE(特に買いたい・利用したい!AL13:AW13))","v":22.216666666666665},{"$f":"IF(COUNT(特に買いたい・利用したい!AM13:AX13)<>12,\"\",AVERAGE(特に買いたい・利用したい!AM13:AX13))","v":22.7},{"$f":"IF(COUNT(特に買いたい・利用したい!AN13:AY13)<>12,\"\",AVERAGE(特に買いたい・利用したい!AN13:AY13))","v":22.666666666666668},{"$f":"IF(COUNT(特に買いたい・利用したい!AO13:AZ13)<>12,\"\",AVERAGE(特に買いたい・利用したい!AO13:AZ13))","v":22.833333333333332},{"$f":"IF(COUNT(特に買いたい・利用したい!AP13:BA13)<>12,\"\",AVERAGE(特に買いたい・利用したい!AP13:BA13))","v":22.791666666666668},{"$f":"IF(COUNT(特に買いたい・利用したい!AQ13:BB13)<>12,\"\",AVERAGE(特に買いたい・利用したい!AQ13:BB13))","v":22.150000000000002},{"$f":"IF(COUNT(特に買いたい・利用したい!AR13:BC13)<>12,\"\",AVERAGE(特に買いたい・利用したい!AR13:BC13))","v":22.241666666666664},{"$f":"IF(COUNT(特に買いたい・利用したい!AS13:BD13)<>12,\"\",AVERAGE(特に買いたい・利用したい!AS13:BD13))","v":22.491666666666664},{"$f":"IF(COUNT(特に買いたい・利用したい!AT13:BE13)<>12,\"\",AVERAGE(特に買いたい・利用したい!AT13:BE13))","v":""},{"$f":"IF(COUNT(特に買いたい・利用したい!AU13:BF13)<>12,\"\",AVERAGE(特に買いたい・利用したい!AU13:BF13))","v":""},{"$f":"IF(COUNT(特に買いたい・利用したい!AV13:BG13)<>12,\"\",AVERAGE(特に買いたい・利用したい!AV13:BG13))","v":""},{"$f":"IF(COUNT(特に買いたい・利用したい!AW13:BH13)<>12,\"\",AVERAGE(特に買いたい・利用したい!AW13:BH13))","v":""},{"$f":"IF(COUNT(特に買いたい・利用したい!AX13:BI13)<>12,\"\",AVERAGE(特に買いたい・利用したい!AX13:BI13))","v":""},{"$f":"IF(COUNT(特に買いたい・利用したい!AY13:BJ13)<>12,\"\",AVERAGE(特に買いたい・利用したい!AY13:BJ13))","v":""},{"$f":"IF(COUNT(特に買いたい・利用したい!AZ13:BK13)<>12,\"\",AVERAGE(特に買いたい・利用したい!AZ13:BK13))","v":""},{"$f":"IF(COUNT(特に買いたい・利用したい!BA13:BL13)<>12,\"\",AVERAGE(特に買いたい・利用したい!BA13:BL13))","v":""},{"$f":"IF(COUNT(特に買いたい・利用したい!BB13:BM13)<>12,\"\",AVERAGE(特に買いたい・利用したい!BB13:BM13))","v":""},{"$f":"IF(COUNT(特に買いたい・利用したい!BC13:BN13)<>12,\"\",AVERAGE(特に買いたい・利用したい!BC13:BN13))","v":""},{"$f":"IF(COUNT(特に買いたい・利用したい!BD13:BO13)<>12,\"\",AVERAGE(特に買いたい・利用したい!BD13:BO13))","v":""},{"$f":"IF(COUNT(特に買いたい・利用したい!BE13:BP13)<>12,\"\",AVERAGE(特に買いたい・利用したい!BE13:BP13))","v":""},{"$f":"IF(COUNT(特に買いたい・利用したい!BF13:BQ13)<>12,\"\",AVERAGE(特に買いたい・利用したい!BF13:BQ13))","v":""},{"$f":"IF(COUNT(特に買いたい・利用したい!BG13:BR13)<>12,\"\",AVERAGE(特に買いたい・利用したい!BG13:BR13))","v":""},{"$f":"IF(COUNT(特に買いたい・利用したい!BH13:BS13)<>12,\"\",AVERAGE(特に買いたい・利用したい!BH13:BS13))","v":""},{"$f":"IF(COUNT(特に買いたい・利用したい!BI13:BT13)<>12,\"\",AVERAGE(特に買いたい・利用したい!BI13:BT13))","v":""},{"$f":"IF(COUNT(特に買いたい・利用したい!BJ13:BU13)<>12,\"\",AVERAGE(特に買いたい・利用したい!BJ13:BU13))","v":""},{"$f":"IF(COUNT(特に買いたい・利用したい!BK13:BV13)<>12,\"\",AVERAGE(特に買いたい・利用したい!BK13:BV13))","v":""},{"$f":"IF(COUNT(特に買いたい・利用したい!BL13:BW13)<>12,\"\",AVERAGE(特に買いたい・利用したい!BL13:BW13))","v":""},{"$f":"IF(COUNT(特に買いたい・利用したい!BM13:BX13)<>12,\"\",AVERAGE(特に買いたい・利用したい!BM13:BX13))","v":""},{"$f":"IF(COUNT(特に買いたい・利用したい!BN13:BY13)<>12,\"\",AVERAGE(特に買いたい・利用したい!BN13:BY13))","v":""},{"$f":"IF(COUNT(特に買いたい・利用したい!BO13:BZ13)<>12,\"\",AVERAGE(特に買いたい・利用したい!BO13:BZ13))","v":""},{"$f":"IF(COUNT(特に買いたい・利用したい!BP13:CA13)<>12,\"\",AVERAGE(特に買いたい・利用したい!BP13:CA13))","v":""},{"$f":"IF(COUNT(特に買いたい・利用したい!BQ13:CB13)<>12,\"\",AVERAGE(特に買いたい・利用したい!BQ13:CB13))","v":""},{"$f":"IF(COUNT(特に買いたい・利用したい!BR13:CC13)<>12,\"\",AVERAGE(特に買いたい・利用したい!BR13:CC13))","v":""},{"$f":"IF(COUNT(特に買いたい・利用したい!BS13:CD13)<>12,\"\",AVERAGE(特に買いたい・利用したい!BS13:CD13))","v":""},{"$f":"IF(COUNT(特に買いたい・利用したい!BT13:CE13)<>12,\"\",AVERAGE(特に買いたい・利用したい!BT13:CE13))","v":""},{"$f":"IF(COUNT(特に買いたい・利用したい!BU13:CF13)<>12,\"\",AVERAGE(特に買いたい・利用したい!BU13:CF13))","v":""},{"$f":"IF(COUNT(特に買いたい・利用したい!BV13:CG13)<>12,\"\",AVERAGE(特に買いたい・利用したい!BV13:CG13))","v":""},{"$f":"IF(COUNT(特に買いたい・利用したい!BW13:CH13)<>12,\"\",AVERAGE(特に買いたい・利用したい!BW13:CH13))","v":""},{"$f":"IF(COUNT(特に買いたい・利用したい!BX13:CI13)<>12,\"\",AVERAGE(特に買いたい・利用したい!BX13:CI13))","v":""},{"$f":"IF(COUNT(特に買いたい・利用したい!BY13:CJ13)<>12,\"\",AVERAGE(特に買いたい・利用したい!BY13:CJ13))","v":""},{"$f":"IF(COUNT(特に買いたい・利用したい!BZ13:CK13)<>12,\"\",AVERAGE(特に買いたい・利用したい!BZ13:CK13))","v":""},{"$f":"IF(COUNT(特に買いたい・利用したい!CA13:CL13)<>12,\"\",AVERAGE(特に買いたい・利用したい!CA13:CL13))","v":""},{"$f":"IF(COUNT(特に買いたい・利用したい!CB13:CM13)<>12,\"\",AVERAGE(特に買いたい・利用したい!CB13:CM13))","v":""},{"$f":"IF(COUNT(特に買いたい・利用したい!CC13:CN13)<>12,\"\",AVERAGE(特に買いたい・利用したい!CC13:CN13))","v":""},{"$f":"IF(COUNT(特に買いたい・利用したい!CD13:CO13)<>12,\"\",AVERAGE(特に買いたい・利用したい!CD13:CO13))","v":""},{"$f":"IF(COUNT(特に買いたい・利用したい!CE13:CP13)<>12,\"\",AVERAGE(特に買いたい・利用したい!CE13:CP13))","v":""},{"$f":"IF(COUNT(特に買いたい・利用したい!CF13:CQ13)<>12,\"\",AVERAGE(特に買いたい・利用したい!CF13:CQ13))","v":""},{"$f":"IF(COUNT(特に買いたい・利用したい!CG13:CR13)<>12,\"\",AVERAGE(特に買いたい・利用したい!CG13:CR13))","v":""},{"$f":"IF(COUNT(特に買いたい・利用したい!CH13:CS13)<>12,\"\",AVERAGE(特に買いたい・利用したい!CH13:CS13))","v":""},{"$f":"IF(COUNT(特に買いたい・利用したい!CI13:CT13)<>12,\"\",AVERAGE(特に買いたい・利用したい!CI13:CT13))","v":""},{"$f":"IF(COUNT(特に買いたい・利用したい!CJ13:CU13)<>12,\"\",AVERAGE(特に買いたい・利用したい!CJ13:CU13))","v":""},{"$f":"IF(COUNT(特に買いたい・利用したい!CK13:CV13)<>12,\"\",AVERAGE(特に買いたい・利用したい!CK13:CV13))","v":""},{"$f":"IF(COUNT(特に買いたい・利用したい!CL13:CW13)<>12,\"\",AVERAGE(特に買いたい・利用したい!CL13:CW13))","v":""},{"$f":"IF(COUNT(特に買いたい・利用したい!CM13:CX13)<>12,\"\",AVERAGE(特に買いたい・利用したい!CM13:CX13))","v":""},{"$f":"IF(COUNT(特に買いたい・利用したい!CN13:CY13)<>12,\"\",AVERAGE(特に買いたい・利用したい!CN13:CY13))","v":""},{"$f":"IF(COUNT(特に買いたい・利用したい!CO13:CZ13)<>12,\"\",AVERAGE(特に買いたい・利用したい!CO13:CZ13))","v":""},{"$f":"IF(COUNT(特に買いたい・利用したい!CP13:DA13)<>12,\"\",AVERAGE(特に買いたい・利用したい!CP13:DA13))","v":""},{"$f":"IF(COUNT(特に買いたい・利用したい!CQ13:DB13)<>12,\"\",AVERAGE(特に買いたい・利用したい!CQ13:DB13))","v":""},{"$f":"IF(COUNT(特に買いたい・利用したい!CR13:DC13)<>12,\"\",AVERAGE(特に買いたい・利用したい!CR13:DC13))","v":""},{"$f":"IF(COUNT(特に買いたい・利用したい!CS13:DD13)<>12,\"\",AVERAGE(特に買いたい・利用したい!CS13:DD13))","v":""},{"$f":"IF(COUNT(特に買いたい・利用したい!CT13:DE13)<>12,\"\",AVERAGE(特に買いたい・利用したい!CT13:DE13))","v":""},{"$f":"IF(COUNT(特に買いたい・利用したい!CU13:DF13)<>12,\"\",AVERAGE(特に買いたい・利用したい!CU13:DF13))","v":""},{"$f":"IF(COUNT(特に買いたい・利用したい!CV13:DG13)<>12,\"\",AVERAGE(特に買いたい・利用したい!CV13:DG13))","v":""}]
[null,"男性年代別","男性20代",null,null,null,null,null,null,null,null,null,null,null,null,null,null,null,{"$f":"IF(COUNT(特に買いたい・利用したい!H14:S14)<>12,\"\",AVERAGE(特に買いたい・利用したい!H14:S14))","v":39.525000000000006},{"$f":"IF(COUNT(特に買いたい・利用したい!I14:T14)<>12,\"\",AVERAGE(特に買いたい・利用したい!I14:T14))","v":40.058333333333337},{"$f":"IF(COUNT(特に買いたい・利用したい!J14:U14)<>12,\"\",AVERAGE(特に買いたい・利用したい!J14:U14))","v":39.18333333333333},{"$f":"IF(COUNT(特に買いたい・利用したい!K14:V14)<>12,\"\",AVERAGE(特に買いたい・利用したい!K14:V14))","v":38.274999999999999},{"$f":"IF(COUNT(特に買いたい・利用したい!L14:W14)<>12,\"\",AVERAGE(特に買いたい・利用したい!L14:W14))","v":38.174999999999997},{"$f":"IF(COUNT(特に買いたい・利用したい!M14:X14)<>12,\"\",AVERAGE(特に買いたい・利用したい!M14:X14))","v":37.125},{"$f":"IF(COUNT(特に買いたい・利用したい!N14:Y14)<>12,\"\",AVERAGE(特に買いたい・利用したい!N14:Y14))","v":37.283333333333339},{"$f":"IF(COUNT(特に買いたい・利用したい!O14:Z14)<>12,\"\",AVERAGE(特に買いたい・利用したい!O14:Z14))","v":36.475000000000001},{"$f":"IF(COUNT(特に買いたい・利用したい!P14:AA14)<>12,\"\",AVERAGE(特に買いたい・利用したい!P14:AA14))","v":36.241666666666667},{"$f":"IF(COUNT(特に買いたい・利用したい!Q14:AB14)<>12,\"\",AVERAGE(特に買いたい・利用したい!Q14:AB14))","v":36.1},{"$f":"IF(COUNT(特に買いたい・利用したい!R14:AC14)<>12,\"\",AVERAGE(特に買いたい・利用したい!R14:AC14))","v":35.633333333333333},{"$f":"IF(COUNT(特に買いたい・利用したい!S14:AD14)<>12,\"\",AVERAGE(特に買いたい・利用したい!S14:AD14))","v":34.891666666666673},{"$f":"IF(COUNT(特に買いたい・利用したい!T14:AE14)<>12,\"\",AVERAGE(特に買いたい・利用したい!T14:AE14))","v":33.916666666666664},{"$f":"IF(COUNT(特に買いたい・利用したい!U14:AF14)<>12,\"\",AVERAGE(特に買いたい・利用したい!U14:AF14))","v":33.475000000000001},{"$f":"IF(COUNT(特に買いたい・利用したい!V14:AG14)<>12,\"\",AVERAGE(特に買いたい・利用したい!V14:AG14))","v":33.558333333333337},{"$f":"IF(COUNT(特に買いたい・利用したい!W14:AH14)<>12,\"\",AVERAGE(特に買いたい・利用したい!W14:AH14))","v":32.800000000000004},{"$f":"IF(COUNT(特に買いたい・利用したい!X14:AI14)<>12,\"\",AVERAGE(特に買いたい・利用したい!X14:AI14))","v":32.308333333333337},{"$f":"IF(COUNT(特に買いたい・利用したい!Y14:AJ14)<>12,\"\",AVERAGE(特に買いたい・利用したい!Y14:AJ14))","v":33.175000000000004},{"$f":"IF(COUNT(特に買いたい・利用したい!Z14:AK14)<>12,\"\",AVERAGE(特に買いたい・利用したい!Z14:AK14))","v":32.55833333333333},{"$f":"IF(COUNT(特に買いたい・利用したい!AA14:AL14)<>12,\"\",AVERAGE(特に買いたい・利用したい!AA14:AL14))","v":32.441666666666663},{"$f":"IF(COUNT(特に買いたい・利用したい!AB14:AM14)<>12,\"\",AVERAGE(特に買いたい・利用したい!AB14:AM14))","v":32.216666666666661},{"$f":"IF(COUNT(特に買いたい・利用したい!AC14:AN14)<>12,\"\",AVERAGE(特に買いたい・利用したい!AC14:AN14))","v":31.775000000000002},{"$f":"IF(COUNT(特に買いたい・利用したい!AD14:AO14)<>12,\"\",AVERAGE(特に買いたい・利用したい!AD14:AO14))","v":32.591666666666669},{"$f":"IF(COUNT(特に買いたい・利用したい!AE14:AP14)<>12,\"\",AVERAGE(特に買いたい・利用したい!AE14:AP14))","v":32.341666666666676},{"$f":"IF(COUNT(特に買いたい・利用したい!AF14:AQ14)<>12,\"\",AVERAGE(特に買いたい・利用したい!AF14:AQ14))","v":33.800000000000004},{"$f":"IF(COUNT(特に買いたい・利用したい!AG14:AR14)<>12,\"\",AVERAGE(特に買いたい・利用したい!AG14:AR14))","v":33.583333333333336},{"$f":"IF(COUNT(特に買いたい・利用したい!AH14:AS14)<>12,\"\",AVERAGE(特に買いたい・利用したい!AH14:AS14))","v":33.575000000000003},{"$f":"IF(COUNT(特に買いたい・利用したい!AI14:AT14)<>12,\"\",AVERAGE(特に買いたい・利用したい!AI14:AT14))","v":34.183333333333337},{"$f":"IF(COUNT(特に買いたい・利用したい!AJ14:AU14)<>12,\"\",AVERAGE(特に買いたい・利用したい!AJ14:AU14))","v":35.141666666666673},{"$f":"IF(COUNT(特に買いたい・利用したい!AK14:AV14)<>12,\"\",AVERAGE(特に買いたい・利用したい!AK14:AV14))","v":34.324999999999996},{"$f":"IF(COUNT(特に買いたい・利用したい!AL14:AW14)<>12,\"\",AVERAGE(特に買いたい・利用したい!AL14:AW14))","v":34.125},{"$f":"IF(COUNT(特に買いたい・利用したい!AM14:AX14)<>12,\"\",AVERAGE(特に買いたい・利用したい!AM14:AX14))","v":34.458333333333329},{"$f":"IF(COUNT(特に買いたい・利用したい!AN14:AY14)<>12,\"\",AVERAGE(特に買いたい・利用したい!AN14:AY14))","v":34.4},{"$f":"IF(COUNT(特に買いたい・利用したい!AO14:AZ14)<>12,\"\",AVERAGE(特に買いたい・利用したい!AO14:AZ14))","v":35.416666666666664},{"$f":"IF(COUNT(特に買いたい・利用したい!AP14:BA14)<>12,\"\",AVERAGE(特に買いたい・利用したい!AP14:BA14))","v":35.225000000000001},{"$f":"IF(COUNT(特に買いたい・利用したい!AQ14:BB14)<>12,\"\",AVERAGE(特に買いたい・利用したい!AQ14:BB14))","v":36.033333333333331},{"$f":"IF(COUNT(特に買いたい・利用したい!AR14:BC14)<>12,\"\",AVERAGE(特に買いたい・利用したい!AR14:BC14))","v":35.300000000000004},{"$f":"IF(COUNT(特に買いたい・利用したい!AS14:BD14)<>12,\"\",AVERAGE(特に買いたい・利用したい!AS14:BD14))","v":35.783333333333339},{"$f":"IF(COUNT(特に買いたい・利用したい!AT14:BE14)<>12,\"\",AVERAGE(特に買いたい・利用したい!AT14:BE14))","v":""},{"$f":"IF(COUNT(特に買いたい・利用したい!AU14:BF14)<>12,\"\",AVERAGE(特に買いたい・利用したい!AU14:BF14))","v":""},{"$f":"IF(COUNT(特に買いたい・利用したい!AV14:BG14)<>12,\"\",AVERAGE(特に買いたい・利用したい!AV14:BG14))","v":""},{"$f":"IF(COUNT(特に買いたい・利用したい!AW14:BH14)<>12,\"\",AVERAGE(特に買いたい・利用したい!AW14:BH14))","v":""},{"$f":"IF(COUNT(特に買いたい・利用したい!AX14:BI14)<>12,\"\",AVERAGE(特に買いたい・利用したい!AX14:BI14))","v":""},{"$f":"IF(COUNT(特に買いたい・利用したい!AY14:BJ14)<>12,\"\",AVERAGE(特に買いたい・利用したい!AY14:BJ14))","v":""},{"$f":"IF(COUNT(特に買いたい・利用したい!AZ14:BK14)<>12,\"\",AVERAGE(特に買いたい・利用したい!AZ14:BK14))","v":""},{"$f":"IF(COUNT(特に買いたい・利用したい!BA14:BL14)<>12,\"\",AVERAGE(特に買いたい・利用したい!BA14:BL14))","v":""},{"$f":"IF(COUNT(特に買いたい・利用したい!BB14:BM14)<>12,\"\",AVERAGE(特に買いたい・利用したい!BB14:BM14))","v":""},{"$f":"IF(COUNT(特に買いたい・利用したい!BC14:BN14)<>12,\"\",AVERAGE(特に買いたい・利用したい!BC14:BN14))","v":""},{"$f":"IF(COUNT(特に買いたい・利用したい!BD14:BO14)<>12,\"\",AVERAGE(特に買いたい・利用したい!BD14:BO14))","v":""},{"$f":"IF(COUNT(特に買いたい・利用したい!BE14:BP14)<>12,\"\",AVERAGE(特に買いたい・利用したい!BE14:BP14))","v":""},{"$f":"IF(COUNT(特に買いたい・利用したい!BF14:BQ14)<>12,\"\",AVERAGE(特に買いたい・利用したい!BF14:BQ14))","v":""},{"$f":"IF(COUNT(特に買いたい・利用したい!BG14:BR14)<>12,\"\",AVERAGE(特に買いたい・利用したい!BG14:BR14))","v":""},{"$f":"IF(COUNT(特に買いたい・利用したい!BH14:BS14)<>12,\"\",AVERAGE(特に買いたい・利用したい!BH14:BS14))","v":""},{"$f":"IF(COUNT(特に買いたい・利用したい!BI14:BT14)<>12,\"\",AVERAGE(特に買いたい・利用したい!BI14:BT14))","v":""},{"$f":"IF(COUNT(特に買いたい・利用したい!BJ14:BU14)<>12,\"\",AVERAGE(特に買いたい・利用したい!BJ14:BU14))","v":""},{"$f":"IF(COUNT(特に買いたい・利用したい!BK14:BV14)<>12,\"\",AVERAGE(特に買いたい・利用したい!BK14:BV14))","v":""},{"$f":"IF(COUNT(特に買いたい・利用したい!BL14:BW14)<>12,\"\",AVERAGE(特に買いたい・利用したい!BL14:BW14))","v":""},{"$f":"IF(COUNT(特に買いたい・利用したい!BM14:BX14)<>12,\"\",AVERAGE(特に買いたい・利用したい!BM14:BX14))","v":""},{"$f":"IF(COUNT(特に買いたい・利用したい!BN14:BY14)<>12,\"\",AVERAGE(特に買いたい・利用したい!BN14:BY14))","v":""},{"$f":"IF(COUNT(特に買いたい・利用したい!BO14:BZ14)<>12,\"\",AVERAGE(特に買いたい・利用したい!BO14:BZ14))","v":""},{"$f":"IF(COUNT(特に買いたい・利用したい!BP14:CA14)<>12,\"\",AVERAGE(特に買いたい・利用したい!BP14:CA14))","v":""},{"$f":"IF(COUNT(特に買いたい・利用したい!BQ14:CB14)<>12,\"\",AVERAGE(特に買いたい・利用したい!BQ14:CB14))","v":""},{"$f":"IF(COUNT(特に買いたい・利用したい!BR14:CC14)<>12,\"\",AVERAGE(特に買いたい・利用したい!BR14:CC14))","v":""},{"$f":"IF(COUNT(特に買いたい・利用したい!BS14:CD14)<>12,\"\",AVERAGE(特に買いたい・利用したい!BS14:CD14))","v":""},{"$f":"IF(COUNT(特に買いたい・利用したい!BT14:CE14)<>12,\"\",AVERAGE(特に買いたい・利用したい!BT14:CE14))","v":""},{"$f":"IF(COUNT(特に買いたい・利用したい!BU14:CF14)<>12,\"\",AVERAGE(特に買いたい・利用したい!BU14:CF14))","v":""},{"$f":"IF(COUNT(特に買いたい・利用したい!BV14:CG14)<>12,\"\",AVERAGE(特に買いたい・利用したい!BV14:CG14))","v":""},{"$f":"IF(COUNT(特に買いたい・利用したい!BW14:CH14)<>12,\"\",AVERAGE(特に買いたい・利用したい!BW14:CH14))","v":""},{"$f":"IF(COUNT(特に買いたい・利用したい!BX14:CI14)<>12,\"\",AVERAGE(特に買いたい・利用したい!BX14:CI14))","v":""},{"$f":"IF(COUNT(特に買いたい・利用したい!BY14:CJ14)<>12,\"\",AVERAGE(特に買いたい・利用したい!BY14:CJ14))","v":""},{"$f":"IF(COUNT(特に買いたい・利用したい!BZ14:CK14)<>12,\"\",AVERAGE(特に買いたい・利用したい!BZ14:CK14))","v":""},{"$f":"IF(COUNT(特に買いたい・利用したい!CA14:CL14)<>12,\"\",AVERAGE(特に買いたい・利用したい!CA14:CL14))","v":""},{"$f":"IF(COUNT(特に買いたい・利用したい!CB14:CM14)<>12,\"\",AVERAGE(特に買いたい・利用したい!CB14:CM14))","v":""},{"$f":"IF(COUNT(特に買いたい・利用したい!CC14:CN14)<>12,\"\",AVERAGE(特に買いたい・利用したい!CC14:CN14))","v":""},{"$f":"IF(COUNT(特に買いたい・利用したい!CD14:CO14)<>12,\"\",AVERAGE(特に買いたい・利用したい!CD14:CO14))","v":""},{"$f":"IF(COUNT(特に買いたい・利用したい!CE14:CP14)<>12,\"\",AVERAGE(特に買いたい・利用したい!CE14:CP14))","v":""},{"$f":"IF(COUNT(特に買いたい・利用したい!CF14:CQ14)<>12,\"\",AVERAGE(特に買いたい・利用したい!CF14:CQ14))","v":""},{"$f":"IF(COUNT(特に買いたい・利用したい!CG14:CR14)<>12,\"\",AVERAGE(特に買いたい・利用したい!CG14:CR14))","v":""},{"$f":"IF(COUNT(特に買いたい・利用したい!CH14:CS14)<>12,\"\",AVERAGE(特に買いたい・利用したい!CH14:CS14))","v":""},{"$f":"IF(COUNT(特に買いたい・利用したい!CI14:CT14)<>12,\"\",AVERAGE(特に買いたい・利用したい!CI14:CT14))","v":""},{"$f":"IF(COUNT(特に買いたい・利用したい!CJ14:CU14)<>12,\"\",AVERAGE(特に買いたい・利用したい!CJ14:CU14))","v":""},{"$f":"IF(COUNT(特に買いたい・利用したい!CK14:CV14)<>12,\"\",AVERAGE(特に買いたい・利用したい!CK14:CV14))","v":""},{"$f":"IF(COUNT(特に買いたい・利用したい!CL14:CW14)<>12,\"\",AVERAGE(特に買いたい・利用したい!CL14:CW14))","v":""},{"$f":"IF(COUNT(特に買いたい・利用したい!CM14:CX14)<>12,\"\",AVERAGE(特に買いたい・利用したい!CM14:CX14))","v":""},{"$f":"IF(COUNT(特に買いたい・利用したい!CN14:CY14)<>12,\"\",AVERAGE(特に買いたい・利用したい!CN14:CY14))","v":""},{"$f":"IF(COUNT(特に買いたい・利用したい!CO14:CZ14)<>12,\"\",AVERAGE(特に買いたい・利用したい!CO14:CZ14))","v":""},{"$f":"IF(COUNT(特に買いたい・利用したい!CP14:DA14)<>12,\"\",AVERAGE(特に買いたい・利用したい!CP14:DA14))","v":""},{"$f":"IF(COUNT(特に買いたい・利用したい!CQ14:DB14)<>12,\"\",AVERAGE(特に買いたい・利用したい!CQ14:DB14))","v":""},{"$f":"IF(COUNT(特に買いたい・利用したい!CR14:DC14)<>12,\"\",AVERAGE(特に買いたい・利用したい!CR14:DC14))","v":""},{"$f":"IF(COUNT(特に買いたい・利用したい!CS14:DD14)<>12,\"\",AVERAGE(特に買いたい・利用したい!CS14:DD14))","v":""},{"$f":"IF(COUNT(特に買いたい・利用したい!CT14:DE14)<>12,\"\",AVERAGE(特に買いたい・利用したい!CT14:DE14))","v":""},{"$f":"IF(COUNT(特に買いたい・利用したい!CU14:DF14)<>12,\"\",AVERAGE(特に買いたい・利用したい!CU14:DF14))","v":""},{"$f":"IF(COUNT(特に買いたい・利用したい!CV14:DG14)<>12,\"\",AVERAGE(特に買いたい・利用したい!CV14:DG14))","v":""}]
[null,null,"男性30代",null,null,null,null,null,null,null,null,null,null,null,null,null,null,null,{"$f":"IF(COUNT(特に買いたい・利用したい!H15:S15)<>12,\"\",AVERAGE(特に買いたい・利用したい!H15:S15))","v":31.324999999999999},{"$f":"IF(COUNT(特に買いたい・利用したい!I15:T15)<>12,\"\",AVERAGE(特に買いたい・利用したい!I15:T15))","v":30.824999999999999},{"$f":"IF(COUNT(特に買いたい・利用したい!J15:U15)<>12,\"\",AVERAGE(特に買いたい・利用したい!J15:U15))","v":30.424999999999997},{"$f":"IF(COUNT(特に買いたい・利用したい!K15:V15)<>12,\"\",AVERAGE(特に買いたい・利用したい!K15:V15))","v":28.8},{"$f":"IF(COUNT(特に買いたい・利用したい!L15:W15)<>12,\"\",AVERAGE(特に買いたい・利用したい!L15:W15))","v":28.358333333333334},{"$f":"IF(COUNT(特に買いたい・利用したい!M15:X15)<>12,\"\",AVERAGE(特に買いたい・利用したい!M15:X15))","v":28.05},{"$f":"IF(COUNT(特に買いたい・利用したい!N15:Y15)<>12,\"\",AVERAGE(特に買いたい・利用したい!N15:Y15))","v":28.191666666666663},{"$f":"IF(COUNT(特に買いたい・利用したい!O15:Z15)<>12,\"\",AVERAGE(特に買いたい・利用したい!O15:Z15))","v":28.333333333333332},{"$f":"IF(COUNT(特に買いたい・利用したい!P15:AA15)<>12,\"\",AVERAGE(特に買いたい・利用したい!P15:AA15))","v":28.249999999999996},{"$f":"IF(COUNT(特に買いたい・利用したい!Q15:AB15)<>12,\"\",AVERAGE(特に買いたい・利用したい!Q15:AB15))","v":27.899999999999995},{"$f":"IF(COUNT(特に買いたい・利用したい!R15:AC15)<>12,\"\",AVERAGE(特に買いたい・利用したい!R15:AC15))","v":27.991666666666671},{"$f":"IF(COUNT(特に買いたい・利用したい!S15:AD15)<>12,\"\",AVERAGE(特に買いたい・利用したい!S15:AD15))","v":27.600000000000005},{"$f":"IF(COUNT(特に買いたい・利用したい!T15:AE15)<>12,\"\",AVERAGE(特に買いたい・利用したい!T15:AE15))","v":26.541666666666671},{"$f":"IF(COUNT(特に買いたい・利用したい!U15:AF15)<>12,\"\",AVERAGE(特に買いたい・利用したい!U15:AF15))","v":25.991666666666671},{"$f":"IF(COUNT(特に買いたい・利用したい!V15:AG15)<>12,\"\",AVERAGE(特に買いたい・利用したい!V15:AG15))","v":25.75},{"$f":"IF(COUNT(特に買いたい・利用したい!W15:AH15)<>12,\"\",AVERAGE(特に買いたい・利用したい!W15:AH15))","v":26.066666666666666},{"$f":"IF(COUNT(特に買いたい・利用したい!X15:AI15)<>12,\"\",AVERAGE(特に買いたい・利用したい!X15:AI15))","v":25.783333333333335},{"$f":"IF(COUNT(特に買いたい・利用したい!Y15:AJ15)<>12,\"\",AVERAGE(特に買いたい・利用したい!Y15:AJ15))","v":25.683333333333334},{"$f":"IF(COUNT(特に買いたい・利用したい!Z15:AK15)<>12,\"\",AVERAGE(特に買いたい・利用したい!Z15:AK15))","v":25.650000000000002},{"$f":"IF(COUNT(特に買いたい・利用したい!AA15:AL15)<>12,\"\",AVERAGE(特に買いたい・利用したい!AA15:AL15))","v":25.974999999999998},{"$f":"IF(COUNT(特に買いたい・利用したい!AB15:AM15)<>12,\"\",AVERAGE(特に買いたい・利用したい!AB15:AM15))","v":26.125},{"$f":"IF(COUNT(特に買いたい・利用したい!AC15:AN15)<>12,\"\",AVERAGE(特に買いたい・利用したい!AC15:AN15))","v":26.108333333333334},{"$f":"IF(COUNT(特に買いたい・利用したい!AD15:AO15)<>12,\"\",AVERAGE(特に買いたい・利用したい!AD15:AO15))","v":25.816666666666663},{"$f":"IF(COUNT(特に買いたい・利用したい!AE15:AP15)<>12,\"\",AVERAGE(特に買いたい・利用したい!AE15:AP15))","v":25.883333333333336},{"$f":"IF(COUNT(特に買いたい・利用したい!AF15:AQ15)<>12,\"\",AVERAGE(特に買いたい・利用したい!AF15:AQ15))","v":27.191666666666666},{"$f":"IF(COUNT(特に買いたい・利用したい!AG15:AR15)<>12,\"\",AVERAGE(特に買いたい・利用したい!AG15:AR15))","v":27.925000000000001},{"$f":"IF(COUNT(特に買いたい・利用したい!AH15:AS15)<>12,\"\",AVERAGE(特に買いたい・利用したい!AH15:AS15))","v":28.616666666666671},{"$f":"IF(COUNT(特に買いたい・利用したい!AI15:AT15)<>12,\"\",AVERAGE(特に買いたい・利用したい!AI15:AT15))","v":29.366666666666674},{"$f":"IF(COUNT(特に買いたい・利用したい!AJ15:AU15)<>12,\"\",AVERAGE(特に買いたい・利用したい!AJ15:AU15))","v":29.641666666666669},{"$f":"IF(COUNT(特に買いたい・利用したい!AK15:AV15)<>12,\"\",AVERAGE(特に買いたい・利用したい!AK15:AV15))","v":29.700000000000003},{"$f":"IF(COUNT(特に買いたい・利用したい!AL15:AW15)<>12,\"\",AVERAGE(特に買いたい・利用したい!AL15:AW15))","v":30.241666666666664},{"$f":"IF(COUNT(特に買いたい・利用したい!AM15:AX15)<>12,\"\",AVERAGE(特に買いたい・利用したい!AM15:AX15))","v":29.641666666666662},{"$f":"IF(COUNT(特に買いたい・利用したい!AN15:AY15)<>12,\"\",AVERAGE(特に買いたい・利用したい!AN15:AY15))","v":29.541666666666661},{"$f":"IF(COUNT(特に買いたい・利用したい!AO15:AZ15)<>12,\"\",AVERAGE(特に買いたい・利用したい!AO15:AZ15))","v":29.783333333333331},{"$f":"IF(COUNT(特に買いたい・利用したい!AP15:BA15)<>12,\"\",AVERAGE(特に買いたい・利用したい!AP15:BA15))","v":29.533333333333335},{"$f":"IF(COUNT(特に買いたい・利用したい!AQ15:BB15)<>12,\"\",AVERAGE(特に買いたい・利用したい!AQ15:BB15))","v":29.350000000000005},{"$f":"IF(COUNT(特に買いたい・利用したい!AR15:BC15)<>12,\"\",AVERAGE(特に買いたい・利用したい!AR15:BC15))","v":29.05},{"$f":"IF(COUNT(特に買いたい・利用したい!AS15:BD15)<>12,\"\",AVERAGE(特に買いたい・利用したい!AS15:BD15))","v":29.008333333333336},{"$f":"IF(COUNT(特に買いたい・利用したい!AT15:BE15)<>12,\"\",AVERAGE(特に買いたい・利用したい!AT15:BE15))","v":""},{"$f":"IF(COUNT(特に買いたい・利用したい!AU15:BF15)<>12,\"\",AVERAGE(特に買いたい・利用したい!AU15:BF15))","v":""},{"$f":"IF(COUNT(特に買いたい・利用したい!AV15:BG15)<>12,\"\",AVERAGE(特に買いたい・利用したい!AV15:BG15))","v":""},{"$f":"IF(COUNT(特に買いたい・利用したい!AW15:BH15)<>12,\"\",AVERAGE(特に買いたい・利用したい!AW15:BH15))","v":""},{"$f":"IF(COUNT(特に買いたい・利用したい!AX15:BI15)<>12,\"\",AVERAGE(特に買いたい・利用したい!AX15:BI15))","v":""},{"$f":"IF(COUNT(特に買いたい・利用したい!AY15:BJ15)<>12,\"\",AVERAGE(特に買いたい・利用したい!AY15:BJ15))","v":""},{"$f":"IF(COUNT(特に買いたい・利用したい!AZ15:BK15)<>12,\"\",AVERAGE(特に買いたい・利用したい!AZ15:BK15))","v":""},{"$f":"IF(COUNT(特に買いたい・利用したい!BA15:BL15)<>12,\"\",AVERAGE(特に買いたい・利用したい!BA15:BL15))","v":""},{"$f":"IF(COUNT(特に買いたい・利用したい!BB15:BM15)<>12,\"\",AVERAGE(特に買いたい・利用したい!BB15:BM15))","v":""},{"$f":"IF(COUNT(特に買いたい・利用したい!BC15:BN15)<>12,\"\",AVERAGE(特に買いたい・利用したい!BC15:BN15))","v":""},{"$f":"IF(COUNT(特に買いたい・利用したい!BD15:BO15)<>12,\"\",AVERAGE(特に買いたい・利用したい!BD15:BO15))","v":""},{"$f":"IF(COUNT(特に買いたい・利用したい!BE15:BP15)<>12,\"\",AVERAGE(特に買いたい・利用したい!BE15:BP15))","v":""},{"$f":"IF(COUNT(特に買いたい・利用したい!BF15:BQ15)<>12,\"\",AVERAGE(特に買いたい・利用したい!BF15:BQ15))","v":""},{"$f":"IF(COUNT(特に買いたい・利用したい!BG15:BR15)<>12,\"\",AVERAGE(特に買いたい・利用したい!BG15:BR15))","v":""},{"$f":"IF(COUNT(特に買いたい・利用したい!BH15:BS15)<>12,\"\",AVERAGE(特に買いたい・利用したい!BH15:BS15))","v":""},{"$f":"IF(COUNT(特に買いたい・利用したい!BI15:BT15)<>12,\"\",AVERAGE(特に買いたい・利用したい!BI15:BT15))","v":""},{"$f":"IF(COUNT(特に買いたい・利用したい!BJ15:BU15)<>12,\"\",AVERAGE(特に買いたい・利用したい!BJ15:BU15))","v":""},{"$f":"IF(COUNT(特に買いたい・利用したい!BK15:BV15)<>12,\"\",AVERAGE(特に買いたい・利用したい!BK15:BV15))","v":""},{"$f":"IF(COUNT(特に買いたい・利用したい!BL15:BW15)<>12,\"\",AVERAGE(特に買いたい・利用したい!BL15:BW15))","v":""},{"$f":"IF(COUNT(特に買いたい・利用したい!BM15:BX15)<>12,\"\",AVERAGE(特に買いたい・利用したい!BM15:BX15))","v":""},{"$f":"IF(COUNT(特に買いたい・利用したい!BN15:BY15)<>12,\"\",AVERAGE(特に買いたい・利用したい!BN15:BY15))","v":""},{"$f":"IF(COUNT(特に買いたい・利用したい!BO15:BZ15)<>12,\"\",AVERAGE(特に買いたい・利用したい!BO15:BZ15))","v":""},{"$f":"IF(COUNT(特に買いたい・利用したい!BP15:CA15)<>12,\"\",AVERAGE(特に買いたい・利用したい!BP15:CA15))","v":""},{"$f":"IF(COUNT(特に買いたい・利用したい!BQ15:CB15)<>12,\"\",AVERAGE(特に買いたい・利用したい!BQ15:CB15))","v":""},{"$f":"IF(COUNT(特に買いたい・利用したい!BR15:CC15)<>12,\"\",AVERAGE(特に買いたい・利用したい!BR15:CC15))","v":""},{"$f":"IF(COUNT(特に買いたい・利用したい!BS15:CD15)<>12,\"\",AVERAGE(特に買いたい・利用したい!BS15:CD15))","v":""},{"$f":"IF(COUNT(特に買いたい・利用したい!BT15:CE15)<>12,\"\",AVERAGE(特に買いたい・利用したい!BT15:CE15))","v":""},{"$f":"IF(COUNT(特に買いたい・利用したい!BU15:CF15)<>12,\"\",AVERAGE(特に買いたい・利用したい!BU15:CF15))","v":""},{"$f":"IF(COUNT(特に買いたい・利用したい!BV15:CG15)<>12,\"\",AVERAGE(特に買いたい・利用したい!BV15:CG15))","v":""},{"$f":"IF(COUNT(特に買いたい・利用したい!BW15:CH15)<>12,\"\",AVERAGE(特に買いたい・利用したい!BW15:CH15))","v":""},{"$f":"IF(COUNT(特に買いたい・利用したい!BX15:CI15)<>12,\"\",AVERAGE(特に買いたい・利用したい!BX15:CI15))","v":""},{"$f":"IF(COUNT(特に買いたい・利用したい!BY15:CJ15)<>12,\"\",AVERAGE(特に買いたい・利用したい!BY15:CJ15))","v":""},{"$f":"IF(COUNT(特に買いたい・利用したい!BZ15:CK15)<>12,\"\",AVERAGE(特に買いたい・利用したい!BZ15:CK15))","v":""},{"$f":"IF(COUNT(特に買いたい・利用したい!CA15:CL15)<>12,\"\",AVERAGE(特に買いたい・利用したい!CA15:CL15))","v":""},{"$f":"IF(COUNT(特に買いたい・利用したい!CB15:CM15)<>12,\"\",AVERAGE(特に買いたい・利用したい!CB15:CM15))","v":""},{"$f":"IF(COUNT(特に買いたい・利用したい!CC15:CN15)<>12,\"\",AVERAGE(特に買いたい・利用したい!CC15:CN15))","v":""},{"$f":"IF(COUNT(特に買いたい・利用したい!CD15:CO15)<>12,\"\",AVERAGE(特に買いたい・利用したい!CD15:CO15))","v":""},{"$f":"IF(COUNT(特に買いたい・利用したい!CE15:CP15)<>12,\"\",AVERAGE(特に買いたい・利用したい!CE15:CP15))","v":""},{"$f":"IF(COUNT(特に買いたい・利用したい!CF15:CQ15)<>12,\"\",AVERAGE(特に買いたい・利用したい!CF15:CQ15))","v":""},{"$f":"IF(COUNT(特に買いたい・利用したい!CG15:CR15)<>12,\"\",AVERAGE(特に買いたい・利用したい!CG15:CR15))","v":""},{"$f":"IF(COUNT(特に買いたい・利用したい!CH15:CS15)<>12,\"\",AVERAGE(特に買いたい・利用したい!CH15:CS15))","v":""},{"$f":"IF(COUNT(特に買いたい・利用したい!CI15:CT15)<>12,\"\",AVERAGE(特に買いたい・利用したい!CI15:CT15))","v":""},{"$f":"IF(COUNT(特に買いたい・利用したい!CJ15:CU15)<>12,\"\",AVERAGE(特に買いたい・利用したい!CJ15:CU15))","v":""},{"$f":"IF(COUNT(特に買いたい・利用したい!CK15:CV15)<>12,\"\",AVERAGE(特に買いたい・利用したい!CK15:CV15))","v":""},{"$f":"IF(COUNT(特に買いたい・利用したい!CL15:CW15)<>12,\"\",AVERAGE(特に買いたい・利用したい!CL15:CW15))","v":""},{"$f":"IF(COUNT(特に買いたい・利用したい!CM15:CX15)<>12,\"\",AVERAGE(特に買いたい・利用したい!CM15:CX15))","v":""},{"$f":"IF(COUNT(特に買いたい・利用したい!CN15:CY15)<>12,\"\",AVERAGE(特に買いたい・利用したい!CN15:CY15))","v":""},{"$f":"IF(COUNT(特に買いたい・利用したい!CO15:CZ15)<>12,\"\",AVERAGE(特に買いたい・利用したい!CO15:CZ15))","v":""},{"$f":"IF(COUNT(特に買いたい・利用したい!CP15:DA15)<>12,\"\",AVERAGE(特に買いたい・利用したい!CP15:DA15))","v":""},{"$f":"IF(COUNT(特に買いたい・利用したい!CQ15:DB15)<>12,\"\",AVERAGE(特に買いたい・利用したい!CQ15:DB15))","v":""},{"$f":"IF(COUNT(特に買いたい・利用したい!CR15:DC15)<>12,\"\",AVERAGE(特に買いたい・利用したい!CR15:DC15))","v":""},{"$f":"IF(COUNT(特に買いたい・利用したい!CS15:DD15)<>12,\"\",AVERAGE(特に買いたい・利用したい!CS15:DD15))","v":""},{"$f":"IF(COUNT(特に買いたい・利用したい!CT15:DE15)<>12,\"\",AVERAGE(特に買いたい・利用したい!CT15:DE15))","v":""},{"$f":"IF(COUNT(特に買いたい・利用したい!CU15:DF15)<>12,\"\",AVERAGE(特に買いたい・利用したい!CU15:DF15))","v":""},{"$f":"IF(COUNT(特に買いたい・利用したい!CV15:DG15)<>12,\"\",AVERAGE(特に買いたい・利用したい!CV15:DG15))","v":""}]
[null,null,"男性40代",null,null,null,null,null,null,null,null,null,null,null,null,null,null,null,{"$f":"IF(COUNT(特に買いたい・利用したい!H16:S16)<>12,\"\",AVERAGE(特に買いたい・利用したい!H16:S16))","v":28.066666666666674},{"$f":"IF(COUNT(特に買いたい・利用したい!I16:T16)<>12,\"\",AVERAGE(特に買いたい・利用したい!I16:T16))","v":27.866666666666664},{"$f":"IF(COUNT(特に買いたい・利用したい!J16:U16)<>12,\"\",AVERAGE(特に買いたい・利用したい!J16:U16))","v":27.416666666666668},{"$f":"IF(COUNT(特に買いたい・利用したい!K16:V16)<>12,\"\",AVERAGE(特に買いたい・利用したい!K16:V16))","v":26.641666666666669},{"$f":"IF(COUNT(特に買いたい・利用したい!L16:W16)<>12,\"\",AVERAGE(特に買いたい・利用したい!L16:W16))","v":25.883333333333336},{"$f":"IF(COUNT(特に買いたい・利用したい!M16:X16)<>12,\"\",AVERAGE(特に買いたい・利用したい!M16:X16))","v":25.55},{"$f":"IF(COUNT(特に買いたい・利用したい!N16:Y16)<>12,\"\",AVERAGE(特に買いたい・利用したい!N16:Y16))","v":25.874999999999996},{"$f":"IF(COUNT(特に買いたい・利用したい!O16:Z16)<>12,\"\",AVERAGE(特に買いたい・利用したい!O16:Z16))","v":26.066666666666663},{"$f":"IF(COUNT(特に買いたい・利用したい!P16:AA16)<>12,\"\",AVERAGE(特に買いたい・利用したい!P16:AA16))","v":25.883333333333329},{"$f":"IF(COUNT(特に買いたい・利用したい!Q16:AB16)<>12,\"\",AVERAGE(特に買いたい・利用したい!Q16:AB16))","v":25.425000000000001},{"$f":"IF(COUNT(特に買いたい・利用したい!R16:AC16)<>12,\"\",AVERAGE(特に買いたい・利用したい!R16:AC16))","v":25.658333333333335},{"$f":"IF(COUNT(特に買いたい・利用したい!S16:AD16)<>12,\"\",AVERAGE(特に買いたい・利用したい!S16:AD16))","v":25.875},{"$f":"IF(COUNT(特に買いたい・利用したい!T16:AE16)<>12,\"\",AVERAGE(特に買いたい・利用したい!T16:AE16))","v":25.141666666666669},{"$f":"IF(COUNT(特に買いたい・利用したい!U16:AF16)<>12,\"\",AVERAGE(特に買いたい・利用したい!U16:AF16))","v":24.716666666666669},{"$f":"IF(COUNT(特に買いたい・利用したい!V16:AG16)<>12,\"\",AVERAGE(特に買いたい・利用したい!V16:AG16))","v":24.558333333333337},{"$f":"IF(COUNT(特に買いたい・利用したい!W16:AH16)<>12,\"\",AVERAGE(特に買いたい・利用したい!W16:AH16))","v":23.733333333333334},{"$f":"IF(COUNT(特に買いたい・利用したい!X16:AI16)<>12,\"\",AVERAGE(特に買いたい・利用したい!X16:AI16))","v":23.566666666666666},{"$f":"IF(COUNT(特に買いたい・利用したい!Y16:AJ16)<>12,\"\",AVERAGE(特に買いたい・利用したい!Y16:AJ16))","v":24.174999999999997},{"$f":"IF(COUNT(特に買いたい・利用したい!Z16:AK16)<>12,\"\",AVERAGE(特に買いたい・利用したい!Z16:AK16))","v":23.441666666666666},{"$f":"IF(COUNT(特に買いたい・利用したい!AA16:AL16)<>12,\"\",AVERAGE(特に買いたい・利用したい!AA16:AL16))","v":23.091666666666665},{"$f":"IF(COUNT(特に買いたい・利用したい!AB16:AM16)<>12,\"\",AVERAGE(特に買いたい・利用したい!AB16:AM16))","v":22.758333333333329},{"$f":"IF(COUNT(特に買いたい・利用したい!AC16:AN16)<>12,\"\",AVERAGE(特に買いたい・利用したい!AC16:AN16))","v":22.649999999999995},{"$f":"IF(COUNT(特に買いたい・利用したい!AD16:AO16)<>12,\"\",AVERAGE(特に買いたい・利用したい!AD16:AO16))","v":22.391666666666669},{"$f":"IF(COUNT(特に買いたい・利用したい!AE16:AP16)<>12,\"\",AVERAGE(特に買いたい・利用したい!AE16:AP16))","v":21.599999999999998},{"$f":"IF(COUNT(特に買いたい・利用したい!AF16:AQ16)<>12,\"\",AVERAGE(特に買いたい・利用したい!AF16:AQ16))","v":22.400000000000002},{"$f":"IF(COUNT(特に買いたい・利用したい!AG16:AR16)<>12,\"\",AVERAGE(特に買いたい・利用したい!AG16:AR16))","v":22.808333333333334},{"$f":"IF(COUNT(特に買いたい・利用したい!AH16:AS16)<>12,\"\",AVERAGE(特に買いたい・利用したい!AH16:AS16))","v":23.291666666666668},{"$f":"IF(COUNT(特に買いたい・利用したい!AI16:AT16)<>12,\"\",AVERAGE(特に買いたい・利用したい!AI16:AT16))","v":23.641666666666666},{"$f":"IF(COUNT(特に買いたい・利用したい!AJ16:AU16)<>12,\"\",AVERAGE(特に買いたい・利用したい!AJ16:AU16))","v":23.75},{"$f":"IF(COUNT(特に買いたい・利用したい!AK16:AV16)<>12,\"\",AVERAGE(特に買いたい・利用したい!AK16:AV16))","v":24.275000000000002},{"$f":"IF(COUNT(特に買いたい・利用したい!AL16:AW16)<>12,\"\",AVERAGE(特に買いたい・利用したい!AL16:AW16))","v":24.533333333333335},{"$f":"IF(COUNT(特に買いたい・利用したい!AM16:AX16)<>12,\"\",AVERAGE(特に買いたい・利用したい!AM16:AX16))","v":24.7},{"$f":"IF(COUNT(特に買いたい・利用したい!AN16:AY16)<>12,\"\",AVERAGE(特に買いたい・利用したい!AN16:AY16))","v":25.158333333333331},{"$f":"IF(COUNT(特に買いたい・利用したい!AO16:AZ16)<>12,\"\",AVERAGE(特に買いたい・利用したい!AO16:AZ16))","v":25.191666666666663},{"$f":"IF(COUNT(特に買いたい・利用したい!AP16:BA16)<>12,\"\",AVERAGE(特に買いたい・利用したい!AP16:BA16))","v":24.716666666666665},{"$f":"IF(COUNT(特に買いたい・利用したい!AQ16:BB16)<>12,\"\",AVERAGE(特に買いたい・利用したい!AQ16:BB16))","v":24.558333333333334},{"$f":"IF(COUNT(特に買いたい・利用したい!AR16:BC16)<>12,\"\",AVERAGE(特に買いたい・利用したい!AR16:BC16))","v":24.808333333333334},{"$f":"IF(COUNT(特に買いたい・利用したい!AS16:BD16)<>12,\"\",AVERAGE(特に買いたい・利用したい!AS16:BD16))","v":24.791666666666668},{"$f":"IF(COUNT(特に買いたい・利用したい!AT16:BE16)<>12,\"\",AVERAGE(特に買いたい・利用したい!AT16:BE16))","v":""},{"$f":"IF(COUNT(特に買いたい・利用したい!AU16:BF16)<>12,\"\",AVERAGE(特に買いたい・利用したい!AU16:BF16))","v":""},{"$f":"IF(COUNT(特に買いたい・利用したい!AV16:BG16)<>12,\"\",AVERAGE(特に買いたい・利用したい!AV16:BG16))","v":""},{"$f":"IF(COUNT(特に買いたい・利用したい!AW16:BH16)<>12,\"\",AVERAGE(特に買いたい・利用したい!AW16:BH16))","v":""},{"$f":"IF(COUNT(特に買いたい・利用したい!AX16:BI16)<>12,\"\",AVERAGE(特に買いたい・利用したい!AX16:BI16))","v":""},{"$f":"IF(COUNT(特に買いたい・利用したい!AY16:BJ16)<>12,\"\",AVERAGE(特に買いたい・利用したい!AY16:BJ16))","v":""},{"$f":"IF(COUNT(特に買いたい・利用したい!AZ16:BK16)<>12,\"\",AVERAGE(特に買いたい・利用したい!AZ16:BK16))","v":""},{"$f":"IF(COUNT(特に買いたい・利用したい!BA16:BL16)<>12,\"\",AVERAGE(特に買いたい・利用したい!BA16:BL16))","v":""},{"$f":"IF(COUNT(特に買いたい・利用したい!BB16:BM16)<>12,\"\",AVERAGE(特に買いたい・利用したい!BB16:BM16))","v":""},{"$f":"IF(COUNT(特に買いたい・利用したい!BC16:BN16)<>12,\"\",AVERAGE(特に買いたい・利用したい!BC16:BN16))","v":""},{"$f":"IF(COUNT(特に買いたい・利用したい!BD16:BO16)<>12,\"\",AVERAGE(特に買いたい・利用したい!BD16:BO16))","v":""},{"$f":"IF(COUNT(特に買いたい・利用したい!BE16:BP16)<>12,\"\",AVERAGE(特に買いたい・利用したい!BE16:BP16))","v":""},{"$f":"IF(COUNT(特に買いたい・利用したい!BF16:BQ16)<>12,\"\",AVERAGE(特に買いたい・利用したい!BF16:BQ16))","v":""},{"$f":"IF(COUNT(特に買いたい・利用したい!BG16:BR16)<>12,\"\",AVERAGE(特に買いたい・利用したい!BG16:BR16))","v":""},{"$f":"IF(COUNT(特に買いたい・利用したい!BH16:BS16)<>12,\"\",AVERAGE(特に買いたい・利用したい!BH16:BS16))","v":""},{"$f":"IF(COUNT(特に買いたい・利用したい!BI16:BT16)<>12,\"\",AVERAGE(特に買いたい・利用したい!BI16:BT16))","v":""},{"$f":"IF(COUNT(特に買いたい・利用したい!BJ16:BU16)<>12,\"\",AVERAGE(特に買いたい・利用したい!BJ16:BU16))","v":""},{"$f":"IF(COUNT(特に買いたい・利用したい!BK16:BV16)<>12,\"\",AVERAGE(特に買いたい・利用したい!BK16:BV16))","v":""},{"$f":"IF(COUNT(特に買いたい・利用したい!BL16:BW16)<>12,\"\",AVERAGE(特に買いたい・利用したい!BL16:BW16))","v":""},{"$f":"IF(COUNT(特に買いたい・利用したい!BM16:BX16)<>12,\"\",AVERAGE(特に買いたい・利用したい!BM16:BX16))","v":""},{"$f":"IF(COUNT(特に買いたい・利用したい!BN16:BY16)<>12,\"\",AVERAGE(特に買いたい・利用したい!BN16:BY16))","v":""},{"$f":"IF(COUNT(特に買いたい・利用したい!BO16:BZ16)<>12,\"\",AVERAGE(特に買いたい・利用したい!BO16:BZ16))","v":""},{"$f":"IF(COUNT(特に買いたい・利用したい!BP16:CA16)<>12,\"\",AVERAGE(特に買いたい・利用したい!BP16:CA16))","v":""},{"$f":"IF(COUNT(特に買いたい・利用したい!BQ16:CB16)<>12,\"\",AVERAGE(特に買いたい・利用したい!BQ16:CB16))","v":""},{"$f":"IF(COUNT(特に買いたい・利用したい!BR16:CC16)<>12,\"\",AVERAGE(特に買いたい・利用したい!BR16:CC16))","v":""},{"$f":"IF(COUNT(特に買いたい・利用したい!BS16:CD16)<>12,\"\",AVERAGE(特に買いたい・利用したい!BS16:CD16))","v":""},{"$f":"IF(COUNT(特に買いたい・利用したい!BT16:CE16)<>12,\"\",AVERAGE(特に買いたい・利用したい!BT16:CE16))","v":""},{"$f":"IF(COUNT(特に買いたい・利用したい!BU16:CF16)<>12,\"\",AVERAGE(特に買いたい・利用したい!BU16:CF16))","v":""},{"$f":"IF(COUNT(特に買いたい・利用したい!BV16:CG16)<>12,\"\",AVERAGE(特に買いたい・利用したい!BV16:CG16))","v":""},{"$f":"IF(COUNT(特に買いたい・利用したい!BW16:CH16)<>12,\"\",AVERAGE(特に買いたい・利用したい!BW16:CH16))","v":""},{"$f":"IF(COUNT(特に買いたい・利用したい!BX16:CI16)<>12,\"\",AVERAGE(特に買いたい・利用したい!BX16:CI16))","v":""},{"$f":"IF(COUNT(特に買いたい・利用したい!BY16:CJ16)<>12,\"\",AVERAGE(特に買いたい・利用したい!BY16:CJ16))","v":""},{"$f":"IF(COUNT(特に買いたい・利用したい!BZ16:CK16)<>12,\"\",AVERAGE(特に買いたい・利用したい!BZ16:CK16))","v":""},{"$f":"IF(COUNT(特に買いたい・利用したい!CA16:CL16)<>12,\"\",AVERAGE(特に買いたい・利用したい!CA16:CL16))","v":""},{"$f":"IF(COUNT(特に買いたい・利用したい!CB16:CM16)<>12,\"\",AVERAGE(特に買いたい・利用したい!CB16:CM16))","v":""},{"$f":"IF(COUNT(特に買いたい・利用したい!CC16:CN16)<>12,\"\",AVERAGE(特に買いたい・利用したい!CC16:CN16))","v":""},{"$f":"IF(COUNT(特に買いたい・利用したい!CD16:CO16)<>12,\"\",AVERAGE(特に買いたい・利用したい!CD16:CO16))","v":""},{"$f":"IF(COUNT(特に買いたい・利用したい!CE16:CP16)<>12,\"\",AVERAGE(特に買いたい・利用したい!CE16:CP16))","v":""},{"$f":"IF(COUNT(特に買いたい・利用したい!CF16:CQ16)<>12,\"\",AVERAGE(特に買いたい・利用したい!CF16:CQ16))","v":""},{"$f":"IF(COUNT(特に買いたい・利用したい!CG16:CR16)<>12,\"\",AVERAGE(特に買いたい・利用したい!CG16:CR16))","v":""},{"$f":"IF(COUNT(特に買いたい・利用したい!CH16:CS16)<>12,\"\",AVERAGE(特に買いたい・利用したい!CH16:CS16))","v":""},{"$f":"IF(COUNT(特に買いたい・利用したい!CI16:CT16)<>12,\"\",AVERAGE(特に買いたい・利用したい!CI16:CT16))","v":""},{"$f":"IF(COUNT(特に買いたい・利用したい!CJ16:CU16)<>12,\"\",AVERAGE(特に買いたい・利用したい!CJ16:CU16))","v":""},{"$f":"IF(COUNT(特に買いたい・利用したい!CK16:CV16)<>12,\"\",AVERAGE(特に買いたい・利用したい!CK16:CV16))","v":""},{"$f":"IF(COUNT(特に買いたい・利用したい!CL16:CW16)<>12,\"\",AVERAGE(特に買いたい・利用したい!CL16:CW16))","v":""},{"$f":"IF(COUNT(特に買いたい・利用したい!CM16:CX16)<>12,\"\",AVERAGE(特に買いたい・利用したい!CM16:CX16))","v":""},{"$f":"IF(COUNT(特に買いたい・利用したい!CN16:CY16)<>12,\"\",AVERAGE(特に買いたい・利用したい!CN16:CY16))","v":""},{"$f":"IF(COUNT(特に買いたい・利用したい!CO16:CZ16)<>12,\"\",AVERAGE(特に買いたい・利用したい!CO16:CZ16))","v":""},{"$f":"IF(COUNT(特に買いたい・利用したい!CP16:DA16)<>12,\"\",AVERAGE(特に買いたい・利用したい!CP16:DA16))","v":""},{"$f":"IF(COUNT(特に買いたい・利用したい!CQ16:DB16)<>12,\"\",AVERAGE(特に買いたい・利用したい!CQ16:DB16))","v":""},{"$f":"IF(COUNT(特に買いたい・利用したい!CR16:DC16)<>12,\"\",AVERAGE(特に買いたい・利用したい!CR16:DC16))","v":""},{"$f":"IF(COUNT(特に買いたい・利用したい!CS16:DD16)<>12,\"\",AVERAGE(特に買いたい・利用したい!CS16:DD16))","v":""},{"$f":"IF(COUNT(特に買いたい・利用したい!CT16:DE16)<>12,\"\",AVERAGE(特に買いたい・利用したい!CT16:DE16))","v":""},{"$f":"IF(COUNT(特に買いたい・利用したい!CU16:DF16)<>12,\"\",AVERAGE(特に買いたい・利用したい!CU16:DF16))","v":""},{"$f":"IF(COUNT(特に買いたい・利用したい!CV16:DG16)<>12,\"\",AVERAGE(特に買いたい・利用したい!CV16:DG16))","v":""}]
[null,null,"男性50代",null,null,null,null,null,null,null,null,null,null,null,null,null,null,null,{"$f":"IF(COUNT(特に買いたい・利用したい!H17:S17)<>12,\"\",AVERAGE(特に買いたい・利用したい!H17:S17))","v":26.758333333333336},{"$f":"IF(COUNT(特に買いたい・利用したい!I17:T17)<>12,\"\",AVERAGE(特に買いたい・利用したい!I17:T17))","v":26.933333333333334},{"$f":"IF(COUNT(特に買いたい・利用したい!J17:U17)<>12,\"\",AVERAGE(特に買いたい・利用したい!J17:U17))","v":26.791666666666668},{"$f":"IF(COUNT(特に買いたい・利用したい!K17:V17)<>12,\"\",AVERAGE(特に買いたい・利用したい!K17:V17))","v":26.708333333333332},{"$f":"IF(COUNT(特に買いたい・利用したい!L17:W17)<>12,\"\",AVERAGE(特に買いたい・利用したい!L17:W17))","v":26.5},{"$f":"IF(COUNT(特に買いたい・利用したい!M17:X17)<>12,\"\",AVERAGE(特に買いたい・利用したい!M17:X17))","v":25.833333333333332},{"$f":"IF(COUNT(特に買いたい・利用したい!N17:Y17)<>12,\"\",AVERAGE(特に買いたい・利用したい!N17:Y17))","v":25.441666666666666},{"$f":"IF(COUNT(特に買いたい・利用したい!O17:Z17)<>12,\"\",AVERAGE(特に買いたい・利用したい!O17:Z17))","v":24.533333333333335},{"$f":"IF(COUNT(特に買いたい・利用したい!P17:AA17)<>12,\"\",AVERAGE(特に買いたい・利用したい!P17:AA17))","v":24.016666666666666},{"$f":"IF(COUNT(特に買いたい・利用したい!Q17:AB17)<>12,\"\",AVERAGE(特に買いたい・利用したい!Q17:AB17))","v":23.491666666666664},{"$f":"IF(COUNT(特に買いたい・利用したい!R17:AC17)<>12,\"\",AVERAGE(特に買いたい・利用したい!R17:AC17))","v":22.824999999999999},{"$f":"IF(COUNT(特に買いたい・利用したい!S17:AD17)<>12,\"\",AVERAGE(特に買いたい・利用したい!S17:AD17))","v":22.616666666666671},{"$f":"IF(COUNT(特に買いたい・利用したい!T17:AE17)<>12,\"\",AVERAGE(特に買いたい・利用したい!T17:AE17))","v":20.358333333333334},{"$f":"IF(COUNT(特に買いたい・利用したい!U17:AF17)<>12,\"\",AVERAGE(特に買いたい・利用したい!U17:AF17))","v":19.55},{"$f":"IF(COUNT(特に買いたい・利用したい!V17:AG17)<>12,\"\",AVERAGE(特に買いたい・利用したい!V17:AG17))","v":18.941666666666666},{"$f":"IF(COUNT(特に買いたい・利用したい!W17:AH17)<>12,\"\",AVERAGE(特に買いたい・利用したい!W17:AH17))","v":18.516666666666666},{"$f":"IF(COUNT(特に買いたい・利用したい!X17:AI17)<>12,\"\",AVERAGE(特に買いたい・利用したい!X17:AI17))","v":18.858333333333331},{"$f":"IF(COUNT(特に買いたい・利用したい!Y17:AJ17)<>12,\"\",AVERAGE(特に買いたい・利用したい!Y17:AJ17))","v":18.641666666666669},{"$f":"IF(COUNT(特に買いたい・利用したい!Z17:AK17)<>12,\"\",AVERAGE(特に買いたい・利用したい!Z17:AK17))","v":18.591666666666665},{"$f":"IF(COUNT(特に買いたい・利用したい!AA17:AL17)<>12,\"\",AVERAGE(特に買いたい・利用したい!AA17:AL17))","v":19.375},{"$f":"IF(COUNT(特に買いたい・利用したい!AB17:AM17)<>12,\"\",AVERAGE(特に買いたい・利用したい!AB17:AM17))","v":20.074999999999999},{"$f":"IF(COUNT(特に買いたい・利用したい!AC17:AN17)<>12,\"\",AVERAGE(特に買いたい・利用したい!AC17:AN17))","v":19.524999999999995},{"$f":"IF(COUNT(特に買いたい・利用したい!AD17:AO17)<>12,\"\",AVERAGE(特に買いたい・利用したい!AD17:AO17))","v":19.749999999999996},{"$f":"IF(COUNT(特に買いたい・利用したい!AE17:AP17)<>12,\"\",AVERAGE(特に買いたい・利用したい!AE17:AP17))","v":19.766666666666669},{"$f":"IF(COUNT(特に買いたい・利用したい!AF17:AQ17)<>12,\"\",AVERAGE(特に買いたい・利用したい!AF17:AQ17))","v":20.958333333333336},{"$f":"IF(COUNT(特に買いたい・利用したい!AG17:AR17)<>12,\"\",AVERAGE(特に買いたい・利用したい!AG17:AR17))","v":21.483333333333334},{"$f":"IF(COUNT(特に買いたい・利用したい!AH17:AS17)<>12,\"\",AVERAGE(特に買いたい・利用したい!AH17:AS17))","v":21.991666666666664},{"$f":"IF(COUNT(特に買いたい・利用したい!AI17:AT17)<>12,\"\",AVERAGE(特に買いたい・利用したい!AI17:AT17))","v":22.558333333333337},{"$f":"IF(COUNT(特に買いたい・利用したい!AJ17:AU17)<>12,\"\",AVERAGE(特に買いたい・利用したい!AJ17:AU17))","v":22.308333333333334},{"$f":"IF(COUNT(特に買いたい・利用したい!AK17:AV17)<>12,\"\",AVERAGE(特に買いたい・利用したい!AK17:AV17))","v":22.516666666666666},{"$f":"IF(COUNT(特に買いたい・利用したい!AL17:AW17)<>12,\"\",AVERAGE(特に買いたい・利用したい!AL17:AW17))","v":21.850000000000005},{"$f":"IF(COUNT(特に買いたい・利用したい!AM17:AX17)<>12,\"\",AVERAGE(特に買いたい・利用したい!AM17:AX17))","v":21.3},{"$f":"IF(COUNT(特に買いたい・利用したい!AN17:AY17)<>12,\"\",AVERAGE(特に買いたい・利用したい!AN17:AY17))","v":20.608333333333334},{"$f":"IF(COUNT(特に買いたい・利用したい!AO17:AZ17)<>12,\"\",AVERAGE(特に買いたい・利用したい!AO17:AZ17))","v":20.258333333333333},{"$f":"IF(COUNT(特に買いたい・利用したい!AP17:BA17)<>12,\"\",AVERAGE(特に買いたい・利用したい!AP17:BA17))","v":20.033333333333335},{"$f":"IF(COUNT(特に買いたい・利用したい!AQ17:BB17)<>12,\"\",AVERAGE(特に買いたい・利用したい!AQ17:BB17))","v":19.3},{"$f":"IF(COUNT(特に買いたい・利用したい!AR17:BC17)<>12,\"\",AVERAGE(特に買いたい・利用したい!AR17:BC17))","v":19},{"$f":"IF(COUNT(特に買いたい・利用したい!AS17:BD17)<>12,\"\",AVERAGE(特に買いたい・利用したい!AS17:BD17))","v":19.308333333333334},{"$f":"IF(COUNT(特に買いたい・利用したい!AT17:BE17)<>12,\"\",AVERAGE(特に買いたい・利用したい!AT17:BE17))","v":""},{"$f":"IF(COUNT(特に買いたい・利用したい!AU17:BF17)<>12,\"\",AVERAGE(特に買いたい・利用したい!AU17:BF17))","v":""},{"$f":"IF(COUNT(特に買いたい・利用したい!AV17:BG17)<>12,\"\",AVERAGE(特に買いたい・利用したい!AV17:BG17))","v":""},{"$f":"IF(COUNT(特に買いたい・利用したい!AW17:BH17)<>12,\"\",AVERAGE(特に買いたい・利用したい!AW17:BH17))","v":""},{"$f":"IF(COUNT(特に買いたい・利用したい!AX17:BI17)<>12,\"\",AVERAGE(特に買いたい・利用したい!AX17:BI17))","v":""},{"$f":"IF(COUNT(特に買いたい・利用したい!AY17:BJ17)<>12,\"\",AVERAGE(特に買いたい・利用したい!AY17:BJ17))","v":""},{"$f":"IF(COUNT(特に買いたい・利用したい!AZ17:BK17)<>12,\"\",AVERAGE(特に買いたい・利用したい!AZ17:BK17))","v":""},{"$f":"IF(COUNT(特に買いたい・利用したい!BA17:BL17)<>12,\"\",AVERAGE(特に買いたい・利用したい!BA17:BL17))","v":""},{"$f":"IF(COUNT(特に買いたい・利用したい!BB17:BM17)<>12,\"\",AVERAGE(特に買いたい・利用したい!BB17:BM17))","v":""},{"$f":"IF(COUNT(特に買いたい・利用したい!BC17:BN17)<>12,\"\",AVERAGE(特に買いたい・利用したい!BC17:BN17))","v":""},{"$f":"IF(COUNT(特に買いたい・利用したい!BD17:BO17)<>12,\"\",AVERAGE(特に買いたい・利用したい!BD17:BO17))","v":""},{"$f":"IF(COUNT(特に買いたい・利用したい!BE17:BP17)<>12,\"\",AVERAGE(特に買いたい・利用したい!BE17:BP17))","v":""},{"$f":"IF(COUNT(特に買いたい・利用したい!BF17:BQ17)<>12,\"\",AVERAGE(特に買いたい・利用したい!BF17:BQ17))","v":""},{"$f":"IF(COUNT(特に買いたい・利用したい!BG17:BR17)<>12,\"\",AVERAGE(特に買いたい・利用したい!BG17:BR17))","v":""},{"$f":"IF(COUNT(特に買いたい・利用したい!BH17:BS17)<>12,\"\",AVERAGE(特に買いたい・利用したい!BH17:BS17))","v":""},{"$f":"IF(COUNT(特に買いたい・利用したい!BI17:BT17)<>12,\"\",AVERAGE(特に買いたい・利用したい!BI17:BT17))","v":""},{"$f":"IF(COUNT(特に買いたい・利用したい!BJ17:BU17)<>12,\"\",AVERAGE(特に買いたい・利用したい!BJ17:BU17))","v":""},{"$f":"IF(COUNT(特に買いたい・利用したい!BK17:BV17)<>12,\"\",AVERAGE(特に買いたい・利用したい!BK17:BV17))","v":""},{"$f":"IF(COUNT(特に買いたい・利用したい!BL17:BW17)<>12,\"\",AVERAGE(特に買いたい・利用したい!BL17:BW17))","v":""},{"$f":"IF(COUNT(特に買いたい・利用したい!BM17:BX17)<>12,\"\",AVERAGE(特に買いたい・利用したい!BM17:BX17))","v":""},{"$f":"IF(COUNT(特に買いたい・利用したい!BN17:BY17)<>12,\"\",AVERAGE(特に買いたい・利用したい!BN17:BY17))","v":""},{"$f":"IF(COUNT(特に買いたい・利用したい!BO17:BZ17)<>12,\"\",AVERAGE(特に買いたい・利用したい!BO17:BZ17))","v":""},{"$f":"IF(COUNT(特に買いたい・利用したい!BP17:CA17)<>12,\"\",AVERAGE(特に買いたい・利用したい!BP17:CA17))","v":""},{"$f":"IF(COUNT(特に買いたい・利用したい!BQ17:CB17)<>12,\"\",AVERAGE(特に買いたい・利用したい!BQ17:CB17))","v":""},{"$f":"IF(COUNT(特に買いたい・利用したい!BR17:CC17)<>12,\"\",AVERAGE(特に買いたい・利用したい!BR17:CC17))","v":""},{"$f":"IF(COUNT(特に買いたい・利用したい!BS17:CD17)<>12,\"\",AVERAGE(特に買いたい・利用したい!BS17:CD17))","v":""},{"$f":"IF(COUNT(特に買いたい・利用したい!BT17:CE17)<>12,\"\",AVERAGE(特に買いたい・利用したい!BT17:CE17))","v":""},{"$f":"IF(COUNT(特に買いたい・利用したい!BU17:CF17)<>12,\"\",AVERAGE(特に買いたい・利用したい!BU17:CF17))","v":""},{"$f":"IF(COUNT(特に買いたい・利用したい!BV17:CG17)<>12,\"\",AVERAGE(特に買いたい・利用したい!BV17:CG17))","v":""},{"$f":"IF(COUNT(特に買いたい・利用したい!BW17:CH17)<>12,\"\",AVERAGE(特に買いたい・利用したい!BW17:CH17))","v":""},{"$f":"IF(COUNT(特に買いたい・利用したい!BX17:CI17)<>12,\"\",AVERAGE(特に買いたい・利用したい!BX17:CI17))","v":""},{"$f":"IF(COUNT(特に買いたい・利用したい!BY17:CJ17)<>12,\"\",AVERAGE(特に買いたい・利用したい!BY17:CJ17))","v":""},{"$f":"IF(COUNT(特に買いたい・利用したい!BZ17:CK17)<>12,\"\",AVERAGE(特に買いたい・利用したい!BZ17:CK17))","v":""},{"$f":"IF(COUNT(特に買いたい・利用したい!CA17:CL17)<>12,\"\",AVERAGE(特に買いたい・利用したい!CA17:CL17))","v":""},{"$f":"IF(COUNT(特に買いたい・利用したい!CB17:CM17)<>12,\"\",AVERAGE(特に買いたい・利用したい!CB17:CM17))","v":""},{"$f":"IF(COUNT(特に買いたい・利用したい!CC17:CN17)<>12,\"\",AVERAGE(特に買いたい・利用したい!CC17:CN17))","v":""},{"$f":"IF(COUNT(特に買いたい・利用したい!CD17:CO17)<>12,\"\",AVERAGE(特に買いたい・利用したい!CD17:CO17))","v":""},{"$f":"IF(COUNT(特に買いたい・利用したい!CE17:CP17)<>12,\"\",AVERAGE(特に買いたい・利用したい!CE17:CP17))","v":""},{"$f":"IF(COUNT(特に買いたい・利用したい!CF17:CQ17)<>12,\"\",AVERAGE(特に買いたい・利用したい!CF17:CQ17))","v":""},{"$f":"IF(COUNT(特に買いたい・利用したい!CG17:CR17)<>12,\"\",AVERAGE(特に買いたい・利用したい!CG17:CR17))","v":""},{"$f":"IF(COUNT(特に買いたい・利用したい!CH17:CS17)<>12,\"\",AVERAGE(特に買いたい・利用したい!CH17:CS17))","v":""},{"$f":"IF(COUNT(特に買いたい・利用したい!CI17:CT17)<>12,\"\",AVERAGE(特に買いたい・利用したい!CI17:CT17))","v":""},{"$f":"IF(COUNT(特に買いたい・利用したい!CJ17:CU17)<>12,\"\",AVERAGE(特に買いたい・利用したい!CJ17:CU17))","v":""},{"$f":"IF(COUNT(特に買いたい・利用したい!CK17:CV17)<>12,\"\",AVERAGE(特に買いたい・利用したい!CK17:CV17))","v":""},{"$f":"IF(COUNT(特に買いたい・利用したい!CL17:CW17)<>12,\"\",AVERAGE(特に買いたい・利用したい!CL17:CW17))","v":""},{"$f":"IF(COUNT(特に買いたい・利用したい!CM17:CX17)<>12,\"\",AVERAGE(特に買いたい・利用したい!CM17:CX17))","v":""},{"$f":"IF(COUNT(特に買いたい・利用したい!CN17:CY17)<>12,\"\",AVERAGE(特に買いたい・利用したい!CN17:CY17))","v":""},{"$f":"IF(COUNT(特に買いたい・利用したい!CO17:CZ17)<>12,\"\",AVERAGE(特に買いたい・利用したい!CO17:CZ17))","v":""},{"$f":"IF(COUNT(特に買いたい・利用したい!CP17:DA17)<>12,\"\",AVERAGE(特に買いたい・利用したい!CP17:DA17))","v":""},{"$f":"IF(COUNT(特に買いたい・利用したい!CQ17:DB17)<>12,\"\",AVERAGE(特に買いたい・利用したい!CQ17:DB17))","v":""},{"$f":"IF(COUNT(特に買いたい・利用したい!CR17:DC17)<>12,\"\",AVERAGE(特に買いたい・利用したい!CR17:DC17))","v":""},{"$f":"IF(COUNT(特に買いたい・利用したい!CS17:DD17)<>12,\"\",AVERAGE(特に買いたい・利用したい!CS17:DD17))","v":""},{"$f":"IF(COUNT(特に買いたい・利用したい!CT17:DE17)<>12,\"\",AVERAGE(特に買いたい・利用したい!CT17:DE17))","v":""},{"$f":"IF(COUNT(特に買いたい・利用したい!CU17:DF17)<>12,\"\",AVERAGE(特に買いたい・利用したい!CU17:DF17))","v":""},{"$f":"IF(COUNT(特に買いたい・利用したい!CV17:DG17)<>12,\"\",AVERAGE(特に買いたい・利用したい!CV17:DG17))","v":""}]
[null,null,"男性60代",null,null,null,null,null,null,null,null,null,null,null,null,null,null,null,{"$f":"IF(COUNT(特に買いたい・利用したい!H18:S18)<>12,\"\",AVERAGE(特に買いたい・利用したい!H18:S18))","v":25.05},{"$f":"IF(COUNT(特に買いたい・利用したい!I18:T18)<>12,\"\",AVERAGE(特に買いたい・利用したい!I18:T18))","v":24.683333333333334},{"$f":"IF(COUNT(特に買いたい・利用したい!J18:U18)<>12,\"\",AVERAGE(特に買いたい・利用したい!J18:U18))","v":24.349999999999998},{"$f":"IF(COUNT(特に買いたい・利用したい!K18:V18)<>12,\"\",AVERAGE(特に買いたい・利用したい!K18:V18))","v":24.333333333333332},{"$f":"IF(COUNT(特に買いたい・利用したい!L18:W18)<>12,\"\",AVERAGE(特に買いたい・利用したい!L18:W18))","v":24.825000000000003},{"$f":"IF(COUNT(特に買いたい・利用したい!M18:X18)<>12,\"\",AVERAGE(特に買いたい・利用したい!M18:X18))","v":23.641666666666666},{"$f":"IF(COUNT(特に買いたい・利用したい!N18:Y18)<>12,\"\",AVERAGE(特に買いたい・利用したい!N18:Y18))","v":23.224999999999998},{"$f":"IF(COUNT(特に買いたい・利用したい!O18:Z18)<>12,\"\",AVERAGE(特に買いたい・利用したい!O18:Z18))","v":22.299999999999997},{"$f":"IF(COUNT(特に買いたい・利用したい!P18:AA18)<>12,\"\",AVERAGE(特に買いたい・利用したい!P18:AA18))","v":21.775000000000002},{"$f":"IF(COUNT(特に買いたい・利用したい!Q18:AB18)<>12,\"\",AVERAGE(特に買いたい・利用したい!Q18:AB18))","v":21.958333333333332},{"$f":"IF(COUNT(特に買いたい・利用したい!R18:AC18)<>12,\"\",AVERAGE(特に買いたい・利用したい!R18:AC18))","v":22.191666666666666},{"$f":"IF(COUNT(特に買いたい・利用したい!S18:AD18)<>12,\"\",AVERAGE(特に買いたい・利用したい!S18:AD18))","v":22.416666666666661},{"$f":"IF(COUNT(特に買いたい・利用したい!T18:AE18)<>12,\"\",AVERAGE(特に買いたい・利用したい!T18:AE18))","v":21.224999999999998},{"$f":"IF(COUNT(特に買いたい・利用したい!U18:AF18)<>12,\"\",AVERAGE(特に買いたい・利用したい!U18:AF18))","v":20.425000000000001},{"$f":"IF(COUNT(特に買いたい・利用したい!V18:AG18)<>12,\"\",AVERAGE(特に買いたい・利用したい!V18:AG18))","v":20.108333333333331},{"$f":"IF(COUNT(特に買いたい・利用したい!W18:AH18)<>12,\"\",AVERAGE(特に買いたい・利用したい!W18:AH18))","v":19.366666666666671},{"$f":"IF(COUNT(特に買いたい・利用したい!X18:AI18)<>12,\"\",AVERAGE(特に買いたい・利用したい!X18:AI18))","v":19.266666666666669},{"$f":"IF(COUNT(特に買いたい・利用したい!Y18:AJ18)<>12,\"\",AVERAGE(特に買いたい・利用したい!Y18:AJ18))","v":20.125000000000004},{"$f":"IF(COUNT(特に買いたい・利用したい!Z18:AK18)<>12,\"\",AVERAGE(特に買いたい・利用したい!Z18:AK18))","v":19.383333333333336},{"$f":"IF(COUNT(特に買いたい・利用したい!AA18:AL18)<>12,\"\",AVERAGE(特に買いたい・利用したい!AA18:AL18))","v":19.81666666666667},{"$f":"IF(COUNT(特に買いたい・利用したい!AB18:AM18)<>12,\"\",AVERAGE(特に買いたい・利用したい!AB18:AM18))","v":19.725000000000001},{"$f":"IF(COUNT(特に買いたい・利用したい!AC18:AN18)<>12,\"\",AVERAGE(特に買いたい・利用したい!AC18:AN18))","v":19.2},{"$f":"IF(COUNT(特に買いたい・利用したい!AD18:AO18)<>12,\"\",AVERAGE(特に買いたい・利用したい!AD18:AO18))","v":18.724999999999998},{"$f":"IF(COUNT(特に買いたい・利用したい!AE18:AP18)<>12,\"\",AVERAGE(特に買いたい・利用したい!AE18:AP18))","v":17.983333333333334},{"$f":"IF(COUNT(特に買いたい・利用したい!AF18:AQ18)<>12,\"\",AVERAGE(特に買いたい・利用したい!AF18:AQ18))","v":18.633333333333333},{"$f":"IF(COUNT(特に買いたい・利用したい!AG18:AR18)<>12,\"\",AVERAGE(特に買いたい・利用したい!AG18:AR18))","v":19.224999999999998},{"$f":"IF(COUNT(特に買いたい・利用したい!AH18:AS18)<>12,\"\",AVERAGE(特に買いたい・利用したい!AH18:AS18))","v":19.55},{"$f":"IF(COUNT(特に買いたい・利用したい!AI18:AT18)<>12,\"\",AVERAGE(特に買いたい・利用したい!AI18:AT18))","v":20.033333333333331},{"$f":"IF(COUNT(特に買いたい・利用したい!AJ18:AU18)<>12,\"\",AVERAGE(特に買いたい・利用したい!AJ18:AU18))","v":19.983333333333334},{"$f":"IF(COUNT(特に買いたい・利用したい!AK18:AV18)<>12,\"\",AVERAGE(特に買いたい・利用したい!AK18:AV18))","v":20.150000000000002},{"$f":"IF(COUNT(特に買いたい・利用したい!AL18:AW18)<>12,\"\",AVERAGE(特に買いたい・利用したい!AL18:AW18))","v":20.150000000000002},{"$f":"IF(COUNT(特に買いたい・利用したい!AM18:AX18)<>12,\"\",AVERAGE(特に買いたい・利用したい!AM18:AX18))","v":20.85},{"$f":"IF(COUNT(特に買いたい・利用したい!AN18:AY18)<>12,\"\",AVERAGE(特に買いたい・利用したい!AN18:AY18))","v":21.175000000000001},{"$f":"IF(COUNT(特に買いたい・利用したい!AO18:AZ18)<>12,\"\",AVERAGE(特に買いたい・利用したい!AO18:AZ18))","v":21.06666666666667},{"$f":"IF(COUNT(特に買いたい・利用したい!AP18:BA18)<>12,\"\",AVERAGE(特に買いたい・利用したい!AP18:BA18))","v":20.583333333333332},{"$f":"IF(COUNT(特に買いたい・利用したい!AQ18:BB18)<>12,\"\",AVERAGE(特に買いたい・利用したい!AQ18:BB18))","v":20.100000000000001},{"$f":"IF(COUNT(特に買いたい・利用したい!AR18:BC18)<>12,\"\",AVERAGE(特に買いたい・利用したい!AR18:BC18))","v":19.991666666666671},{"$f":"IF(COUNT(特に買いたい・利用したい!AS18:BD18)<>12,\"\",AVERAGE(特に買いたい・利用したい!AS18:BD18))","v":20.375000000000004},{"$f":"IF(COUNT(特に買いたい・利用したい!AT18:BE18)<>12,\"\",AVERAGE(特に買いたい・利用したい!AT18:BE18))","v":""},{"$f":"IF(COUNT(特に買いたい・利用したい!AU18:BF18)<>12,\"\",AVERAGE(特に買いたい・利用したい!AU18:BF18))","v":""},{"$f":"IF(COUNT(特に買いたい・利用したい!AV18:BG18)<>12,\"\",AVERAGE(特に買いたい・利用したい!AV18:BG18))","v":""},{"$f":"IF(COUNT(特に買いたい・利用したい!AW18:BH18)<>12,\"\",AVERAGE(特に買いたい・利用したい!AW18:BH18))","v":""},{"$f":"IF(COUNT(特に買いたい・利用したい!AX18:BI18)<>12,\"\",AVERAGE(特に買いたい・利用したい!AX18:BI18))","v":""},{"$f":"IF(COUNT(特に買いたい・利用したい!AY18:BJ18)<>12,\"\",AVERAGE(特に買いたい・利用したい!AY18:BJ18))","v":""},{"$f":"IF(COUNT(特に買いたい・利用したい!AZ18:BK18)<>12,\"\",AVERAGE(特に買いたい・利用したい!AZ18:BK18))","v":""},{"$f":"IF(COUNT(特に買いたい・利用したい!BA18:BL18)<>12,\"\",AVERAGE(特に買いたい・利用したい!BA18:BL18))","v":""},{"$f":"IF(COUNT(特に買いたい・利用したい!BB18:BM18)<>12,\"\",AVERAGE(特に買いたい・利用したい!BB18:BM18))","v":""},{"$f":"IF(COUNT(特に買いたい・利用したい!BC18:BN18)<>12,\"\",AVERAGE(特に買いたい・利用したい!BC18:BN18))","v":""},{"$f":"IF(COUNT(特に買いたい・利用したい!BD18:BO18)<>12,\"\",AVERAGE(特に買いたい・利用したい!BD18:BO18))","v":""},{"$f":"IF(COUNT(特に買いたい・利用したい!BE18:BP18)<>12,\"\",AVERAGE(特に買いたい・利用したい!BE18:BP18))","v":""},{"$f":"IF(COUNT(特に買いたい・利用したい!BF18:BQ18)<>12,\"\",AVERAGE(特に買いたい・利用したい!BF18:BQ18))","v":""},{"$f":"IF(COUNT(特に買いたい・利用したい!BG18:BR18)<>12,\"\",AVERAGE(特に買いたい・利用したい!BG18:BR18))","v":""},{"$f":"IF(COUNT(特に買いたい・利用したい!BH18:BS18)<>12,\"\",AVERAGE(特に買いたい・利用したい!BH18:BS18))","v":""},{"$f":"IF(COUNT(特に買いたい・利用したい!BI18:BT18)<>12,\"\",AVERAGE(特に買いたい・利用したい!BI18:BT18))","v":""},{"$f":"IF(COUNT(特に買いたい・利用したい!BJ18:BU18)<>12,\"\",AVERAGE(特に買いたい・利用したい!BJ18:BU18))","v":""},{"$f":"IF(COUNT(特に買いたい・利用したい!BK18:BV18)<>12,\"\",AVERAGE(特に買いたい・利用したい!BK18:BV18))","v":""},{"$f":"IF(COUNT(特に買いたい・利用したい!BL18:BW18)<>12,\"\",AVERAGE(特に買いたい・利用したい!BL18:BW18))","v":""},{"$f":"IF(COUNT(特に買いたい・利用したい!BM18:BX18)<>12,\"\",AVERAGE(特に買いたい・利用したい!BM18:BX18))","v":""},{"$f":"IF(COUNT(特に買いたい・利用したい!BN18:BY18)<>12,\"\",AVERAGE(特に買いたい・利用したい!BN18:BY18))","v":""},{"$f":"IF(COUNT(特に買いたい・利用したい!BO18:BZ18)<>12,\"\",AVERAGE(特に買いたい・利用したい!BO18:BZ18))","v":""},{"$f":"IF(COUNT(特に買いたい・利用したい!BP18:CA18)<>12,\"\",AVERAGE(特に買いたい・利用したい!BP18:CA18))","v":""},{"$f":"IF(COUNT(特に買いたい・利用したい!BQ18:CB18)<>12,\"\",AVERAGE(特に買いたい・利用したい!BQ18:CB18))","v":""},{"$f":"IF(COUNT(特に買いたい・利用したい!BR18:CC18)<>12,\"\",AVERAGE(特に買いたい・利用したい!BR18:CC18))","v":""},{"$f":"IF(COUNT(特に買いたい・利用したい!BS18:CD18)<>12,\"\",AVERAGE(特に買いたい・利用したい!BS18:CD18))","v":""},{"$f":"IF(COUNT(特に買いたい・利用したい!BT18:CE18)<>12,\"\",AVERAGE(特に買いたい・利用したい!BT18:CE18))","v":""},{"$f":"IF(COUNT(特に買いたい・利用したい!BU18:CF18)<>12,\"\",AVERAGE(特に買いたい・利用したい!BU18:CF18))","v":""},{"$f":"IF(COUNT(特に買いたい・利用したい!BV18:CG18)<>12,\"\",AVERAGE(特に買いたい・利用したい!BV18:CG18))","v":""},{"$f":"IF(COUNT(特に買いたい・利用したい!BW18:CH18)<>12,\"\",AVERAGE(特に買いたい・利用したい!BW18:CH18))","v":""},{"$f":"IF(COUNT(特に買いたい・利用したい!BX18:CI18)<>12,\"\",AVERAGE(特に買いたい・利用したい!BX18:CI18))","v":""},{"$f":"IF(COUNT(特に買いたい・利用したい!BY18:CJ18)<>12,\"\",AVERAGE(特に買いたい・利用したい!BY18:CJ18))","v":""},{"$f":"IF(COUNT(特に買いたい・利用したい!BZ18:CK18)<>12,\"\",AVERAGE(特に買いたい・利用したい!BZ18:CK18))","v":""},{"$f":"IF(COUNT(特に買いたい・利用したい!CA18:CL18)<>12,\"\",AVERAGE(特に買いたい・利用したい!CA18:CL18))","v":""},{"$f":"IF(COUNT(特に買いたい・利用したい!CB18:CM18)<>12,\"\",AVERAGE(特に買いたい・利用したい!CB18:CM18))","v":""},{"$f":"IF(COUNT(特に買いたい・利用したい!CC18:CN18)<>12,\"\",AVERAGE(特に買いたい・利用したい!CC18:CN18))","v":""},{"$f":"IF(COUNT(特に買いたい・利用したい!CD18:CO18)<>12,\"\",AVERAGE(特に買いたい・利用したい!CD18:CO18))","v":""},{"$f":"IF(COUNT(特に買いたい・利用したい!CE18:CP18)<>12,\"\",AVERAGE(特に買いたい・利用したい!CE18:CP18))","v":""},{"$f":"IF(COUNT(特に買いたい・利用したい!CF18:CQ18)<>12,\"\",AVERAGE(特に買いたい・利用したい!CF18:CQ18))","v":""},{"$f":"IF(COUNT(特に買いたい・利用したい!CG18:CR18)<>12,\"\",AVERAGE(特に買いたい・利用したい!CG18:CR18))","v":""},{"$f":"IF(COUNT(特に買いたい・利用したい!CH18:CS18)<>12,\"\",AVERAGE(特に買いたい・利用したい!CH18:CS18))","v":""},{"$f":"IF(COUNT(特に買いたい・利用したい!CI18:CT18)<>12,\"\",AVERAGE(特に買いたい・利用したい!CI18:CT18))","v":""},{"$f":"IF(COUNT(特に買いたい・利用したい!CJ18:CU18)<>12,\"\",AVERAGE(特に買いたい・利用したい!CJ18:CU18))","v":""},{"$f":"IF(COUNT(特に買いたい・利用したい!CK18:CV18)<>12,\"\",AVERAGE(特に買いたい・利用したい!CK18:CV18))","v":""},{"$f":"IF(COUNT(特に買いたい・利用したい!CL18:CW18)<>12,\"\",AVERAGE(特に買いたい・利用したい!CL18:CW18))","v":""},{"$f":"IF(COUNT(特に買いたい・利用したい!CM18:CX18)<>12,\"\",AVERAGE(特に買いたい・利用したい!CM18:CX18))","v":""},{"$f":"IF(COUNT(特に買いたい・利用したい!CN18:CY18)<>12,\"\",AVERAGE(特に買いたい・利用したい!CN18:CY18))","v":""},{"$f":"IF(COUNT(特に買いたい・利用したい!CO18:CZ18)<>12,\"\",AVERAGE(特に買いたい・利用したい!CO18:CZ18))","v":""},{"$f":"IF(COUNT(特に買いたい・利用したい!CP18:DA18)<>12,\"\",AVERAGE(特に買いたい・利用したい!CP18:DA18))","v":""},{"$f":"IF(COUNT(特に買いたい・利用したい!CQ18:DB18)<>12,\"\",AVERAGE(特に買いたい・利用したい!CQ18:DB18))","v":""},{"$f":"IF(COUNT(特に買いたい・利用したい!CR18:DC18)<>12,\"\",AVERAGE(特に買いたい・利用したい!CR18:DC18))","v":""},{"$f":"IF(COUNT(特に買いたい・利用したい!CS18:DD18)<>12,\"\",AVERAGE(特に買いたい・利用したい!CS18:DD18))","v":""},{"$f":"IF(COUNT(特に買いたい・利用したい!CT18:DE18)<>12,\"\",AVERAGE(特に買いたい・利用したい!CT18:DE18))","v":""},{"$f":"IF(COUNT(特に買いたい・利用したい!CU18:DF18)<>12,\"\",AVERAGE(特に買いたい・利用したい!CU18:DF18))","v":""},{"$f":"IF(COUNT(特に買いたい・利用したい!CV18:DG18)<>12,\"\",AVERAGE(特に買いたい・利用したい!CV18:DG18))","v":""}]
[null,"女性年代別","女性20代",null,null,null,null,null,null,null,null,null,null,null,null,null,null,null,{"$f":"IF(COUNT(特に買いたい・利用したい!H19:S19)<>12,\"\",AVERAGE(特に買いたい・利用したい!H19:S19))","v":50.291666666666664},{"$f":"IF(COUNT(特に買いたい・利用したい!I19:T19)<>12,\"\",AVERAGE(特に買いたい・利用したい!I19:T19))","v":49.191666666666663},{"$f":"IF(COUNT(特に買いたい・利用したい!J19:U19)<>12,\"\",AVERAGE(特に買いたい・利用したい!J19:U19))","v":48.92499999999999},{"$f":"IF(COUNT(特に買いたい・利用したい!K19:V19)<>12,\"\",AVERAGE(特に買いたい・利用したい!K19:V19))","v":46.824999999999996},{"$f":"IF(COUNT(特に買いたい・利用したい!L19:W19)<>12,\"\",AVERAGE(特に買いたい・利用したい!L19:W19))","v":46.691666666666663},{"$f":"IF(COUNT(特に買いたい・利用したい!M19:X19)<>12,\"\",AVERAGE(特に買いたい・利用したい!M19:X19))","v":46.408333333333331},{"$f":"IF(COUNT(特に買いたい・利用したい!N19:Y19)<>12,\"\",AVERAGE(特に買いたい・利用したい!N19:Y19))","v":45.725000000000001},{"$f":"IF(COUNT(特に買いたい・利用したい!O19:Z19)<>12,\"\",AVERAGE(特に買いたい・利用したい!O19:Z19))","v":45.050000000000004},{"$f":"IF(COUNT(特に買いたい・利用したい!P19:AA19)<>12,\"\",AVERAGE(特に買いたい・利用したい!P19:AA19))","v":44.525000000000006},{"$f":"IF(COUNT(特に買いたい・利用したい!Q19:AB19)<>12,\"\",AVERAGE(特に買いたい・利用したい!Q19:AB19))","v":43.35},{"$f":"IF(COUNT(特に買いたい・利用したい!R19:AC19)<>12,\"\",AVERAGE(特に買いたい・利用したい!R19:AC19))","v":43.133333333333347},{"$f":"IF(COUNT(特に買いたい・利用したい!S19:AD19)<>12,\"\",AVERAGE(特に買いたい・利用したい!S19:AD19))","v":43.633333333333333},{"$f":"IF(COUNT(特に買いたい・利用したい!T19:AE19)<>12,\"\",AVERAGE(特に買いたい・利用したい!T19:AE19))","v":41.608333333333334},{"$f":"IF(COUNT(特に買いたい・利用したい!U19:AF19)<>12,\"\",AVERAGE(特に買いたい・利用したい!U19:AF19))","v":40.391666666666666},{"$f":"IF(COUNT(特に買いたい・利用したい!V19:AG19)<>12,\"\",AVERAGE(特に買いたい・利用したい!V19:AG19))","v":39.68333333333333},{"$f":"IF(COUNT(特に買いたい・利用したい!W19:AH19)<>12,\"\",AVERAGE(特に買いたい・利用したい!W19:AH19))","v":40.708333333333336},{"$f":"IF(COUNT(特に買いたい・利用したい!X19:AI19)<>12,\"\",AVERAGE(特に買いたい・利用したい!X19:AI19))","v":40.699999999999996},{"$f":"IF(COUNT(特に買いたい・利用したい!Y19:AJ19)<>12,\"\",AVERAGE(特に買いたい・利用したい!Y19:AJ19))","v":41.074999999999996},{"$f":"IF(COUNT(特に買いたい・利用したい!Z19:AK19)<>12,\"\",AVERAGE(特に買いたい・利用したい!Z19:AK19))","v":40.916666666666664},{"$f":"IF(COUNT(特に買いたい・利用したい!AA19:AL19)<>12,\"\",AVERAGE(特に買いたい・利用したい!AA19:AL19))","v":40.4},{"$f":"IF(COUNT(特に買いたい・利用したい!AB19:AM19)<>12,\"\",AVERAGE(特に買いたい・利用したい!AB19:AM19))","v":40.833333333333329},{"$f":"IF(COUNT(特に買いたい・利用したい!AC19:AN19)<>12,\"\",AVERAGE(特に買いたい・利用したい!AC19:AN19))","v":40.80833333333333},{"$f":"IF(COUNT(特に買いたい・利用したい!AD19:AO19)<>12,\"\",AVERAGE(特に買いたい・利用したい!AD19:AO19))","v":41.18333333333333},{"$f":"IF(COUNT(特に買いたい・利用したい!AE19:AP19)<>12,\"\",AVERAGE(特に買いたい・利用したい!AE19:AP19))","v":40.483333333333334},{"$f":"IF(COUNT(特に買いたい・利用したい!AF19:AQ19)<>12,\"\",AVERAGE(特に買いたい・利用したい!AF19:AQ19))","v":41.95},{"$f":"IF(COUNT(特に買いたい・利用したい!AG19:AR19)<>12,\"\",AVERAGE(特に買いたい・利用したい!AG19:AR19))","v":42.216666666666661},{"$f":"IF(COUNT(特に買いたい・利用したい!AH19:AS19)<>12,\"\",AVERAGE(特に買いたい・利用したい!AH19:AS19))","v":42.225000000000001},{"$f":"IF(COUNT(特に買いたい・利用したい!AI19:AT19)<>12,\"\",AVERAGE(特に買いたい・利用したい!AI19:AT19))","v":41.191666666666663},{"$f":"IF(COUNT(特に買いたい・利用したい!AJ19:AU19)<>12,\"\",AVERAGE(特に買いたい・利用したい!AJ19:AU19))","v":40.358333333333327},{"$f":"IF(COUNT(特に買いたい・利用したい!AK19:AV19)<>12,\"\",AVERAGE(特に買いたい・利用したい!AK19:AV19))","v":40.074999999999996},{"$f":"IF(COUNT(特に買いたい・利用したい!AL19:AW19)<>12,\"\",AVERAGE(特に買いたい・利用したい!AL19:AW19))","v":39.875},{"$f":"IF(COUNT(特に買いたい・利用したい!AM19:AX19)<>12,\"\",AVERAGE(特に買いたい・利用したい!AM19:AX19))","v":40.524999999999999},{"$f":"IF(COUNT(特に買いたい・利用したい!AN19:AY19)<>12,\"\",AVERAGE(特に買いたい・利用したい!AN19:AY19))","v":40.016666666666666},{"$f":"IF(COUNT(特に買いたい・利用したい!AO19:AZ19)<>12,\"\",AVERAGE(特に買いたい・利用したい!AO19:AZ19))","v":40.325000000000003},{"$f":"IF(COUNT(特に買いたい・利用したい!AP19:BA19)<>12,\"\",AVERAGE(特に買いたい・利用したい!AP19:BA19))","v":40.408333333333339},{"$f":"IF(COUNT(特に買いたい・利用したい!AQ19:BB19)<>12,\"\",AVERAGE(特に買いたい・利用したい!AQ19:BB19))","v":40.216666666666661},{"$f":"IF(COUNT(特に買いたい・利用したい!AR19:BC19)<>12,\"\",AVERAGE(特に買いたい・利用したい!AR19:BC19))","v":38.941666666666663},{"$f":"IF(COUNT(特に買いたい・利用したい!AS19:BD19)<>12,\"\",AVERAGE(特に買いたい・利用したい!AS19:BD19))","v":40.233333333333327},{"$f":"IF(COUNT(特に買いたい・利用したい!AT19:BE19)<>12,\"\",AVERAGE(特に買いたい・利用したい!AT19:BE19))","v":""},{"$f":"IF(COUNT(特に買いたい・利用したい!AU19:BF19)<>12,\"\",AVERAGE(特に買いたい・利用したい!AU19:BF19))","v":""},{"$f":"IF(COUNT(特に買いたい・利用したい!AV19:BG19)<>12,\"\",AVERAGE(特に買いたい・利用したい!AV19:BG19))","v":""},{"$f":"IF(COUNT(特に買いたい・利用したい!AW19:BH19)<>12,\"\",AVERAGE(特に買いたい・利用したい!AW19:BH19))","v":""},{"$f":"IF(COUNT(特に買いたい・利用したい!AX19:BI19)<>12,\"\",AVERAGE(特に買いたい・利用したい!AX19:BI19))","v":""},{"$f":"IF(COUNT(特に買いたい・利用したい!AY19:BJ19)<>12,\"\",AVERAGE(特に買いたい・利用したい!AY19:BJ19))","v":""},{"$f":"IF(COUNT(特に買いたい・利用したい!AZ19:BK19)<>12,\"\",AVERAGE(特に買いたい・利用したい!AZ19:BK19))","v":""},{"$f":"IF(COUNT(特に買いたい・利用したい!BA19:BL19)<>12,\"\",AVERAGE(特に買いたい・利用したい!BA19:BL19))","v":""},{"$f":"IF(COUNT(特に買いたい・利用したい!BB19:BM19)<>12,\"\",AVERAGE(特に買いたい・利用したい!BB19:BM19))","v":""},{"$f":"IF(COUNT(特に買いたい・利用したい!BC19:BN19)<>12,\"\",AVERAGE(特に買いたい・利用したい!BC19:BN19))","v":""},{"$f":"IF(COUNT(特に買いたい・利用したい!BD19:BO19)<>12,\"\",AVERAGE(特に買いたい・利用したい!BD19:BO19))","v":""},{"$f":"IF(COUNT(特に買いたい・利用したい!BE19:BP19)<>12,\"\",AVERAGE(特に買いたい・利用したい!BE19:BP19))","v":""},{"$f":"IF(COUNT(特に買いたい・利用したい!BF19:BQ19)<>12,\"\",AVERAGE(特に買いたい・利用したい!BF19:BQ19))","v":""},{"$f":"IF(COUNT(特に買いたい・利用したい!BG19:BR19)<>12,\"\",AVERAGE(特に買いたい・利用したい!BG19:BR19))","v":""},{"$f":"IF(COUNT(特に買いたい・利用したい!BH19:BS19)<>12,\"\",AVERAGE(特に買いたい・利用したい!BH19:BS19))","v":""},{"$f":"IF(COUNT(特に買いたい・利用したい!BI19:BT19)<>12,\"\",AVERAGE(特に買いたい・利用したい!BI19:BT19))","v":""},{"$f":"IF(COUNT(特に買いたい・利用したい!BJ19:BU19)<>12,\"\",AVERAGE(特に買いたい・利用したい!BJ19:BU19))","v":""},{"$f":"IF(COUNT(特に買いたい・利用したい!BK19:BV19)<>12,\"\",AVERAGE(特に買いたい・利用したい!BK19:BV19))","v":""},{"$f":"IF(COUNT(特に買いたい・利用したい!BL19:BW19)<>12,\"\",AVERAGE(特に買いたい・利用したい!BL19:BW19))","v":""},{"$f":"IF(COUNT(特に買いたい・利用したい!BM19:BX19)<>12,\"\",AVERAGE(特に買いたい・利用したい!BM19:BX19))","v":""},{"$f":"IF(COUNT(特に買いたい・利用したい!BN19:BY19)<>12,\"\",AVERAGE(特に買いたい・利用したい!BN19:BY19))","v":""},{"$f":"IF(COUNT(特に買いたい・利用したい!BO19:BZ19)<>12,\"\",AVERAGE(特に買いたい・利用したい!BO19:BZ19))","v":""},{"$f":"IF(COUNT(特に買いたい・利用したい!BP19:CA19)<>12,\"\",AVERAGE(特に買いたい・利用したい!BP19:CA19))","v":""},{"$f":"IF(COUNT(特に買いたい・利用したい!BQ19:CB19)<>12,\"\",AVERAGE(特に買いたい・利用したい!BQ19:CB19))","v":""},{"$f":"IF(COUNT(特に買いたい・利用したい!BR19:CC19)<>12,\"\",AVERAGE(特に買いたい・利用したい!BR19:CC19))","v":""},{"$f":"IF(COUNT(特に買いたい・利用したい!BS19:CD19)<>12,\"\",AVERAGE(特に買いたい・利用したい!BS19:CD19))","v":""},{"$f":"IF(COUNT(特に買いたい・利用したい!BT19:CE19)<>12,\"\",AVERAGE(特に買いたい・利用したい!BT19:CE19))","v":""},{"$f":"IF(COUNT(特に買いたい・利用したい!BU19:CF19)<>12,\"\",AVERAGE(特に買いたい・利用したい!BU19:CF19))","v":""},{"$f":"IF(COUNT(特に買いたい・利用したい!BV19:CG19)<>12,\"\",AVERAGE(特に買いたい・利用したい!BV19:CG19))","v":""},{"$f":"IF(COUNT(特に買いたい・利用したい!BW19:CH19)<>12,\"\",AVERAGE(特に買いたい・利用したい!BW19:CH19))","v":""},{"$f":"IF(COUNT(特に買いたい・利用したい!BX19:CI19)<>12,\"\",AVERAGE(特に買いたい・利用したい!BX19:CI19))","v":""},{"$f":"IF(COUNT(特に買いたい・利用したい!BY19:CJ19)<>12,\"\",AVERAGE(特に買いたい・利用したい!BY19:CJ19))","v":""},{"$f":"IF(COUNT(特に買いたい・利用したい!BZ19:CK19)<>12,\"\",AVERAGE(特に買いたい・利用したい!BZ19:CK19))","v":""},{"$f":"IF(COUNT(特に買いたい・利用したい!CA19:CL19)<>12,\"\",AVERAGE(特に買いたい・利用したい!CA19:CL19))","v":""},{"$f":"IF(COUNT(特に買いたい・利用したい!CB19:CM19)<>12,\"\",AVERAGE(特に買いたい・利用したい!CB19:CM19))","v":""},{"$f":"IF(COUNT(特に買いたい・利用したい!CC19:CN19)<>12,\"\",AVERAGE(特に買いたい・利用したい!CC19:CN19))","v":""},{"$f":"IF(COUNT(特に買いたい・利用したい!CD19:CO19)<>12,\"\",AVERAGE(特に買いたい・利用したい!CD19:CO19))","v":""},{"$f":"IF(COUNT(特に買いたい・利用したい!CE19:CP19)<>12,\"\",AVERAGE(特に買いたい・利用したい!CE19:CP19))","v":""},{"$f":"IF(COUNT(特に買いたい・利用したい!CF19:CQ19)<>12,\"\",AVERAGE(特に買いたい・利用したい!CF19:CQ19))","v":""},{"$f":"IF(COUNT(特に買いたい・利用したい!CG19:CR19)<>12,\"\",AVERAGE(特に買いたい・利用したい!CG19:CR19))","v":""},{"$f":"IF(COUNT(特に買いたい・利用したい!CH19:CS19)<>12,\"\",AVERAGE(特に買いたい・利用したい!CH19:CS19))","v":""},{"$f":"IF(COUNT(特に買いたい・利用したい!CI19:CT19)<>12,\"\",AVERAGE(特に買いたい・利用したい!CI19:CT19))","v":""},{"$f":"IF(COUNT(特に買いたい・利用したい!CJ19:CU19)<>12,\"\",AVERAGE(特に買いたい・利用したい!CJ19:CU19))","v":""},{"$f":"IF(COUNT(特に買いたい・利用したい!CK19:CV19)<>12,\"\",AVERAGE(特に買いたい・利用したい!CK19:CV19))","v":""},{"$f":"IF(COUNT(特に買いたい・利用したい!CL19:CW19)<>12,\"\",AVERAGE(特に買いたい・利用したい!CL19:CW19))","v":""},{"$f":"IF(COUNT(特に買いたい・利用したい!CM19:CX19)<>12,\"\",AVERAGE(特に買いたい・利用したい!CM19:CX19))","v":""},{"$f":"IF(COUNT(特に買いたい・利用したい!CN19:CY19)<>12,\"\",AVERAGE(特に買いたい・利用したい!CN19:CY19))","v":""},{"$f":"IF(COUNT(特に買いたい・利用したい!CO19:CZ19)<>12,\"\",AVERAGE(特に買いたい・利用したい!CO19:CZ19))","v":""},{"$f":"IF(COUNT(特に買いたい・利用したい!CP19:DA19)<>12,\"\",AVERAGE(特に買いたい・利用したい!CP19:DA19))","v":""},{"$f":"IF(COUNT(特に買いたい・利用したい!CQ19:DB19)<>12,\"\",AVERAGE(特に買いたい・利用したい!CQ19:DB19))","v":""},{"$f":"IF(COUNT(特に買いたい・利用したい!CR19:DC19)<>12,\"\",AVERAGE(特に買いたい・利用したい!CR19:DC19))","v":""},{"$f":"IF(COUNT(特に買いたい・利用したい!CS19:DD19)<>12,\"\",AVERAGE(特に買いたい・利用したい!CS19:DD19))","v":""},{"$f":"IF(COUNT(特に買いたい・利用したい!CT19:DE19)<>12,\"\",AVERAGE(特に買いたい・利用したい!CT19:DE19))","v":""},{"$f":"IF(COUNT(特に買いたい・利用したい!CU19:DF19)<>12,\"\",AVERAGE(特に買いたい・利用したい!CU19:DF19))","v":""},{"$f":"IF(COUNT(特に買いたい・利用したい!CV19:DG19)<>12,\"\",AVERAGE(特に買いたい・利用したい!CV19:DG19))","v":""}]
[null,null,"女性30代",null,null,null,null,null,null,null,null,null,null,null,null,null,null,null,{"$f":"IF(COUNT(特に買いたい・利用したい!H20:S20)<>12,\"\",AVERAGE(特に買いたい・利用したい!H20:S20))","v":38.81666666666667},{"$f":"IF(COUNT(特に買いたい・利用したい!I20:T20)<>12,\"\",AVERAGE(特に買いたい・利用したい!I20:T20))","v":37.200000000000003},{"$f":"IF(COUNT(特に買いたい・利用したい!J20:U20)<>12,\"\",AVERAGE(特に買いたい・利用したい!J20:U20))","v":36.591666666666669},{"$f":"IF(COUNT(特に買いたい・利用したい!K20:V20)<>12,\"\",AVERAGE(特に買いたい・利用したい!K20:V20))","v":36.1},{"$f":"IF(COUNT(特に買いたい・利用したい!L20:W20)<>12,\"\",AVERAGE(特に買いたい・利用したい!L20:W20))","v":36.158333333333339},{"$f":"IF(COUNT(特に買いたい・利用したい!M20:X20)<>12,\"\",AVERAGE(特に買いたい・利用したい!M20:X20))","v":35.85},{"$f":"IF(COUNT(特に買いたい・利用したい!N20:Y20)<>12,\"\",AVERAGE(特に買いたい・利用したい!N20:Y20))","v":35.908333333333331},{"$f":"IF(COUNT(特に買いたい・利用したい!O20:Z20)<>12,\"\",AVERAGE(特に買いたい・利用したい!O20:Z20))","v":35.866666666666667},{"$f":"IF(COUNT(特に買いたい・利用したい!P20:AA20)<>12,\"\",AVERAGE(特に買いたい・利用したい!P20:AA20))","v":36.041666666666664},{"$f":"IF(COUNT(特に買いたい・利用したい!Q20:AB20)<>12,\"\",AVERAGE(特に買いたい・利用したい!Q20:AB20))","v":35.641666666666666},{"$f":"IF(COUNT(特に買いたい・利用したい!R20:AC20)<>12,\"\",AVERAGE(特に買いたい・利用したい!R20:AC20))","v":36.758333333333333},{"$f":"IF(COUNT(特に買いたい・利用したい!S20:AD20)<>12,\"\",AVERAGE(特に買いたい・利用したい!S20:AD20))","v":38.1},{"$f":"IF(COUNT(特に買いたい・利用したい!T20:AE20)<>12,\"\",AVERAGE(特に買いたい・利用したい!T20:AE20))","v":36.725000000000001},{"$f":"IF(COUNT(特に買いたい・利用したい!U20:AF20)<>12,\"\",AVERAGE(特に買いたい・利用したい!U20:AF20))","v":36.466666666666669},{"$f":"IF(COUNT(特に買いたい・利用したい!V20:AG20)<>12,\"\",AVERAGE(特に買いたい・利用したい!V20:AG20))","v":35.491666666666667},{"$f":"IF(COUNT(特に買いたい・利用したい!W20:AH20)<>12,\"\",AVERAGE(特に買いたい・利用したい!W20:AH20))","v":35.308333333333337},{"$f":"IF(COUNT(特に買いたい・利用したい!X20:AI20)<>12,\"\",AVERAGE(特に買いたい・利用したい!X20:AI20))","v":34.75833333333334},{"$f":"IF(COUNT(特に買いたい・利用したい!Y20:AJ20)<>12,\"\",AVERAGE(特に買いたい・利用したい!Y20:AJ20))","v":34.558333333333337},{"$f":"IF(COUNT(特に買いたい・利用したい!Z20:AK20)<>12,\"\",AVERAGE(特に買いたい・利用したい!Z20:AK20))","v":34.216666666666676},{"$f":"IF(COUNT(特に買いたい・利用したい!AA20:AL20)<>12,\"\",AVERAGE(特に買いたい・利用したい!AA20:AL20))","v":33.983333333333341},{"$f":"IF(COUNT(特に買いたい・利用したい!AB20:AM20)<>12,\"\",AVERAGE(特に買いたい・利用したい!AB20:AM20))","v":33.883333333333333},{"$f":"IF(COUNT(特に買いたい・利用したい!AC20:AN20)<>12,\"\",AVERAGE(特に買いたい・利用したい!AC20:AN20))","v":33.799999999999997},{"$f":"IF(COUNT(特に買いたい・利用したい!AD20:AO20)<>12,\"\",AVERAGE(特に買いたい・利用したい!AD20:AO20))","v":32.516666666666659},{"$f":"IF(COUNT(特に買いたい・利用したい!AE20:AP20)<>12,\"\",AVERAGE(特に買いたい・利用したい!AE20:AP20))","v":30.324999999999999},{"$f":"IF(COUNT(特に買いたい・利用したい!AF20:AQ20)<>12,\"\",AVERAGE(特に買いたい・利用したい!AF20:AQ20))","v":31.458333333333332},{"$f":"IF(COUNT(特に買いたい・利用したい!AG20:AR20)<>12,\"\",AVERAGE(特に買いたい・利用したい!AG20:AR20))","v":31.633333333333336},{"$f":"IF(COUNT(特に買いたい・利用したい!AH20:AS20)<>12,\"\",AVERAGE(特に買いたい・利用したい!AH20:AS20))","v":32.991666666666667},{"$f":"IF(COUNT(特に買いたい・利用したい!AI20:AT20)<>12,\"\",AVERAGE(特に買いたい・利用したい!AI20:AT20))","v":33.416666666666671},{"$f":"IF(COUNT(特に買いたい・利用したい!AJ20:AU20)<>12,\"\",AVERAGE(特に買いたい・利用したい!AJ20:AU20))","v":33.991666666666667},{"$f":"IF(COUNT(特に買いたい・利用したい!AK20:AV20)<>12,\"\",AVERAGE(特に買いたい・利用したい!AK20:AV20))","v":34.491666666666667},{"$f":"IF(COUNT(特に買いたい・利用したい!AL20:AW20)<>12,\"\",AVERAGE(特に買いたい・利用したい!AL20:AW20))","v":34.524999999999999},{"$f":"IF(COUNT(特に買いたい・利用したい!AM20:AX20)<>12,\"\",AVERAGE(特に買いたい・利用したい!AM20:AX20))","v":34.841666666666661},{"$f":"IF(COUNT(特に買いたい・利用したい!AN20:AY20)<>12,\"\",AVERAGE(特に買いたい・利用したい!AN20:AY20))","v":35.841666666666661},{"$f":"IF(COUNT(特に買いたい・利用したい!AO20:AZ20)<>12,\"\",AVERAGE(特に買いたい・利用したい!AO20:AZ20))","v":37.016666666666666},{"$f":"IF(COUNT(特に買いたい・利用したい!AP20:BA20)<>12,\"\",AVERAGE(特に買いたい・利用したい!AP20:BA20))","v":37.133333333333333},{"$f":"IF(COUNT(特に買いたい・利用したい!AQ20:BB20)<>12,\"\",AVERAGE(特に買いたい・利用したい!AQ20:BB20))","v":37.491666666666667},{"$f":"IF(COUNT(特に買いたい・利用したい!AR20:BC20)<>12,\"\",AVERAGE(特に買いたい・利用したい!AR20:BC20))","v":37.35},{"$f":"IF(COUNT(特に買いたい・利用したい!AS20:BD20)<>12,\"\",AVERAGE(特に買いたい・利用したい!AS20:BD20))","v":37.741666666666667},{"$f":"IF(COUNT(特に買いたい・利用したい!AT20:BE20)<>12,\"\",AVERAGE(特に買いたい・利用したい!AT20:BE20))","v":""},{"$f":"IF(COUNT(特に買いたい・利用したい!AU20:BF20)<>12,\"\",AVERAGE(特に買いたい・利用したい!AU20:BF20))","v":""},{"$f":"IF(COUNT(特に買いたい・利用したい!AV20:BG20)<>12,\"\",AVERAGE(特に買いたい・利用したい!AV20:BG20))","v":""},{"$f":"IF(COUNT(特に買いたい・利用したい!AW20:BH20)<>12,\"\",AVERAGE(特に買いたい・利用したい!AW20:BH20))","v":""},{"$f":"IF(COUNT(特に買いたい・利用したい!AX20:BI20)<>12,\"\",AVERAGE(特に買いたい・利用したい!AX20:BI20))","v":""},{"$f":"IF(COUNT(特に買いたい・利用したい!AY20:BJ20)<>12,\"\",AVERAGE(特に買いたい・利用したい!AY20:BJ20))","v":""},{"$f":"IF(COUNT(特に買いたい・利用したい!AZ20:BK20)<>12,\"\",AVERAGE(特に買いたい・利用したい!AZ20:BK20))","v":""},{"$f":"IF(COUNT(特に買いたい・利用したい!BA20:BL20)<>12,\"\",AVERAGE(特に買いたい・利用したい!BA20:BL20))","v":""},{"$f":"IF(COUNT(特に買いたい・利用したい!BB20:BM20)<>12,\"\",AVERAGE(特に買いたい・利用したい!BB20:BM20))","v":""},{"$f":"IF(COUNT(特に買いたい・利用したい!BC20:BN20)<>12,\"\",AVERAGE(特に買いたい・利用したい!BC20:BN20))","v":""},{"$f":"IF(COUNT(特に買いたい・利用したい!BD20:BO20)<>12,\"\",AVERAGE(特に買いたい・利用したい!BD20:BO20))","v":""},{"$f":"IF(COUNT(特に買いたい・利用したい!BE20:BP20)<>12,\"\",AVERAGE(特に買いたい・利用したい!BE20:BP20))","v":""},{"$f":"IF(COUNT(特に買いたい・利用したい!BF20:BQ20)<>12,\"\",AVERAGE(特に買いたい・利用したい!BF20:BQ20))","v":""},{"$f":"IF(COUNT(特に買いたい・利用したい!BG20:BR20)<>12,\"\",AVERAGE(特に買いたい・利用したい!BG20:BR20))","v":""},{"$f":"IF(COUNT(特に買いたい・利用したい!BH20:BS20)<>12,\"\",AVERAGE(特に買いたい・利用したい!BH20:BS20))","v":""},{"$f":"IF(COUNT(特に買いたい・利用したい!BI20:BT20)<>12,\"\",AVERAGE(特に買いたい・利用したい!BI20:BT20))","v":""},{"$f":"IF(COUNT(特に買いたい・利用したい!BJ20:BU20)<>12,\"\",AVERAGE(特に買いたい・利用したい!BJ20:BU20))","v":""},{"$f":"IF(COUNT(特に買いたい・利用したい!BK20:BV20)<>12,\"\",AVERAGE(特に買いたい・利用したい!BK20:BV20))","v":""},{"$f":"IF(COUNT(特に買いたい・利用したい!BL20:BW20)<>12,\"\",AVERAGE(特に買いたい・利用したい!BL20:BW20))","v":""},{"$f":"IF(COUNT(特に買いたい・利用したい!BM20:BX20)<>12,\"\",AVERAGE(特に買いたい・利用したい!BM20:BX20))","v":""},{"$f":"IF(COUNT(特に買いたい・利用したい!BN20:BY20)<>12,\"\",AVERAGE(特に買いたい・利用したい!BN20:BY20))","v":""},{"$f":"IF(COUNT(特に買いたい・利用したい!BO20:BZ20)<>12,\"\",AVERAGE(特に買いたい・利用したい!BO20:BZ20))","v":""},{"$f":"IF(COUNT(特に買いたい・利用したい!BP20:CA20)<>12,\"\",AVERAGE(特に買いたい・利用したい!BP20:CA20))","v":""},{"$f":"IF(COUNT(特に買いたい・利用したい!BQ20:CB20)<>12,\"\",AVERAGE(特に買いたい・利用したい!BQ20:CB20))","v":""},{"$f":"IF(COUNT(特に買いたい・利用したい!BR20:CC20)<>12,\"\",AVERAGE(特に買いたい・利用したい!BR20:CC20))","v":""},{"$f":"IF(COUNT(特に買いたい・利用したい!BS20:CD20)<>12,\"\",AVERAGE(特に買いたい・利用したい!BS20:CD20))","v":""},{"$f":"IF(COUNT(特に買いたい・利用したい!BT20:CE20)<>12,\"\",AVERAGE(特に買いたい・利用したい!BT20:CE20))","v":""},{"$f":"IF(COUNT(特に買いたい・利用したい!BU20:CF20)<>12,\"\",AVERAGE(特に買いたい・利用したい!BU20:CF20))","v":""},{"$f":"IF(COUNT(特に買いたい・利用したい!BV20:CG20)<>12,\"\",AVERAGE(特に買いたい・利用したい!BV20:CG20))","v":""},{"$f":"IF(COUNT(特に買いたい・利用したい!BW20:CH20)<>12,\"\",AVERAGE(特に買いたい・利用したい!BW20:CH20))","v":""},{"$f":"IF(COUNT(特に買いたい・利用したい!BX20:CI20)<>12,\"\",AVERAGE(特に買いたい・利用したい!BX20:CI20))","v":""},{"$f":"IF(COUNT(特に買いたい・利用したい!BY20:CJ20)<>12,\"\",AVERAGE(特に買いたい・利用したい!BY20:CJ20))","v":""},{"$f":"IF(COUNT(特に買いたい・利用したい!BZ20:CK20)<>12,\"\",AVERAGE(特に買いたい・利用したい!BZ20:CK20))","v":""},{"$f":"IF(COUNT(特に買いたい・利用したい!CA20:CL20)<>12,\"\",AVERAGE(特に買いたい・利用したい!CA20:CL20))","v":""},{"$f":"IF(COUNT(特に買いたい・利用したい!CB20:CM20)<>12,\"\",AVERAGE(特に買いたい・利用したい!CB20:CM20))","v":""},{"$f":"IF(COUNT(特に買いたい・利用したい!CC20:CN20)<>12,\"\",AVERAGE(特に買いたい・利用したい!CC20:CN20))","v":""},{"$f":"IF(COUNT(特に買いたい・利用したい!CD20:CO20)<>12,\"\",AVERAGE(特に買いたい・利用したい!CD20:CO20))","v":""},{"$f":"IF(COUNT(特に買いたい・利用したい!CE20:CP20)<>12,\"\",AVERAGE(特に買いたい・利用したい!CE20:CP20))","v":""},{"$f":"IF(COUNT(特に買いたい・利用したい!CF20:CQ20)<>12,\"\",AVERAGE(特に買いたい・利用したい!CF20:CQ20))","v":""},{"$f":"IF(COUNT(特に買いたい・利用したい!CG20:CR20)<>12,\"\",AVERAGE(特に買いたい・利用したい!CG20:CR20))","v":""},{"$f":"IF(COUNT(特に買いたい・利用したい!CH20:CS20)<>12,\"\",AVERAGE(特に買いたい・利用したい!CH20:CS20))","v":""},{"$f":"IF(COUNT(特に買いたい・利用したい!CI20:CT20)<>12,\"\",AVERAGE(特に買いたい・利用したい!CI20:CT20))","v":""},{"$f":"IF(COUNT(特に買いたい・利用したい!CJ20:CU20)<>12,\"\",AVERAGE(特に買いたい・利用したい!CJ20:CU20))","v":""},{"$f":"IF(COUNT(特に買いたい・利用したい!CK20:CV20)<>12,\"\",AVERAGE(特に買いたい・利用したい!CK20:CV20))","v":""},{"$f":"IF(COUNT(特に買いたい・利用したい!CL20:CW20)<>12,\"\",AVERAGE(特に買いたい・利用したい!CL20:CW20))","v":""},{"$f":"IF(COUNT(特に買いたい・利用したい!CM20:CX20)<>12,\"\",AVERAGE(特に買いたい・利用したい!CM20:CX20))","v":""},{"$f":"IF(COUNT(特に買いたい・利用したい!CN20:CY20)<>12,\"\",AVERAGE(特に買いたい・利用したい!CN20:CY20))","v":""},{"$f":"IF(COUNT(特に買いたい・利用したい!CO20:CZ20)<>12,\"\",AVERAGE(特に買いたい・利用したい!CO20:CZ20))","v":""},{"$f":"IF(COUNT(特に買いたい・利用したい!CP20:DA20)<>12,\"\",AVERAGE(特に買いたい・利用したい!CP20:DA20))","v":""},{"$f":"IF(COUNT(特に買いたい・利用したい!CQ20:DB20)<>12,\"\",AVERAGE(特に買いたい・利用したい!CQ20:DB20))","v":""},{"$f":"IF(COUNT(特に買いたい・利用したい!CR20:DC20)<>12,\"\",AVERAGE(特に買いたい・利用したい!CR20:DC20))","v":""},{"$f":"IF(COUNT(特に買いたい・利用したい!CS20:DD20)<>12,\"\",AVERAGE(特に買いたい・利用したい!CS20:DD20))","v":""},{"$f":"IF(COUNT(特に買いたい・利用したい!CT20:DE20)<>12,\"\",AVERAGE(特に買いたい・利用したい!CT20:DE20))","v":""},{"$f":"IF(COUNT(特に買いたい・利用したい!CU20:DF20)<>12,\"\",AVERAGE(特に買いたい・利用したい!CU20:DF20))","v":""},{"$f":"IF(COUNT(特に買いたい・利用したい!CV20:DG20)<>12,\"\",AVERAGE(特に買いたい・利用したい!CV20:DG20))","v":""}]
[null,null,"女性40代",null,null,null,null,null,null,null,null,null,null,null,null,null,null,null,{"$f":"IF(COUNT(特に買いたい・利用したい!H21:S21)<>12,\"\",AVERAGE(特に買いたい・利用したい!H21:S21))","v":32.716666666666676},{"$f":"IF(COUNT(特に買いたい・利用したい!I21:T21)<>12,\"\",AVERAGE(特に買いたい・利用したい!I21:T21))","v":32.050000000000004},{"$f":"IF(COUNT(特に買いたい・利用したい!J21:U21)<>12,\"\",AVERAGE(特に買いたい・利用したい!J21:U21))","v":32.683333333333337},{"$f":"IF(COUNT(特に買いたい・利用したい!K21:V21)<>12,\"\",AVERAGE(特に買いたい・利用したい!K21:V21))","v":32.083333333333336},{"$f":"IF(COUNT(特に買いたい・利用したい!L21:W21)<>12,\"\",AVERAGE(特に買いたい・利用したい!L21:W21))","v":32.05833333333333},{"$f":"IF(COUNT(特に買いたい・利用したい!M21:X21)<>12,\"\",AVERAGE(特に買いたい・利用したい!M21:X21))","v":30.841666666666669},{"$f":"IF(COUNT(特に買いたい・利用したい!N21:Y21)<>12,\"\",AVERAGE(特に買いたい・利用したい!N21:Y21))","v":30.858333333333331},{"$f":"IF(COUNT(特に買いたい・利用したい!O21:Z21)<>12,\"\",AVERAGE(特に買いたい・利用したい!O21:Z21))","v":30.466666666666669},{"$f":"IF(COUNT(特に買いたい・利用したい!P21:AA21)<>12,\"\",AVERAGE(特に買いたい・利用したい!P21:AA21))","v":29.650000000000002},{"$f":"IF(COUNT(特に買いたい・利用したい!Q21:AB21)<>12,\"\",AVERAGE(特に買いたい・利用したい!Q21:AB21))","v":28.083333333333332},{"$f":"IF(COUNT(特に買いたい・利用したい!R21:AC21)<>12,\"\",AVERAGE(特に買いたい・利用したい!R21:AC21))","v":27.516666666666666},{"$f":"IF(COUNT(特に買いたい・利用したい!S21:AD21)<>12,\"\",AVERAGE(特に買いたい・利用したい!S21:AD21))","v":28.291666666666661},{"$f":"IF(COUNT(特に買いたい・利用したい!T21:AE21)<>12,\"\",AVERAGE(特に買いたい・利用したい!T21:AE21))","v":27.433333333333326},{"$f":"IF(COUNT(特に買いたい・利用したい!U21:AF21)<>12,\"\",AVERAGE(特に買いたい・利用したい!U21:AF21))","v":26.399999999999995},{"$f":"IF(COUNT(特に買いたい・利用したい!V21:AG21)<>12,\"\",AVERAGE(特に買いたい・利用したい!V21:AG21))","v":25.433333333333326},{"$f":"IF(COUNT(特に買いたい・利用したい!W21:AH21)<>12,\"\",AVERAGE(特に買いたい・利用したい!W21:AH21))","v":25.183333333333337},{"$f":"IF(COUNT(特に買いたい・利用したい!X21:AI21)<>12,\"\",AVERAGE(特に買いたい・利用したい!X21:AI21))","v":25.049999999999997},{"$f":"IF(COUNT(特に買いたい・利用したい!Y21:AJ21)<>12,\"\",AVERAGE(特に買いたい・利用したい!Y21:AJ21))","v":25.666666666666668},{"$f":"IF(COUNT(特に買いたい・利用したい!Z21:AK21)<>12,\"\",AVERAGE(特に買いたい・利用したい!Z21:AK21))","v":25.033333333333335},{"$f":"IF(COUNT(特に買いたい・利用したい!AA21:AL21)<>12,\"\",AVERAGE(特に買いたい・利用したい!AA21:AL21))","v":24.691666666666666},{"$f":"IF(COUNT(特に買いたい・利用したい!AB21:AM21)<>12,\"\",AVERAGE(特に買いたい・利用したい!AB21:AM21))","v":25.824999999999999},{"$f":"IF(COUNT(特に買いたい・利用したい!AC21:AN21)<>12,\"\",AVERAGE(特に買いたい・利用したい!AC21:AN21))","v":25.833333333333339},{"$f":"IF(COUNT(特に買いたい・利用したい!AD21:AO21)<>12,\"\",AVERAGE(特に買いたい・利用したい!AD21:AO21))","v":25.758333333333336},{"$f":"IF(COUNT(特に買いたい・利用したい!AE21:AP21)<>12,\"\",AVERAGE(特に買いたい・利用したい!AE21:AP21))","v":24.716666666666665},{"$f":"IF(COUNT(特に買いたい・利用したい!AF21:AQ21)<>12,\"\",AVERAGE(特に買いたい・利用したい!AF21:AQ21))","v":25.674999999999997},{"$f":"IF(COUNT(特に買いたい・利用したい!AG21:AR21)<>12,\"\",AVERAGE(特に買いたい・利用したい!AG21:AR21))","v":26.95},{"$f":"IF(COUNT(特に買いたい・利用したい!AH21:AS21)<>12,\"\",AVERAGE(特に買いたい・利用したい!AH21:AS21))","v":26.991666666666664},{"$f":"IF(COUNT(特に買いたい・利用したい!AI21:AT21)<>12,\"\",AVERAGE(特に買いたい・利用したい!AI21:AT21))","v":27.299999999999997},{"$f":"IF(COUNT(特に買いたい・利用したい!AJ21:AU21)<>12,\"\",AVERAGE(特に買いたい・利用したい!AJ21:AU21))","v":27.333333333333329},{"$f":"IF(COUNT(特に買いたい・利用したい!AK21:AV21)<>12,\"\",AVERAGE(特に買いたい・利用したい!AK21:AV21))","v":27.324999999999992},{"$f":"IF(COUNT(特に買いたい・利用したい!AL21:AW21)<>12,\"\",AVERAGE(特に買いたい・利用したい!AL21:AW21))","v":27.866666666666664},{"$f":"IF(COUNT(特に買いたい・利用したい!AM21:AX21)<>12,\"\",AVERAGE(特に買いたい・利用したい!AM21:AX21))","v":27.758333333333329},{"$f":"IF(COUNT(特に買いたい・利用したい!AN21:AY21)<>12,\"\",AVERAGE(特に買いたい・利用したい!AN21:AY21))","v":27.683333333333334},{"$f":"IF(COUNT(特に買いたい・利用したい!AO21:AZ21)<>12,\"\",AVERAGE(特に買いたい・利用したい!AO21:AZ21))","v":27.808333333333337},{"$f":"IF(COUNT(特に買いたい・利用したい!AP21:BA21)<>12,\"\",AVERAGE(特に買いたい・利用したい!AP21:BA21))","v":28.225000000000005},{"$f":"IF(COUNT(特に買いたい・利用したい!AQ21:BB21)<>12,\"\",AVERAGE(特に買いたい・利用したい!AQ21:BB21))","v":27.933333333333337},{"$f":"IF(COUNT(特に買いたい・利用したい!AR21:BC21)<>12,\"\",AVERAGE(特に買いたい・利用したい!AR21:BC21))","v":27.733333333333334},{"$f":"IF(COUNT(特に買いたい・利用したい!AS21:BD21)<>12,\"\",AVERAGE(特に買いたい・利用したい!AS21:BD21))","v":27.574999999999999},{"$f":"IF(COUNT(特に買いたい・利用したい!AT21:BE21)<>12,\"\",AVERAGE(特に買いたい・利用したい!AT21:BE21))","v":""},{"$f":"IF(COUNT(特に買いたい・利用したい!AU21:BF21)<>12,\"\",AVERAGE(特に買いたい・利用したい!AU21:BF21))","v":""},{"$f":"IF(COUNT(特に買いたい・利用したい!AV21:BG21)<>12,\"\",AVERAGE(特に買いたい・利用したい!AV21:BG21))","v":""},{"$f":"IF(COUNT(特に買いたい・利用したい!AW21:BH21)<>12,\"\",AVERAGE(特に買いたい・利用したい!AW21:BH21))","v":""},{"$f":"IF(COUNT(特に買いたい・利用したい!AX21:BI21)<>12,\"\",AVERAGE(特に買いたい・利用したい!AX21:BI21))","v":""},{"$f":"IF(COUNT(特に買いたい・利用したい!AY21:BJ21)<>12,\"\",AVERAGE(特に買いたい・利用したい!AY21:BJ21))","v":""},{"$f":"IF(COUNT(特に買いたい・利用したい!AZ21:BK21)<>12,\"\",AVERAGE(特に買いたい・利用したい!AZ21:BK21))","v":""},{"$f":"IF(COUNT(特に買いたい・利用したい!BA21:BL21)<>12,\"\",AVERAGE(特に買いたい・利用したい!BA21:BL21))","v":""},{"$f":"IF(COUNT(特に買いたい・利用したい!BB21:BM21)<>12,\"\",AVERAGE(特に買いたい・利用したい!BB21:BM21))","v":""},{"$f":"IF(COUNT(特に買いたい・利用したい!BC21:BN21)<>12,\"\",AVERAGE(特に買いたい・利用したい!BC21:BN21))","v":""},{"$f":"IF(COUNT(特に買いたい・利用したい!BD21:BO21)<>12,\"\",AVERAGE(特に買いたい・利用したい!BD21:BO21))","v":""},{"$f":"IF(COUNT(特に買いたい・利用したい!BE21:BP21)<>12,\"\",AVERAGE(特に買いたい・利用したい!BE21:BP21))","v":""},{"$f":"IF(COUNT(特に買いたい・利用したい!BF21:BQ21)<>12,\"\",AVERAGE(特に買いたい・利用したい!BF21:BQ21))","v":""},{"$f":"IF(COUNT(特に買いたい・利用したい!BG21:BR21)<>12,\"\",AVERAGE(特に買いたい・利用したい!BG21:BR21))","v":""},{"$f":"IF(COUNT(特に買いたい・利用したい!BH21:BS21)<>12,\"\",AVERAGE(特に買いたい・利用したい!BH21:BS21))","v":""},{"$f":"IF(COUNT(特に買いたい・利用したい!BI21:BT21)<>12,\"\",AVERAGE(特に買いたい・利用したい!BI21:BT21))","v":""},{"$f":"IF(COUNT(特に買いたい・利用したい!BJ21:BU21)<>12,\"\",AVERAGE(特に買いたい・利用したい!BJ21:BU21))","v":""},{"$f":"IF(COUNT(特に買いたい・利用したい!BK21:BV21)<>12,\"\",AVERAGE(特に買いたい・利用したい!BK21:BV21))","v":""},{"$f":"IF(COUNT(特に買いたい・利用したい!BL21:BW21)<>12,\"\",AVERAGE(特に買いたい・利用したい!BL21:BW21))","v":""},{"$f":"IF(COUNT(特に買いたい・利用したい!BM21:BX21)<>12,\"\",AVERAGE(特に買いたい・利用したい!BM21:BX21))","v":""},{"$f":"IF(COUNT(特に買いたい・利用したい!BN21:BY21)<>12,\"\",AVERAGE(特に買いたい・利用したい!BN21:BY21))","v":""},{"$f":"IF(COUNT(特に買いたい・利用したい!BO21:BZ21)<>12,\"\",AVERAGE(特に買いたい・利用したい!BO21:BZ21))","v":""},{"$f":"IF(COUNT(特に買いたい・利用したい!BP21:CA21)<>12,\"\",AVERAGE(特に買いたい・利用したい!BP21:CA21))","v":""},{"$f":"IF(COUNT(特に買いたい・利用したい!BQ21:CB21)<>12,\"\",AVERAGE(特に買いたい・利用したい!BQ21:CB21))","v":""},{"$f":"IF(COUNT(特に買いたい・利用したい!BR21:CC21)<>12,\"\",AVERAGE(特に買いたい・利用したい!BR21:CC21))","v":""},{"$f":"IF(COUNT(特に買いたい・利用したい!BS21:CD21)<>12,\"\",AVERAGE(特に買いたい・利用したい!BS21:CD21))","v":""},{"$f":"IF(COUNT(特に買いたい・利用したい!BT21:CE21)<>12,\"\",AVERAGE(特に買いたい・利用したい!BT21:CE21))","v":""},{"$f":"IF(COUNT(特に買いたい・利用したい!BU21:CF21)<>12,\"\",AVERAGE(特に買いたい・利用したい!BU21:CF21))","v":""},{"$f":"IF(COUNT(特に買いたい・利用したい!BV21:CG21)<>12,\"\",AVERAGE(特に買いたい・利用したい!BV21:CG21))","v":""},{"$f":"IF(COUNT(特に買いたい・利用したい!BW21:CH21)<>12,\"\",AVERAGE(特に買いたい・利用したい!BW21:CH21))","v":""},{"$f":"IF(COUNT(特に買いたい・利用したい!BX21:CI21)<>12,\"\",AVERAGE(特に買いたい・利用したい!BX21:CI21))","v":""},{"$f":"IF(COUNT(特に買いたい・利用したい!BY21:CJ21)<>12,\"\",AVERAGE(特に買いたい・利用したい!BY21:CJ21))","v":""},{"$f":"IF(COUNT(特に買いたい・利用したい!BZ21:CK21)<>12,\"\",AVERAGE(特に買いたい・利用したい!BZ21:CK21))","v":""},{"$f":"IF(COUNT(特に買いたい・利用したい!CA21:CL21)<>12,\"\",AVERAGE(特に買いたい・利用したい!CA21:CL21))","v":""},{"$f":"IF(COUNT(特に買いたい・利用したい!CB21:CM21)<>12,\"\",AVERAGE(特に買いたい・利用したい!CB21:CM21))","v":""},{"$f":"IF(COUNT(特に買いたい・利用したい!CC21:CN21)<>12,\"\",AVERAGE(特に買いたい・利用したい!CC21:CN21))","v":""},{"$f":"IF(COUNT(特に買いたい・利用したい!CD21:CO21)<>12,\"\",AVERAGE(特に買いたい・利用したい!CD21:CO21))","v":""},{"$f":"IF(COUNT(特に買いたい・利用したい!CE21:CP21)<>12,\"\",AVERAGE(特に買いたい・利用したい!CE21:CP21))","v":""},{"$f":"IF(COUNT(特に買いたい・利用したい!CF21:CQ21)<>12,\"\",AVERAGE(特に買いたい・利用したい!CF21:CQ21))","v":""},{"$f":"IF(COUNT(特に買いたい・利用したい!CG21:CR21)<>12,\"\",AVERAGE(特に買いたい・利用したい!CG21:CR21))","v":""},{"$f":"IF(COUNT(特に買いたい・利用したい!CH21:CS21)<>12,\"\",AVERAGE(特に買いたい・利用したい!CH21:CS21))","v":""},{"$f":"IF(COUNT(特に買いたい・利用したい!CI21:CT21)<>12,\"\",AVERAGE(特に買いたい・利用したい!CI21:CT21))","v":""},{"$f":"IF(COUNT(特に買いたい・利用したい!CJ21:CU21)<>12,\"\",AVERAGE(特に買いたい・利用したい!CJ21:CU21))","v":""},{"$f":"IF(COUNT(特に買いたい・利用したい!CK21:CV21)<>12,\"\",AVERAGE(特に買いたい・利用したい!CK21:CV21))","v":""},{"$f":"IF(COUNT(特に買いたい・利用したい!CL21:CW21)<>12,\"\",AVERAGE(特に買いたい・利用したい!CL21:CW21))","v":""},{"$f":"IF(COUNT(特に買いたい・利用したい!CM21:CX21)<>12,\"\",AVERAGE(特に買いたい・利用したい!CM21:CX21))","v":""},{"$f":"IF(COUNT(特に買いたい・利用したい!CN21:CY21)<>12,\"\",AVERAGE(特に買いたい・利用したい!CN21:CY21))","v":""},{"$f":"IF(COUNT(特に買いたい・利用したい!CO21:CZ21)<>12,\"\",AVERAGE(特に買いたい・利用したい!CO21:CZ21))","v":""},{"$f":"IF(COUNT(特に買いたい・利用したい!CP21:DA21)<>12,\"\",AVERAGE(特に買いたい・利用したい!CP21:DA21))","v":""},{"$f":"IF(COUNT(特に買いたい・利用したい!CQ21:DB21)<>12,\"\",AVERAGE(特に買いたい・利用したい!CQ21:DB21))","v":""},{"$f":"IF(COUNT(特に買いたい・利用したい!CR21:DC21)<>12,\"\",AVERAGE(特に買いたい・利用したい!CR21:DC21))","v":""},{"$f":"IF(COUNT(特に買いたい・利用したい!CS21:DD21)<>12,\"\",AVERAGE(特に買いたい・利用したい!CS21:DD21))","v":""},{"$f":"IF(COUNT(特に買いたい・利用したい!CT21:DE21)<>12,\"\",AVERAGE(特に買いたい・利用したい!CT21:DE21))","v":""},{"$f":"IF(COUNT(特に買いたい・利用したい!CU21:DF21)<>12,\"\",AVERAGE(特に買いたい・利用したい!CU21:DF21))","v":""},{"$f":"IF(COUNT(特に買いたい・利用したい!CV21:DG21)<>12,\"\",AVERAGE(特に買いたい・利用したい!CV21:DG21))","v":""}]
[null,null,"女性50代",null,null,null,null,null,null,null,null,null,null,null,null,null,null,null,{"$f":"IF(COUNT(特に買いたい・利用したい!H22:S22)<>12,\"\",AVERAGE(特に買いたい・利用したい!H22:S22))","v":26.974999999999998},{"$f":"IF(COUNT(特に買いたい・利用したい!I22:T22)<>12,\"\",AVERAGE(特に買いたい・利用したい!I22:T22))","v":26.416666666666668},{"$f":"IF(COUNT(特に買いたい・利用したい!J22:U22)<>12,\"\",AVERAGE(特に買いたい・利用したい!J22:U22))","v":26.366666666666671},{"$f":"IF(COUNT(特に買いたい・利用したい!K22:V22)<>12,\"\",AVERAGE(特に買いたい・利用したい!K22:V22))","v":25.491666666666671},{"$f":"IF(COUNT(特に買いたい・利用したい!L22:W22)<>12,\"\",AVERAGE(特に買いたい・利用したい!L22:W22))","v":25.708333333333339},{"$f":"IF(COUNT(特に買いたい・利用したい!M22:X22)<>12,\"\",AVERAGE(特に買いたい・利用したい!M22:X22))","v":25.908333333333335},{"$f":"IF(COUNT(特に買いたい・利用したい!N22:Y22)<>12,\"\",AVERAGE(特に買いたい・利用したい!N22:Y22))","v":24.766666666666669},{"$f":"IF(COUNT(特に買いたい・利用したい!O22:Z22)<>12,\"\",AVERAGE(特に買いたい・利用したい!O22:Z22))","v":24.850000000000005},{"$f":"IF(COUNT(特に買いたい・利用したい!P22:AA22)<>12,\"\",AVERAGE(特に買いたい・利用したい!P22:AA22))","v":24.808333333333337},{"$f":"IF(COUNT(特に買いたい・利用したい!Q22:AB22)<>12,\"\",AVERAGE(特に買いたい・利用したい!Q22:AB22))","v":24.375000000000004},{"$f":"IF(COUNT(特に買いたい・利用したい!R22:AC22)<>12,\"\",AVERAGE(特に買いたい・利用したい!R22:AC22))","v":25.875000000000004},{"$f":"IF(COUNT(特に買いたい・利用したい!S22:AD22)<>12,\"\",AVERAGE(特に買いたい・利用したい!S22:AD22))","v":26.608333333333331},{"$f":"IF(COUNT(特に買いたい・利用したい!T22:AE22)<>12,\"\",AVERAGE(特に買いたい・利用したい!T22:AE22))","v":25.724999999999998},{"$f":"IF(COUNT(特に買いたい・利用したい!U22:AF22)<>12,\"\",AVERAGE(特に買いたい・利用したい!U22:AF22))","v":24.866666666666664},{"$f":"IF(COUNT(特に買いたい・利用したい!V22:AG22)<>12,\"\",AVERAGE(特に買いたい・利用したい!V22:AG22))","v":24.641666666666666},{"$f":"IF(COUNT(特に買いたい・利用したい!W22:AH22)<>12,\"\",AVERAGE(特に買いたい・利用したい!W22:AH22))","v":25.241666666666671},{"$f":"IF(COUNT(特に買いたい・利用したい!X22:AI22)<>12,\"\",AVERAGE(特に買いたい・利用したい!X22:AI22))","v":24.625},{"$f":"IF(COUNT(特に買いたい・利用したい!Y22:AJ22)<>12,\"\",AVERAGE(特に買いたい・利用したい!Y22:AJ22))","v":25.233333333333334},{"$f":"IF(COUNT(特に買いたい・利用したい!Z22:AK22)<>12,\"\",AVERAGE(特に買いたい・利用したい!Z22:AK22))","v":25.533333333333331},{"$f":"IF(COUNT(特に買いたい・利用したい!AA22:AL22)<>12,\"\",AVERAGE(特に買いたい・利用したい!AA22:AL22))","v":24.8},{"$f":"IF(COUNT(特に買いたい・利用したい!AB22:AM22)<>12,\"\",AVERAGE(特に買いたい・利用したい!AB22:AM22))","v":25.324999999999999},{"$f":"IF(COUNT(特に買いたい・利用したい!AC22:AN22)<>12,\"\",AVERAGE(特に買いたい・利用したい!AC22:AN22))","v":25.166666666666668},{"$f":"IF(COUNT(特に買いたい・利用したい!AD22:AO22)<>12,\"\",AVERAGE(特に買いたい・利用したい!AD22:AO22))","v":24.233333333333334},{"$f":"IF(COUNT(特に買いたい・利用したい!AE22:AP22)<>12,\"\",AVERAGE(特に買いたい・利用したい!AE22:AP22))","v":22.966666666666669},{"$f":"IF(COUNT(特に買いたい・利用したい!AF22:AQ22)<>12,\"\",AVERAGE(特に買いたい・利用したい!AF22:AQ22))","v":24.733333333333334},{"$f":"IF(COUNT(特に買いたい・利用したい!AG22:AR22)<>12,\"\",AVERAGE(特に買いたい・利用したい!AG22:AR22))","v":26.383333333333336},{"$f":"IF(COUNT(特に買いたい・利用したい!AH22:AS22)<>12,\"\",AVERAGE(特に買いたい・利用したい!AH22:AS22))","v":25.974999999999998},{"$f":"IF(COUNT(特に買いたい・利用したい!AI22:AT22)<>12,\"\",AVERAGE(特に買いたい・利用したい!AI22:AT22))","v":26.233333333333334},{"$f":"IF(COUNT(特に買いたい・利用したい!AJ22:AU22)<>12,\"\",AVERAGE(特に買いたい・利用したい!AJ22:AU22))","v":26.25},{"$f":"IF(COUNT(特に買いたい・利用したい!AK22:AV22)<>12,\"\",AVERAGE(特に買いたい・利用したい!AK22:AV22))","v":25.950000000000003},{"$f":"IF(COUNT(特に買いたい・利用したい!AL22:AW22)<>12,\"\",AVERAGE(特に買いたい・利用したい!AL22:AW22))","v":25.966666666666669},{"$f":"IF(COUNT(特に買いたい・利用したい!AM22:AX22)<>12,\"\",AVERAGE(特に買いたい・利用したい!AM22:AX22))","v":26.550000000000008},{"$f":"IF(COUNT(特に買いたい・利用したい!AN22:AY22)<>12,\"\",AVERAGE(特に買いたい・利用したい!AN22:AY22))","v":26.974999999999998},{"$f":"IF(COUNT(特に買いたい・利用したい!AO22:AZ22)<>12,\"\",AVERAGE(特に買いたい・利用したい!AO22:AZ22))","v":27.441666666666663},{"$f":"IF(COUNT(特に買いたい・利用したい!AP22:BA22)<>12,\"\",AVERAGE(特に買いたい・利用したい!AP22:BA22))","v":27.216666666666658},{"$f":"IF(COUNT(特に買いたい・利用したい!AQ22:BB22)<>12,\"\",AVERAGE(特に買いたい・利用したい!AQ22:BB22))","v":26.858333333333331},{"$f":"IF(COUNT(特に買いたい・利用したい!AR22:BC22)<>12,\"\",AVERAGE(特に買いたい・利用したい!AR22:BC22))","v":25.74166666666666},{"$f":"IF(COUNT(特に買いたい・利用したい!AS22:BD22)<>12,\"\",AVERAGE(特に買いたい・利用したい!AS22:BD22))","v":24.941666666666663},{"$f":"IF(COUNT(特に買いたい・利用したい!AT22:BE22)<>12,\"\",AVERAGE(特に買いたい・利用したい!AT22:BE22))","v":""},{"$f":"IF(COUNT(特に買いたい・利用したい!AU22:BF22)<>12,\"\",AVERAGE(特に買いたい・利用したい!AU22:BF22))","v":""},{"$f":"IF(COUNT(特に買いたい・利用したい!AV22:BG22)<>12,\"\",AVERAGE(特に買いたい・利用したい!AV22:BG22))","v":""},{"$f":"IF(COUNT(特に買いたい・利用したい!AW22:BH22)<>12,\"\",AVERAGE(特に買いたい・利用したい!AW22:BH22))","v":""},{"$f":"IF(COUNT(特に買いたい・利用したい!AX22:BI22)<>12,\"\",AVERAGE(特に買いたい・利用したい!AX22:BI22))","v":""},{"$f":"IF(COUNT(特に買いたい・利用したい!AY22:BJ22)<>12,\"\",AVERAGE(特に買いたい・利用したい!AY22:BJ22))","v":""},{"$f":"IF(COUNT(特に買いたい・利用したい!AZ22:BK22)<>12,\"\",AVERAGE(特に買いたい・利用したい!AZ22:BK22))","v":""},{"$f":"IF(COUNT(特に買いたい・利用したい!BA22:BL22)<>12,\"\",AVERAGE(特に買いたい・利用したい!BA22:BL22))","v":""},{"$f":"IF(COUNT(特に買いたい・利用したい!BB22:BM22)<>12,\"\",AVERAGE(特に買いたい・利用したい!BB22:BM22))","v":""},{"$f":"IF(COUNT(特に買いたい・利用したい!BC22:BN22)<>12,\"\",AVERAGE(特に買いたい・利用したい!BC22:BN22))","v":""},{"$f":"IF(COUNT(特に買いたい・利用したい!BD22:BO22)<>12,\"\",AVERAGE(特に買いたい・利用したい!BD22:BO22))","v":""},{"$f":"IF(COUNT(特に買いたい・利用したい!BE22:BP22)<>12,\"\",AVERAGE(特に買いたい・利用したい!BE22:BP22))","v":""},{"$f":"IF(COUNT(特に買いたい・利用したい!BF22:BQ22)<>12,\"\",AVERAGE(特に買いたい・利用したい!BF22:BQ22))","v":""},{"$f":"IF(COUNT(特に買いたい・利用したい!BG22:BR22)<>12,\"\",AVERAGE(特に買いたい・利用したい!BG22:BR22))","v":""},{"$f":"IF(COUNT(特に買いたい・利用したい!BH22:BS22)<>12,\"\",AVERAGE(特に買いたい・利用したい!BH22:BS22))","v":""},{"$f":"IF(COUNT(特に買いたい・利用したい!BI22:BT22)<>12,\"\",AVERAGE(特に買いたい・利用したい!BI22:BT22))","v":""},{"$f":"IF(COUNT(特に買いたい・利用したい!BJ22:BU22)<>12,\"\",AVERAGE(特に買いたい・利用したい!BJ22:BU22))","v":""},{"$f":"IF(COUNT(特に買いたい・利用したい!BK22:BV22)<>12,\"\",AVERAGE(特に買いたい・利用したい!BK22:BV22))","v":""},{"$f":"IF(COUNT(特に買いたい・利用したい!BL22:BW22)<>12,\"\",AVERAGE(特に買いたい・利用したい!BL22:BW22))","v":""},{"$f":"IF(COUNT(特に買いたい・利用したい!BM22:BX22)<>12,\"\",AVERAGE(特に買いたい・利用したい!BM22:BX22))","v":""},{"$f":"IF(COUNT(特に買いたい・利用したい!BN22:BY22)<>12,\"\",AVERAGE(特に買いたい・利用したい!BN22:BY22))","v":""},{"$f":"IF(COUNT(特に買いたい・利用したい!BO22:BZ22)<>12,\"\",AVERAGE(特に買いたい・利用したい!BO22:BZ22))","v":""},{"$f":"IF(COUNT(特に買いたい・利用したい!BP22:CA22)<>12,\"\",AVERAGE(特に買いたい・利用したい!BP22:CA22))","v":""},{"$f":"IF(COUNT(特に買いたい・利用したい!BQ22:CB22)<>12,\"\",AVERAGE(特に買いたい・利用したい!BQ22:CB22))","v":""},{"$f":"IF(COUNT(特に買いたい・利用したい!BR22:CC22)<>12,\"\",AVERAGE(特に買いたい・利用したい!BR22:CC22))","v":""},{"$f":"IF(COUNT(特に買いたい・利用したい!BS22:CD22)<>12,\"\",AVERAGE(特に買いたい・利用したい!BS22:CD22))","v":""},{"$f":"IF(COUNT(特に買いたい・利用したい!BT22:CE22)<>12,\"\",AVERAGE(特に買いたい・利用したい!BT22:CE22))","v":""},{"$f":"IF(COUNT(特に買いたい・利用したい!BU22:CF22)<>12,\"\",AVERAGE(特に買いたい・利用したい!BU22:CF22))","v":""},{"$f":"IF(COUNT(特に買いたい・利用したい!BV22:CG22)<>12,\"\",AVERAGE(特に買いたい・利用したい!BV22:CG22))","v":""},{"$f":"IF(COUNT(特に買いたい・利用したい!BW22:CH22)<>12,\"\",AVERAGE(特に買いたい・利用したい!BW22:CH22))","v":""},{"$f":"IF(COUNT(特に買いたい・利用したい!BX22:CI22)<>12,\"\",AVERAGE(特に買いたい・利用したい!BX22:CI22))","v":""},{"$f":"IF(COUNT(特に買いたい・利用したい!BY22:CJ22)<>12,\"\",AVERAGE(特に買いたい・利用したい!BY22:CJ22))","v":""},{"$f":"IF(COUNT(特に買いたい・利用したい!BZ22:CK22)<>12,\"\",AVERAGE(特に買いたい・利用したい!BZ22:CK22))","v":""},{"$f":"IF(COUNT(特に買いたい・利用したい!CA22:CL22)<>12,\"\",AVERAGE(特に買いたい・利用したい!CA22:CL22))","v":""},{"$f":"IF(COUNT(特に買いたい・利用したい!CB22:CM22)<>12,\"\",AVERAGE(特に買いたい・利用したい!CB22:CM22))","v":""},{"$f":"IF(COUNT(特に買いたい・利用したい!CC22:CN22)<>12,\"\",AVERAGE(特に買いたい・利用したい!CC22:CN22))","v":""},{"$f":"IF(COUNT(特に買いたい・利用したい!CD22:CO22)<>12,\"\",AVERAGE(特に買いたい・利用したい!CD22:CO22))","v":""},{"$f":"IF(COUNT(特に買いたい・利用したい!CE22:CP22)<>12,\"\",AVERAGE(特に買いたい・利用したい!CE22:CP22))","v":""},{"$f":"IF(COUNT(特に買いたい・利用したい!CF22:CQ22)<>12,\"\",AVERAGE(特に買いたい・利用したい!CF22:CQ22))","v":""},{"$f":"IF(COUNT(特に買いたい・利用したい!CG22:CR22)<>12,\"\",AVERAGE(特に買いたい・利用したい!CG22:CR22))","v":""},{"$f":"IF(COUNT(特に買いたい・利用したい!CH22:CS22)<>12,\"\",AVERAGE(特に買いたい・利用したい!CH22:CS22))","v":""},{"$f":"IF(COUNT(特に買いたい・利用したい!CI22:CT22)<>12,\"\",AVERAGE(特に買いたい・利用したい!CI22:CT22))","v":""},{"$f":"IF(COUNT(特に買いたい・利用したい!CJ22:CU22)<>12,\"\",AVERAGE(特に買いたい・利用したい!CJ22:CU22))","v":""},{"$f":"IF(COUNT(特に買いたい・利用したい!CK22:CV22)<>12,\"\",AVERAGE(特に買いたい・利用したい!CK22:CV22))","v":""},{"$f":"IF(COUNT(特に買いたい・利用したい!CL22:CW22)<>12,\"\",AVERAGE(特に買いたい・利用したい!CL22:CW22))","v":""},{"$f":"IF(COUNT(特に買いたい・利用したい!CM22:CX22)<>12,\"\",AVERAGE(特に買いたい・利用したい!CM22:CX22))","v":""},{"$f":"IF(COUNT(特に買いたい・利用したい!CN22:CY22)<>12,\"\",AVERAGE(特に買いたい・利用したい!CN22:CY22))","v":""},{"$f":"IF(COUNT(特に買いたい・利用したい!CO22:CZ22)<>12,\"\",AVERAGE(特に買いたい・利用したい!CO22:CZ22))","v":""},{"$f":"IF(COUNT(特に買いたい・利用したい!CP22:DA22)<>12,\"\",AVERAGE(特に買いたい・利用したい!CP22:DA22))","v":""},{"$f":"IF(COUNT(特に買いたい・利用したい!CQ22:DB22)<>12,\"\",AVERAGE(特に買いたい・利用したい!CQ22:DB22))","v":""},{"$f":"IF(COUNT(特に買いたい・利用したい!CR22:DC22)<>12,\"\",AVERAGE(特に買いたい・利用したい!CR22:DC22))","v":""},{"$f":"IF(COUNT(特に買いたい・利用したい!CS22:DD22)<>12,\"\",AVERAGE(特に買いたい・利用したい!CS22:DD22))","v":""},{"$f":"IF(COUNT(特に買いたい・利用したい!CT22:DE22)<>12,\"\",AVERAGE(特に買いたい・利用したい!CT22:DE22))","v":""},{"$f":"IF(COUNT(特に買いたい・利用したい!CU22:DF22)<>12,\"\",AVERAGE(特に買いたい・利用したい!CU22:DF22))","v":""},{"$f":"IF(COUNT(特に買いたい・利用したい!CV22:DG22)<>12,\"\",AVERAGE(特に買いたい・利用したい!CV22:DG22))","v":""}]
[null,null,"女性60代",null,null,null,null,null,null,null,null,null,null,null,null,null,null,null,{"$f":"IF(COUNT(特に買いたい・利用したい!H23:S23)<>12,\"\",AVERAGE(特に買いたい・利用したい!H23:S23))","v":28.674999999999994},{"$f":"IF(COUNT(特に買いたい・利用したい!I23:T23)<>12,\"\",AVERAGE(特に買いたい・利用したい!I23:T23))","v":28.591666666666665},{"$f":"IF(COUNT(特に買いたい・利用したい!J23:U23)<>12,\"\",AVERAGE(特に買いたい・利用したい!J23:U23))","v":27.95},{"$f":"IF(COUNT(特に買いたい・利用したい!K23:V23)<>12,\"\",AVERAGE(特に買いたい・利用したい!K23:V23))","v":28.025000000000006},{"$f":"IF(COUNT(特に買いたい・利用したい!L23:W23)<>12,\"\",AVERAGE(特に買いたい・利用したい!L23:W23))","v":28.183333333333337},{"$f":"IF(COUNT(特に買いたい・利用したい!M23:X23)<>12,\"\",AVERAGE(特に買いたい・利用したい!M23:X23))","v":27.375},{"$f":"IF(COUNT(特に買いたい・利用したい!N23:Y23)<>12,\"\",AVERAGE(特に買いたい・利用したい!N23:Y23))","v":27.191666666666666},{"$f":"IF(COUNT(特に買いたい・利用したい!O23:Z23)<>12,\"\",AVERAGE(特に買いたい・利用したい!O23:Z23))","v":26.266666666666666},{"$f":"IF(COUNT(特に買いたい・利用したい!P23:AA23)<>12,\"\",AVERAGE(特に買いたい・利用したい!P23:AA23))","v":26.416666666666668},{"$f":"IF(COUNT(特に買いたい・利用したい!Q23:AB23)<>12,\"\",AVERAGE(特に買いたい・利用したい!Q23:AB23))","v":25.583333333333332},{"$f":"IF(COUNT(特に買いたい・利用したい!R23:AC23)<>12,\"\",AVERAGE(特に買いたい・利用したい!R23:AC23))","v":25.483333333333331},{"$f":"IF(COUNT(特に買いたい・利用したい!S23:AD23)<>12,\"\",AVERAGE(特に買いたい・利用したい!S23:AD23))","v":25.558333333333337},{"$f":"IF(COUNT(特に買いたい・利用したい!T23:AE23)<>12,\"\",AVERAGE(特に買いたい・利用したい!T23:AE23))","v":23.783333333333331},{"$f":"IF(COUNT(特に買いたい・利用したい!U23:AF23)<>12,\"\",AVERAGE(特に買いたい・利用したい!U23:AF23))","v":22.908333333333331},{"$f":"IF(COUNT(特に買いたい・利用したい!V23:AG23)<>12,\"\",AVERAGE(特に買いたい・利用したい!V23:AG23))","v":22.808333333333334},{"$f":"IF(COUNT(特に買いたい・利用したい!W23:AH23)<>12,\"\",AVERAGE(特に買いたい・利用したい!W23:AH23))","v":22.349999999999998},{"$f":"IF(COUNT(特に買いたい・利用したい!X23:AI23)<>12,\"\",AVERAGE(特に買いたい・利用したい!X23:AI23))","v":22.349999999999998},{"$f":"IF(COUNT(特に買いたい・利用したい!Y23:AJ23)<>12,\"\",AVERAGE(特に買いたい・利用したい!Y23:AJ23))","v":23.116666666666664},{"$f":"IF(COUNT(特に買いたい・利用したい!Z23:AK23)<>12,\"\",AVERAGE(特に買いたい・利用したい!Z23:AK23))","v":22.758333333333329},{"$f":"IF(COUNT(特に買いたい・利用したい!AA23:AL23)<>12,\"\",AVERAGE(特に買いたい・利用したい!AA23:AL23))","v":22.55},{"$f":"IF(COUNT(特に買いたい・利用したい!AB23:AM23)<>12,\"\",AVERAGE(特に買いたい・利用したい!AB23:AM23))","v":22.650000000000002},{"$f":"IF(COUNT(特に買いたい・利用したい!AC23:AN23)<>12,\"\",AVERAGE(特に買いたい・利用したい!AC23:AN23))","v":22.241666666666664},{"$f":"IF(COUNT(特に買いたい・利用したい!AD23:AO23)<>12,\"\",AVERAGE(特に買いたい・利用したい!AD23:AO23))","v":22.141666666666662},{"$f":"IF(COUNT(特に買いたい・利用したい!AE23:AP23)<>12,\"\",AVERAGE(特に買いたい・利用したい!AE23:AP23))","v":21.733333333333331},{"$f":"IF(COUNT(特に買いたい・利用したい!AF23:AQ23)<>12,\"\",AVERAGE(特に買いたい・利用したい!AF23:AQ23))","v":22.808333333333334},{"$f":"IF(COUNT(特に買いたい・利用したい!AG23:AR23)<>12,\"\",AVERAGE(特に買いたい・利用したい!AG23:AR23))","v":23.45},{"$f":"IF(COUNT(特に買いたい・利用したい!AH23:AS23)<>12,\"\",AVERAGE(特に買いたい・利用したい!AH23:AS23))","v":23.258333333333336},{"$f":"IF(COUNT(特に買いたい・利用したい!AI23:AT23)<>12,\"\",AVERAGE(特に買いたい・利用したい!AI23:AT23))","v":23.233333333333334},{"$f":"IF(COUNT(特に買いたい・利用したい!AJ23:AU23)<>12,\"\",AVERAGE(特に買いたい・利用したい!AJ23:AU23))","v":23.258333333333336},{"$f":"IF(COUNT(特に買いたい・利用したい!AK23:AV23)<>12,\"\",AVERAGE(特に買いたい・利用したい!AK23:AV23))","v":23.641666666666669},{"$f":"IF(COUNT(特に買いたい・利用したい!AL23:AW23)<>12,\"\",AVERAGE(特に買いたい・利用したい!AL23:AW23))","v":24.183333333333334},{"$f":"IF(COUNT(特に買いたい・利用したい!AM23:AX23)<>12,\"\",AVERAGE(特に買いたい・利用したい!AM23:AX23))","v":24.466666666666669},{"$f":"IF(COUNT(特に買いたい・利用したい!AN23:AY23)<>12,\"\",AVERAGE(特に買いたい・利用したい!AN23:AY23))","v":24.091666666666665},{"$f":"IF(COUNT(特に買いたい・利用したい!AO23:AZ23)<>12,\"\",AVERAGE(特に買いたい・利用したい!AO23:AZ23))","v":24.525000000000002},{"$f":"IF(COUNT(特に買いたい・利用したい!AP23:BA23)<>12,\"\",AVERAGE(特に買いたい・利用したい!AP23:BA23))","v":24.908333333333331},{"$f":"IF(COUNT(特に買いたい・利用したい!AQ23:BB23)<>12,\"\",AVERAGE(特に買いたい・利用したい!AQ23:BB23))","v":24.108333333333334},{"$f":"IF(COUNT(特に買いたい・利用したい!AR23:BC23)<>12,\"\",AVERAGE(特に買いたい・利用したい!AR23:BC23))","v":24.383333333333329},{"$f":"IF(COUNT(特に買いたい・利用したい!AS23:BD23)<>12,\"\",AVERAGE(特に買いたい・利用したい!AS23:BD23))","v":24.525000000000002},{"$f":"IF(COUNT(特に買いたい・利用したい!AT23:BE23)<>12,\"\",AVERAGE(特に買いたい・利用したい!AT23:BE23))","v":""},{"$f":"IF(COUNT(特に買いたい・利用したい!AU23:BF23)<>12,\"\",AVERAGE(特に買いたい・利用したい!AU23:BF23))","v":""},{"$f":"IF(COUNT(特に買いたい・利用したい!AV23:BG23)<>12,\"\",AVERAGE(特に買いたい・利用したい!AV23:BG23))","v":""},{"$f":"IF(COUNT(特に買いたい・利用したい!AW23:BH23)<>12,\"\",AVERAGE(特に買いたい・利用したい!AW23:BH23))","v":""},{"$f":"IF(COUNT(特に買いたい・利用したい!AX23:BI23)<>12,\"\",AVERAGE(特に買いたい・利用したい!AX23:BI23))","v":""},{"$f":"IF(COUNT(特に買いたい・利用したい!AY23:BJ23)<>12,\"\",AVERAGE(特に買いたい・利用したい!AY23:BJ23))","v":""},{"$f":"IF(COUNT(特に買いたい・利用したい!AZ23:BK23)<>12,\"\",AVERAGE(特に買いたい・利用したい!AZ23:BK23))","v":""},{"$f":"IF(COUNT(特に買いたい・利用したい!BA23:BL23)<>12,\"\",AVERAGE(特に買いたい・利用したい!BA23:BL23))","v":""},{"$f":"IF(COUNT(特に買いたい・利用したい!BB23:BM23)<>12,\"\",AVERAGE(特に買いたい・利用したい!BB23:BM23))","v":""},{"$f":"IF(COUNT(特に買いたい・利用したい!BC23:BN23)<>12,\"\",AVERAGE(特に買いたい・利用したい!BC23:BN23))","v":""},{"$f":"IF(COUNT(特に買いたい・利用したい!BD23:BO23)<>12,\"\",AVERAGE(特に買いたい・利用したい!BD23:BO23))","v":""},{"$f":"IF(COUNT(特に買いたい・利用したい!BE23:BP23)<>12,\"\",AVERAGE(特に買いたい・利用したい!BE23:BP23))","v":""},{"$f":"IF(COUNT(特に買いたい・利用したい!BF23:BQ23)<>12,\"\",AVERAGE(特に買いたい・利用したい!BF23:BQ23))","v":""},{"$f":"IF(COUNT(特に買いたい・利用したい!BG23:BR23)<>12,\"\",AVERAGE(特に買いたい・利用したい!BG23:BR23))","v":""},{"$f":"IF(COUNT(特に買いたい・利用したい!BH23:BS23)<>12,\"\",AVERAGE(特に買いたい・利用したい!BH23:BS23))","v":""},{"$f":"IF(COUNT(特に買いたい・利用したい!BI23:BT23)<>12,\"\",AVERAGE(特に買いたい・利用したい!BI23:BT23))","v":""},{"$f":"IF(COUNT(特に買いたい・利用したい!BJ23:BU23)<>12,\"\",AVERAGE(特に買いたい・利用したい!BJ23:BU23))","v":""},{"$f":"IF(COUNT(特に買いたい・利用したい!BK23:BV23)<>12,\"\",AVERAGE(特に買いたい・利用したい!BK23:BV23))","v":""},{"$f":"IF(COUNT(特に買いたい・利用したい!BL23:BW23)<>12,\"\",AVERAGE(特に買いたい・利用したい!BL23:BW23))","v":""},{"$f":"IF(COUNT(特に買いたい・利用したい!BM23:BX23)<>12,\"\",AVERAGE(特に買いたい・利用したい!BM23:BX23))","v":""},{"$f":"IF(COUNT(特に買いたい・利用したい!BN23:BY23)<>12,\"\",AVERAGE(特に買いたい・利用したい!BN23:BY23))","v":""},{"$f":"IF(COUNT(特に買いたい・利用したい!BO23:BZ23)<>12,\"\",AVERAGE(特に買いたい・利用したい!BO23:BZ23))","v":""},{"$f":"IF(COUNT(特に買いたい・利用したい!BP23:CA23)<>12,\"\",AVERAGE(特に買いたい・利用したい!BP23:CA23))","v":""},{"$f":"IF(COUNT(特に買いたい・利用したい!BQ23:CB23)<>12,\"\",AVERAGE(特に買いたい・利用したい!BQ23:CB23))","v":""},{"$f":"IF(COUNT(特に買いたい・利用したい!BR23:CC23)<>12,\"\",AVERAGE(特に買いたい・利用したい!BR23:CC23))","v":""},{"$f":"IF(COUNT(特に買いたい・利用したい!BS23:CD23)<>12,\"\",AVERAGE(特に買いたい・利用したい!BS23:CD23))","v":""},{"$f":"IF(COUNT(特に買いたい・利用したい!BT23:CE23)<>12,\"\",AVERAGE(特に買いたい・利用したい!BT23:CE23))","v":""},{"$f":"IF(COUNT(特に買いたい・利用したい!BU23:CF23)<>12,\"\",AVERAGE(特に買いたい・利用したい!BU23:CF23))","v":""},{"$f":"IF(COUNT(特に買いたい・利用したい!BV23:CG23)<>12,\"\",AVERAGE(特に買いたい・利用したい!BV23:CG23))","v":""},{"$f":"IF(COUNT(特に買いたい・利用したい!BW23:CH23)<>12,\"\",AVERAGE(特に買いたい・利用したい!BW23:CH23))","v":""},{"$f":"IF(COUNT(特に買いたい・利用したい!BX23:CI23)<>12,\"\",AVERAGE(特に買いたい・利用したい!BX23:CI23))","v":""},{"$f":"IF(COUNT(特に買いたい・利用したい!BY23:CJ23)<>12,\"\",AVERAGE(特に買いたい・利用したい!BY23:CJ23))","v":""},{"$f":"IF(COUNT(特に買いたい・利用したい!BZ23:CK23)<>12,\"\",AVERAGE(特に買いたい・利用したい!BZ23:CK23))","v":""},{"$f":"IF(COUNT(特に買いたい・利用したい!CA23:CL23)<>12,\"\",AVERAGE(特に買いたい・利用したい!CA23:CL23))","v":""},{"$f":"IF(COUNT(特に買いたい・利用したい!CB23:CM23)<>12,\"\",AVERAGE(特に買いたい・利用したい!CB23:CM23))","v":""},{"$f":"IF(COUNT(特に買いたい・利用したい!CC23:CN23)<>12,\"\",AVERAGE(特に買いたい・利用したい!CC23:CN23))","v":""},{"$f":"IF(COUNT(特に買いたい・利用したい!CD23:CO23)<>12,\"\",AVERAGE(特に買いたい・利用したい!CD23:CO23))","v":""},{"$f":"IF(COUNT(特に買いたい・利用したい!CE23:CP23)<>12,\"\",AVERAGE(特に買いたい・利用したい!CE23:CP23))","v":""},{"$f":"IF(COUNT(特に買いたい・利用したい!CF23:CQ23)<>12,\"\",AVERAGE(特に買いたい・利用したい!CF23:CQ23))","v":""},{"$f":"IF(COUNT(特に買いたい・利用したい!CG23:CR23)<>12,\"\",AVERAGE(特に買いたい・利用したい!CG23:CR23))","v":""},{"$f":"IF(COUNT(特に買いたい・利用したい!CH23:CS23)<>12,\"\",AVERAGE(特に買いたい・利用したい!CH23:CS23))","v":""},{"$f":"IF(COUNT(特に買いたい・利用したい!CI23:CT23)<>12,\"\",AVERAGE(特に買いたい・利用したい!CI23:CT23))","v":""},{"$f":"IF(COUNT(特に買いたい・利用したい!CJ23:CU23)<>12,\"\",AVERAGE(特に買いたい・利用したい!CJ23:CU23))","v":""},{"$f":"IF(COUNT(特に買いたい・利用したい!CK23:CV23)<>12,\"\",AVERAGE(特に買いたい・利用したい!CK23:CV23))","v":""},{"$f":"IF(COUNT(特に買いたい・利用したい!CL23:CW23)<>12,\"\",AVERAGE(特に買いたい・利用したい!CL23:CW23))","v":""},{"$f":"IF(COUNT(特に買いたい・利用したい!CM23:CX23)<>12,\"\",AVERAGE(特に買いたい・利用したい!CM23:CX23))","v":""},{"$f":"IF(COUNT(特に買いたい・利用したい!CN23:CY23)<>12,\"\",AVERAGE(特に買いたい・利用したい!CN23:CY23))","v":""},{"$f":"IF(COUNT(特に買いたい・利用したい!CO23:CZ23)<>12,\"\",AVERAGE(特に買いたい・利用したい!CO23:CZ23))","v":""},{"$f":"IF(COUNT(特に買いたい・利用したい!CP23:DA23)<>12,\"\",AVERAGE(特に買いたい・利用したい!CP23:DA23))","v":""},{"$f":"IF(COUNT(特に買いたい・利用したい!CQ23:DB23)<>12,\"\",AVERAGE(特に買いたい・利用したい!CQ23:DB23))","v":""},{"$f":"IF(COUNT(特に買いたい・利用したい!CR23:DC23)<>12,\"\",AVERAGE(特に買いたい・利用したい!CR23:DC23))","v":""},{"$f":"IF(COUNT(特に買いたい・利用したい!CS23:DD23)<>12,\"\",AVERAGE(特に買いたい・利用したい!CS23:DD23))","v":""},{"$f":"IF(COUNT(特に買いたい・利用したい!CT23:DE23)<>12,\"\",AVERAGE(特に買いたい・利用したい!CT23:DE23))","v":""},{"$f":"IF(COUNT(特に買いたい・利用したい!CU23:DF23)<>12,\"\",AVERAGE(特に買いたい・利用したい!CU23:DF23))","v":""},{"$f":"IF(COUNT(特に買いたい・利用したい!CV23:DG23)<>12,\"\",AVERAGE(特に買いたい・利用したい!CV23:DG23))","v":""}]
[null,"性別×未既婚別","男性／未婚",null,null,null,null,null,null,null,null,null,null,null,null,null,null,null,{"$f":"IF(COUNT(特に買いたい・利用したい!H24:S24)<>12,\"\",AVERAGE(特に買いたい・利用したい!H24:S24))","v":32.725000000000001},{"$f":"IF(COUNT(特に買いたい・利用したい!I24:T24)<>12,\"\",AVERAGE(特に買いたい・利用したい!I24:T24))","v":33.166666666666664},{"$f":"IF(COUNT(特に買いたい・利用したい!J24:U24)<>12,\"\",AVERAGE(特に買いたい・利用したい!J24:U24))","v":32.658333333333331},{"$f":"IF(COUNT(特に買いたい・利用したい!K24:V24)<>12,\"\",AVERAGE(特に買いたい・利用したい!K24:V24))","v":31.741666666666671},{"$f":"IF(COUNT(特に買いたい・利用したい!L24:W24)<>12,\"\",AVERAGE(特に買いたい・利用したい!L24:W24))","v":31.608333333333331},{"$f":"IF(COUNT(特に買いたい・利用したい!M24:X24)<>12,\"\",AVERAGE(特に買いたい・利用したい!M24:X24))","v":31.008333333333329},{"$f":"IF(COUNT(特に買いたい・利用したい!N24:Y24)<>12,\"\",AVERAGE(特に買いたい・利用したい!N24:Y24))","v":31.525000000000002},{"$f":"IF(COUNT(特に買いたい・利用したい!O24:Z24)<>12,\"\",AVERAGE(特に買いたい・利用したい!O24:Z24))","v":31.283333333333331},{"$f":"IF(COUNT(特に買いたい・利用したい!P24:AA24)<>12,\"\",AVERAGE(特に買いたい・利用したい!P24:AA24))","v":31.3},{"$f":"IF(COUNT(特に買いたい・利用したい!Q24:AB24)<>12,\"\",AVERAGE(特に買いたい・利用したい!Q24:AB24))","v":30.983333333333334},{"$f":"IF(COUNT(特に買いたい・利用したい!R24:AC24)<>12,\"\",AVERAGE(特に買いたい・利用したい!R24:AC24))","v":31.05},{"$f":"IF(COUNT(特に買いたい・利用したい!S24:AD24)<>12,\"\",AVERAGE(特に買いたい・利用したい!S24:AD24))","v":30.750000000000004},{"$f":"IF(COUNT(特に買いたい・利用したい!T24:AE24)<>12,\"\",AVERAGE(特に買いたい・利用したい!T24:AE24))","v":29.558333333333337},{"$f":"IF(COUNT(特に買いたい・利用したい!U24:AF24)<>12,\"\",AVERAGE(特に買いたい・利用したい!U24:AF24))","v":29},{"$f":"IF(COUNT(特に買いたい・利用したい!V24:AG24)<>12,\"\",AVERAGE(特に買いたい・利用したい!V24:AG24))","v":28.966666666666669},{"$f":"IF(COUNT(特に買いたい・利用したい!W24:AH24)<>12,\"\",AVERAGE(特に買いたい・利用したい!W24:AH24))","v":28.450000000000003},{"$f":"IF(COUNT(特に買いたい・利用したい!X24:AI24)<>12,\"\",AVERAGE(特に買いたい・利用したい!X24:AI24))","v":28.091666666666669},{"$f":"IF(COUNT(特に買いたい・利用したい!Y24:AJ24)<>12,\"\",AVERAGE(特に買いたい・利用したい!Y24:AJ24))","v":28.408333333333331},{"$f":"IF(COUNT(特に買いたい・利用したい!Z24:AK24)<>12,\"\",AVERAGE(特に買いたい・利用したい!Z24:AK24))","v":27.433333333333334},{"$f":"IF(COUNT(特に買いたい・利用したい!AA24:AL24)<>12,\"\",AVERAGE(特に買いたい・利用したい!AA24:AL24))","v":27.608333333333334},{"$f":"IF(COUNT(特に買いたい・利用したい!AB24:AM24)<>12,\"\",AVERAGE(特に買いたい・利用したい!AB24:AM24))","v":27.716666666666665},{"$f":"IF(COUNT(特に買いたい・利用したい!AC24:AN24)<>12,\"\",AVERAGE(特に買いたい・利用したい!AC24:AN24))","v":27.558333333333334},{"$f":"IF(COUNT(特に買いたい・利用したい!AD24:AO24)<>12,\"\",AVERAGE(特に買いたい・利用したい!AD24:AO24))","v":27.391666666666666},{"$f":"IF(COUNT(特に買いたい・利用したい!AE24:AP24)<>12,\"\",AVERAGE(特に買いたい・利用したい!AE24:AP24))","v":27},{"$f":"IF(COUNT(特に買いたい・利用したい!AF24:AQ24)<>12,\"\",AVERAGE(特に買いたい・利用したい!AF24:AQ24))","v":28.308333333333334},{"$f":"IF(COUNT(特に買いたい・利用したい!AG24:AR24)<>12,\"\",AVERAGE(特に買いたい・利用したい!AG24:AR24))","v":28.516666666666666},{"$f":"IF(COUNT(特に買いたい・利用したい!AH24:AS24)<>12,\"\",AVERAGE(特に買いたい・利用したい!AH24:AS24))","v":28.791666666666671},{"$f":"IF(COUNT(特に買いたい・利用したい!AI24:AT24)<>12,\"\",AVERAGE(特に買いたい・利用したい!AI24:AT24))","v":29.108333333333334},{"$f":"IF(COUNT(特に買いたい・利用したい!AJ24:AU24)<>12,\"\",AVERAGE(特に買いたい・利用したい!AJ24:AU24))","v":29.100000000000005},{"$f":"IF(COUNT(特に買いたい・利用したい!AK24:AV24)<>12,\"\",AVERAGE(特に買いたい・利用したい!AK24:AV24))","v":29.183333333333334},{"$f":"IF(COUNT(特に買いたい・利用したい!AL24:AW24)<>12,\"\",AVERAGE(特に買いたい・利用したい!AL24:AW24))","v":29.200000000000003},{"$f":"IF(COUNT(特に買いたい・利用したい!AM24:AX24)<>12,\"\",AVERAGE(特に買いたい・利用したい!AM24:AX24))","v":28.891666666666669},{"$f":"IF(COUNT(特に買いたい・利用したい!AN24:AY24)<>12,\"\",AVERAGE(特に買いたい・利用したい!AN24:AY24))","v":28.700000000000006},{"$f":"IF(COUNT(特に買いたい・利用したい!AO24:AZ24)<>12,\"\",AVERAGE(特に買いたい・利用したい!AO24:AZ24))","v":28.88333333333334},{"$f":"IF(COUNT(特に買いたい・利用したい!AP24:BA24)<>12,\"\",AVERAGE(特に買いたい・利用したい!AP24:BA24))","v":28.666666666666668},{"$f":"IF(COUNT(特に買いたい・利用したい!AQ24:BB24)<>12,\"\",AVERAGE(特に買いたい・利用したい!AQ24:BB24))","v":28.558333333333337},{"$f":"IF(COUNT(特に買いたい・利用したい!AR24:BC24)<>12,\"\",AVERAGE(特に買いたい・利用したい!AR24:BC24))","v":27.974999999999998},{"$f":"IF(COUNT(特に買いたい・利用したい!AS24:BD24)<>12,\"\",AVERAGE(特に買いたい・利用したい!AS24:BD24))","v":28.3},{"$f":"IF(COUNT(特に買いたい・利用したい!AT24:BE24)<>12,\"\",AVERAGE(特に買いたい・利用したい!AT24:BE24))","v":""},{"$f":"IF(COUNT(特に買いたい・利用したい!AU24:BF24)<>12,\"\",AVERAGE(特に買いたい・利用したい!AU24:BF24))","v":""},{"$f":"IF(COUNT(特に買いたい・利用したい!AV24:BG24)<>12,\"\",AVERAGE(特に買いたい・利用したい!AV24:BG24))","v":""},{"$f":"IF(COUNT(特に買いたい・利用したい!AW24:BH24)<>12,\"\",AVERAGE(特に買いたい・利用したい!AW24:BH24))","v":""},{"$f":"IF(COUNT(特に買いたい・利用したい!AX24:BI24)<>12,\"\",AVERAGE(特に買いたい・利用したい!AX24:BI24))","v":""},{"$f":"IF(COUNT(特に買いたい・利用したい!AY24:BJ24)<>12,\"\",AVERAGE(特に買いたい・利用したい!AY24:BJ24))","v":""},{"$f":"IF(COUNT(特に買いたい・利用したい!AZ24:BK24)<>12,\"\",AVERAGE(特に買いたい・利用したい!AZ24:BK24))","v":""},{"$f":"IF(COUNT(特に買いたい・利用したい!BA24:BL24)<>12,\"\",AVERAGE(特に買いたい・利用したい!BA24:BL24))","v":""},{"$f":"IF(COUNT(特に買いたい・利用したい!BB24:BM24)<>12,\"\",AVERAGE(特に買いたい・利用したい!BB24:BM24))","v":""},{"$f":"IF(COUNT(特に買いたい・利用したい!BC24:BN24)<>12,\"\",AVERAGE(特に買いたい・利用したい!BC24:BN24))","v":""},{"$f":"IF(COUNT(特に買いたい・利用したい!BD24:BO24)<>12,\"\",AVERAGE(特に買いたい・利用したい!BD24:BO24))","v":""},{"$f":"IF(COUNT(特に買いたい・利用したい!BE24:BP24)<>12,\"\",AVERAGE(特に買いたい・利用したい!BE24:BP24))","v":""},{"$f":"IF(COUNT(特に買いたい・利用したい!BF24:BQ24)<>12,\"\",AVERAGE(特に買いたい・利用したい!BF24:BQ24))","v":""},{"$f":"IF(COUNT(特に買いたい・利用したい!BG24:BR24)<>12,\"\",AVERAGE(特に買いたい・利用したい!BG24:BR24))","v":""},{"$f":"IF(COUNT(特に買いたい・利用したい!BH24:BS24)<>12,\"\",AVERAGE(特に買いたい・利用したい!BH24:BS24))","v":""},{"$f":"IF(COUNT(特に買いたい・利用したい!BI24:BT24)<>12,\"\",AVERAGE(特に買いたい・利用したい!BI24:BT24))","v":""},{"$f":"IF(COUNT(特に買いたい・利用したい!BJ24:BU24)<>12,\"\",AVERAGE(特に買いたい・利用したい!BJ24:BU24))","v":""},{"$f":"IF(COUNT(特に買いたい・利用したい!BK24:BV24)<>12,\"\",AVERAGE(特に買いたい・利用したい!BK24:BV24))","v":""},{"$f":"IF(COUNT(特に買いたい・利用したい!BL24:BW24)<>12,\"\",AVERAGE(特に買いたい・利用したい!BL24:BW24))","v":""},{"$f":"IF(COUNT(特に買いたい・利用したい!BM24:BX24)<>12,\"\",AVERAGE(特に買いたい・利用したい!BM24:BX24))","v":""},{"$f":"IF(COUNT(特に買いたい・利用したい!BN24:BY24)<>12,\"\",AVERAGE(特に買いたい・利用したい!BN24:BY24))","v":""},{"$f":"IF(COUNT(特に買いたい・利用したい!BO24:BZ24)<>12,\"\",AVERAGE(特に買いたい・利用したい!BO24:BZ24))","v":""},{"$f":"IF(COUNT(特に買いたい・利用したい!BP24:CA24)<>12,\"\",AVERAGE(特に買いたい・利用したい!BP24:CA24))","v":""},{"$f":"IF(COUNT(特に買いたい・利用したい!BQ24:CB24)<>12,\"\",AVERAGE(特に買いたい・利用したい!BQ24:CB24))","v":""},{"$f":"IF(COUNT(特に買いたい・利用したい!BR24:CC24)<>12,\"\",AVERAGE(特に買いたい・利用したい!BR24:CC24))","v":""},{"$f":"IF(COUNT(特に買いたい・利用したい!BS24:CD24)<>12,\"\",AVERAGE(特に買いたい・利用したい!BS24:CD24))","v":""},{"$f":"IF(COUNT(特に買いたい・利用したい!BT24:CE24)<>12,\"\",AVERAGE(特に買いたい・利用したい!BT24:CE24))","v":""},{"$f":"IF(COUNT(特に買いたい・利用したい!BU24:CF24)<>12,\"\",AVERAGE(特に買いたい・利用したい!BU24:CF24))","v":""},{"$f":"IF(COUNT(特に買いたい・利用したい!BV24:CG24)<>12,\"\",AVERAGE(特に買いたい・利用したい!BV24:CG24))","v":""},{"$f":"IF(COUNT(特に買いたい・利用したい!BW24:CH24)<>12,\"\",AVERAGE(特に買いたい・利用したい!BW24:CH24))","v":""},{"$f":"IF(COUNT(特に買いたい・利用したい!BX24:CI24)<>12,\"\",AVERAGE(特に買いたい・利用したい!BX24:CI24))","v":""},{"$f":"IF(COUNT(特に買いたい・利用したい!BY24:CJ24)<>12,\"\",AVERAGE(特に買いたい・利用したい!BY24:CJ24))","v":""},{"$f":"IF(COUNT(特に買いたい・利用したい!BZ24:CK24)<>12,\"\",AVERAGE(特に買いたい・利用したい!BZ24:CK24))","v":""},{"$f":"IF(COUNT(特に買いたい・利用したい!CA24:CL24)<>12,\"\",AVERAGE(特に買いたい・利用したい!CA24:CL24))","v":""},{"$f":"IF(COUNT(特に買いたい・利用したい!CB24:CM24)<>12,\"\",AVERAGE(特に買いたい・利用したい!CB24:CM24))","v":""},{"$f":"IF(COUNT(特に買いたい・利用したい!CC24:CN24)<>12,\"\",AVERAGE(特に買いたい・利用したい!CC24:CN24))","v":""},{"$f":"IF(COUNT(特に買いたい・利用したい!CD24:CO24)<>12,\"\",AVERAGE(特に買いたい・利用したい!CD24:CO24))","v":""},{"$f":"IF(COUNT(特に買いたい・利用したい!CE24:CP24)<>12,\"\",AVERAGE(特に買いたい・利用したい!CE24:CP24))","v":""},{"$f":"IF(COUNT(特に買いたい・利用したい!CF24:CQ24)<>12,\"\",AVERAGE(特に買いたい・利用したい!CF24:CQ24))","v":""},{"$f":"IF(COUNT(特に買いたい・利用したい!CG24:CR24)<>12,\"\",AVERAGE(特に買いたい・利用したい!CG24:CR24))","v":""},{"$f":"IF(COUNT(特に買いたい・利用したい!CH24:CS24)<>12,\"\",AVERAGE(特に買いたい・利用したい!CH24:CS24))","v":""},{"$f":"IF(COUNT(特に買いたい・利用したい!CI24:CT24)<>12,\"\",AVERAGE(特に買いたい・利用したい!CI24:CT24))","v":""},{"$f":"IF(COUNT(特に買いたい・利用したい!CJ24:CU24)<>12,\"\",AVERAGE(特に買いたい・利用したい!CJ24:CU24))","v":""},{"$f":"IF(COUNT(特に買いたい・利用したい!CK24:CV24)<>12,\"\",AVERAGE(特に買いたい・利用したい!CK24:CV24))","v":""},{"$f":"IF(COUNT(特に買いたい・利用したい!CL24:CW24)<>12,\"\",AVERAGE(特に買いたい・利用したい!CL24:CW24))","v":""},{"$f":"IF(COUNT(特に買いたい・利用したい!CM24:CX24)<>12,\"\",AVERAGE(特に買いたい・利用したい!CM24:CX24))","v":""},{"$f":"IF(COUNT(特に買いたい・利用したい!CN24:CY24)<>12,\"\",AVERAGE(特に買いたい・利用したい!CN24:CY24))","v":""},{"$f":"IF(COUNT(特に買いたい・利用したい!CO24:CZ24)<>12,\"\",AVERAGE(特に買いたい・利用したい!CO24:CZ24))","v":""},{"$f":"IF(COUNT(特に買いたい・利用したい!CP24:DA24)<>12,\"\",AVERAGE(特に買いたい・利用したい!CP24:DA24))","v":""},{"$f":"IF(COUNT(特に買いたい・利用したい!CQ24:DB24)<>12,\"\",AVERAGE(特に買いたい・利用したい!CQ24:DB24))","v":""},{"$f":"IF(COUNT(特に買いたい・利用したい!CR24:DC24)<>12,\"\",AVERAGE(特に買いたい・利用したい!CR24:DC24))","v":""},{"$f":"IF(COUNT(特に買いたい・利用したい!CS24:DD24)<>12,\"\",AVERAGE(特に買いたい・利用したい!CS24:DD24))","v":""},{"$f":"IF(COUNT(特に買いたい・利用したい!CT24:DE24)<>12,\"\",AVERAGE(特に買いたい・利用したい!CT24:DE24))","v":""},{"$f":"IF(COUNT(特に買いたい・利用したい!CU24:DF24)<>12,\"\",AVERAGE(特に買いたい・利用したい!CU24:DF24))","v":""},{"$f":"IF(COUNT(特に買いたい・利用したい!CV24:DG24)<>12,\"\",AVERAGE(特に買いたい・利用したい!CV24:DG24))","v":""}]
[null,null,"女性／未婚",null,null,null,null,null,null,null,null,null,null,null,null,null,null,null,{"$f":"IF(COUNT(特に買いたい・利用したい!H25:S25)<>12,\"\",AVERAGE(特に買いたい・利用したい!H25:S25))","v":38.641666666666659},{"$f":"IF(COUNT(特に買いたい・利用したい!I25:T25)<>12,\"\",AVERAGE(特に買いたい・利用したい!I25:T25))","v":37.725000000000001},{"$f":"IF(COUNT(特に買いたい・利用したい!J25:U25)<>12,\"\",AVERAGE(特に買いたい・利用したい!J25:U25))","v":37.68333333333333},{"$f":"IF(COUNT(特に買いたい・利用したい!K25:V25)<>12,\"\",AVERAGE(特に買いたい・利用したい!K25:V25))","v":36.491666666666667},{"$f":"IF(COUNT(特に買いたい・利用したい!L25:W25)<>12,\"\",AVERAGE(特に買いたい・利用したい!L25:W25))","v":36.625},{"$f":"IF(COUNT(特に買いたい・利用したい!M25:X25)<>12,\"\",AVERAGE(特に買いたい・利用したい!M25:X25))","v":36.058333333333337},{"$f":"IF(COUNT(特に買いたい・利用したい!N25:Y25)<>12,\"\",AVERAGE(特に買いたい・利用したい!N25:Y25))","v":36.125},{"$f":"IF(COUNT(特に買いたい・利用したい!O25:Z25)<>12,\"\",AVERAGE(特に買いたい・利用したい!O25:Z25))","v":35.866666666666667},{"$f":"IF(COUNT(特に買いたい・利用したい!P25:AA25)<>12,\"\",AVERAGE(特に買いたい・利用したい!P25:AA25))","v":35.69166666666667},{"$f":"IF(COUNT(特に買いたい・利用したい!Q25:AB25)<>12,\"\",AVERAGE(特に買いたい・利用したい!Q25:AB25))","v":34.858333333333334},{"$f":"IF(COUNT(特に買いたい・利用したい!R25:AC25)<>12,\"\",AVERAGE(特に買いたい・利用したい!R25:AC25))","v":35.291666666666664},{"$f":"IF(COUNT(特に買いたい・利用したい!S25:AD25)<>12,\"\",AVERAGE(特に買いたい・利用したい!S25:AD25))","v":35.458333333333336},{"$f":"IF(COUNT(特に買いたい・利用したい!T25:AE25)<>12,\"\",AVERAGE(特に買いたい・利用したい!T25:AE25))","v":33.908333333333339},{"$f":"IF(COUNT(特に買いたい・利用したい!U25:AF25)<>12,\"\",AVERAGE(特に買いたい・利用したい!U25:AF25))","v":33.266666666666666},{"$f":"IF(COUNT(特に買いたい・利用したい!V25:AG25)<>12,\"\",AVERAGE(特に買いたい・利用したい!V25:AG25))","v":32.641666666666666},{"$f":"IF(COUNT(特に買いたい・利用したい!W25:AH25)<>12,\"\",AVERAGE(特に買いたい・利用したい!W25:AH25))","v":33.266666666666673},{"$f":"IF(COUNT(特に買いたい・利用したい!X25:AI25)<>12,\"\",AVERAGE(特に買いたい・利用したい!X25:AI25))","v":33.241666666666667},{"$f":"IF(COUNT(特に買いたい・利用したい!Y25:AJ25)<>12,\"\",AVERAGE(特に買いたい・利用したい!Y25:AJ25))","v":33.85},{"$f":"IF(COUNT(特に買いたい・利用したい!Z25:AK25)<>12,\"\",AVERAGE(特に買いたい・利用したい!Z25:AK25))","v":33.31666666666667},{"$f":"IF(COUNT(特に買いたい・利用したい!AA25:AL25)<>12,\"\",AVERAGE(特に買いたい・利用したい!AA25:AL25))","v":32.741666666666667},{"$f":"IF(COUNT(特に買いたい・利用したい!AB25:AM25)<>12,\"\",AVERAGE(特に買いたい・利用したい!AB25:AM25))","v":33.283333333333331},{"$f":"IF(COUNT(特に買いたい・利用したい!AC25:AN25)<>12,\"\",AVERAGE(特に買いたい・利用したい!AC25:AN25))","v":33.291666666666664},{"$f":"IF(COUNT(特に買いたい・利用したい!AD25:AO25)<>12,\"\",AVERAGE(特に買いたい・利用したい!AD25:AO25))","v":32.675000000000004},{"$f":"IF(COUNT(特に買いたい・利用したい!AE25:AP25)<>12,\"\",AVERAGE(特に買いたい・利用したい!AE25:AP25))","v":31.808333333333337},{"$f":"IF(COUNT(特に買いたい・利用したい!AF25:AQ25)<>12,\"\",AVERAGE(特に買いたい・利用したい!AF25:AQ25))","v":33.150000000000006},{"$f":"IF(COUNT(特に買いたい・利用したい!AG25:AR25)<>12,\"\",AVERAGE(特に買いたい・利用したい!AG25:AR25))","v":33.716666666666669},{"$f":"IF(COUNT(特に買いたい・利用したい!AH25:AS25)<>12,\"\",AVERAGE(特に買いたい・利用したい!AH25:AS25))","v":33.908333333333331},{"$f":"IF(COUNT(特に買いたい・利用したい!AI25:AT25)<>12,\"\",AVERAGE(特に買いたい・利用したい!AI25:AT25))","v":33.54999999999999},{"$f":"IF(COUNT(特に買いたい・利用したい!AJ25:AU25)<>12,\"\",AVERAGE(特に買いたい・利用したい!AJ25:AU25))","v":33.216666666666661},{"$f":"IF(COUNT(特に買いたい・利用したい!AK25:AV25)<>12,\"\",AVERAGE(特に買いたい・利用したい!AK25:AV25))","v":32.858333333333327},{"$f":"IF(COUNT(特に買いたい・利用したい!AL25:AW25)<>12,\"\",AVERAGE(特に買いたい・利用したい!AL25:AW25))","v":33.249999999999993},{"$f":"IF(COUNT(特に買いたい・利用したい!AM25:AX25)<>12,\"\",AVERAGE(特に買いたい・利用したい!AM25:AX25))","v":33.408333333333339},{"$f":"IF(COUNT(特に買いたい・利用したい!AN25:AY25)<>12,\"\",AVERAGE(特に買いたい・利用したい!AN25:AY25))","v":32.991666666666667},{"$f":"IF(COUNT(特に買いたい・利用したい!AO25:AZ25)<>12,\"\",AVERAGE(特に買いたい・利用したい!AO25:AZ25))","v":33.683333333333337},{"$f":"IF(COUNT(特に買いたい・利用したい!AP25:BA25)<>12,\"\",AVERAGE(特に買いたい・利用したい!AP25:BA25))","v":33.841666666666669},{"$f":"IF(COUNT(特に買いたい・利用したい!AQ25:BB25)<>12,\"\",AVERAGE(特に買いたい・利用したい!AQ25:BB25))","v":33.75},{"$f":"IF(COUNT(特に買いたい・利用したい!AR25:BC25)<>12,\"\",AVERAGE(特に買いたい・利用したい!AR25:BC25))","v":33.658333333333339},{"$f":"IF(COUNT(特に買いたい・利用したい!AS25:BD25)<>12,\"\",AVERAGE(特に買いたい・利用したい!AS25:BD25))","v":33.991666666666667},{"$f":"IF(COUNT(特に買いたい・利用したい!AT25:BE25)<>12,\"\",AVERAGE(特に買いたい・利用したい!AT25:BE25))","v":""},{"$f":"IF(COUNT(特に買いたい・利用したい!AU25:BF25)<>12,\"\",AVERAGE(特に買いたい・利用したい!AU25:BF25))","v":""},{"$f":"IF(COUNT(特に買いたい・利用したい!AV25:BG25)<>12,\"\",AVERAGE(特に買いたい・利用したい!AV25:BG25))","v":""},{"$f":"IF(COUNT(特に買いたい・利用したい!AW25:BH25)<>12,\"\",AVERAGE(特に買いたい・利用したい!AW25:BH25))","v":""},{"$f":"IF(COUNT(特に買いたい・利用したい!AX25:BI25)<>12,\"\",AVERAGE(特に買いたい・利用したい!AX25:BI25))","v":""},{"$f":"IF(COUNT(特に買いたい・利用したい!AY25:BJ25)<>12,\"\",AVERAGE(特に買いたい・利用したい!AY25:BJ25))","v":""},{"$f":"IF(COUNT(特に買いたい・利用したい!AZ25:BK25)<>12,\"\",AVERAGE(特に買いたい・利用したい!AZ25:BK25))","v":""},{"$f":"IF(COUNT(特に買いたい・利用したい!BA25:BL25)<>12,\"\",AVERAGE(特に買いたい・利用したい!BA25:BL25))","v":""},{"$f":"IF(COUNT(特に買いたい・利用したい!BB25:BM25)<>12,\"\",AVERAGE(特に買いたい・利用したい!BB25:BM25))","v":""},{"$f":"IF(COUNT(特に買いたい・利用したい!BC25:BN25)<>12,\"\",AVERAGE(特に買いたい・利用したい!BC25:BN25))","v":""},{"$f":"IF(COUNT(特に買いたい・利用したい!BD25:BO25)<>12,\"\",AVERAGE(特に買いたい・利用したい!BD25:BO25))","v":""},{"$f":"IF(COUNT(特に買いたい・利用したい!BE25:BP25)<>12,\"\",AVERAGE(特に買いたい・利用したい!BE25:BP25))","v":""},{"$f":"IF(COUNT(特に買いたい・利用したい!BF25:BQ25)<>12,\"\",AVERAGE(特に買いたい・利用したい!BF25:BQ25))","v":""},{"$f":"IF(COUNT(特に買いたい・利用したい!BG25:BR25)<>12,\"\",AVERAGE(特に買いたい・利用したい!BG25:BR25))","v":""},{"$f":"IF(COUNT(特に買いたい・利用したい!BH25:BS25)<>12,\"\",AVERAGE(特に買いたい・利用したい!BH25:BS25))","v":""},{"$f":"IF(COUNT(特に買いたい・利用したい!BI25:BT25)<>12,\"\",AVERAGE(特に買いたい・利用したい!BI25:BT25))","v":""},{"$f":"IF(COUNT(特に買いたい・利用したい!BJ25:BU25)<>12,\"\",AVERAGE(特に買いたい・利用したい!BJ25:BU25))","v":""},{"$f":"IF(COUNT(特に買いたい・利用したい!BK25:BV25)<>12,\"\",AVERAGE(特に買いたい・利用したい!BK25:BV25))","v":""},{"$f":"IF(COUNT(特に買いたい・利用したい!BL25:BW25)<>12,\"\",AVERAGE(特に買いたい・利用したい!BL25:BW25))","v":""},{"$f":"IF(COUNT(特に買いたい・利用したい!BM25:BX25)<>12,\"\",AVERAGE(特に買いたい・利用したい!BM25:BX25))","v":""},{"$f":"IF(COUNT(特に買いたい・利用したい!BN25:BY25)<>12,\"\",AVERAGE(特に買いたい・利用したい!BN25:BY25))","v":""},{"$f":"IF(COUNT(特に買いたい・利用したい!BO25:BZ25)<>12,\"\",AVERAGE(特に買いたい・利用したい!BO25:BZ25))","v":""},{"$f":"IF(COUNT(特に買いたい・利用したい!BP25:CA25)<>12,\"\",AVERAGE(特に買いたい・利用したい!BP25:CA25))","v":""},{"$f":"IF(COUNT(特に買いたい・利用したい!BQ25:CB25)<>12,\"\",AVERAGE(特に買いたい・利用したい!BQ25:CB25))","v":""},{"$f":"IF(COUNT(特に買いたい・利用したい!BR25:CC25)<>12,\"\",AVERAGE(特に買いたい・利用したい!BR25:CC25))","v":""},{"$f":"IF(COUNT(特に買いたい・利用したい!BS25:CD25)<>12,\"\",AVERAGE(特に買いたい・利用したい!BS25:CD25))","v":""},{"$f":"IF(COUNT(特に買いたい・利用したい!BT25:CE25)<>12,\"\",AVERAGE(特に買いたい・利用したい!BT25:CE25))","v":""},{"$f":"IF(COUNT(特に買いたい・利用したい!BU25:CF25)<>12,\"\",AVERAGE(特に買いたい・利用したい!BU25:CF25))","v":""},{"$f":"IF(COUNT(特に買いたい・利用したい!BV25:CG25)<>12,\"\",AVERAGE(特に買いたい・利用したい!BV25:CG25))","v":""},{"$f":"IF(COUNT(特に買いたい・利用したい!BW25:CH25)<>12,\"\",AVERAGE(特に買いたい・利用したい!BW25:CH25))","v":""},{"$f":"IF(COUNT(特に買いたい・利用したい!BX25:CI25)<>12,\"\",AVERAGE(特に買いたい・利用したい!BX25:CI25))","v":""},{"$f":"IF(COUNT(特に買いたい・利用したい!BY25:CJ25)<>12,\"\",AVERAGE(特に買いたい・利用したい!BY25:CJ25))","v":""},{"$f":"IF(COUNT(特に買いたい・利用したい!BZ25:CK25)<>12,\"\",AVERAGE(特に買いたい・利用したい!BZ25:CK25))","v":""},{"$f":"IF(COUNT(特に買いたい・利用したい!CA25:CL25)<>12,\"\",AVERAGE(特に買いたい・利用したい!CA25:CL25))","v":""},{"$f":"IF(COUNT(特に買いたい・利用したい!CB25:CM25)<>12,\"\",AVERAGE(特に買いたい・利用したい!CB25:CM25))","v":""},{"$f":"IF(COUNT(特に買いたい・利用したい!CC25:CN25)<>12,\"\",AVERAGE(特に買いたい・利用したい!CC25:CN25))","v":""},{"$f":"IF(COUNT(特に買いたい・利用したい!CD25:CO25)<>12,\"\",AVERAGE(特に買いたい・利用したい!CD25:CO25))","v":""},{"$f":"IF(COUNT(特に買いたい・利用したい!CE25:CP25)<>12,\"\",AVERAGE(特に買いたい・利用したい!CE25:CP25))","v":""},{"$f":"IF(COUNT(特に買いたい・利用したい!CF25:CQ25)<>12,\"\",AVERAGE(特に買いたい・利用したい!CF25:CQ25))","v":""},{"$f":"IF(COUNT(特に買いたい・利用したい!CG25:CR25)<>12,\"\",AVERAGE(特に買いたい・利用したい!CG25:CR25))","v":""},{"$f":"IF(COUNT(特に買いたい・利用したい!CH25:CS25)<>12,\"\",AVERAGE(特に買いたい・利用したい!CH25:CS25))","v":""},{"$f":"IF(COUNT(特に買いたい・利用したい!CI25:CT25)<>12,\"\",AVERAGE(特に買いたい・利用したい!CI25:CT25))","v":""},{"$f":"IF(COUNT(特に買いたい・利用したい!CJ25:CU25)<>12,\"\",AVERAGE(特に買いたい・利用したい!CJ25:CU25))","v":""},{"$f":"IF(COUNT(特に買いたい・利用したい!CK25:CV25)<>12,\"\",AVERAGE(特に買いたい・利用したい!CK25:CV25))","v":""},{"$f":"IF(COUNT(特に買いたい・利用したい!CL25:CW25)<>12,\"\",AVERAGE(特に買いたい・利用したい!CL25:CW25))","v":""},{"$f":"IF(COUNT(特に買いたい・利用したい!CM25:CX25)<>12,\"\",AVERAGE(特に買いたい・利用したい!CM25:CX25))","v":""},{"$f":"IF(COUNT(特に買いたい・利用したい!CN25:CY25)<>12,\"\",AVERAGE(特に買いたい・利用したい!CN25:CY25))","v":""},{"$f":"IF(COUNT(特に買いたい・利用したい!CO25:CZ25)<>12,\"\",AVERAGE(特に買いたい・利用したい!CO25:CZ25))","v":""},{"$f":"IF(COUNT(特に買いたい・利用したい!CP25:DA25)<>12,\"\",AVERAGE(特に買いたい・利用したい!CP25:DA25))","v":""},{"$f":"IF(COUNT(特に買いたい・利用したい!CQ25:DB25)<>12,\"\",AVERAGE(特に買いたい・利用したい!CQ25:DB25))","v":""},{"$f":"IF(COUNT(特に買いたい・利用したい!CR25:DC25)<>12,\"\",AVERAGE(特に買いたい・利用したい!CR25:DC25))","v":""},{"$f":"IF(COUNT(特に買いたい・利用したい!CS25:DD25)<>12,\"\",AVERAGE(特に買いたい・利用したい!CS25:DD25))","v":""},{"$f":"IF(COUNT(特に買いたい・利用したい!CT25:DE25)<>12,\"\",AVERAGE(特に買いたい・利用したい!CT25:DE25))","v":""},{"$f":"IF(COUNT(特に買いたい・利用したい!CU25:DF25)<>12,\"\",AVERAGE(特に買いたい・利用したい!CU25:DF25))","v":""},{"$f":"IF(COUNT(特に買いたい・利用したい!CV25:DG25)<>12,\"\",AVERAGE(特に買いたい・利用したい!CV25:DG25))","v":""}]
[null,null,"男性／既婚",null,null,null,null,null,null,null,null,null,null,null,null,null,null,null,{"$f":"IF(COUNT(特に買いたい・利用したい!H26:S26)<>12,\"\",AVERAGE(特に買いたい・利用したい!H26:S26))","v":28.008333333333336},{"$f":"IF(COUNT(特に買いたい・利用したい!I26:T26)<>12,\"\",AVERAGE(特に買いたい・利用したい!I26:T26))","v":27.55},{"$f":"IF(COUNT(特に買いたい・利用したい!J26:U26)<>12,\"\",AVERAGE(特に買いたい・利用したい!J26:U26))","v":27.141666666666666},{"$f":"IF(COUNT(特に買いたい・利用したい!K26:V26)<>12,\"\",AVERAGE(特に買いたい・利用したい!K26:V26))","v":26.566666666666666},{"$f":"IF(COUNT(特に買いたい・利用したい!L26:W26)<>12,\"\",AVERAGE(特に買いたい・利用したい!L26:W26))","v":26.349999999999998},{"$f":"IF(COUNT(特に買いたい・利用したい!M26:X26)<>12,\"\",AVERAGE(特に買いたい・利用したい!M26:X26))","v":25.583333333333332},{"$f":"IF(COUNT(特に買いたい・利用したい!N26:Y26)<>12,\"\",AVERAGE(特に買いたい・利用したい!N26:Y26))","v":25.2},{"$f":"IF(COUNT(特に買いたい・利用したい!O26:Z26)<>12,\"\",AVERAGE(特に買いたい・利用したい!O26:Z26))","v":24.675000000000001},{"$f":"IF(COUNT(特に買いたい・利用したい!P26:AA26)<>12,\"\",AVERAGE(特に買いたい・利用したい!P26:AA26))","v":24.183333333333337},{"$f":"IF(COUNT(特に買いたい・利用したい!Q26:AB26)<>12,\"\",AVERAGE(特に買いたい・利用したい!Q26:AB26))","v":23.974999999999998},{"$f":"IF(COUNT(特に買いたい・利用したい!R26:AC26)<>12,\"\",AVERAGE(特に買いたい・利用したい!R26:AC26))","v":23.825000000000003},{"$f":"IF(COUNT(特に買いたい・利用したい!S26:AD26)<>12,\"\",AVERAGE(特に買いたい・利用したい!S26:AD26))","v":23.725000000000005},{"$f":"IF(COUNT(特に買いたい・利用したい!T26:AE26)<>12,\"\",AVERAGE(特に買いたい・利用したい!T26:AE26))","v":22.525000000000002},{"$f":"IF(COUNT(特に買いたい・利用したい!U26:AF26)<>12,\"\",AVERAGE(特に買いたい・利用したい!U26:AF26))","v":21.816666666666666},{"$f":"IF(COUNT(特に買いたい・利用したい!V26:AG26)<>12,\"\",AVERAGE(特に買いたい・利用したい!V26:AG26))","v":21.408333333333331},{"$f":"IF(COUNT(特に買いたい・利用したい!W26:AH26)<>12,\"\",AVERAGE(特に買いたい・利用したい!W26:AH26))","v":20.933333333333334},{"$f":"IF(COUNT(特に買いたい・利用したい!X26:AI26)<>12,\"\",AVERAGE(特に買いたい・利用したい!X26:AI26))","v":20.883333333333333},{"$f":"IF(COUNT(特に買いたい・利用したい!Y26:AJ26)<>12,\"\",AVERAGE(特に買いたい・利用したい!Y26:AJ26))","v":21.349999999999998},{"$f":"IF(COUNT(特に買いたい・利用したい!Z26:AK26)<>12,\"\",AVERAGE(特に買いたい・利用したい!Z26:AK26))","v":21.233333333333331},{"$f":"IF(COUNT(特に買いたい・利用したい!AA26:AL26)<>12,\"\",AVERAGE(特に買いたい・利用したい!AA26:AL26))","v":21.416666666666661},{"$f":"IF(COUNT(特に買いたい・利用したい!AB26:AM26)<>12,\"\",AVERAGE(特に買いたい・利用したい!AB26:AM26))","v":21.375},{"$f":"IF(COUNT(特に買いたい・利用したい!AC26:AN26)<>12,\"\",AVERAGE(特に買いたい・利用したい!AC26:AN26))","v":20.941666666666666},{"$f":"IF(COUNT(特に買いたい・利用したい!AD26:AO26)<>12,\"\",AVERAGE(特に買いたい・利用したい!AD26:AO26))","v":20.933333333333334},{"$f":"IF(COUNT(特に買いたい・利用したい!AE26:AP26)<>12,\"\",AVERAGE(特に買いたい・利用したい!AE26:AP26))","v":20.616666666666667},{"$f":"IF(COUNT(特に買いたい・利用したい!AF26:AQ26)<>12,\"\",AVERAGE(特に買いたい・利用したい!AF26:AQ26))","v":21.516666666666669},{"$f":"IF(COUNT(特に買いたい・利用したい!AG26:AR26)<>12,\"\",AVERAGE(特に買いたい・利用したい!AG26:AR26))","v":22.141666666666666},{"$f":"IF(COUNT(特に買いたい・利用したい!AH26:AS26)<>12,\"\",AVERAGE(特に買いたい・利用したい!AH26:AS26))","v":22.633333333333329},{"$f":"IF(COUNT(特に買いたい・利用したい!AI26:AT26)<>12,\"\",AVERAGE(特に買いたい・利用したい!AI26:AT26))","v":23.341666666666669},{"$f":"IF(COUNT(特に買いたい・利用したい!AJ26:AU26)<>12,\"\",AVERAGE(特に買いたい・利用したい!AJ26:AU26))","v":23.650000000000002},{"$f":"IF(COUNT(特に買いたい・利用したい!AK26:AV26)<>12,\"\",AVERAGE(特に買いたい・利用したい!AK26:AV26))","v":23.708333333333332},{"$f":"IF(COUNT(特に買いたい・利用したい!AL26:AW26)<>12,\"\",AVERAGE(特に買いたい・利用したい!AL26:AW26))","v":23.75},{"$f":"IF(COUNT(特に買いたい・利用したい!AM26:AX26)<>12,\"\",AVERAGE(特に買いたい・利用したい!AM26:AX26))","v":23.975000000000005},{"$f":"IF(COUNT(特に買いたい・利用したい!AN26:AY26)<>12,\"\",AVERAGE(特に買いたい・利用したい!AN26:AY26))","v":24.108333333333334},{"$f":"IF(COUNT(特に買いたい・利用したい!AO26:AZ26)<>12,\"\",AVERAGE(特に買いたい・利用したい!AO26:AZ26))","v":24.191666666666666},{"$f":"IF(COUNT(特に買いたい・利用したい!AP26:BA26)<>12,\"\",AVERAGE(特に買いたい・利用したい!AP26:BA26))","v":23.75},{"$f":"IF(COUNT(特に買いたい・利用したい!AQ26:BB26)<>12,\"\",AVERAGE(特に買いたい・利用したい!AQ26:BB26))","v":23.525000000000002},{"$f":"IF(COUNT(特に買いたい・利用したい!AR26:BC26)<>12,\"\",AVERAGE(特に買いたい・利用したい!AR26:BC26))","v":23.55},{"$f":"IF(COUNT(特に買いたい・利用したい!AS26:BD26)<>12,\"\",AVERAGE(特に買いたい・利用したい!AS26:BD26))","v":23.641666666666666},{"$f":"IF(COUNT(特に買いたい・利用したい!AT26:BE26)<>12,\"\",AVERAGE(特に買いたい・利用したい!AT26:BE26))","v":""},{"$f":"IF(COUNT(特に買いたい・利用したい!AU26:BF26)<>12,\"\",AVERAGE(特に買いたい・利用したい!AU26:BF26))","v":""},{"$f":"IF(COUNT(特に買いたい・利用したい!AV26:BG26)<>12,\"\",AVERAGE(特に買いたい・利用したい!AV26:BG26))","v":""},{"$f":"IF(COUNT(特に買いたい・利用したい!AW26:BH26)<>12,\"\",AVERAGE(特に買いたい・利用したい!AW26:BH26))","v":""},{"$f":"IF(COUNT(特に買いたい・利用したい!AX26:BI26)<>12,\"\",AVERAGE(特に買いたい・利用したい!AX26:BI26))","v":""},{"$f":"IF(COUNT(特に買いたい・利用したい!AY26:BJ26)<>12,\"\",AVERAGE(特に買いたい・利用したい!AY26:BJ26))","v":""},{"$f":"IF(COUNT(特に買いたい・利用したい!AZ26:BK26)<>12,\"\",AVERAGE(特に買いたい・利用したい!AZ26:BK26))","v":""},{"$f":"IF(COUNT(特に買いたい・利用したい!BA26:BL26)<>12,\"\",AVERAGE(特に買いたい・利用したい!BA26:BL26))","v":""},{"$f":"IF(COUNT(特に買いたい・利用したい!BB26:BM26)<>12,\"\",AVERAGE(特に買いたい・利用したい!BB26:BM26))","v":""},{"$f":"IF(COUNT(特に買いたい・利用したい!BC26:BN26)<>12,\"\",AVERAGE(特に買いたい・利用したい!BC26:BN26))","v":""},{"$f":"IF(COUNT(特に買いたい・利用したい!BD26:BO26)<>12,\"\",AVERAGE(特に買いたい・利用したい!BD26:BO26))","v":""},{"$f":"IF(COUNT(特に買いたい・利用したい!BE26:BP26)<>12,\"\",AVERAGE(特に買いたい・利用したい!BE26:BP26))","v":""},{"$f":"IF(COUNT(特に買いたい・利用したい!BF26:BQ26)<>12,\"\",AVERAGE(特に買いたい・利用したい!BF26:BQ26))","v":""},{"$f":"IF(COUNT(特に買いたい・利用したい!BG26:BR26)<>12,\"\",AVERAGE(特に買いたい・利用したい!BG26:BR26))","v":""},{"$f":"IF(COUNT(特に買いたい・利用したい!BH26:BS26)<>12,\"\",AVERAGE(特に買いたい・利用したい!BH26:BS26))","v":""},{"$f":"IF(COUNT(特に買いたい・利用したい!BI26:BT26)<>12,\"\",AVERAGE(特に買いたい・利用したい!BI26:BT26))","v":""},{"$f":"IF(COUNT(特に買いたい・利用したい!BJ26:BU26)<>12,\"\",AVERAGE(特に買いたい・利用したい!BJ26:BU26))","v":""},{"$f":"IF(COUNT(特に買いたい・利用したい!BK26:BV26)<>12,\"\",AVERAGE(特に買いたい・利用したい!BK26:BV26))","v":""},{"$f":"IF(COUNT(特に買いたい・利用したい!BL26:BW26)<>12,\"\",AVERAGE(特に買いたい・利用したい!BL26:BW26))","v":""},{"$f":"IF(COUNT(特に買いたい・利用したい!BM26:BX26)<>12,\"\",AVERAGE(特に買いたい・利用したい!BM26:BX26))","v":""},{"$f":"IF(COUNT(特に買いたい・利用したい!BN26:BY26)<>12,\"\",AVERAGE(特に買いたい・利用したい!BN26:BY26))","v":""},{"$f":"IF(COUNT(特に買いたい・利用したい!BO26:BZ26)<>12,\"\",AVERAGE(特に買いたい・利用したい!BO26:BZ26))","v":""},{"$f":"IF(COUNT(特に買いたい・利用したい!BP26:CA26)<>12,\"\",AVERAGE(特に買いたい・利用したい!BP26:CA26))","v":""},{"$f":"IF(COUNT(特に買いたい・利用したい!BQ26:CB26)<>12,\"\",AVERAGE(特に買いたい・利用したい!BQ26:CB26))","v":""},{"$f":"IF(COUNT(特に買いたい・利用したい!BR26:CC26)<>12,\"\",AVERAGE(特に買いたい・利用したい!BR26:CC26))","v":""},{"$f":"IF(COUNT(特に買いたい・利用したい!BS26:CD26)<>12,\"\",AVERAGE(特に買いたい・利用したい!BS26:CD26))","v":""},{"$f":"IF(COUNT(特に買いたい・利用したい!BT26:CE26)<>12,\"\",AVERAGE(特に買いたい・利用したい!BT26:CE26))","v":""},{"$f":"IF(COUNT(特に買いたい・利用したい!BU26:CF26)<>12,\"\",AVERAGE(特に買いたい・利用したい!BU26:CF26))","v":""},{"$f":"IF(COUNT(特に買いたい・利用したい!BV26:CG26)<>12,\"\",AVERAGE(特に買いたい・利用したい!BV26:CG26))","v":""},{"$f":"IF(COUNT(特に買いたい・利用したい!BW26:CH26)<>12,\"\",AVERAGE(特に買いたい・利用したい!BW26:CH26))","v":""},{"$f":"IF(COUNT(特に買いたい・利用したい!BX26:CI26)<>12,\"\",AVERAGE(特に買いたい・利用したい!BX26:CI26))","v":""},{"$f":"IF(COUNT(特に買いたい・利用したい!BY26:CJ26)<>12,\"\",AVERAGE(特に買いたい・利用したい!BY26:CJ26))","v":""},{"$f":"IF(COUNT(特に買いたい・利用したい!BZ26:CK26)<>12,\"\",AVERAGE(特に買いたい・利用したい!BZ26:CK26))","v":""},{"$f":"IF(COUNT(特に買いたい・利用したい!CA26:CL26)<>12,\"\",AVERAGE(特に買いたい・利用したい!CA26:CL26))","v":""},{"$f":"IF(COUNT(特に買いたい・利用したい!CB26:CM26)<>12,\"\",AVERAGE(特に買いたい・利用したい!CB26:CM26))","v":""},{"$f":"IF(COUNT(特に買いたい・利用したい!CC26:CN26)<>12,\"\",AVERAGE(特に買いたい・利用したい!CC26:CN26))","v":""},{"$f":"IF(COUNT(特に買いたい・利用したい!CD26:CO26)<>12,\"\",AVERAGE(特に買いたい・利用したい!CD26:CO26))","v":""},{"$f":"IF(COUNT(特に買いたい・利用したい!CE26:CP26)<>12,\"\",AVERAGE(特に買いたい・利用したい!CE26:CP26))","v":""},{"$f":"IF(COUNT(特に買いたい・利用したい!CF26:CQ26)<>12,\"\",AVERAGE(特に買いたい・利用したい!CF26:CQ26))","v":""},{"$f":"IF(COUNT(特に買いたい・利用したい!CG26:CR26)<>12,\"\",AVERAGE(特に買いたい・利用したい!CG26:CR26))","v":""},{"$f":"IF(COUNT(特に買いたい・利用したい!CH26:CS26)<>12,\"\",AVERAGE(特に買いたい・利用したい!CH26:CS26))","v":""},{"$f":"IF(COUNT(特に買いたい・利用したい!CI26:CT26)<>12,\"\",AVERAGE(特に買いたい・利用したい!CI26:CT26))","v":""},{"$f":"IF(COUNT(特に買いたい・利用したい!CJ26:CU26)<>12,\"\",AVERAGE(特に買いたい・利用したい!CJ26:CU26))","v":""},{"$f":"IF(COUNT(特に買いたい・利用したい!CK26:CV26)<>12,\"\",AVERAGE(特に買いたい・利用したい!CK26:CV26))","v":""},{"$f":"IF(COUNT(特に買いたい・利用したい!CL26:CW26)<>12,\"\",AVERAGE(特に買いたい・利用したい!CL26:CW26))","v":""},{"$f":"IF(COUNT(特に買いたい・利用したい!CM26:CX26)<>12,\"\",AVERAGE(特に買いたい・利用したい!CM26:CX26))","v":""},{"$f":"IF(COUNT(特に買いたい・利用したい!CN26:CY26)<>12,\"\",AVERAGE(特に買いたい・利用したい!CN26:CY26))","v":""},{"$f":"IF(COUNT(特に買いたい・利用したい!CO26:CZ26)<>12,\"\",AVERAGE(特に買いたい・利用したい!CO26:CZ26))","v":""},{"$f":"IF(COUNT(特に買いたい・利用したい!CP26:DA26)<>12,\"\",AVERAGE(特に買いたい・利用したい!CP26:DA26))","v":""},{"$f":"IF(COUNT(特に買いたい・利用したい!CQ26:DB26)<>12,\"\",AVERAGE(特に買いたい・利用したい!CQ26:DB26))","v":""},{"$f":"IF(COUNT(特に買いたい・利用したい!CR26:DC26)<>12,\"\",AVERAGE(特に買いたい・利用したい!CR26:DC26))","v":""},{"$f":"IF(COUNT(特に買いたい・利用したい!CS26:DD26)<>12,\"\",AVERAGE(特に買いたい・利用したい!CS26:DD26))","v":""},{"$f":"IF(COUNT(特に買いたい・利用したい!CT26:DE26)<>12,\"\",AVERAGE(特に買いたい・利用したい!CT26:DE26))","v":""},{"$f":"IF(COUNT(特に買いたい・利用したい!CU26:DF26)<>12,\"\",AVERAGE(特に買いたい・利用したい!CU26:DF26))","v":""},{"$f":"IF(COUNT(特に買いたい・利用したい!CV26:DG26)<>12,\"\",AVERAGE(特に買いたい・利用したい!CV26:DG26))","v":""}]
[null,null,"女性／既婚",null,null,null,null,null,null,null,null,null,null,null,null,null,null,null,{"$f":"IF(COUNT(特に買いたい・利用したい!H27:S27)<>12,\"\",AVERAGE(特に買いたい・利用したい!H27:S27))","v":33.30833333333333},{"$f":"IF(COUNT(特に買いたい・利用したい!I27:T27)<>12,\"\",AVERAGE(特に買いたい・利用したい!I27:T27))","v":32.574999999999996},{"$f":"IF(COUNT(特に買いたい・利用したい!J27:U27)<>12,\"\",AVERAGE(特に買いたい・利用したい!J27:U27))","v":32.35},{"$f":"IF(COUNT(特に買いたい・利用したい!K27:V27)<>12,\"\",AVERAGE(特に買いたい・利用したい!K27:V27))","v":31.833333333333332},{"$f":"IF(COUNT(特に買いたい・利用したい!L27:W27)<>12,\"\",AVERAGE(特に買いたい・利用したい!L27:W27))","v":31.866666666666664},{"$f":"IF(COUNT(特に買いたい・利用したい!M27:X27)<>12,\"\",AVERAGE(特に買いたい・利用したい!M27:X27))","v":31.349999999999998},{"$f":"IF(COUNT(特に買いたい・利用したい!N27:Y27)<>12,\"\",AVERAGE(特に買いたい・利用したい!N27:Y27))","v":30.850000000000005},{"$f":"IF(COUNT(特に買いたい・利用したい!O27:Z27)<>12,\"\",AVERAGE(特に買いたい・利用したい!O27:Z27))","v":30.391666666666669},{"$f":"IF(COUNT(特に買いたい・利用したい!P27:AA27)<>12,\"\",AVERAGE(特に買いたい・利用したい!P27:AA27))","v":30.200000000000003},{"$f":"IF(COUNT(特に買いたい・利用したい!Q27:AB27)<>12,\"\",AVERAGE(特に買いたい・利用したい!Q27:AB27))","v":29.299999999999997},{"$f":"IF(COUNT(特に買いたい・利用したい!R27:AC27)<>12,\"\",AVERAGE(特に買いたい・利用したい!R27:AC27))","v":29.625},{"$f":"IF(COUNT(特に買いたい・利用したい!S27:AD27)<>12,\"\",AVERAGE(特に買いたい・利用したい!S27:AD27))","v":30.558333333333334},{"$f":"IF(COUNT(特に買いたい・利用したい!T27:AE27)<>12,\"\",AVERAGE(特に買いたい・利用したい!T27:AE27))","v":29.258333333333336},{"$f":"IF(COUNT(特に買いたい・利用したい!U27:AF27)<>12,\"\",AVERAGE(特に買いたい・利用したい!U27:AF27))","v":28.358333333333334},{"$f":"IF(COUNT(特に買いたい・利用したい!V27:AG27)<>12,\"\",AVERAGE(特に買いたい・利用したい!V27:AG27))","v":27.716666666666665},{"$f":"IF(COUNT(特に買いたい・利用したい!W27:AH27)<>12,\"\",AVERAGE(特に買いたい・利用したい!W27:AH27))","v":27.533333333333331},{"$f":"IF(COUNT(特に買いたい・利用したい!X27:AI27)<>12,\"\",AVERAGE(特に買いたい・利用したい!X27:AI27))","v":27.183333333333334},{"$f":"IF(COUNT(特に買いたい・利用したい!Y27:AJ27)<>12,\"\",AVERAGE(特に買いたい・利用したい!Y27:AJ27))","v":27.5},{"$f":"IF(COUNT(特に買いたい・利用したい!Z27:AK27)<>12,\"\",AVERAGE(特に買いたい・利用したい!Z27:AK27))","v":27.324999999999999},{"$f":"IF(COUNT(特に買いたい・利用したい!AA27:AL27)<>12,\"\",AVERAGE(特に買いたい・利用したい!AA27:AL27))","v":27.008333333333336},{"$f":"IF(COUNT(特に買いたい・利用したい!AB27:AM27)<>12,\"\",AVERAGE(特に買いたい・利用したい!AB27:AM27))","v":27.350000000000009},{"$f":"IF(COUNT(特に買いたい・利用したい!AC27:AN27)<>12,\"\",AVERAGE(特に買いたい・利用したい!AC27:AN27))","v":27.108333333333338},{"$f":"IF(COUNT(特に買いたい・利用したい!AD27:AO27)<>12,\"\",AVERAGE(特に買いたい・利用したい!AD27:AO27))","v":26.725000000000005},{"$f":"IF(COUNT(特に買いたい・利用したい!AE27:AP27)<>12,\"\",AVERAGE(特に買いたい・利用したい!AE27:AP27))","v":25.466666666666665},{"$f":"IF(COUNT(特に買いたい・利用したい!AF27:AQ27)<>12,\"\",AVERAGE(特に買いたい・利用したい!AF27:AQ27))","v":26.683333333333326},{"$f":"IF(COUNT(特に買いたい・利用したい!AG27:AR27)<>12,\"\",AVERAGE(特に買いたい・利用したい!AG27:AR27))","v":27.574999999999999},{"$f":"IF(COUNT(特に買いたい・利用したい!AH27:AS27)<>12,\"\",AVERAGE(特に買いたい・利用したい!AH27:AS27))","v":27.766666666666666},{"$f":"IF(COUNT(特に買いたい・利用したい!AI27:AT27)<>12,\"\",AVERAGE(特に買いたい・利用したい!AI27:AT27))","v":27.966666666666669},{"$f":"IF(COUNT(特に買いたい・利用したい!AJ27:AU27)<>12,\"\",AVERAGE(特に買いたい・利用したい!AJ27:AU27))","v":28.083333333333332},{"$f":"IF(COUNT(特に買いたい・利用したい!AK27:AV27)<>12,\"\",AVERAGE(特に買いたい・利用したい!AK27:AV27))","v":28.383333333333329},{"$f":"IF(COUNT(特に買いたい・利用したい!AL27:AW27)<>12,\"\",AVERAGE(特に買いたい・利用したい!AL27:AW27))","v":28.524999999999995},{"$f":"IF(COUNT(特に買いたい・利用したい!AM27:AX27)<>12,\"\",AVERAGE(特に買いたい・利用したい!AM27:AX27))","v":28.908333333333328},{"$f":"IF(COUNT(特に買いたい・利用したい!AN27:AY27)<>12,\"\",AVERAGE(特に買いたい・利用したい!AN27:AY27))","v":29.258333333333336},{"$f":"IF(COUNT(特に買いたい・利用したい!AO27:AZ27)<>12,\"\",AVERAGE(特に買いたい・利用したい!AO27:AZ27))","v":29.658333333333331},{"$f":"IF(COUNT(特に買いたい・利用したい!AP27:BA27)<>12,\"\",AVERAGE(特に買いたい・利用したい!AP27:BA27))","v":29.86666666666666},{"$f":"IF(COUNT(特に買いたい・利用したい!AQ27:BB27)<>12,\"\",AVERAGE(特に買いたい・利用したい!AQ27:BB27))","v":29.508333333333326},{"$f":"IF(COUNT(特に買いたい・利用したい!AR27:BC27)<>12,\"\",AVERAGE(特に買いたい・利用したい!AR27:BC27))","v":28.916666666666661},{"$f":"IF(COUNT(特に買いたい・利用したい!AS27:BD27)<>12,\"\",AVERAGE(特に買いたい・利用したい!AS27:BD27))","v":28.941666666666663},{"$f":"IF(COUNT(特に買いたい・利用したい!AT27:BE27)<>12,\"\",AVERAGE(特に買いたい・利用したい!AT27:BE27))","v":""},{"$f":"IF(COUNT(特に買いたい・利用したい!AU27:BF27)<>12,\"\",AVERAGE(特に買いたい・利用したい!AU27:BF27))","v":""},{"$f":"IF(COUNT(特に買いたい・利用したい!AV27:BG27)<>12,\"\",AVERAGE(特に買いたい・利用したい!AV27:BG27))","v":""},{"$f":"IF(COUNT(特に買いたい・利用したい!AW27:BH27)<>12,\"\",AVERAGE(特に買いたい・利用したい!AW27:BH27))","v":""},{"$f":"IF(COUNT(特に買いたい・利用したい!AX27:BI27)<>12,\"\",AVERAGE(特に買いたい・利用したい!AX27:BI27))","v":""},{"$f":"IF(COUNT(特に買いたい・利用したい!AY27:BJ27)<>12,\"\",AVERAGE(特に買いたい・利用したい!AY27:BJ27))","v":""},{"$f":"IF(COUNT(特に買いたい・利用したい!AZ27:BK27)<>12,\"\",AVERAGE(特に買いたい・利用したい!AZ27:BK27))","v":""},{"$f":"IF(COUNT(特に買いたい・利用したい!BA27:BL27)<>12,\"\",AVERAGE(特に買いたい・利用したい!BA27:BL27))","v":""},{"$f":"IF(COUNT(特に買いたい・利用したい!BB27:BM27)<>12,\"\",AVERAGE(特に買いたい・利用したい!BB27:BM27))","v":""},{"$f":"IF(COUNT(特に買いたい・利用したい!BC27:BN27)<>12,\"\",AVERAGE(特に買いたい・利用したい!BC27:BN27))","v":""},{"$f":"IF(COUNT(特に買いたい・利用したい!BD27:BO27)<>12,\"\",AVERAGE(特に買いたい・利用したい!BD27:BO27))","v":""},{"$f":"IF(COUNT(特に買いたい・利用したい!BE27:BP27)<>12,\"\",AVERAGE(特に買いたい・利用したい!BE27:BP27))","v":""},{"$f":"IF(COUNT(特に買いたい・利用したい!BF27:BQ27)<>12,\"\",AVERAGE(特に買いたい・利用したい!BF27:BQ27))","v":""},{"$f":"IF(COUNT(特に買いたい・利用したい!BG27:BR27)<>12,\"\",AVERAGE(特に買いたい・利用したい!BG27:BR27))","v":""},{"$f":"IF(COUNT(特に買いたい・利用したい!BH27:BS27)<>12,\"\",AVERAGE(特に買いたい・利用したい!BH27:BS27))","v":""},{"$f":"IF(COUNT(特に買いたい・利用したい!BI27:BT27)<>12,\"\",AVERAGE(特に買いたい・利用したい!BI27:BT27))","v":""},{"$f":"IF(COUNT(特に買いたい・利用したい!BJ27:BU27)<>12,\"\",AVERAGE(特に買いたい・利用したい!BJ27:BU27))","v":""},{"$f":"IF(COUNT(特に買いたい・利用したい!BK27:BV27)<>12,\"\",AVERAGE(特に買いたい・利用したい!BK27:BV27))","v":""},{"$f":"IF(COUNT(特に買いたい・利用したい!BL27:BW27)<>12,\"\",AVERAGE(特に買いたい・利用したい!BL27:BW27))","v":""},{"$f":"IF(COUNT(特に買いたい・利用したい!BM27:BX27)<>12,\"\",AVERAGE(特に買いたい・利用したい!BM27:BX27))","v":""},{"$f":"IF(COUNT(特に買いたい・利用したい!BN27:BY27)<>12,\"\",AVERAGE(特に買いたい・利用したい!BN27:BY27))","v":""},{"$f":"IF(COUNT(特に買いたい・利用したい!BO27:BZ27)<>12,\"\",AVERAGE(特に買いたい・利用したい!BO27:BZ27))","v":""},{"$f":"IF(COUNT(特に買いたい・利用したい!BP27:CA27)<>12,\"\",AVERAGE(特に買いたい・利用したい!BP27:CA27))","v":""},{"$f":"IF(COUNT(特に買いたい・利用したい!BQ27:CB27)<>12,\"\",AVERAGE(特に買いたい・利用したい!BQ27:CB27))","v":""},{"$f":"IF(COUNT(特に買いたい・利用したい!BR27:CC27)<>12,\"\",AVERAGE(特に買いたい・利用したい!BR27:CC27))","v":""},{"$f":"IF(COUNT(特に買いたい・利用したい!BS27:CD27)<>12,\"\",AVERAGE(特に買いたい・利用したい!BS27:CD27))","v":""},{"$f":"IF(COUNT(特に買いたい・利用したい!BT27:CE27)<>12,\"\",AVERAGE(特に買いたい・利用したい!BT27:CE27))","v":""},{"$f":"IF(COUNT(特に買いたい・利用したい!BU27:CF27)<>12,\"\",AVERAGE(特に買いたい・利用したい!BU27:CF27))","v":""},{"$f":"IF(COUNT(特に買いたい・利用したい!BV27:CG27)<>12,\"\",AVERAGE(特に買いたい・利用したい!BV27:CG27))","v":""},{"$f":"IF(COUNT(特に買いたい・利用したい!BW27:CH27)<>12,\"\",AVERAGE(特に買いたい・利用したい!BW27:CH27))","v":""},{"$f":"IF(COUNT(特に買いたい・利用したい!BX27:CI27)<>12,\"\",AVERAGE(特に買いたい・利用したい!BX27:CI27))","v":""},{"$f":"IF(COUNT(特に買いたい・利用したい!BY27:CJ27)<>12,\"\",AVERAGE(特に買いたい・利用したい!BY27:CJ27))","v":""},{"$f":"IF(COUNT(特に買いたい・利用したい!BZ27:CK27)<>12,\"\",AVERAGE(特に買いたい・利用したい!BZ27:CK27))","v":""},{"$f":"IF(COUNT(特に買いたい・利用したい!CA27:CL27)<>12,\"\",AVERAGE(特に買いたい・利用したい!CA27:CL27))","v":""},{"$f":"IF(COUNT(特に買いたい・利用したい!CB27:CM27)<>12,\"\",AVERAGE(特に買いたい・利用したい!CB27:CM27))","v":""},{"$f":"IF(COUNT(特に買いたい・利用したい!CC27:CN27)<>12,\"\",AVERAGE(特に買いたい・利用したい!CC27:CN27))","v":""},{"$f":"IF(COUNT(特に買いたい・利用したい!CD27:CO27)<>12,\"\",AVERAGE(特に買いたい・利用したい!CD27:CO27))","v":""},{"$f":"IF(COUNT(特に買いたい・利用したい!CE27:CP27)<>12,\"\",AVERAGE(特に買いたい・利用したい!CE27:CP27))","v":""},{"$f":"IF(COUNT(特に買いたい・利用したい!CF27:CQ27)<>12,\"\",AVERAGE(特に買いたい・利用したい!CF27:CQ27))","v":""},{"$f":"IF(COUNT(特に買いたい・利用したい!CG27:CR27)<>12,\"\",AVERAGE(特に買いたい・利用したい!CG27:CR27))","v":""},{"$f":"IF(COUNT(特に買いたい・利用したい!CH27:CS27)<>12,\"\",AVERAGE(特に買いたい・利用したい!CH27:CS27))","v":""},{"$f":"IF(COUNT(特に買いたい・利用したい!CI27:CT27)<>12,\"\",AVERAGE(特に買いたい・利用したい!CI27:CT27))","v":""},{"$f":"IF(COUNT(特に買いたい・利用したい!CJ27:CU27)<>12,\"\",AVERAGE(特に買いたい・利用したい!CJ27:CU27))","v":""},{"$f":"IF(COUNT(特に買いたい・利用したい!CK27:CV27)<>12,\"\",AVERAGE(特に買いたい・利用したい!CK27:CV27))","v":""},{"$f":"IF(COUNT(特に買いたい・利用したい!CL27:CW27)<>12,\"\",AVERAGE(特に買いたい・利用したい!CL27:CW27))","v":""},{"$f":"IF(COUNT(特に買いたい・利用したい!CM27:CX27)<>12,\"\",AVERAGE(特に買いたい・利用したい!CM27:CX27))","v":""},{"$f":"IF(COUNT(特に買いたい・利用したい!CN27:CY27)<>12,\"\",AVERAGE(特に買いたい・利用したい!CN27:CY27))","v":""},{"$f":"IF(COUNT(特に買いたい・利用したい!CO27:CZ27)<>12,\"\",AVERAGE(特に買いたい・利用したい!CO27:CZ27))","v":""},{"$f":"IF(COUNT(特に買いたい・利用したい!CP27:DA27)<>12,\"\",AVERAGE(特に買いたい・利用したい!CP27:DA27))","v":""},{"$f":"IF(COUNT(特に買いたい・利用したい!CQ27:DB27)<>12,\"\",AVERAGE(特に買いたい・利用したい!CQ27:DB27))","v":""},{"$f":"IF(COUNT(特に買いたい・利用したい!CR27:DC27)<>12,\"\",AVERAGE(特に買いたい・利用したい!CR27:DC27))","v":""},{"$f":"IF(COUNT(特に買いたい・利用したい!CS27:DD27)<>12,\"\",AVERAGE(特に買いたい・利用したい!CS27:DD27))","v":""},{"$f":"IF(COUNT(特に買いたい・利用したい!CT27:DE27)<>12,\"\",AVERAGE(特に買いたい・利用したい!CT27:DE27))","v":""},{"$f":"IF(COUNT(特に買いたい・利用したい!CU27:DF27)<>12,\"\",AVERAGE(特に買いたい・利用したい!CU27:DF27))","v":""},{"$f":"IF(COUNT(特に買いたい・利用したい!CV27:DG27)<>12,\"\",AVERAGE(特に買いたい・利用したい!CV27:DG27))","v":""}]
[null,"地域別","首都40km圏",null,null,null,null,null,null,null,null,null,null,null,null,null,null,null,{"$f":"IF(COUNT(特に買いたい・利用したい!H28:S28)<>12,\"\",AVERAGE(特に買いたい・利用したい!H28:S28))","v":33.81666666666667},{"$f":"IF(COUNT(特に買いたい・利用したい!I28:T28)<>12,\"\",AVERAGE(特に買いたい・利用したい!I28:T28))","v":33.450000000000003},{"$f":"IF(COUNT(特に買いたい・利用したい!J28:U28)<>12,\"\",AVERAGE(特に買いたい・利用したい!J28:U28))","v":32.783333333333339},{"$f":"IF(COUNT(特に買いたい・利用したい!K28:V28)<>12,\"\",AVERAGE(特に買いたい・利用したい!K28:V28))","v":32.050000000000004},{"$f":"IF(COUNT(特に買いたい・利用したい!L28:W28)<>12,\"\",AVERAGE(特に買いたい・利用したい!L28:W28))","v":32.033333333333331},{"$f":"IF(COUNT(特に買いたい・利用したい!M28:X28)<>12,\"\",AVERAGE(特に買いたい・利用したい!M28:X28))","v":31.083333333333332},{"$f":"IF(COUNT(特に買いたい・利用したい!N28:Y28)<>12,\"\",AVERAGE(特に買いたい・利用したい!N28:Y28))","v":31},{"$f":"IF(COUNT(特に買いたい・利用したい!O28:Z28)<>12,\"\",AVERAGE(特に買いたい・利用したい!O28:Z28))","v":30.633333333333336},{"$f":"IF(COUNT(特に買いたい・利用したい!P28:AA28)<>12,\"\",AVERAGE(特に買いたい・利用したい!P28:AA28))","v":30.383333333333336},{"$f":"IF(COUNT(特に買いたい・利用したい!Q28:AB28)<>12,\"\",AVERAGE(特に買いたい・利用したい!Q28:AB28))","v":29.433333333333337},{"$f":"IF(COUNT(特に買いたい・利用したい!R28:AC28)<>12,\"\",AVERAGE(特に買いたい・利用したい!R28:AC28))","v":29.666666666666671},{"$f":"IF(COUNT(特に買いたい・利用したい!S28:AD28)<>12,\"\",AVERAGE(特に買いたい・利用したい!S28:AD28))","v":30.183333333333337},{"$f":"IF(COUNT(特に買いたい・利用したい!T28:AE28)<>12,\"\",AVERAGE(特に買いたい・利用したい!T28:AE28))","v":29.200000000000003},{"$f":"IF(COUNT(特に買いたい・利用したい!U28:AF28)<>12,\"\",AVERAGE(特に買いたい・利用したい!U28:AF28))","v":28.549999999999997},{"$f":"IF(COUNT(特に買いたい・利用したい!V28:AG28)<>12,\"\",AVERAGE(特に買いたい・利用したい!V28:AG28))","v":28.533333333333328},{"$f":"IF(COUNT(特に買いたい・利用したい!W28:AH28)<>12,\"\",AVERAGE(特に買いたい・利用したい!W28:AH28))","v":28.399999999999995},{"$f":"IF(COUNT(特に買いたい・利用したい!X28:AI28)<>12,\"\",AVERAGE(特に買いたい・利用したい!X28:AI28))","v":27.933333333333334},{"$f":"IF(COUNT(特に買いたい・利用したい!Y28:AJ28)<>12,\"\",AVERAGE(特に買いたい・利用したい!Y28:AJ28))","v":28.266666666666666},{"$f":"IF(COUNT(特に買いたい・利用したい!Z28:AK28)<>12,\"\",AVERAGE(特に買いたい・利用したい!Z28:AK28))","v":27.549999999999997},{"$f":"IF(COUNT(特に買いたい・利用したい!AA28:AL28)<>12,\"\",AVERAGE(特に買いたい・利用したい!AA28:AL28))","v":27.183333333333334},{"$f":"IF(COUNT(特に買いたい・利用したい!AB28:AM28)<>12,\"\",AVERAGE(特に買いたい・利用したい!AB28:AM28))","v":27.233333333333334},{"$f":"IF(COUNT(特に買いたい・利用したい!AC28:AN28)<>12,\"\",AVERAGE(特に買いたい・利用したい!AC28:AN28))","v":27.366666666666671},{"$f":"IF(COUNT(特に買いたい・利用したい!AD28:AO28)<>12,\"\",AVERAGE(特に買いたい・利用したい!AD28:AO28))","v":27.033333333333342},{"$f":"IF(COUNT(特に買いたい・利用したい!AE28:AP28)<>12,\"\",AVERAGE(特に買いたい・利用したい!AE28:AP28))","v":26.033333333333335},{"$f":"IF(COUNT(特に買いたい・利用したい!AF28:AQ28)<>12,\"\",AVERAGE(特に買いたい・利用したい!AF28:AQ28))","v":26.799999999999997},{"$f":"IF(COUNT(特に買いたい・利用したい!AG28:AR28)<>12,\"\",AVERAGE(特に買いたい・利用したい!AG28:AR28))","v":27.133333333333329},{"$f":"IF(COUNT(特に買いたい・利用したい!AH28:AS28)<>12,\"\",AVERAGE(特に買いたい・利用したい!AH28:AS28))","v":27.083333333333332},{"$f":"IF(COUNT(特に買いたい・利用したい!AI28:AT28)<>12,\"\",AVERAGE(特に買いたい・利用したい!AI28:AT28))","v":27.333333333333332},{"$f":"IF(COUNT(特に買いたい・利用したい!AJ28:AU28)<>12,\"\",AVERAGE(特に買いたい・利用したい!AJ28:AU28))","v":27.333333333333332},{"$f":"IF(COUNT(特に買いたい・利用したい!AK28:AV28)<>12,\"\",AVERAGE(特に買いたい・利用したい!AK28:AV28))","v":27.783333333333331},{"$f":"IF(COUNT(特に買いたい・利用したい!AL28:AW28)<>12,\"\",AVERAGE(特に買いたい・利用したい!AL28:AW28))","v":28.116666666666664},{"$f":"IF(COUNT(特に買いたい・利用したい!AM28:AX28)<>12,\"\",AVERAGE(特に買いたい・利用したい!AM28:AX28))","v":28.649999999999995},{"$f":"IF(COUNT(特に買いたい・利用したい!AN28:AY28)<>12,\"\",AVERAGE(特に買いたい・利用したい!AN28:AY28))","v":28.799999999999997},{"$f":"IF(COUNT(特に買いたい・利用したい!AO28:AZ28)<>12,\"\",AVERAGE(特に買いたい・利用したい!AO28:AZ28))","v":28.983333333333334},{"$f":"IF(COUNT(特に買いたい・利用したい!AP28:BA28)<>12,\"\",AVERAGE(特に買いたい・利用したい!AP28:BA28))","v":29.049999999999997},{"$f":"IF(COUNT(特に買いたい・利用したい!AQ28:BB28)<>12,\"\",AVERAGE(特に買いたい・利用したい!AQ28:BB28))","v":28.983333333333331},{"$f":"IF(COUNT(特に買いたい・利用したい!AR28:BC28)<>12,\"\",AVERAGE(特に買いたい・利用したい!AR28:BC28))","v":28.683333333333334},{"$f":"IF(COUNT(特に買いたい・利用したい!AS28:BD28)<>12,\"\",AVERAGE(特に買いたい・利用したい!AS28:BD28))","v":29.133333333333336},{"$f":"IF(COUNT(特に買いたい・利用したい!AT28:BE28)<>12,\"\",AVERAGE(特に買いたい・利用したい!AT28:BE28))","v":""},{"$f":"IF(COUNT(特に買いたい・利用したい!AU28:BF28)<>12,\"\",AVERAGE(特に買いたい・利用したい!AU28:BF28))","v":""},{"$f":"IF(COUNT(特に買いたい・利用したい!AV28:BG28)<>12,\"\",AVERAGE(特に買いたい・利用したい!AV28:BG28))","v":""},{"$f":"IF(COUNT(特に買いたい・利用したい!AW28:BH28)<>12,\"\",AVERAGE(特に買いたい・利用したい!AW28:BH28))","v":""},{"$f":"IF(COUNT(特に買いたい・利用したい!AX28:BI28)<>12,\"\",AVERAGE(特に買いたい・利用したい!AX28:BI28))","v":""},{"$f":"IF(COUNT(特に買いたい・利用したい!AY28:BJ28)<>12,\"\",AVERAGE(特に買いたい・利用したい!AY28:BJ28))","v":""},{"$f":"IF(COUNT(特に買いたい・利用したい!AZ28:BK28)<>12,\"\",AVERAGE(特に買いたい・利用したい!AZ28:BK28))","v":""},{"$f":"IF(COUNT(特に買いたい・利用したい!BA28:BL28)<>12,\"\",AVERAGE(特に買いたい・利用したい!BA28:BL28))","v":""},{"$f":"IF(COUNT(特に買いたい・利用したい!BB28:BM28)<>12,\"\",AVERAGE(特に買いたい・利用したい!BB28:BM28))","v":""},{"$f":"IF(COUNT(特に買いたい・利用したい!BC28:BN28)<>12,\"\",AVERAGE(特に買いたい・利用したい!BC28:BN28))","v":""},{"$f":"IF(COUNT(特に買いたい・利用したい!BD28:BO28)<>12,\"\",AVERAGE(特に買いたい・利用したい!BD28:BO28))","v":""},{"$f":"IF(COUNT(特に買いたい・利用したい!BE28:BP28)<>12,\"\",AVERAGE(特に買いたい・利用したい!BE28:BP28))","v":""},{"$f":"IF(COUNT(特に買いたい・利用したい!BF28:BQ28)<>12,\"\",AVERAGE(特に買いたい・利用したい!BF28:BQ28))","v":""},{"$f":"IF(COUNT(特に買いたい・利用したい!BG28:BR28)<>12,\"\",AVERAGE(特に買いたい・利用したい!BG28:BR28))","v":""},{"$f":"IF(COUNT(特に買いたい・利用したい!BH28:BS28)<>12,\"\",AVERAGE(特に買いたい・利用したい!BH28:BS28))","v":""},{"$f":"IF(COUNT(特に買いたい・利用したい!BI28:BT28)<>12,\"\",AVERAGE(特に買いたい・利用したい!BI28:BT28))","v":""},{"$f":"IF(COUNT(特に買いたい・利用したい!BJ28:BU28)<>12,\"\",AVERAGE(特に買いたい・利用したい!BJ28:BU28))","v":""},{"$f":"IF(COUNT(特に買いたい・利用したい!BK28:BV28)<>12,\"\",AVERAGE(特に買いたい・利用したい!BK28:BV28))","v":""},{"$f":"IF(COUNT(特に買いたい・利用したい!BL28:BW28)<>12,\"\",AVERAGE(特に買いたい・利用したい!BL28:BW28))","v":""},{"$f":"IF(COUNT(特に買いたい・利用したい!BM28:BX28)<>12,\"\",AVERAGE(特に買いたい・利用したい!BM28:BX28))","v":""},{"$f":"IF(COUNT(特に買いたい・利用したい!BN28:BY28)<>12,\"\",AVERAGE(特に買いたい・利用したい!BN28:BY28))","v":""},{"$f":"IF(COUNT(特に買いたい・利用したい!BO28:BZ28)<>12,\"\",AVERAGE(特に買いたい・利用したい!BO28:BZ28))","v":""},{"$f":"IF(COUNT(特に買いたい・利用したい!BP28:CA28)<>12,\"\",AVERAGE(特に買いたい・利用したい!BP28:CA28))","v":""},{"$f":"IF(COUNT(特に買いたい・利用したい!BQ28:CB28)<>12,\"\",AVERAGE(特に買いたい・利用したい!BQ28:CB28))","v":""},{"$f":"IF(COUNT(特に買いたい・利用したい!BR28:CC28)<>12,\"\",AVERAGE(特に買いたい・利用したい!BR28:CC28))","v":""},{"$f":"IF(COUNT(特に買いたい・利用したい!BS28:CD28)<>12,\"\",AVERAGE(特に買いたい・利用したい!BS28:CD28))","v":""},{"$f":"IF(COUNT(特に買いたい・利用したい!BT28:CE28)<>12,\"\",AVERAGE(特に買いたい・利用したい!BT28:CE28))","v":""},{"$f":"IF(COUNT(特に買いたい・利用したい!BU28:CF28)<>12,\"\",AVERAGE(特に買いたい・利用したい!BU28:CF28))","v":""},{"$f":"IF(COUNT(特に買いたい・利用したい!BV28:CG28)<>12,\"\",AVERAGE(特に買いたい・利用したい!BV28:CG28))","v":""},{"$f":"IF(COUNT(特に買いたい・利用したい!BW28:CH28)<>12,\"\",AVERAGE(特に買いたい・利用したい!BW28:CH28))","v":""},{"$f":"IF(COUNT(特に買いたい・利用したい!BX28:CI28)<>12,\"\",AVERAGE(特に買いたい・利用したい!BX28:CI28))","v":""},{"$f":"IF(COUNT(特に買いたい・利用したい!BY28:CJ28)<>12,\"\",AVERAGE(特に買いたい・利用したい!BY28:CJ28))","v":""},{"$f":"IF(COUNT(特に買いたい・利用したい!BZ28:CK28)<>12,\"\",AVERAGE(特に買いたい・利用したい!BZ28:CK28))","v":""},{"$f":"IF(COUNT(特に買いたい・利用したい!CA28:CL28)<>12,\"\",AVERAGE(特に買いたい・利用したい!CA28:CL28))","v":""},{"$f":"IF(COUNT(特に買いたい・利用したい!CB28:CM28)<>12,\"\",AVERAGE(特に買いたい・利用したい!CB28:CM28))","v":""},{"$f":"IF(COUNT(特に買いたい・利用したい!CC28:CN28)<>12,\"\",AVERAGE(特に買いたい・利用したい!CC28:CN28))","v":""},{"$f":"IF(COUNT(特に買いたい・利用したい!CD28:CO28)<>12,\"\",AVERAGE(特に買いたい・利用したい!CD28:CO28))","v":""},{"$f":"IF(COUNT(特に買いたい・利用したい!CE28:CP28)<>12,\"\",AVERAGE(特に買いたい・利用したい!CE28:CP28))","v":""},{"$f":"IF(COUNT(特に買いたい・利用したい!CF28:CQ28)<>12,\"\",AVERAGE(特に買いたい・利用したい!CF28:CQ28))","v":""},{"$f":"IF(COUNT(特に買いたい・利用したい!CG28:CR28)<>12,\"\",AVERAGE(特に買いたい・利用したい!CG28:CR28))","v":""},{"$f":"IF(COUNT(特に買いたい・利用したい!CH28:CS28)<>12,\"\",AVERAGE(特に買いたい・利用したい!CH28:CS28))","v":""},{"$f":"IF(COUNT(特に買いたい・利用したい!CI28:CT28)<>12,\"\",AVERAGE(特に買いたい・利用したい!CI28:CT28))","v":""},{"$f":"IF(COUNT(特に買いたい・利用したい!CJ28:CU28)<>12,\"\",AVERAGE(特に買いたい・利用したい!CJ28:CU28))","v":""},{"$f":"IF(COUNT(特に買いたい・利用したい!CK28:CV28)<>12,\"\",AVERAGE(特に買いたい・利用したい!CK28:CV28))","v":""},{"$f":"IF(COUNT(特に買いたい・利用したい!CL28:CW28)<>12,\"\",AVERAGE(特に買いたい・利用したい!CL28:CW28))","v":""},{"$f":"IF(COUNT(特に買いたい・利用したい!CM28:CX28)<>12,\"\",AVERAGE(特に買いたい・利用したい!CM28:CX28))","v":""},{"$f":"IF(COUNT(特に買いたい・利用したい!CN28:CY28)<>12,\"\",AVERAGE(特に買いたい・利用したい!CN28:CY28))","v":""},{"$f":"IF(COUNT(特に買いたい・利用したい!CO28:CZ28)<>12,\"\",AVERAGE(特に買いたい・利用したい!CO28:CZ28))","v":""},{"$f":"IF(COUNT(特に買いたい・利用したい!CP28:DA28)<>12,\"\",AVERAGE(特に買いたい・利用したい!CP28:DA28))","v":""},{"$f":"IF(COUNT(特に買いたい・利用したい!CQ28:DB28)<>12,\"\",AVERAGE(特に買いたい・利用したい!CQ28:DB28))","v":""},{"$f":"IF(COUNT(特に買いたい・利用したい!CR28:DC28)<>12,\"\",AVERAGE(特に買いたい・利用したい!CR28:DC28))","v":""},{"$f":"IF(COUNT(特に買いたい・利用したい!CS28:DD28)<>12,\"\",AVERAGE(特に買いたい・利用したい!CS28:DD28))","v":""},{"$f":"IF(COUNT(特に買いたい・利用したい!CT28:DE28)<>12,\"\",AVERAGE(特に買いたい・利用したい!CT28:DE28))","v":""},{"$f":"IF(COUNT(特に買いたい・利用したい!CU28:DF28)<>12,\"\",AVERAGE(特に買いたい・利用したい!CU28:DF28))","v":""},{"$f":"IF(COUNT(特に買いたい・利用したい!CV28:DG28)<>12,\"\",AVERAGE(特に買いたい・利用したい!CV28:DG28))","v":""}]
[null,null,"名古屋40km圏",null,null,null,null,null,null,null,null,null,null,null,null,null,null,null,{"$f":"IF(COUNT(特に買いたい・利用したい!H29:S29)<>12,\"\",AVERAGE(特に買いたい・利用したい!H29:S29))","v":30.216666666666669},{"$f":"IF(COUNT(特に買いたい・利用したい!I29:T29)<>12,\"\",AVERAGE(特に買いたい・利用したい!I29:T29))","v":29.783333333333335},{"$f":"IF(COUNT(特に買いたい・利用したい!J29:U29)<>12,\"\",AVERAGE(特に買いたい・利用したい!J29:U29))","v":29.616666666666664},{"$f":"IF(COUNT(特に買いたい・利用したい!K29:V29)<>12,\"\",AVERAGE(特に買いたい・利用したい!K29:V29))","v":28.8},{"$f":"IF(COUNT(特に買いたい・利用したい!L29:W29)<>12,\"\",AVERAGE(特に買いたい・利用したい!L29:W29))","v":28.650000000000002},{"$f":"IF(COUNT(特に買いたい・利用したい!M29:X29)<>12,\"\",AVERAGE(特に買いたい・利用したい!M29:X29))","v":28.333333333333332},{"$f":"IF(COUNT(特に買いたい・利用したい!N29:Y29)<>12,\"\",AVERAGE(特に買いたい・利用したい!N29:Y29))","v":28.283333333333331},{"$f":"IF(COUNT(特に買いたい・利用したい!O29:Z29)<>12,\"\",AVERAGE(特に買いたい・利用したい!O29:Z29))","v":28.166666666666661},{"$f":"IF(COUNT(特に買いたい・利用したい!P29:AA29)<>12,\"\",AVERAGE(特に買いたい・利用したい!P29:AA29))","v":28.166666666666668},{"$f":"IF(COUNT(特に買いたい・利用したい!Q29:AB29)<>12,\"\",AVERAGE(特に買いたい・利用したい!Q29:AB29))","v":28.066666666666663},{"$f":"IF(COUNT(特に買いたい・利用したい!R29:AC29)<>12,\"\",AVERAGE(特に買いたい・利用したい!R29:AC29))","v":28.05},{"$f":"IF(COUNT(特に買いたい・利用したい!S29:AD29)<>12,\"\",AVERAGE(特に買いたい・利用したい!S29:AD29))","v":28.216666666666669},{"$f":"IF(COUNT(特に買いたい・利用したい!T29:AE29)<>12,\"\",AVERAGE(特に買いたい・利用したい!T29:AE29))","v":26.900000000000006},{"$f":"IF(COUNT(特に買いたい・利用したい!U29:AF29)<>12,\"\",AVERAGE(特に買いたい・利用したい!U29:AF29))","v":26.3},{"$f":"IF(COUNT(特に買いたい・利用したい!V29:AG29)<>12,\"\",AVERAGE(特に買いたい・利用したい!V29:AG29))","v":25.666666666666668},{"$f":"IF(COUNT(特に買いたい・利用したい!W29:AH29)<>12,\"\",AVERAGE(特に買いたい・利用したい!W29:AH29))","v":25.399999999999995},{"$f":"IF(COUNT(特に買いたい・利用したい!X29:AI29)<>12,\"\",AVERAGE(特に買いたい・利用したい!X29:AI29))","v":25.066666666666663},{"$f":"IF(COUNT(特に買いたい・利用したい!Y29:AJ29)<>12,\"\",AVERAGE(特に買いたい・利用したい!Y29:AJ29))","v":25.566666666666663},{"$f":"IF(COUNT(特に買いたい・利用したい!Z29:AK29)<>12,\"\",AVERAGE(特に買いたい・利用したい!Z29:AK29))","v":25.433333333333334},{"$f":"IF(COUNT(特に買いたい・利用したい!AA29:AL29)<>12,\"\",AVERAGE(特に買いたい・利用したい!AA29:AL29))","v":25.416666666666668},{"$f":"IF(COUNT(特に買いたい・利用したい!AB29:AM29)<>12,\"\",AVERAGE(特に買いたい・利用したい!AB29:AM29))","v":25.45},{"$f":"IF(COUNT(特に買いたい・利用したい!AC29:AN29)<>12,\"\",AVERAGE(特に買いたい・利用したい!AC29:AN29))","v":24.900000000000002},{"$f":"IF(COUNT(特に買いたい・利用したい!AD29:AO29)<>12,\"\",AVERAGE(特に買いたい・利用したい!AD29:AO29))","v":24.400000000000002},{"$f":"IF(COUNT(特に買いたい・利用したい!AE29:AP29)<>12,\"\",AVERAGE(特に買いたい・利用したい!AE29:AP29))","v":23.849999999999998},{"$f":"IF(COUNT(特に買いたい・利用したい!AF29:AQ29)<>12,\"\",AVERAGE(特に買いたい・利用したい!AF29:AQ29))","v":24.966666666666665},{"$f":"IF(COUNT(特に買いたい・利用したい!AG29:AR29)<>12,\"\",AVERAGE(特に買いたい・利用したい!AG29:AR29))","v":25.7},{"$f":"IF(COUNT(特に買いたい・利用したい!AH29:AS29)<>12,\"\",AVERAGE(特に買いたい・利用したい!AH29:AS29))","v":26.066666666666666},{"$f":"IF(COUNT(特に買いたい・利用したい!AI29:AT29)<>12,\"\",AVERAGE(特に買いたい・利用したい!AI29:AT29))","v":26.350000000000005},{"$f":"IF(COUNT(特に買いたい・利用したい!AJ29:AU29)<>12,\"\",AVERAGE(特に買いたい・利用したい!AJ29:AU29))","v":26.533333333333335},{"$f":"IF(COUNT(特に買いたい・利用したい!AK29:AV29)<>12,\"\",AVERAGE(特に買いたい・利用したい!AK29:AV29))","v":26.400000000000006},{"$f":"IF(COUNT(特に買いたい・利用したい!AL29:AW29)<>12,\"\",AVERAGE(特に買いたい・利用したい!AL29:AW29))","v":26.283333333333342},{"$f":"IF(COUNT(特に買いたい・利用したい!AM29:AX29)<>12,\"\",AVERAGE(特に買いたい・利用したい!AM29:AX29))","v":26.250000000000004},{"$f":"IF(COUNT(特に買いたい・利用したい!AN29:AY29)<>12,\"\",AVERAGE(特に買いたい・利用したい!AN29:AY29))","v":26.333333333333332},{"$f":"IF(COUNT(特に買いたい・利用したい!AO29:AZ29)<>12,\"\",AVERAGE(特に買いたい・利用したい!AO29:AZ29))","v":26.933333333333334},{"$f":"IF(COUNT(特に買いたい・利用したい!AP29:BA29)<>12,\"\",AVERAGE(特に買いたい・利用したい!AP29:BA29))","v":27.049999999999997},{"$f":"IF(COUNT(特に買いたい・利用したい!AQ29:BB29)<>12,\"\",AVERAGE(特に買いたい・利用したい!AQ29:BB29))","v":26.716666666666669},{"$f":"IF(COUNT(特に買いたい・利用したい!AR29:BC29)<>12,\"\",AVERAGE(特に買いたい・利用したい!AR29:BC29))","v":26.233333333333334},{"$f":"IF(COUNT(特に買いたい・利用したい!AS29:BD29)<>12,\"\",AVERAGE(特に買いたい・利用したい!AS29:BD29))","v":26.250000000000004},{"$f":"IF(COUNT(特に買いたい・利用したい!AT29:BE29)<>12,\"\",AVERAGE(特に買いたい・利用したい!AT29:BE29))","v":""},{"$f":"IF(COUNT(特に買いたい・利用したい!AU29:BF29)<>12,\"\",AVERAGE(特に買いたい・利用したい!AU29:BF29))","v":""},{"$f":"IF(COUNT(特に買いたい・利用したい!AV29:BG29)<>12,\"\",AVERAGE(特に買いたい・利用したい!AV29:BG29))","v":""},{"$f":"IF(COUNT(特に買いたい・利用したい!AW29:BH29)<>12,\"\",AVERAGE(特に買いたい・利用したい!AW29:BH29))","v":""},{"$f":"IF(COUNT(特に買いたい・利用したい!AX29:BI29)<>12,\"\",AVERAGE(特に買いたい・利用したい!AX29:BI29))","v":""},{"$f":"IF(COUNT(特に買いたい・利用したい!AY29:BJ29)<>12,\"\",AVERAGE(特に買いたい・利用したい!AY29:BJ29))","v":""},{"$f":"IF(COUNT(特に買いたい・利用したい!AZ29:BK29)<>12,\"\",AVERAGE(特に買いたい・利用したい!AZ29:BK29))","v":""},{"$f":"IF(COUNT(特に買いたい・利用したい!BA29:BL29)<>12,\"\",AVERAGE(特に買いたい・利用したい!BA29:BL29))","v":""},{"$f":"IF(COUNT(特に買いたい・利用したい!BB29:BM29)<>12,\"\",AVERAGE(特に買いたい・利用したい!BB29:BM29))","v":""},{"$f":"IF(COUNT(特に買いたい・利用したい!BC29:BN29)<>12,\"\",AVERAGE(特に買いたい・利用したい!BC29:BN29))","v":""},{"$f":"IF(COUNT(特に買いたい・利用したい!BD29:BO29)<>12,\"\",AVERAGE(特に買いたい・利用したい!BD29:BO29))","v":""},{"$f":"IF(COUNT(特に買いたい・利用したい!BE29:BP29)<>12,\"\",AVERAGE(特に買いたい・利用したい!BE29:BP29))","v":""},{"$f":"IF(COUNT(特に買いたい・利用したい!BF29:BQ29)<>12,\"\",AVERAGE(特に買いたい・利用したい!BF29:BQ29))","v":""},{"$f":"IF(COUNT(特に買いたい・利用したい!BG29:BR29)<>12,\"\",AVERAGE(特に買いたい・利用したい!BG29:BR29))","v":""},{"$f":"IF(COUNT(特に買いたい・利用したい!BH29:BS29)<>12,\"\",AVERAGE(特に買いたい・利用したい!BH29:BS29))","v":""},{"$f":"IF(COUNT(特に買いたい・利用したい!BI29:BT29)<>12,\"\",AVERAGE(特に買いたい・利用したい!BI29:BT29))","v":""},{"$f":"IF(COUNT(特に買いたい・利用したい!BJ29:BU29)<>12,\"\",AVERAGE(特に買いたい・利用したい!BJ29:BU29))","v":""},{"$f":"IF(COUNT(特に買いたい・利用したい!BK29:BV29)<>12,\"\",AVERAGE(特に買いたい・利用したい!BK29:BV29))","v":""},{"$f":"IF(COUNT(特に買いたい・利用したい!BL29:BW29)<>12,\"\",AVERAGE(特に買いたい・利用したい!BL29:BW29))","v":""},{"$f":"IF(COUNT(特に買いたい・利用したい!BM29:BX29)<>12,\"\",AVERAGE(特に買いたい・利用したい!BM29:BX29))","v":""},{"$f":"IF(COUNT(特に買いたい・利用したい!BN29:BY29)<>12,\"\",AVERAGE(特に買いたい・利用したい!BN29:BY29))","v":""},{"$f":"IF(COUNT(特に買いたい・利用したい!BO29:BZ29)<>12,\"\",AVERAGE(特に買いたい・利用したい!BO29:BZ29))","v":""},{"$f":"IF(COUNT(特に買いたい・利用したい!BP29:CA29)<>12,\"\",AVERAGE(特に買いたい・利用したい!BP29:CA29))","v":""},{"$f":"IF(COUNT(特に買いたい・利用したい!BQ29:CB29)<>12,\"\",AVERAGE(特に買いたい・利用したい!BQ29:CB29))","v":""},{"$f":"IF(COUNT(特に買いたい・利用したい!BR29:CC29)<>12,\"\",AVERAGE(特に買いたい・利用したい!BR29:CC29))","v":""},{"$f":"IF(COUNT(特に買いたい・利用したい!BS29:CD29)<>12,\"\",AVERAGE(特に買いたい・利用したい!BS29:CD29))","v":""},{"$f":"IF(COUNT(特に買いたい・利用したい!BT29:CE29)<>12,\"\",AVERAGE(特に買いたい・利用したい!BT29:CE29))","v":""},{"$f":"IF(COUNT(特に買いたい・利用したい!BU29:CF29)<>12,\"\",AVERAGE(特に買いたい・利用したい!BU29:CF29))","v":""},{"$f":"IF(COUNT(特に買いたい・利用したい!BV29:CG29)<>12,\"\",AVERAGE(特に買いたい・利用したい!BV29:CG29))","v":""},{"$f":"IF(COUNT(特に買いたい・利用したい!BW29:CH29)<>12,\"\",AVERAGE(特に買いたい・利用したい!BW29:CH29))","v":""},{"$f":"IF(COUNT(特に買いたい・利用したい!BX29:CI29)<>12,\"\",AVERAGE(特に買いたい・利用したい!BX29:CI29))","v":""},{"$f":"IF(COUNT(特に買いたい・利用したい!BY29:CJ29)<>12,\"\",AVERAGE(特に買いたい・利用したい!BY29:CJ29))","v":""},{"$f":"IF(COUNT(特に買いたい・利用したい!BZ29:CK29)<>12,\"\",AVERAGE(特に買いたい・利用したい!BZ29:CK29))","v":""},{"$f":"IF(COUNT(特に買いたい・利用したい!CA29:CL29)<>12,\"\",AVERAGE(特に買いたい・利用したい!CA29:CL29))","v":""},{"$f":"IF(COUNT(特に買いたい・利用したい!CB29:CM29)<>12,\"\",AVERAGE(特に買いたい・利用したい!CB29:CM29))","v":""},{"$f":"IF(COUNT(特に買いたい・利用したい!CC29:CN29)<>12,\"\",AVERAGE(特に買いたい・利用したい!CC29:CN29))","v":""},{"$f":"IF(COUNT(特に買いたい・利用したい!CD29:CO29)<>12,\"\",AVERAGE(特に買いたい・利用したい!CD29:CO29))","v":""},{"$f":"IF(COUNT(特に買いたい・利用したい!CE29:CP29)<>12,\"\",AVERAGE(特に買いたい・利用したい!CE29:CP29))","v":""},{"$f":"IF(COUNT(特に買いたい・利用したい!CF29:CQ29)<>12,\"\",AVERAGE(特に買いたい・利用したい!CF29:CQ29))","v":""},{"$f":"IF(COUNT(特に買いたい・利用したい!CG29:CR29)<>12,\"\",AVERAGE(特に買いたい・利用したい!CG29:CR29))","v":""},{"$f":"IF(COUNT(特に買いたい・利用したい!CH29:CS29)<>12,\"\",AVERAGE(特に買いたい・利用したい!CH29:CS29))","v":""},{"$f":"IF(COUNT(特に買いたい・利用したい!CI29:CT29)<>12,\"\",AVERAGE(特に買いたい・利用したい!CI29:CT29))","v":""},{"$f":"IF(COUNT(特に買いたい・利用したい!CJ29:CU29)<>12,\"\",AVERAGE(特に買いたい・利用したい!CJ29:CU29))","v":""},{"$f":"IF(COUNT(特に買いたい・利用したい!CK29:CV29)<>12,\"\",AVERAGE(特に買いたい・利用したい!CK29:CV29))","v":""},{"$f":"IF(COUNT(特に買いたい・利用したい!CL29:CW29)<>12,\"\",AVERAGE(特に買いたい・利用したい!CL29:CW29))","v":""},{"$f":"IF(COUNT(特に買いたい・利用したい!CM29:CX29)<>12,\"\",AVERAGE(特に買いたい・利用したい!CM29:CX29))","v":""},{"$f":"IF(COUNT(特に買いたい・利用したい!CN29:CY29)<>12,\"\",AVERAGE(特に買いたい・利用したい!CN29:CY29))","v":""},{"$f":"IF(COUNT(特に買いたい・利用したい!CO29:CZ29)<>12,\"\",AVERAGE(特に買いたい・利用したい!CO29:CZ29))","v":""},{"$f":"IF(COUNT(特に買いたい・利用したい!CP29:DA29)<>12,\"\",AVERAGE(特に買いたい・利用したい!CP29:DA29))","v":""},{"$f":"IF(COUNT(特に買いたい・利用したい!CQ29:DB29)<>12,\"\",AVERAGE(特に買いたい・利用したい!CQ29:DB29))","v":""},{"$f":"IF(COUNT(特に買いたい・利用したい!CR29:DC29)<>12,\"\",AVERAGE(特に買いたい・利用したい!CR29:DC29))","v":""},{"$f":"IF(COUNT(特に買いたい・利用したい!CS29:DD29)<>12,\"\",AVERAGE(特に買いたい・利用したい!CS29:DD29))","v":""},{"$f":"IF(COUNT(特に買いたい・利用したい!CT29:DE29)<>12,\"\",AVERAGE(特に買いたい・利用したい!CT29:DE29))","v":""},{"$f":"IF(COUNT(特に買いたい・利用したい!CU29:DF29)<>12,\"\",AVERAGE(特に買いたい・利用したい!CU29:DF29))","v":""},{"$f":"IF(COUNT(特に買いたい・利用したい!CV29:DG29)<>12,\"\",AVERAGE(特に買いたい・利用したい!CV29:DG29))","v":""}]
[null,null,"阪神30km圏",null,null,null,null,null,null,null,null,null,null,null,null,null,null,null,{"$f":"IF(COUNT(特に買いたい・利用したい!H30:S30)<>12,\"\",AVERAGE(特に買いたい・利用したい!H30:S30))","v":32.966666666666661},{"$f":"IF(COUNT(特に買いたい・利用したい!I30:T30)<>12,\"\",AVERAGE(特に買いたい・利用したい!I30:T30))","v":32.416666666666664},{"$f":"IF(COUNT(特に買いたい・利用したい!J30:U30)<>12,\"\",AVERAGE(特に買いたい・利用したい!J30:U30))","v":32.35},{"$f":"IF(COUNT(特に買いたい・利用したい!K30:V30)<>12,\"\",AVERAGE(特に買いたい・利用したい!K30:V30))","v":31.816666666666666},{"$f":"IF(COUNT(特に買いたい・利用したい!L30:W30)<>12,\"\",AVERAGE(特に買いたい・利用したい!L30:W30))","v":31.783333333333331},{"$f":"IF(COUNT(特に買いたい・利用したい!M30:X30)<>12,\"\",AVERAGE(特に買いたい・利用したい!M30:X30))","v":31.250000000000004},{"$f":"IF(COUNT(特に買いたい・利用したい!N30:Y30)<>12,\"\",AVERAGE(特に買いたい・利用したい!N30:Y30))","v":30.88333333333334},{"$f":"IF(COUNT(特に買いたい・利用したい!O30:Z30)<>12,\"\",AVERAGE(特に買いたい・利用したい!O30:Z30))","v":30.183333333333337},{"$f":"IF(COUNT(特に買いたい・利用したい!P30:AA30)<>12,\"\",AVERAGE(特に買いたい・利用したい!P30:AA30))","v":29.716666666666669},{"$f":"IF(COUNT(特に買いたい・利用したい!Q30:AB30)<>12,\"\",AVERAGE(特に買いたい・利用したい!Q30:AB30))","v":29.099999999999998},{"$f":"IF(COUNT(特に買いたい・利用したい!R30:AC30)<>12,\"\",AVERAGE(特に買いたい・利用したい!R30:AC30))","v":29.283333333333331},{"$f":"IF(COUNT(特に買いたい・利用したい!S30:AD30)<>12,\"\",AVERAGE(特に買いたい・利用したい!S30:AD30))","v":29.416666666666668},{"$f":"IF(COUNT(特に買いたい・利用したい!T30:AE30)<>12,\"\",AVERAGE(特に買いたい・利用したい!T30:AE30))","v":27.883333333333329},{"$f":"IF(COUNT(特に買いたい・利用したい!U30:AF30)<>12,\"\",AVERAGE(特に買いたい・利用したい!U30:AF30))","v":26.966666666666665},{"$f":"IF(COUNT(特に買いたい・利用したい!V30:AG30)<>12,\"\",AVERAGE(特に買いたい・利用したい!V30:AG30))","v":26.316666666666666},{"$f":"IF(COUNT(特に買いたい・利用したい!W30:AH30)<>12,\"\",AVERAGE(特に買いたい・利用したい!W30:AH30))","v":26.083333333333332},{"$f":"IF(COUNT(特に買いたい・利用したい!X30:AI30)<>12,\"\",AVERAGE(特に買いたい・利用したい!X30:AI30))","v":26.25},{"$f":"IF(COUNT(特に買いたい・利用したい!Y30:AJ30)<>12,\"\",AVERAGE(特に買いたい・利用したい!Y30:AJ30))","v":26.650000000000002},{"$f":"IF(COUNT(特に買いたい・利用したい!Z30:AK30)<>12,\"\",AVERAGE(特に買いたい・利用したい!Z30:AK30))","v":26.400000000000002},{"$f":"IF(COUNT(特に買いたい・利用したい!AA30:AL30)<>12,\"\",AVERAGE(特に買いたい・利用したい!AA30:AL30))","v":26.483333333333334},{"$f":"IF(COUNT(特に買いたい・利用したい!AB30:AM30)<>12,\"\",AVERAGE(特に買いたい・利用したい!AB30:AM30))","v":27.033333333333331},{"$f":"IF(COUNT(特に買いたい・利用したい!AC30:AN30)<>12,\"\",AVERAGE(特に買いたい・利用したい!AC30:AN30))","v":26.75},{"$f":"IF(COUNT(特に買いたい・利用したい!AD30:AO30)<>12,\"\",AVERAGE(特に買いたい・利用したい!AD30:AO30))","v":26.866666666666671},{"$f":"IF(COUNT(特に買いたい・利用したい!AE30:AP30)<>12,\"\",AVERAGE(特に買いたい・利用したい!AE30:AP30))","v":26.166666666666671},{"$f":"IF(COUNT(特に買いたい・利用したい!AF30:AQ30)<>12,\"\",AVERAGE(特に買いたい・利用したい!AF30:AQ30))","v":27.716666666666669},{"$f":"IF(COUNT(特に買いたい・利用したい!AG30:AR30)<>12,\"\",AVERAGE(特に買いたい・利用したい!AG30:AR30))","v":28.500000000000004},{"$f":"IF(COUNT(特に買いたい・利用したい!AH30:AS30)<>12,\"\",AVERAGE(特に買いたい・利用したい!AH30:AS30))","v":29.066666666666674},{"$f":"IF(COUNT(特に買いたい・利用したい!AI30:AT30)<>12,\"\",AVERAGE(特に買いたい・利用したい!AI30:AT30))","v":29.383333333333336},{"$f":"IF(COUNT(特に買いたい・利用したい!AJ30:AU30)<>12,\"\",AVERAGE(特に買いたい・利用したい!AJ30:AU30))","v":29.466666666666669},{"$f":"IF(COUNT(特に買いたい・利用したい!AK30:AV30)<>12,\"\",AVERAGE(特に買いたい・利用したい!AK30:AV30))","v":29.383333333333329},{"$f":"IF(COUNT(特に買いたい・利用したい!AL30:AW30)<>12,\"\",AVERAGE(特に買いたい・利用したい!AL30:AW30))","v":29.516666666666666},{"$f":"IF(COUNT(特に買いたい・利用したい!AM30:AX30)<>12,\"\",AVERAGE(特に買いたい・利用したい!AM30:AX30))","v":29.466666666666665},{"$f":"IF(COUNT(特に買いたい・利用したい!AN30:AY30)<>12,\"\",AVERAGE(特に買いたい・利用したい!AN30:AY30))","v":29.399999999999995},{"$f":"IF(COUNT(特に買いたい・利用したい!AO30:AZ30)<>12,\"\",AVERAGE(特に買いたい・利用したい!AO30:AZ30))","v":29.533333333333331},{"$f":"IF(COUNT(特に買いたい・利用したい!AP30:BA30)<>12,\"\",AVERAGE(特に買いたい・利用したい!AP30:BA30))","v":29.083333333333329},{"$f":"IF(COUNT(特に買いたい・利用したい!AQ30:BB30)<>12,\"\",AVERAGE(特に買いたい・利用したい!AQ30:BB30))","v":28.799999999999997},{"$f":"IF(COUNT(特に買いたい・利用したい!AR30:BC30)<>12,\"\",AVERAGE(特に買いたい・利用したい!AR30:BC30))","v":28.649999999999995},{"$f":"IF(COUNT(特に買いたい・利用したい!AS30:BD30)<>12,\"\",AVERAGE(特に買いたい・利用したい!AS30:BD30))","v":28.650000000000002},{"$f":"IF(COUNT(特に買いたい・利用したい!AT30:BE30)<>12,\"\",AVERAGE(特に買いたい・利用したい!AT30:BE30))","v":""},{"$f":"IF(COUNT(特に買いたい・利用したい!AU30:BF30)<>12,\"\",AVERAGE(特に買いたい・利用したい!AU30:BF30))","v":""},{"$f":"IF(COUNT(特に買いたい・利用したい!AV30:BG30)<>12,\"\",AVERAGE(特に買いたい・利用したい!AV30:BG30))","v":""},{"$f":"IF(COUNT(特に買いたい・利用したい!AW30:BH30)<>12,\"\",AVERAGE(特に買いたい・利用したい!AW30:BH30))","v":""},{"$f":"IF(COUNT(特に買いたい・利用したい!AX30:BI30)<>12,\"\",AVERAGE(特に買いたい・利用したい!AX30:BI30))","v":""},{"$f":"IF(COUNT(特に買いたい・利用したい!AY30:BJ30)<>12,\"\",AVERAGE(特に買いたい・利用したい!AY30:BJ30))","v":""},{"$f":"IF(COUNT(特に買いたい・利用したい!AZ30:BK30)<>12,\"\",AVERAGE(特に買いたい・利用したい!AZ30:BK30))","v":""},{"$f":"IF(COUNT(特に買いたい・利用したい!BA30:BL30)<>12,\"\",AVERAGE(特に買いたい・利用したい!BA30:BL30))","v":""},{"$f":"IF(COUNT(特に買いたい・利用したい!BB30:BM30)<>12,\"\",AVERAGE(特に買いたい・利用したい!BB30:BM30))","v":""},{"$f":"IF(COUNT(特に買いたい・利用したい!BC30:BN30)<>12,\"\",AVERAGE(特に買いたい・利用したい!BC30:BN30))","v":""},{"$f":"IF(COUNT(特に買いたい・利用したい!BD30:BO30)<>12,\"\",AVERAGE(特に買いたい・利用したい!BD30:BO30))","v":""},{"$f":"IF(COUNT(特に買いたい・利用したい!BE30:BP30)<>12,\"\",AVERAGE(特に買いたい・利用したい!BE30:BP30))","v":""},{"$f":"IF(COUNT(特に買いたい・利用したい!BF30:BQ30)<>12,\"\",AVERAGE(特に買いたい・利用したい!BF30:BQ30))","v":""},{"$f":"IF(COUNT(特に買いたい・利用したい!BG30:BR30)<>12,\"\",AVERAGE(特に買いたい・利用したい!BG30:BR30))","v":""},{"$f":"IF(COUNT(特に買いたい・利用したい!BH30:BS30)<>12,\"\",AVERAGE(特に買いたい・利用したい!BH30:BS30))","v":""},{"$f":"IF(COUNT(特に買いたい・利用したい!BI30:BT30)<>12,\"\",AVERAGE(特に買いたい・利用したい!BI30:BT30))","v":""},{"$f":"IF(COUNT(特に買いたい・利用したい!BJ30:BU30)<>12,\"\",AVERAGE(特に買いたい・利用したい!BJ30:BU30))","v":""},{"$f":"IF(COUNT(特に買いたい・利用したい!BK30:BV30)<>12,\"\",AVERAGE(特に買いたい・利用したい!BK30:BV30))","v":""},{"$f":"IF(COUNT(特に買いたい・利用したい!BL30:BW30)<>12,\"\",AVERAGE(特に買いたい・利用したい!BL30:BW30))","v":""},{"$f":"IF(COUNT(特に買いたい・利用したい!BM30:BX30)<>12,\"\",AVERAGE(特に買いたい・利用したい!BM30:BX30))","v":""},{"$f":"IF(COUNT(特に買いたい・利用したい!BN30:BY30)<>12,\"\",AVERAGE(特に買いたい・利用したい!BN30:BY30))","v":""},{"$f":"IF(COUNT(特に買いたい・利用したい!BO30:BZ30)<>12,\"\",AVERAGE(特に買いたい・利用したい!BO30:BZ30))","v":""},{"$f":"IF(COUNT(特に買いたい・利用したい!BP30:CA30)<>12,\"\",AVERAGE(特に買いたい・利用したい!BP30:CA30))","v":""},{"$f":"IF(COUNT(特に買いたい・利用したい!BQ30:CB30)<>12,\"\",AVERAGE(特に買いたい・利用したい!BQ30:CB30))","v":""},{"$f":"IF(COUNT(特に買いたい・利用したい!BR30:CC30)<>12,\"\",AVERAGE(特に買いたい・利用したい!BR30:CC30))","v":""},{"$f":"IF(COUNT(特に買いたい・利用したい!BS30:CD30)<>12,\"\",AVERAGE(特に買いたい・利用したい!BS30:CD30))","v":""},{"$f":"IF(COUNT(特に買いたい・利用したい!BT30:CE30)<>12,\"\",AVERAGE(特に買いたい・利用したい!BT30:CE30))","v":""},{"$f":"IF(COUNT(特に買いたい・利用したい!BU30:CF30)<>12,\"\",AVERAGE(特に買いたい・利用したい!BU30:CF30))","v":""},{"$f":"IF(COUNT(特に買いたい・利用したい!BV30:CG30)<>12,\"\",AVERAGE(特に買いたい・利用したい!BV30:CG30))","v":""},{"$f":"IF(COUNT(特に買いたい・利用したい!BW30:CH30)<>12,\"\",AVERAGE(特に買いたい・利用したい!BW30:CH30))","v":""},{"$f":"IF(COUNT(特に買いたい・利用したい!BX30:CI30)<>12,\"\",AVERAGE(特に買いたい・利用したい!BX30:CI30))","v":""},{"$f":"IF(COUNT(特に買いたい・利用したい!BY30:CJ30)<>12,\"\",AVERAGE(特に買いたい・利用したい!BY30:CJ30))","v":""},{"$f":"IF(COUNT(特に買いたい・利用したい!BZ30:CK30)<>12,\"\",AVERAGE(特に買いたい・利用したい!BZ30:CK30))","v":""},{"$f":"IF(COUNT(特に買いたい・利用したい!CA30:CL30)<>12,\"\",AVERAGE(特に買いたい・利用したい!CA30:CL30))","v":""},{"$f":"IF(COUNT(特に買いたい・利用したい!CB30:CM30)<>12,\"\",AVERAGE(特に買いたい・利用したい!CB30:CM30))","v":""},{"$f":"IF(COUNT(特に買いたい・利用したい!CC30:CN30)<>12,\"\",AVERAGE(特に買いたい・利用したい!CC30:CN30))","v":""},{"$f":"IF(COUNT(特に買いたい・利用したい!CD30:CO30)<>12,\"\",AVERAGE(特に買いたい・利用したい!CD30:CO30))","v":""},{"$f":"IF(COUNT(特に買いたい・利用したい!CE30:CP30)<>12,\"\",AVERAGE(特に買いたい・利用したい!CE30:CP30))","v":""},{"$f":"IF(COUNT(特に買いたい・利用したい!CF30:CQ30)<>12,\"\",AVERAGE(特に買いたい・利用したい!CF30:CQ30))","v":""},{"$f":"IF(COUNT(特に買いたい・利用したい!CG30:CR30)<>12,\"\",AVERAGE(特に買いたい・利用したい!CG30:CR30))","v":""},{"$f":"IF(COUNT(特に買いたい・利用したい!CH30:CS30)<>12,\"\",AVERAGE(特に買いたい・利用したい!CH30:CS30))","v":""},{"$f":"IF(COUNT(特に買いたい・利用したい!CI30:CT30)<>12,\"\",AVERAGE(特に買いたい・利用したい!CI30:CT30))","v":""},{"$f":"IF(COUNT(特に買いたい・利用したい!CJ30:CU30)<>12,\"\",AVERAGE(特に買いたい・利用したい!CJ30:CU30))","v":""},{"$f":"IF(COUNT(特に買いたい・利用したい!CK30:CV30)<>12,\"\",AVERAGE(特に買いたい・利用したい!CK30:CV30))","v":""},{"$f":"IF(COUNT(特に買いたい・利用したい!CL30:CW30)<>12,\"\",AVERAGE(特に買いたい・利用したい!CL30:CW30))","v":""},{"$f":"IF(COUNT(特に買いたい・利用したい!CM30:CX30)<>12,\"\",AVERAGE(特に買いたい・利用したい!CM30:CX30))","v":""},{"$f":"IF(COUNT(特に買いたい・利用したい!CN30:CY30)<>12,\"\",AVERAGE(特に買いたい・利用したい!CN30:CY30))","v":""},{"$f":"IF(COUNT(特に買いたい・利用したい!CO30:CZ30)<>12,\"\",AVERAGE(特に買いたい・利用したい!CO30:CZ30))","v":""},{"$f":"IF(COUNT(特に買いたい・利用したい!CP30:DA30)<>12,\"\",AVERAGE(特に買いたい・利用したい!CP30:DA30))","v":""},{"$f":"IF(COUNT(特に買いたい・利用したい!CQ30:DB30)<>12,\"\",AVERAGE(特に買いたい・利用したい!CQ30:DB30))","v":""},{"$f":"IF(COUNT(特に買いたい・利用したい!CR30:DC30)<>12,\"\",AVERAGE(特に買いたい・利用したい!CR30:DC30))","v":""},{"$f":"IF(COUNT(特に買いたい・利用したい!CS30:DD30)<>12,\"\",AVERAGE(特に買いたい・利用したい!CS30:DD30))","v":""},{"$f":"IF(COUNT(特に買いたい・利用したい!CT30:DE30)<>12,\"\",AVERAGE(特に買いたい・利用したい!CT30:DE30))","v":""},{"$f":"IF(COUNT(特に買いたい・利用したい!CU30:DF30)<>12,\"\",AVERAGE(特に買いたい・利用したい!CU30:DF30))","v":""},{"$f":"IF(COUNT(特に買いたい・利用したい!CV30:DG30)<>12,\"\",AVERAGE(特に買いたい・利用したい!CV30:DG30))","v":""}]
[null,"性別×地域別","男性／首都40km圏",null,null,null,null,null,null,null,null,null,null,null,null,null,null,null,{"$f":"IF(COUNT(特に買いたい・利用したい!H31:S31)<>12,\"\",AVERAGE(特に買いたい・利用したい!H31:S31))","v":31.041666666666668},{"$f":"IF(COUNT(特に買いたい・利用したい!I31:T31)<>12,\"\",AVERAGE(特に買いたい・利用したい!I31:T31))","v":31.183333333333334},{"$f":"IF(COUNT(特に買いたい・利用したい!J31:U31)<>12,\"\",AVERAGE(特に買いたい・利用したい!J31:U31))","v":30.574999999999999},{"$f":"IF(COUNT(特に買いたい・利用したい!K31:V31)<>12,\"\",AVERAGE(特に買いたい・利用したい!K31:V31))","v":30.158333333333331},{"$f":"IF(COUNT(特に買いたい・利用したい!L31:W31)<>12,\"\",AVERAGE(特に買いたい・利用したい!L31:W31))","v":30.233333333333331},{"$f":"IF(COUNT(特に買いたい・利用したい!M31:X31)<>12,\"\",AVERAGE(特に買いたい・利用したい!M31:X31))","v":29.041666666666668},{"$f":"IF(COUNT(特に買いたい・利用したい!N31:Y31)<>12,\"\",AVERAGE(特に買いたい・利用したい!N31:Y31))","v":28.991666666666664},{"$f":"IF(COUNT(特に買いたい・利用したい!O31:Z31)<>12,\"\",AVERAGE(特に買いたい・利用したい!O31:Z31))","v":28.708333333333332},{"$f":"IF(COUNT(特に買いたい・利用したい!P31:AA31)<>12,\"\",AVERAGE(特に買いたい・利用したい!P31:AA31))","v":28.591666666666665},{"$f":"IF(COUNT(特に買いたい・利用したい!Q31:AB31)<>12,\"\",AVERAGE(特に買いたい・利用したい!Q31:AB31))","v":27.625},{"$f":"IF(COUNT(特に買いたい・利用したい!R31:AC31)<>12,\"\",AVERAGE(特に買いたい・利用したい!R31:AC31))","v":27.825000000000003},{"$f":"IF(COUNT(特に買いたい・利用したい!S31:AD31)<>12,\"\",AVERAGE(特に買いたい・利用したい!S31:AD31))","v":27.575000000000003},{"$f":"IF(COUNT(特に買いたい・利用したい!T31:AE31)<>12,\"\",AVERAGE(特に買いたい・利用したい!T31:AE31))","v":26.733333333333334},{"$f":"IF(COUNT(特に買いたい・利用したい!U31:AF31)<>12,\"\",AVERAGE(特に買いたい・利用したい!U31:AF31))","v":26.05},{"$f":"IF(COUNT(特に買いたい・利用したい!V31:AG31)<>12,\"\",AVERAGE(特に買いたい・利用したい!V31:AG31))","v":26.083333333333332},{"$f":"IF(COUNT(特に買いたい・利用したい!W31:AH31)<>12,\"\",AVERAGE(特に買いたい・利用したい!W31:AH31))","v":25.5},{"$f":"IF(COUNT(特に買いたい・利用したい!X31:AI31)<>12,\"\",AVERAGE(特に買いたい・利用したい!X31:AI31))","v":25.141666666666666},{"$f":"IF(COUNT(特に買いたい・利用したい!Y31:AJ31)<>12,\"\",AVERAGE(特に買いたい・利用したい!Y31:AJ31))","v":25.466666666666665},{"$f":"IF(COUNT(特に買いたい・利用したい!Z31:AK31)<>12,\"\",AVERAGE(特に買いたい・利用したい!Z31:AK31))","v":24.841666666666665},{"$f":"IF(COUNT(特に買いたい・利用したい!AA31:AL31)<>12,\"\",AVERAGE(特に買いたい・利用したい!AA31:AL31))","v":24.808333333333334},{"$f":"IF(COUNT(特に買いたい・利用したい!AB31:AM31)<>12,\"\",AVERAGE(特に買いたい・利用したい!AB31:AM31))","v":24.608333333333334},{"$f":"IF(COUNT(特に買いたい・利用したい!AC31:AN31)<>12,\"\",AVERAGE(特に買いたい・利用したい!AC31:AN31))","v":25.158333333333331},{"$f":"IF(COUNT(特に買いたい・利用したい!AD31:AO31)<>12,\"\",AVERAGE(特に買いたい・利用したい!AD31:AO31))","v":24.966666666666669},{"$f":"IF(COUNT(特に買いたい・利用したい!AE31:AP31)<>12,\"\",AVERAGE(特に買いたい・利用したい!AE31:AP31))","v":24.516666666666666},{"$f":"IF(COUNT(特に買いたい・利用したい!AF31:AQ31)<>12,\"\",AVERAGE(特に買いたい・利用したい!AF31:AQ31))","v":24.974999999999998},{"$f":"IF(COUNT(特に買いたい・利用したい!AG31:AR31)<>12,\"\",AVERAGE(特に買いたい・利用したい!AG31:AR31))","v":25.133333333333329},{"$f":"IF(COUNT(特に買いたい・利用したい!AH31:AS31)<>12,\"\",AVERAGE(特に買いたい・利用したい!AH31:AS31))","v":25.266666666666666},{"$f":"IF(COUNT(特に買いたい・利用したい!AI31:AT31)<>12,\"\",AVERAGE(特に買いたい・利用したい!AI31:AT31))","v":25.724999999999998},{"$f":"IF(COUNT(特に買いたい・利用したい!AJ31:AU31)<>12,\"\",AVERAGE(特に買いたい・利用したい!AJ31:AU31))","v":25.724999999999998},{"$f":"IF(COUNT(特に買いたい・利用したい!AK31:AV31)<>12,\"\",AVERAGE(特に買いたい・利用したい!AK31:AV31))","v":26.241666666666671},{"$f":"IF(COUNT(特に買いたい・利用したい!AL31:AW31)<>12,\"\",AVERAGE(特に買いたい・利用したい!AL31:AW31))","v":26.241666666666671},{"$f":"IF(COUNT(特に買いたい・利用したい!AM31:AX31)<>12,\"\",AVERAGE(特に買いたい・利用したい!AM31:AX31))","v":26.366666666666664},{"$f":"IF(COUNT(特に買いたい・利用したい!AN31:AY31)<>12,\"\",AVERAGE(特に買いたい・利用したい!AN31:AY31))","v":26.624999999999996},{"$f":"IF(COUNT(特に買いたい・利用したい!AO31:AZ31)<>12,\"\",AVERAGE(特に買いたい・利用したい!AO31:AZ31))","v":26.299999999999997},{"$f":"IF(COUNT(特に買いたい・利用したい!AP31:BA31)<>12,\"\",AVERAGE(特に買いたい・利用したい!AP31:BA31))","v":25.941666666666663},{"$f":"IF(COUNT(特に買いたい・利用したい!AQ31:BB31)<>12,\"\",AVERAGE(特に買いたい・利用したい!AQ31:BB31))","v":26.066666666666666},{"$f":"IF(COUNT(特に買いたい・利用したい!AR31:BC31)<>12,\"\",AVERAGE(特に買いたい・利用したい!AR31:BC31))","v":25.933333333333334},{"$f":"IF(COUNT(特に買いたい・利用したい!AS31:BD31)<>12,\"\",AVERAGE(特に買いたい・利用したい!AS31:BD31))","v":26.166666666666661},{"$f":"IF(COUNT(特に買いたい・利用したい!AT31:BE31)<>12,\"\",AVERAGE(特に買いたい・利用したい!AT31:BE31))","v":""},{"$f":"IF(COUNT(特に買いたい・利用したい!AU31:BF31)<>12,\"\",AVERAGE(特に買いたい・利用したい!AU31:BF31))","v":""},{"$f":"IF(COUNT(特に買いたい・利用したい!AV31:BG31)<>12,\"\",AVERAGE(特に買いたい・利用したい!AV31:BG31))","v":""},{"$f":"IF(COUNT(特に買いたい・利用したい!AW31:BH31)<>12,\"\",AVERAGE(特に買いたい・利用したい!AW31:BH31))","v":""},{"$f":"IF(COUNT(特に買いたい・利用したい!AX31:BI31)<>12,\"\",AVERAGE(特に買いたい・利用したい!AX31:BI31))","v":""},{"$f":"IF(COUNT(特に買いたい・利用したい!AY31:BJ31)<>12,\"\",AVERAGE(特に買いたい・利用したい!AY31:BJ31))","v":""},{"$f":"IF(COUNT(特に買いたい・利用したい!AZ31:BK31)<>12,\"\",AVERAGE(特に買いたい・利用したい!AZ31:BK31))","v":""},{"$f":"IF(COUNT(特に買いたい・利用したい!BA31:BL31)<>12,\"\",AVERAGE(特に買いたい・利用したい!BA31:BL31))","v":""},{"$f":"IF(COUNT(特に買いたい・利用したい!BB31:BM31)<>12,\"\",AVERAGE(特に買いたい・利用したい!BB31:BM31))","v":""},{"$f":"IF(COUNT(特に買いたい・利用したい!BC31:BN31)<>12,\"\",AVERAGE(特に買いたい・利用したい!BC31:BN31))","v":""},{"$f":"IF(COUNT(特に買いたい・利用したい!BD31:BO31)<>12,\"\",AVERAGE(特に買いたい・利用したい!BD31:BO31))","v":""},{"$f":"IF(COUNT(特に買いたい・利用したい!BE31:BP31)<>12,\"\",AVERAGE(特に買いたい・利用したい!BE31:BP31))","v":""},{"$f":"IF(COUNT(特に買いたい・利用したい!BF31:BQ31)<>12,\"\",AVERAGE(特に買いたい・利用したい!BF31:BQ31))","v":""},{"$f":"IF(COUNT(特に買いたい・利用したい!BG31:BR31)<>12,\"\",AVERAGE(特に買いたい・利用したい!BG31:BR31))","v":""},{"$f":"IF(COUNT(特に買いたい・利用したい!BH31:BS31)<>12,\"\",AVERAGE(特に買いたい・利用したい!BH31:BS31))","v":""},{"$f":"IF(COUNT(特に買いたい・利用したい!BI31:BT31)<>12,\"\",AVERAGE(特に買いたい・利用したい!BI31:BT31))","v":""},{"$f":"IF(COUNT(特に買いたい・利用したい!BJ31:BU31)<>12,\"\",AVERAGE(特に買いたい・利用したい!BJ31:BU31))","v":""},{"$f":"IF(COUNT(特に買いたい・利用したい!BK31:BV31)<>12,\"\",AVERAGE(特に買いたい・利用したい!BK31:BV31))","v":""},{"$f":"IF(COUNT(特に買いたい・利用したい!BL31:BW31)<>12,\"\",AVERAGE(特に買いたい・利用したい!BL31:BW31))","v":""},{"$f":"IF(COUNT(特に買いたい・利用したい!BM31:BX31)<>12,\"\",AVERAGE(特に買いたい・利用したい!BM31:BX31))","v":""},{"$f":"IF(COUNT(特に買いたい・利用したい!BN31:BY31)<>12,\"\",AVERAGE(特に買いたい・利用したい!BN31:BY31))","v":""},{"$f":"IF(COUNT(特に買いたい・利用したい!BO31:BZ31)<>12,\"\",AVERAGE(特に買いたい・利用したい!BO31:BZ31))","v":""},{"$f":"IF(COUNT(特に買いたい・利用したい!BP31:CA31)<>12,\"\",AVERAGE(特に買いたい・利用したい!BP31:CA31))","v":""},{"$f":"IF(COUNT(特に買いたい・利用したい!BQ31:CB31)<>12,\"\",AVERAGE(特に買いたい・利用したい!BQ31:CB31))","v":""},{"$f":"IF(COUNT(特に買いたい・利用したい!BR31:CC31)<>12,\"\",AVERAGE(特に買いたい・利用したい!BR31:CC31))","v":""},{"$f":"IF(COUNT(特に買いたい・利用したい!BS31:CD31)<>12,\"\",AVERAGE(特に買いたい・利用したい!BS31:CD31))","v":""},{"$f":"IF(COUNT(特に買いたい・利用したい!BT31:CE31)<>12,\"\",AVERAGE(特に買いたい・利用したい!BT31:CE31))","v":""},{"$f":"IF(COUNT(特に買いたい・利用したい!BU31:CF31)<>12,\"\",AVERAGE(特に買いたい・利用したい!BU31:CF31))","v":""},{"$f":"IF(COUNT(特に買いたい・利用したい!BV31:CG31)<>12,\"\",AVERAGE(特に買いたい・利用したい!BV31:CG31))","v":""},{"$f":"IF(COUNT(特に買いたい・利用したい!BW31:CH31)<>12,\"\",AVERAGE(特に買いたい・利用したい!BW31:CH31))","v":""},{"$f":"IF(COUNT(特に買いたい・利用したい!BX31:CI31)<>12,\"\",AVERAGE(特に買いたい・利用したい!BX31:CI31))","v":""},{"$f":"IF(COUNT(特に買いたい・利用したい!BY31:CJ31)<>12,\"\",AVERAGE(特に買いたい・利用したい!BY31:CJ31))","v":""},{"$f":"IF(COUNT(特に買いたい・利用したい!BZ31:CK31)<>12,\"\",AVERAGE(特に買いたい・利用したい!BZ31:CK31))","v":""},{"$f":"IF(COUNT(特に買いたい・利用したい!CA31:CL31)<>12,\"\",AVERAGE(特に買いたい・利用したい!CA31:CL31))","v":""},{"$f":"IF(COUNT(特に買いたい・利用したい!CB31:CM31)<>12,\"\",AVERAGE(特に買いたい・利用したい!CB31:CM31))","v":""},{"$f":"IF(COUNT(特に買いたい・利用したい!CC31:CN31)<>12,\"\",AVERAGE(特に買いたい・利用したい!CC31:CN31))","v":""},{"$f":"IF(COUNT(特に買いたい・利用したい!CD31:CO31)<>12,\"\",AVERAGE(特に買いたい・利用したい!CD31:CO31))","v":""},{"$f":"IF(COUNT(特に買いたい・利用したい!CE31:CP31)<>12,\"\",AVERAGE(特に買いたい・利用したい!CE31:CP31))","v":""},{"$f":"IF(COUNT(特に買いたい・利用したい!CF31:CQ31)<>12,\"\",AVERAGE(特に買いたい・利用したい!CF31:CQ31))","v":""},{"$f":"IF(COUNT(特に買いたい・利用したい!CG31:CR31)<>12,\"\",AVERAGE(特に買いたい・利用したい!CG31:CR31))","v":""},{"$f":"IF(COUNT(特に買いたい・利用したい!CH31:CS31)<>12,\"\",AVERAGE(特に買いたい・利用したい!CH31:CS31))","v":""},{"$f":"IF(COUNT(特に買いたい・利用したい!CI31:CT31)<>12,\"\",AVERAGE(特に買いたい・利用したい!CI31:CT31))","v":""},{"$f":"IF(COUNT(特に買いたい・利用したい!CJ31:CU31)<>12,\"\",AVERAGE(特に買いたい・利用したい!CJ31:CU31))","v":""},{"$f":"IF(COUNT(特に買いたい・利用したい!CK31:CV31)<>12,\"\",AVERAGE(特に買いたい・利用したい!CK31:CV31))","v":""},{"$f":"IF(COUNT(特に買いたい・利用したい!CL31:CW31)<>12,\"\",AVERAGE(特に買いたい・利用したい!CL31:CW31))","v":""},{"$f":"IF(COUNT(特に買いたい・利用したい!CM31:CX31)<>12,\"\",AVERAGE(特に買いたい・利用したい!CM31:CX31))","v":""},{"$f":"IF(COUNT(特に買いたい・利用したい!CN31:CY31)<>12,\"\",AVERAGE(特に買いたい・利用したい!CN31:CY31))","v":""},{"$f":"IF(COUNT(特に買いたい・利用したい!CO31:CZ31)<>12,\"\",AVERAGE(特に買いたい・利用したい!CO31:CZ31))","v":""},{"$f":"IF(COUNT(特に買いたい・利用したい!CP31:DA31)<>12,\"\",AVERAGE(特に買いたい・利用したい!CP31:DA31))","v":""},{"$f":"IF(COUNT(特に買いたい・利用したい!CQ31:DB31)<>12,\"\",AVERAGE(特に買いたい・利用したい!CQ31:DB31))","v":""},{"$f":"IF(COUNT(特に買いたい・利用したい!CR31:DC31)<>12,\"\",AVERAGE(特に買いたい・利用したい!CR31:DC31))","v":""},{"$f":"IF(COUNT(特に買いたい・利用したい!CS31:DD31)<>12,\"\",AVERAGE(特に買いたい・利用したい!CS31:DD31))","v":""},{"$f":"IF(COUNT(特に買いたい・利用したい!CT31:DE31)<>12,\"\",AVERAGE(特に買いたい・利用したい!CT31:DE31))","v":""},{"$f":"IF(COUNT(特に買いたい・利用したい!CU31:DF31)<>12,\"\",AVERAGE(特に買いたい・利用したい!CU31:DF31))","v":""},{"$f":"IF(COUNT(特に買いたい・利用したい!CV31:DG31)<>12,\"\",AVERAGE(特に買いたい・利用したい!CV31:DG31))","v":""}]
[null,null,"男性／名古屋40km圏",null,null,null,null,null,null,null,null,null,null,null,null,null,null,null,{"$f":"IF(COUNT(特に買いたい・利用したい!H32:S32)<>12,\"\",AVERAGE(特に買いたい・利用したい!H32:S32))","v":27.816666666666666},{"$f":"IF(COUNT(特に買いたい・利用したい!I32:T32)<>12,\"\",AVERAGE(特に買いたい・利用したい!I32:T32))","v":27.849999999999998},{"$f":"IF(COUNT(特に買いたい・利用したい!J32:U32)<>12,\"\",AVERAGE(特に買いたい・利用したい!J32:U32))","v":27.099999999999998},{"$f":"IF(COUNT(特に買いたい・利用したい!K32:V32)<>12,\"\",AVERAGE(特に買いたい・利用したい!K32:V32))","v":26.291666666666668},{"$f":"IF(COUNT(特に買いたい・利用したい!L32:W32)<>12,\"\",AVERAGE(特に買いたい・利用したい!L32:W32))","v":25.808333333333334},{"$f":"IF(COUNT(特に買いたい・利用したい!M32:X32)<>12,\"\",AVERAGE(特に買いたい・利用したい!M32:X32))","v":25.383333333333329},{"$f":"IF(COUNT(特に買いたい・利用したい!N32:Y32)<>12,\"\",AVERAGE(特に買いたい・利用したい!N32:Y32))","v":25.650000000000006},{"$f":"IF(COUNT(特に買いたい・利用したい!O32:Z32)<>12,\"\",AVERAGE(特に買いたい・利用したい!O32:Z32))","v":25.400000000000002},{"$f":"IF(COUNT(特に買いたい・利用したい!P32:AA32)<>12,\"\",AVERAGE(特に買いたい・利用したい!P32:AA32))","v":25.441666666666666},{"$f":"IF(COUNT(特に買いたい・利用したい!Q32:AB32)<>12,\"\",AVERAGE(特に買いたい・利用したい!Q32:AB32))","v":25.741666666666671},{"$f":"IF(COUNT(特に買いたい・利用したい!R32:AC32)<>12,\"\",AVERAGE(特に買いたい・利用したい!R32:AC32))","v":25.524999999999995},{"$f":"IF(COUNT(特に買いたい・利用したい!S32:AD32)<>12,\"\",AVERAGE(特に買いたい・利用したい!S32:AD32))","v":25.7},{"$f":"IF(COUNT(特に買いたい・利用したい!T32:AE32)<>12,\"\",AVERAGE(特に買いたい・利用したい!T32:AE32))","v":24.425000000000001},{"$f":"IF(COUNT(特に買いたい・利用したい!U32:AF32)<>12,\"\",AVERAGE(特に買いたい・利用したい!U32:AF32))","v":23.841666666666665},{"$f":"IF(COUNT(特に買いたい・利用したい!V32:AG32)<>12,\"\",AVERAGE(特に買いたい・利用したい!V32:AG32))","v":23.583333333333332},{"$f":"IF(COUNT(特に買いたい・利用したい!W32:AH32)<>12,\"\",AVERAGE(特に買いたい・利用したい!W32:AH32))","v":23.091666666666669},{"$f":"IF(COUNT(特に買いたい・利用したい!X32:AI32)<>12,\"\",AVERAGE(特に買いたい・利用したい!X32:AI32))","v":23.025000000000002},{"$f":"IF(COUNT(特に買いたい・利用したい!Y32:AJ32)<>12,\"\",AVERAGE(特に買いたい・利用したい!Y32:AJ32))","v":23.483333333333334},{"$f":"IF(COUNT(特に買いたい・利用したい!Z32:AK32)<>12,\"\",AVERAGE(特に買いたい・利用したい!Z32:AK32))","v":23.025000000000002},{"$f":"IF(COUNT(特に買いたい・利用したい!AA32:AL32)<>12,\"\",AVERAGE(特に買いたい・利用したい!AA32:AL32))","v":23.316666666666666},{"$f":"IF(COUNT(特に買いたい・利用したい!AB32:AM32)<>12,\"\",AVERAGE(特に買いたい・利用したい!AB32:AM32))","v":22.958333333333332},{"$f":"IF(COUNT(特に買いたい・利用したい!AC32:AN32)<>12,\"\",AVERAGE(特に買いたい・利用したい!AC32:AN32))","v":22.041666666666668},{"$f":"IF(COUNT(特に買いたい・利用したい!AD32:AO32)<>12,\"\",AVERAGE(特に買いたい・利用したい!AD32:AO32))","v":21.549999999999997},{"$f":"IF(COUNT(特に買いたい・利用したい!AE32:AP32)<>12,\"\",AVERAGE(特に買いたい・利用したい!AE32:AP32))","v":21.058333333333334},{"$f":"IF(COUNT(特に買いたい・利用したい!AF32:AQ32)<>12,\"\",AVERAGE(特に買いたい・利用したい!AF32:AQ32))","v":22.308333333333334},{"$f":"IF(COUNT(特に買いたい・利用したい!AG32:AR32)<>12,\"\",AVERAGE(特に買いたい・利用したい!AG32:AR32))","v":22.916666666666668},{"$f":"IF(COUNT(特に買いたい・利用したい!AH32:AS32)<>12,\"\",AVERAGE(特に買いたい・利用したい!AH32:AS32))","v":23.333333333333332},{"$f":"IF(COUNT(特に買いたい・利用したい!AI32:AT32)<>12,\"\",AVERAGE(特に買いたい・利用したい!AI32:AT32))","v":23.975000000000005},{"$f":"IF(COUNT(特に買いたい・利用したい!AJ32:AU32)<>12,\"\",AVERAGE(特に買いたい・利用したい!AJ32:AU32))","v":24.266666666666666},{"$f":"IF(COUNT(特に買いたい・利用したい!AK32:AV32)<>12,\"\",AVERAGE(特に買いたい・利用したい!AK32:AV32))","v":24.166666666666668},{"$f":"IF(COUNT(特に買いたい・利用したい!AL32:AW32)<>12,\"\",AVERAGE(特に買いたい・利用したい!AL32:AW32))","v":24.091666666666665},{"$f":"IF(COUNT(特に買いたい・利用したい!AM32:AX32)<>12,\"\",AVERAGE(特に買いたい・利用したい!AM32:AX32))","v":23.991666666666664},{"$f":"IF(COUNT(特に買いたい・利用したい!AN32:AY32)<>12,\"\",AVERAGE(特に買いたい・利用したい!AN32:AY32))","v":24.074999999999999},{"$f":"IF(COUNT(特に買いたい・利用したい!AO32:AZ32)<>12,\"\",AVERAGE(特に買いたい・利用したい!AO32:AZ32))","v":24.858333333333334},{"$f":"IF(COUNT(特に買いたい・利用したい!AP32:BA32)<>12,\"\",AVERAGE(特に買いたい・利用したい!AP32:BA32))","v":24.883333333333336},{"$f":"IF(COUNT(特に買いたい・利用したい!AQ32:BB32)<>12,\"\",AVERAGE(特に買いたい・利用したい!AQ32:BB32))","v":24.583333333333332},{"$f":"IF(COUNT(特に買いたい・利用したい!AR32:BC32)<>12,\"\",AVERAGE(特に買いたい・利用したい!AR32:BC32))","v":24.05},{"$f":"IF(COUNT(特に買いたい・利用したい!AS32:BD32)<>12,\"\",AVERAGE(特に買いたい・利用したい!AS32:BD32))","v":24.191666666666666},{"$f":"IF(COUNT(特に買いたい・利用したい!AT32:BE32)<>12,\"\",AVERAGE(特に買いたい・利用したい!AT32:BE32))","v":""},{"$f":"IF(COUNT(特に買いたい・利用したい!AU32:BF32)<>12,\"\",AVERAGE(特に買いたい・利用したい!AU32:BF32))","v":""},{"$f":"IF(COUNT(特に買いたい・利用したい!AV32:BG32)<>12,\"\",AVERAGE(特に買いたい・利用したい!AV32:BG32))","v":""},{"$f":"IF(COUNT(特に買いたい・利用したい!AW32:BH32)<>12,\"\",AVERAGE(特に買いたい・利用したい!AW32:BH32))","v":""},{"$f":"IF(COUNT(特に買いたい・利用したい!AX32:BI32)<>12,\"\",AVERAGE(特に買いたい・利用したい!AX32:BI32))","v":""},{"$f":"IF(COUNT(特に買いたい・利用したい!AY32:BJ32)<>12,\"\",AVERAGE(特に買いたい・利用したい!AY32:BJ32))","v":""},{"$f":"IF(COUNT(特に買いたい・利用したい!AZ32:BK32)<>12,\"\",AVERAGE(特に買いたい・利用したい!AZ32:BK32))","v":""},{"$f":"IF(COUNT(特に買いたい・利用したい!BA32:BL32)<>12,\"\",AVERAGE(特に買いたい・利用したい!BA32:BL32))","v":""},{"$f":"IF(COUNT(特に買いたい・利用したい!BB32:BM32)<>12,\"\",AVERAGE(特に買いたい・利用したい!BB32:BM32))","v":""},{"$f":"IF(COUNT(特に買いたい・利用したい!BC32:BN32)<>12,\"\",AVERAGE(特に買いたい・利用したい!BC32:BN32))","v":""},{"$f":"IF(COUNT(特に買いたい・利用したい!BD32:BO32)<>12,\"\",AVERAGE(特に買いたい・利用したい!BD32:BO32))","v":""},{"$f":"IF(COUNT(特に買いたい・利用したい!BE32:BP32)<>12,\"\",AVERAGE(特に買いたい・利用したい!BE32:BP32))","v":""},{"$f":"IF(COUNT(特に買いたい・利用したい!BF32:BQ32)<>12,\"\",AVERAGE(特に買いたい・利用したい!BF32:BQ32))","v":""},{"$f":"IF(COUNT(特に買いたい・利用したい!BG32:BR32)<>12,\"\",AVERAGE(特に買いたい・利用したい!BG32:BR32))","v":""},{"$f":"IF(COUNT(特に買いたい・利用したい!BH32:BS32)<>12,\"\",AVERAGE(特に買いたい・利用したい!BH32:BS32))","v":""},{"$f":"IF(COUNT(特に買いたい・利用したい!BI32:BT32)<>12,\"\",AVERAGE(特に買いたい・利用したい!BI32:BT32))","v":""},{"$f":"IF(COUNT(特に買いたい・利用したい!BJ32:BU32)<>12,\"\",AVERAGE(特に買いたい・利用したい!BJ32:BU32))","v":""},{"$f":"IF(COUNT(特に買いたい・利用したい!BK32:BV32)<>12,\"\",AVERAGE(特に買いたい・利用したい!BK32:BV32))","v":""},{"$f":"IF(COUNT(特に買いたい・利用したい!BL32:BW32)<>12,\"\",AVERAGE(特に買いたい・利用したい!BL32:BW32))","v":""},{"$f":"IF(COUNT(特に買いたい・利用したい!BM32:BX32)<>12,\"\",AVERAGE(特に買いたい・利用したい!BM32:BX32))","v":""},{"$f":"IF(COUNT(特に買いたい・利用したい!BN32:BY32)<>12,\"\",AVERAGE(特に買いたい・利用したい!BN32:BY32))","v":""},{"$f":"IF(COUNT(特に買いたい・利用したい!BO32:BZ32)<>12,\"\",AVERAGE(特に買いたい・利用したい!BO32:BZ32))","v":""},{"$f":"IF(COUNT(特に買いたい・利用したい!BP32:CA32)<>12,\"\",AVERAGE(特に買いたい・利用したい!BP32:CA32))","v":""},{"$f":"IF(COUNT(特に買いたい・利用したい!BQ32:CB32)<>12,\"\",AVERAGE(特に買いたい・利用したい!BQ32:CB32))","v":""},{"$f":"IF(COUNT(特に買いたい・利用したい!BR32:CC32)<>12,\"\",AVERAGE(特に買いたい・利用したい!BR32:CC32))","v":""},{"$f":"IF(COUNT(特に買いたい・利用したい!BS32:CD32)<>12,\"\",AVERAGE(特に買いたい・利用したい!BS32:CD32))","v":""},{"$f":"IF(COUNT(特に買いたい・利用したい!BT32:CE32)<>12,\"\",AVERAGE(特に買いたい・利用したい!BT32:CE32))","v":""},{"$f":"IF(COUNT(特に買いたい・利用したい!BU32:CF32)<>12,\"\",AVERAGE(特に買いたい・利用したい!BU32:CF32))","v":""},{"$f":"IF(COUNT(特に買いたい・利用したい!BV32:CG32)<>12,\"\",AVERAGE(特に買いたい・利用したい!BV32:CG32))","v":""},{"$f":"IF(COUNT(特に買いたい・利用したい!BW32:CH32)<>12,\"\",AVERAGE(特に買いたい・利用したい!BW32:CH32))","v":""},{"$f":"IF(COUNT(特に買いたい・利用したい!BX32:CI32)<>12,\"\",AVERAGE(特に買いたい・利用したい!BX32:CI32))","v":""},{"$f":"IF(COUNT(特に買いたい・利用したい!BY32:CJ32)<>12,\"\",AVERAGE(特に買いたい・利用したい!BY32:CJ32))","v":""},{"$f":"IF(COUNT(特に買いたい・利用したい!BZ32:CK32)<>12,\"\",AVERAGE(特に買いたい・利用したい!BZ32:CK32))","v":""},{"$f":"IF(COUNT(特に買いたい・利用したい!CA32:CL32)<>12,\"\",AVERAGE(特に買いたい・利用したい!CA32:CL32))","v":""},{"$f":"IF(COUNT(特に買いたい・利用したい!CB32:CM32)<>12,\"\",AVERAGE(特に買いたい・利用したい!CB32:CM32))","v":""},{"$f":"IF(COUNT(特に買いたい・利用したい!CC32:CN32)<>12,\"\",AVERAGE(特に買いたい・利用したい!CC32:CN32))","v":""},{"$f":"IF(COUNT(特に買いたい・利用したい!CD32:CO32)<>12,\"\",AVERAGE(特に買いたい・利用したい!CD32:CO32))","v":""},{"$f":"IF(COUNT(特に買いたい・利用したい!CE32:CP32)<>12,\"\",AVERAGE(特に買いたい・利用したい!CE32:CP32))","v":""},{"$f":"IF(COUNT(特に買いたい・利用したい!CF32:CQ32)<>12,\"\",AVERAGE(特に買いたい・利用したい!CF32:CQ32))","v":""},{"$f":"IF(COUNT(特に買いたい・利用したい!CG32:CR32)<>12,\"\",AVERAGE(特に買いたい・利用したい!CG32:CR32))","v":""},{"$f":"IF(COUNT(特に買いたい・利用したい!CH32:CS32)<>12,\"\",AVERAGE(特に買いたい・利用したい!CH32:CS32))","v":""},{"$f":"IF(COUNT(特に買いたい・利用したい!CI32:CT32)<>12,\"\",AVERAGE(特に買いたい・利用したい!CI32:CT32))","v":""},{"$f":"IF(COUNT(特に買いたい・利用したい!CJ32:CU32)<>12,\"\",AVERAGE(特に買いたい・利用したい!CJ32:CU32))","v":""},{"$f":"IF(COUNT(特に買いたい・利用したい!CK32:CV32)<>12,\"\",AVERAGE(特に買いたい・利用したい!CK32:CV32))","v":""},{"$f":"IF(COUNT(特に買いたい・利用したい!CL32:CW32)<>12,\"\",AVERAGE(特に買いたい・利用したい!CL32:CW32))","v":""},{"$f":"IF(COUNT(特に買いたい・利用したい!CM32:CX32)<>12,\"\",AVERAGE(特に買いたい・利用したい!CM32:CX32))","v":""},{"$f":"IF(COUNT(特に買いたい・利用したい!CN32:CY32)<>12,\"\",AVERAGE(特に買いたい・利用したい!CN32:CY32))","v":""},{"$f":"IF(COUNT(特に買いたい・利用したい!CO32:CZ32)<>12,\"\",AVERAGE(特に買いたい・利用したい!CO32:CZ32))","v":""},{"$f":"IF(COUNT(特に買いたい・利用したい!CP32:DA32)<>12,\"\",AVERAGE(特に買いたい・利用したい!CP32:DA32))","v":""},{"$f":"IF(COUNT(特に買いたい・利用したい!CQ32:DB32)<>12,\"\",AVERAGE(特に買いたい・利用したい!CQ32:DB32))","v":""},{"$f":"IF(COUNT(特に買いたい・利用したい!CR32:DC32)<>12,\"\",AVERAGE(特に買いたい・利用したい!CR32:DC32))","v":""},{"$f":"IF(COUNT(特に買いたい・利用したい!CS32:DD32)<>12,\"\",AVERAGE(特に買いたい・利用したい!CS32:DD32))","v":""},{"$f":"IF(COUNT(特に買いたい・利用したい!CT32:DE32)<>12,\"\",AVERAGE(特に買いたい・利用したい!CT32:DE32))","v":""},{"$f":"IF(COUNT(特に買いたい・利用したい!CU32:DF32)<>12,\"\",AVERAGE(特に買いたい・利用したい!CU32:DF32))","v":""},{"$f":"IF(COUNT(特に買いたい・利用したい!CV32:DG32)<>12,\"\",AVERAGE(特に買いたい・利用したい!CV32:DG32))","v":""}]
[null,null,"男性／阪神30km圏",null,null,null,null,null,null,null,null,null,null,null,null,null,null,null,{"$f":"IF(COUNT(特に買いたい・利用したい!H33:S33)<>12,\"\",AVERAGE(特に買いたい・利用したい!H33:S33))","v":30.541666666666668},{"$f":"IF(COUNT(特に買いたい・利用したい!I33:T33)<>12,\"\",AVERAGE(特に買いたい・利用したい!I33:T33))","v":29.999999999999996},{"$f":"IF(COUNT(特に買いたい・利用したい!J33:U33)<>12,\"\",AVERAGE(特に買いたい・利用したい!J33:U33))","v":30.099999999999994},{"$f":"IF(COUNT(特に買いたい・利用したい!K33:V33)<>12,\"\",AVERAGE(特に買いたい・利用したい!K33:V33))","v":29.25},{"$f":"IF(COUNT(特に買いたい・利用したい!L33:W33)<>12,\"\",AVERAGE(特に買いたい・利用したい!L33:W33))","v":29.05},{"$f":"IF(COUNT(特に買いたい・利用したい!M33:X33)<>12,\"\",AVERAGE(特に買いたい・利用したい!M33:X33))","v":28.641666666666669},{"$f":"IF(COUNT(特に買いたい・利用したい!N33:Y33)<>12,\"\",AVERAGE(特に買いたい・利用したい!N33:Y33))","v":28.375},{"$f":"IF(COUNT(特に買いたい・利用したい!O33:Z33)<>12,\"\",AVERAGE(特に買いたい・利用したい!O33:Z33))","v":27.691666666666666},{"$f":"IF(COUNT(特に買いたい・利用したい!P33:AA33)<>12,\"\",AVERAGE(特に買いたい・利用したい!P33:AA33))","v":26.875},{"$f":"IF(COUNT(特に買いたい・利用したい!Q33:AB33)<>12,\"\",AVERAGE(特に買いたい・利用したい!Q33:AB33))","v":26.799999999999997},{"$f":"IF(COUNT(特に買いたい・利用したい!R33:AC33)<>12,\"\",AVERAGE(特に買いたい・利用したい!R33:AC33))","v":26.633333333333329},{"$f":"IF(COUNT(特に買いたい・利用したい!S33:AD33)<>12,\"\",AVERAGE(特に買いたい・利用したい!S33:AD33))","v":26.258333333333329},{"$f":"IF(COUNT(特に買いたい・利用したい!T33:AE33)<>12,\"\",AVERAGE(特に買いたい・利用したい!T33:AE33))","v":24.766666666666666},{"$f":"IF(COUNT(特に買いたい・利用したい!U33:AF33)<>12,\"\",AVERAGE(特に買いたい・利用したい!U33:AF33))","v":24.224999999999998},{"$f":"IF(COUNT(特に買いたい・利用したい!V33:AG33)<>12,\"\",AVERAGE(特に買いたい・利用したい!V33:AG33))","v":23.691666666666666},{"$f":"IF(COUNT(特に買いたい・利用したい!W33:AH33)<>12,\"\",AVERAGE(特に買いたい・利用したい!W33:AH33))","v":23.324999999999999},{"$f":"IF(COUNT(特に買いたい・利用したい!X33:AI33)<>12,\"\",AVERAGE(特に買いたい・利用したい!X33:AI33))","v":23.3},{"$f":"IF(COUNT(特に買いたい・利用したい!Y33:AJ33)<>12,\"\",AVERAGE(特に買いたい・利用したい!Y33:AJ33))","v":23.716666666666665},{"$f":"IF(COUNT(特に買いたい・利用したい!Z33:AK33)<>12,\"\",AVERAGE(特に買いたい・利用したい!Z33:AK33))","v":23.45},{"$f":"IF(COUNT(特に買いたい・利用したい!AA33:AL33)<>12,\"\",AVERAGE(特に買いたい・利用したい!AA33:AL33))","v":23.766666666666666},{"$f":"IF(COUNT(特に買いたい・利用したい!AB33:AM33)<>12,\"\",AVERAGE(特に買いたい・利用したい!AB33:AM33))","v":24.391666666666666},{"$f":"IF(COUNT(特に買いたい・利用したい!AC33:AN33)<>12,\"\",AVERAGE(特に買いたい・利用したい!AC33:AN33))","v":23.791666666666668},{"$f":"IF(COUNT(特に買いたい・利用したい!AD33:AO33)<>12,\"\",AVERAGE(特に買いたい・利用したい!AD33:AO33))","v":24.341666666666669},{"$f":"IF(COUNT(特に買いたい・利用したい!AE33:AP33)<>12,\"\",AVERAGE(特に買いたい・利用したい!AE33:AP33))","v":24.216666666666669},{"$f":"IF(COUNT(特に買いたい・利用したい!AF33:AQ33)<>12,\"\",AVERAGE(特に買いたい・利用したい!AF33:AQ33))","v":25.683333333333337},{"$f":"IF(COUNT(特に買いたい・利用したい!AG33:AR33)<>12,\"\",AVERAGE(特に買いたい・利用したい!AG33:AR33))","v":26.191666666666666},{"$f":"IF(COUNT(特に買いたい・利用したい!AH33:AS33)<>12,\"\",AVERAGE(特に買いたい・利用したい!AH33:AS33))","v":26.900000000000002},{"$f":"IF(COUNT(特に買いたい・利用したい!AI33:AT33)<>12,\"\",AVERAGE(特に買いたい・利用したい!AI33:AT33))","v":27.400000000000002},{"$f":"IF(COUNT(特に買いたい・利用したい!AJ33:AU33)<>12,\"\",AVERAGE(特に買いたい・利用したい!AJ33:AU33))","v":27.666666666666668},{"$f":"IF(COUNT(特に買いたい・利用したい!AK33:AV33)<>12,\"\",AVERAGE(特に買いたい・利用したい!AK33:AV33))","v":27.458333333333332},{"$f":"IF(COUNT(特に買いたい・利用したい!AL33:AW33)<>12,\"\",AVERAGE(特に買いたい・利用したい!AL33:AW33))","v":27.583333333333332},{"$f":"IF(COUNT(特に買いたい・利用したい!AM33:AX33)<>12,\"\",AVERAGE(特に買いたい・利用したい!AM33:AX33))","v":27.575000000000003},{"$f":"IF(COUNT(特に買いたい・利用したい!AN33:AY33)<>12,\"\",AVERAGE(特に買いたい・利用したい!AN33:AY33))","v":27.258333333333336},{"$f":"IF(COUNT(特に買いたい・利用したい!AO33:AZ33)<>12,\"\",AVERAGE(特に買いたい・利用したい!AO33:AZ33))","v":27.183333333333337},{"$f":"IF(COUNT(特に買いたい・利用したい!AP33:BA33)<>12,\"\",AVERAGE(特に買いたい・利用したい!AP33:BA33))","v":26.458333333333339},{"$f":"IF(COUNT(特に買いたい・利用したい!AQ33:BB33)<>12,\"\",AVERAGE(特に買いたい・利用したい!AQ33:BB33))","v":26.074999999999999},{"$f":"IF(COUNT(特に買いたい・利用したい!AR33:BC33)<>12,\"\",AVERAGE(特に買いたい・利用したい!AR33:BC33))","v":26.133333333333329},{"$f":"IF(COUNT(特に買いたい・利用したい!AS33:BD33)<>12,\"\",AVERAGE(特に買いたい・利用したい!AS33:BD33))","v":26.333333333333332},{"$f":"IF(COUNT(特に買いたい・利用したい!AT33:BE33)<>12,\"\",AVERAGE(特に買いたい・利用したい!AT33:BE33))","v":""},{"$f":"IF(COUNT(特に買いたい・利用したい!AU33:BF33)<>12,\"\",AVERAGE(特に買いたい・利用したい!AU33:BF33))","v":""},{"$f":"IF(COUNT(特に買いたい・利用したい!AV33:BG33)<>12,\"\",AVERAGE(特に買いたい・利用したい!AV33:BG33))","v":""},{"$f":"IF(COUNT(特に買いたい・利用したい!AW33:BH33)<>12,\"\",AVERAGE(特に買いたい・利用したい!AW33:BH33))","v":""},{"$f":"IF(COUNT(特に買いたい・利用したい!AX33:BI33)<>12,\"\",AVERAGE(特に買いたい・利用したい!AX33:BI33))","v":""},{"$f":"IF(COUNT(特に買いたい・利用したい!AY33:BJ33)<>12,\"\",AVERAGE(特に買いたい・利用したい!AY33:BJ33))","v":""},{"$f":"IF(COUNT(特に買いたい・利用したい!AZ33:BK33)<>12,\"\",AVERAGE(特に買いたい・利用したい!AZ33:BK33))","v":""},{"$f":"IF(COUNT(特に買いたい・利用したい!BA33:BL33)<>12,\"\",AVERAGE(特に買いたい・利用したい!BA33:BL33))","v":""},{"$f":"IF(COUNT(特に買いたい・利用したい!BB33:BM33)<>12,\"\",AVERAGE(特に買いたい・利用したい!BB33:BM33))","v":""},{"$f":"IF(COUNT(特に買いたい・利用したい!BC33:BN33)<>12,\"\",AVERAGE(特に買いたい・利用したい!BC33:BN33))","v":""},{"$f":"IF(COUNT(特に買いたい・利用したい!BD33:BO33)<>12,\"\",AVERAGE(特に買いたい・利用したい!BD33:BO33))","v":""},{"$f":"IF(COUNT(特に買いたい・利用したい!BE33:BP33)<>12,\"\",AVERAGE(特に買いたい・利用したい!BE33:BP33))","v":""},{"$f":"IF(COUNT(特に買いたい・利用したい!BF33:BQ33)<>12,\"\",AVERAGE(特に買いたい・利用したい!BF33:BQ33))","v":""},{"$f":"IF(COUNT(特に買いたい・利用したい!BG33:BR33)<>12,\"\",AVERAGE(特に買いたい・利用したい!BG33:BR33))","v":""},{"$f":"IF(COUNT(特に買いたい・利用したい!BH33:BS33)<>12,\"\",AVERAGE(特に買いたい・利用したい!BH33:BS33))","v":""},{"$f":"IF(COUNT(特に買いたい・利用したい!BI33:BT33)<>12,\"\",AVERAGE(特に買いたい・利用したい!BI33:BT33))","v":""},{"$f":"IF(COUNT(特に買いたい・利用したい!BJ33:BU33)<>12,\"\",AVERAGE(特に買いたい・利用したい!BJ33:BU33))","v":""},{"$f":"IF(COUNT(特に買いたい・利用したい!BK33:BV33)<>12,\"\",AVERAGE(特に買いたい・利用したい!BK33:BV33))","v":""},{"$f":"IF(COUNT(特に買いたい・利用したい!BL33:BW33)<>12,\"\",AVERAGE(特に買いたい・利用したい!BL33:BW33))","v":""},{"$f":"IF(COUNT(特に買いたい・利用したい!BM33:BX33)<>12,\"\",AVERAGE(特に買いたい・利用したい!BM33:BX33))","v":""},{"$f":"IF(COUNT(特に買いたい・利用したい!BN33:BY33)<>12,\"\",AVERAGE(特に買いたい・利用したい!BN33:BY33))","v":""},{"$f":"IF(COUNT(特に買いたい・利用したい!BO33:BZ33)<>12,\"\",AVERAGE(特に買いたい・利用したい!BO33:BZ33))","v":""},{"$f":"IF(COUNT(特に買いたい・利用したい!BP33:CA33)<>12,\"\",AVERAGE(特に買いたい・利用したい!BP33:CA33))","v":""},{"$f":"IF(COUNT(特に買いたい・利用したい!BQ33:CB33)<>12,\"\",AVERAGE(特に買いたい・利用したい!BQ33:CB33))","v":""},{"$f":"IF(COUNT(特に買いたい・利用したい!BR33:CC33)<>12,\"\",AVERAGE(特に買いたい・利用したい!BR33:CC33))","v":""},{"$f":"IF(COUNT(特に買いたい・利用したい!BS33:CD33)<>12,\"\",AVERAGE(特に買いたい・利用したい!BS33:CD33))","v":""},{"$f":"IF(COUNT(特に買いたい・利用したい!BT33:CE33)<>12,\"\",AVERAGE(特に買いたい・利用したい!BT33:CE33))","v":""},{"$f":"IF(COUNT(特に買いたい・利用したい!BU33:CF33)<>12,\"\",AVERAGE(特に買いたい・利用したい!BU33:CF33))","v":""},{"$f":"IF(COUNT(特に買いたい・利用したい!BV33:CG33)<>12,\"\",AVERAGE(特に買いたい・利用したい!BV33:CG33))","v":""},{"$f":"IF(COUNT(特に買いたい・利用したい!BW33:CH33)<>12,\"\",AVERAGE(特に買いたい・利用したい!BW33:CH33))","v":""},{"$f":"IF(COUNT(特に買いたい・利用したい!BX33:CI33)<>12,\"\",AVERAGE(特に買いたい・利用したい!BX33:CI33))","v":""},{"$f":"IF(COUNT(特に買いたい・利用したい!BY33:CJ33)<>12,\"\",AVERAGE(特に買いたい・利用したい!BY33:CJ33))","v":""},{"$f":"IF(COUNT(特に買いたい・利用したい!BZ33:CK33)<>12,\"\",AVERAGE(特に買いたい・利用したい!BZ33:CK33))","v":""},{"$f":"IF(COUNT(特に買いたい・利用したい!CA33:CL33)<>12,\"\",AVERAGE(特に買いたい・利用したい!CA33:CL33))","v":""},{"$f":"IF(COUNT(特に買いたい・利用したい!CB33:CM33)<>12,\"\",AVERAGE(特に買いたい・利用したい!CB33:CM33))","v":""},{"$f":"IF(COUNT(特に買いたい・利用したい!CC33:CN33)<>12,\"\",AVERAGE(特に買いたい・利用したい!CC33:CN33))","v":""},{"$f":"IF(COUNT(特に買いたい・利用したい!CD33:CO33)<>12,\"\",AVERAGE(特に買いたい・利用したい!CD33:CO33))","v":""},{"$f":"IF(COUNT(特に買いたい・利用したい!CE33:CP33)<>12,\"\",AVERAGE(特に買いたい・利用したい!CE33:CP33))","v":""},{"$f":"IF(COUNT(特に買いたい・利用したい!CF33:CQ33)<>12,\"\",AVERAGE(特に買いたい・利用したい!CF33:CQ33))","v":""},{"$f":"IF(COUNT(特に買いたい・利用したい!CG33:CR33)<>12,\"\",AVERAGE(特に買いたい・利用したい!CG33:CR33))","v":""},{"$f":"IF(COUNT(特に買いたい・利用したい!CH33:CS33)<>12,\"\",AVERAGE(特に買いたい・利用したい!CH33:CS33))","v":""},{"$f":"IF(COUNT(特に買いたい・利用したい!CI33:CT33)<>12,\"\",AVERAGE(特に買いたい・利用したい!CI33:CT33))","v":""},{"$f":"IF(COUNT(特に買いたい・利用したい!CJ33:CU33)<>12,\"\",AVERAGE(特に買いたい・利用したい!CJ33:CU33))","v":""},{"$f":"IF(COUNT(特に買いたい・利用したい!CK33:CV33)<>12,\"\",AVERAGE(特に買いたい・利用したい!CK33:CV33))","v":""},{"$f":"IF(COUNT(特に買いたい・利用したい!CL33:CW33)<>12,\"\",AVERAGE(特に買いたい・利用したい!CL33:CW33))","v":""},{"$f":"IF(COUNT(特に買いたい・利用したい!CM33:CX33)<>12,\"\",AVERAGE(特に買いたい・利用したい!CM33:CX33))","v":""},{"$f":"IF(COUNT(特に買いたい・利用したい!CN33:CY33)<>12,\"\",AVERAGE(特に買いたい・利用したい!CN33:CY33))","v":""},{"$f":"IF(COUNT(特に買いたい・利用したい!CO33:CZ33)<>12,\"\",AVERAGE(特に買いたい・利用したい!CO33:CZ33))","v":""},{"$f":"IF(COUNT(特に買いたい・利用したい!CP33:DA33)<>12,\"\",AVERAGE(特に買いたい・利用したい!CP33:DA33))","v":""},{"$f":"IF(COUNT(特に買いたい・利用したい!CQ33:DB33)<>12,\"\",AVERAGE(特に買いたい・利用したい!CQ33:DB33))","v":""},{"$f":"IF(COUNT(特に買いたい・利用したい!CR33:DC33)<>12,\"\",AVERAGE(特に買いたい・利用したい!CR33:DC33))","v":""},{"$f":"IF(COUNT(特に買いたい・利用したい!CS33:DD33)<>12,\"\",AVERAGE(特に買いたい・利用したい!CS33:DD33))","v":""},{"$f":"IF(COUNT(特に買いたい・利用したい!CT33:DE33)<>12,\"\",AVERAGE(特に買いたい・利用したい!CT33:DE33))","v":""},{"$f":"IF(COUNT(特に買いたい・利用したい!CU33:DF33)<>12,\"\",AVERAGE(特に買いたい・利用したい!CU33:DF33))","v":""},{"$f":"IF(COUNT(特に買いたい・利用したい!CV33:DG33)<>12,\"\",AVERAGE(特に買いたい・利用したい!CV33:DG33))","v":""}]
[null,null,"女性／首都40km圏",null,null,null,null,null,null,null,null,null,null,null,null,null,null,null,{"$f":"IF(COUNT(特に買いたい・利用したい!H34:S34)<>12,\"\",AVERAGE(特に買いたい・利用したい!H34:S34))","v":36.758333333333333},{"$f":"IF(COUNT(特に買いたい・利用したい!I34:T34)<>12,\"\",AVERAGE(特に買いたい・利用したい!I34:T34))","v":35.858333333333334},{"$f":"IF(COUNT(特に買いたい・利用したい!J34:U34)<>12,\"\",AVERAGE(特に買いたい・利用したい!J34:U34))","v":35.125},{"$f":"IF(COUNT(特に買いたい・利用したい!K34:V34)<>12,\"\",AVERAGE(特に買いたい・利用したい!K34:V34))","v":34.050000000000004},{"$f":"IF(COUNT(特に買いたい・利用したい!L34:W34)<>12,\"\",AVERAGE(特に買いたい・利用したい!L34:W34))","v":33.93333333333333},{"$f":"IF(COUNT(特に買いたい・利用したい!M34:X34)<>12,\"\",AVERAGE(特に買いたい・利用したい!M34:X34))","v":33.241666666666667},{"$f":"IF(COUNT(特に買いたい・利用したい!N34:Y34)<>12,\"\",AVERAGE(特に買いたい・利用したい!N34:Y34))","v":33.133333333333333},{"$f":"IF(COUNT(特に買いたい・利用したい!O34:Z34)<>12,\"\",AVERAGE(特に買いたい・利用したい!O34:Z34))","v":32.674999999999997},{"$f":"IF(COUNT(特に買いたい・利用したい!P34:AA34)<>12,\"\",AVERAGE(特に買いたい・利用したい!P34:AA34))","v":32.283333333333331},{"$f":"IF(COUNT(特に買いたい・利用したい!Q34:AB34)<>12,\"\",AVERAGE(特に買いたい・利用したい!Q34:AB34))","v":31.350000000000009},{"$f":"IF(COUNT(特に買いたい・利用したい!R34:AC34)<>12,\"\",AVERAGE(特に買いたい・利用したい!R34:AC34))","v":31.616666666666674},{"$f":"IF(COUNT(特に買いたい・利用したい!S34:AD34)<>12,\"\",AVERAGE(特に買いたい・利用したい!S34:AD34))","v":32.941666666666663},{"$f":"IF(COUNT(特に買いたい・利用したい!T34:AE34)<>12,\"\",AVERAGE(特に買いたい・利用したい!T34:AE34))","v":31.799999999999997},{"$f":"IF(COUNT(特に買いたい・利用したい!U34:AF34)<>12,\"\",AVERAGE(特に買いたい・利用したい!U34:AF34))","v":31.191666666666663},{"$f":"IF(COUNT(特に買いたい・利用したい!V34:AG34)<>12,\"\",AVERAGE(特に買いたい・利用したい!V34:AG34))","v":31.124999999999996},{"$f":"IF(COUNT(特に買いたい・利用したい!W34:AH34)<>12,\"\",AVERAGE(特に買いたい・利用したい!W34:AH34))","v":31.466666666666665},{"$f":"IF(COUNT(特に買いたい・利用したい!X34:AI34)<>12,\"\",AVERAGE(特に買いたい・利用したい!X34:AI34))","v":30.891666666666662},{"$f":"IF(COUNT(特に買いたい・利用したい!Y34:AJ34)<>12,\"\",AVERAGE(特に買いたい・利用したい!Y34:AJ34))","v":31.233333333333331},{"$f":"IF(COUNT(特に買いたい・利用したい!Z34:AK34)<>12,\"\",AVERAGE(特に買いたい・利用したい!Z34:AK34))","v":30.408333333333335},{"$f":"IF(COUNT(特に買いたい・利用したい!AA34:AL34)<>12,\"\",AVERAGE(特に買いたい・利用したい!AA34:AL34))","v":29.691666666666666},{"$f":"IF(COUNT(特に買いたい・利用したい!AB34:AM34)<>12,\"\",AVERAGE(特に買いたい・利用したい!AB34:AM34))","v":30},{"$f":"IF(COUNT(特に買いたい・利用したい!AC34:AN34)<>12,\"\",AVERAGE(特に買いたい・利用したい!AC34:AN34))","v":29.691666666666674},{"$f":"IF(COUNT(特に買いたい・利用したい!AD34:AO34)<>12,\"\",AVERAGE(特に買いたい・利用したい!AD34:AO34))","v":29.216666666666669},{"$f":"IF(COUNT(特に買いたい・利用したい!AE34:AP34)<>12,\"\",AVERAGE(特に買いたい・利用したい!AE34:AP34))","v":27.641666666666669},{"$f":"IF(COUNT(特に買いたい・利用したい!AF34:AQ34)<>12,\"\",AVERAGE(特に買いたい・利用したい!AF34:AQ34))","v":28.741666666666671},{"$f":"IF(COUNT(特に買いたい・利用したい!AG34:AR34)<>12,\"\",AVERAGE(特に買いたい・利用したい!AG34:AR34))","v":29.25},{"$f":"IF(COUNT(特に買いたい・利用したい!AH34:AS34)<>12,\"\",AVERAGE(特に買いたい・利用したい!AH34:AS34))","v":29.008333333333336},{"$f":"IF(COUNT(特に買いたい・利用したい!AI34:AT34)<>12,\"\",AVERAGE(特に買いたい・利用したい!AI34:AT34))","v":29.041666666666661},{"$f":"IF(COUNT(特に買いたい・利用したい!AJ34:AU34)<>12,\"\",AVERAGE(特に買いたい・利用したい!AJ34:AU34))","v":29.041666666666668},{"$f":"IF(COUNT(特に買いたい・利用したい!AK34:AV34)<>12,\"\",AVERAGE(特に買いたい・利用したい!AK34:AV34))","v":29.416666666666668},{"$f":"IF(COUNT(特に買いたい・利用したい!AL34:AW34)<>12,\"\",AVERAGE(特に買いたい・利用したい!AL34:AW34))","v":30.099999999999998},{"$f":"IF(COUNT(特に買いたい・利用したい!AM34:AX34)<>12,\"\",AVERAGE(特に買いたい・利用したい!AM34:AX34))","v":31.058333333333334},{"$f":"IF(COUNT(特に買いたい・利用したい!AN34:AY34)<>12,\"\",AVERAGE(特に買いたい・利用したい!AN34:AY34))","v":31.091666666666669},{"$f":"IF(COUNT(特に買いたい・利用したい!AO34:AZ34)<>12,\"\",AVERAGE(特に買いたい・利用したい!AO34:AZ34))","v":31.808333333333334},{"$f":"IF(COUNT(特に買いたい・利用したい!AP34:BA34)<>12,\"\",AVERAGE(特に買いたい・利用したい!AP34:BA34))","v":32.31666666666667},{"$f":"IF(COUNT(特に買いたい・利用したい!AQ34:BB34)<>12,\"\",AVERAGE(特に買いたい・利用したい!AQ34:BB34))","v":32.041666666666664},{"$f":"IF(COUNT(特に買いたい・利用したい!AR34:BC34)<>12,\"\",AVERAGE(特に買いたい・利用したい!AR34:BC34))","v":31.558333333333334},{"$f":"IF(COUNT(特に買いたい・利用したい!AS34:BD34)<>12,\"\",AVERAGE(特に買いたい・利用したい!AS34:BD34))","v":32.241666666666667},{"$f":"IF(COUNT(特に買いたい・利用したい!AT34:BE34)<>12,\"\",AVERAGE(特に買いたい・利用したい!AT34:BE34))","v":""},{"$f":"IF(COUNT(特に買いたい・利用したい!AU34:BF34)<>12,\"\",AVERAGE(特に買いたい・利用したい!AU34:BF34))","v":""},{"$f":"IF(COUNT(特に買いたい・利用したい!AV34:BG34)<>12,\"\",AVERAGE(特に買いたい・利用したい!AV34:BG34))","v":""},{"$f":"IF(COUNT(特に買いたい・利用したい!AW34:BH34)<>12,\"\",AVERAGE(特に買いたい・利用したい!AW34:BH34))","v":""},{"$f":"IF(COUNT(特に買いたい・利用したい!AX34:BI34)<>12,\"\",AVERAGE(特に買いたい・利用したい!AX34:BI34))","v":""},{"$f":"IF(COUNT(特に買いたい・利用したい!AY34:BJ34)<>12,\"\",AVERAGE(特に買いたい・利用したい!AY34:BJ34))","v":""},{"$f":"IF(COUNT(特に買いたい・利用したい!AZ34:BK34)<>12,\"\",AVERAGE(特に買いたい・利用したい!AZ34:BK34))","v":""},{"$f":"IF(COUNT(特に買いたい・利用したい!BA34:BL34)<>12,\"\",AVERAGE(特に買いたい・利用したい!BA34:BL34))","v":""},{"$f":"IF(COUNT(特に買いたい・利用したい!BB34:BM34)<>12,\"\",AVERAGE(特に買いたい・利用したい!BB34:BM34))","v":""},{"$f":"IF(COUNT(特に買いたい・利用したい!BC34:BN34)<>12,\"\",AVERAGE(特に買いたい・利用したい!BC34:BN34))","v":""},{"$f":"IF(COUNT(特に買いたい・利用したい!BD34:BO34)<>12,\"\",AVERAGE(特に買いたい・利用したい!BD34:BO34))","v":""},{"$f":"IF(COUNT(特に買いたい・利用したい!BE34:BP34)<>12,\"\",AVERAGE(特に買いたい・利用したい!BE34:BP34))","v":""},{"$f":"IF(COUNT(特に買いたい・利用したい!BF34:BQ34)<>12,\"\",AVERAGE(特に買いたい・利用したい!BF34:BQ34))","v":""},{"$f":"IF(COUNT(特に買いたい・利用したい!BG34:BR34)<>12,\"\",AVERAGE(特に買いたい・利用したい!BG34:BR34))","v":""},{"$f":"IF(COUNT(特に買いたい・利用したい!BH34:BS34)<>12,\"\",AVERAGE(特に買いたい・利用したい!BH34:BS34))","v":""},{"$f":"IF(COUNT(特に買いたい・利用したい!BI34:BT34)<>12,\"\",AVERAGE(特に買いたい・利用したい!BI34:BT34))","v":""},{"$f":"IF(COUNT(特に買いたい・利用したい!BJ34:BU34)<>12,\"\",AVERAGE(特に買いたい・利用したい!BJ34:BU34))","v":""},{"$f":"IF(COUNT(特に買いたい・利用したい!BK34:BV34)<>12,\"\",AVERAGE(特に買いたい・利用したい!BK34:BV34))","v":""},{"$f":"IF(COUNT(特に買いたい・利用したい!BL34:BW34)<>12,\"\",AVERAGE(特に買いたい・利用したい!BL34:BW34))","v":""},{"$f":"IF(COUNT(特に買いたい・利用したい!BM34:BX34)<>12,\"\",AVERAGE(特に買いたい・利用したい!BM34:BX34))","v":""},{"$f":"IF(COUNT(特に買いたい・利用したい!BN34:BY34)<>12,\"\",AVERAGE(特に買いたい・利用したい!BN34:BY34))","v":""},{"$f":"IF(COUNT(特に買いたい・利用したい!BO34:BZ34)<>12,\"\",AVERAGE(特に買いたい・利用したい!BO34:BZ34))","v":""},{"$f":"IF(COUNT(特に買いたい・利用したい!BP34:CA34)<>12,\"\",AVERAGE(特に買いたい・利用したい!BP34:CA34))","v":""},{"$f":"IF(COUNT(特に買いたい・利用したい!BQ34:CB34)<>12,\"\",AVERAGE(特に買いたい・利用したい!BQ34:CB34))","v":""},{"$f":"IF(COUNT(特に買いたい・利用したい!BR34:CC34)<>12,\"\",AVERAGE(特に買いたい・利用したい!BR34:CC34))","v":""},{"$f":"IF(COUNT(特に買いたい・利用したい!BS34:CD34)<>12,\"\",AVERAGE(特に買いたい・利用したい!BS34:CD34))","v":""},{"$f":"IF(COUNT(特に買いたい・利用したい!BT34:CE34)<>12,\"\",AVERAGE(特に買いたい・利用したい!BT34:CE34))","v":""},{"$f":"IF(COUNT(特に買いたい・利用したい!BU34:CF34)<>12,\"\",AVERAGE(特に買いたい・利用したい!BU34:CF34))","v":""},{"$f":"IF(COUNT(特に買いたい・利用したい!BV34:CG34)<>12,\"\",AVERAGE(特に買いたい・利用したい!BV34:CG34))","v":""},{"$f":"IF(COUNT(特に買いたい・利用したい!BW34:CH34)<>12,\"\",AVERAGE(特に買いたい・利用したい!BW34:CH34))","v":""},{"$f":"IF(COUNT(特に買いたい・利用したい!BX34:CI34)<>12,\"\",AVERAGE(特に買いたい・利用したい!BX34:CI34))","v":""},{"$f":"IF(COUNT(特に買いたい・利用したい!BY34:CJ34)<>12,\"\",AVERAGE(特に買いたい・利用したい!BY34:CJ34))","v":""},{"$f":"IF(COUNT(特に買いたい・利用したい!BZ34:CK34)<>12,\"\",AVERAGE(特に買いたい・利用したい!BZ34:CK34))","v":""},{"$f":"IF(COUNT(特に買いたい・利用したい!CA34:CL34)<>12,\"\",AVERAGE(特に買いたい・利用したい!CA34:CL34))","v":""},{"$f":"IF(COUNT(特に買いたい・利用したい!CB34:CM34)<>12,\"\",AVERAGE(特に買いたい・利用したい!CB34:CM34))","v":""},{"$f":"IF(COUNT(特に買いたい・利用したい!CC34:CN34)<>12,\"\",AVERAGE(特に買いたい・利用したい!CC34:CN34))","v":""},{"$f":"IF(COUNT(特に買いたい・利用したい!CD34:CO34)<>12,\"\",AVERAGE(特に買いたい・利用したい!CD34:CO34))","v":""},{"$f":"IF(COUNT(特に買いたい・利用したい!CE34:CP34)<>12,\"\",AVERAGE(特に買いたい・利用したい!CE34:CP34))","v":""},{"$f":"IF(COUNT(特に買いたい・利用したい!CF34:CQ34)<>12,\"\",AVERAGE(特に買いたい・利用したい!CF34:CQ34))","v":""},{"$f":"IF(COUNT(特に買いたい・利用したい!CG34:CR34)<>12,\"\",AVERAGE(特に買いたい・利用したい!CG34:CR34))","v":""},{"$f":"IF(COUNT(特に買いたい・利用したい!CH34:CS34)<>12,\"\",AVERAGE(特に買いたい・利用したい!CH34:CS34))","v":""},{"$f":"IF(COUNT(特に買いたい・利用したい!CI34:CT34)<>12,\"\",AVERAGE(特に買いたい・利用したい!CI34:CT34))","v":""},{"$f":"IF(COUNT(特に買いたい・利用したい!CJ34:CU34)<>12,\"\",AVERAGE(特に買いたい・利用したい!CJ34:CU34))","v":""},{"$f":"IF(COUNT(特に買いたい・利用したい!CK34:CV34)<>12,\"\",AVERAGE(特に買いたい・利用したい!CK34:CV34))","v":""},{"$f":"IF(COUNT(特に買いたい・利用したい!CL34:CW34)<>12,\"\",AVERAGE(特に買いたい・利用したい!CL34:CW34))","v":""},{"$f":"IF(COUNT(特に買いたい・利用したい!CM34:CX34)<>12,\"\",AVERAGE(特に買いたい・利用したい!CM34:CX34))","v":""},{"$f":"IF(COUNT(特に買いたい・利用したい!CN34:CY34)<>12,\"\",AVERAGE(特に買いたい・利用したい!CN34:CY34))","v":""},{"$f":"IF(COUNT(特に買いたい・利用したい!CO34:CZ34)<>12,\"\",AVERAGE(特に買いたい・利用したい!CO34:CZ34))","v":""},{"$f":"IF(COUNT(特に買いたい・利用したい!CP34:DA34)<>12,\"\",AVERAGE(特に買いたい・利用したい!CP34:DA34))","v":""},{"$f":"IF(COUNT(特に買いたい・利用したい!CQ34:DB34)<>12,\"\",AVERAGE(特に買いたい・利用したい!CQ34:DB34))","v":""},{"$f":"IF(COUNT(特に買いたい・利用したい!CR34:DC34)<>12,\"\",AVERAGE(特に買いたい・利用したい!CR34:DC34))","v":""},{"$f":"IF(COUNT(特に買いたい・利用したい!CS34:DD34)<>12,\"\",AVERAGE(特に買いたい・利用したい!CS34:DD34))","v":""},{"$f":"IF(COUNT(特に買いたい・利用したい!CT34:DE34)<>12,\"\",AVERAGE(特に買いたい・利用したい!CT34:DE34))","v":""},{"$f":"IF(COUNT(特に買いたい・利用したい!CU34:DF34)<>12,\"\",AVERAGE(特に買いたい・利用したい!CU34:DF34))","v":""},{"$f":"IF(COUNT(特に買いたい・利用したい!CV34:DG34)<>12,\"\",AVERAGE(特に買いたい・利用したい!CV34:DG34))","v":""}]
[null,null,"女性／名古屋40km圏",null,null,null,null,null,null,null,null,null,null,null,null,null,null,null,{"$f":"IF(COUNT(特に買いたい・利用したい!H35:S35)<>12,\"\",AVERAGE(特に買いたい・利用したい!H35:S35))","v":32.708333333333329},{"$f":"IF(COUNT(特に買いたい・利用したい!I35:T35)<>12,\"\",AVERAGE(特に買いたい・利用したい!I35:T35))","v":31.783333333333328},{"$f":"IF(COUNT(特に買いたい・利用したい!J35:U35)<>12,\"\",AVERAGE(特に買いたい・利用したい!J35:U35))","v":32.216666666666661},{"$f":"IF(COUNT(特に買いたい・利用したい!K35:V35)<>12,\"\",AVERAGE(特に買いたい・利用したい!K35:V35))","v":31.391666666666666},{"$f":"IF(COUNT(特に買いたい・利用したい!L35:W35)<>12,\"\",AVERAGE(特に買いたい・利用したい!L35:W35))","v":31.583333333333332},{"$f":"IF(COUNT(特に買いたい・利用したい!M35:X35)<>12,\"\",AVERAGE(特に買いたい・利用したい!M35:X35))","v":31.375},{"$f":"IF(COUNT(特に買いたい・利用したい!N35:Y35)<>12,\"\",AVERAGE(特に買いたい・利用したい!N35:Y35))","v":30.991666666666671},{"$f":"IF(COUNT(特に買いたい・利用したい!O35:Z35)<>12,\"\",AVERAGE(特に買いたい・利用したい!O35:Z35))","v":31.008333333333336},{"$f":"IF(COUNT(特に買いたい・利用したい!P35:AA35)<>12,\"\",AVERAGE(特に買いたい・利用したい!P35:AA35))","v":30.958333333333332},{"$f":"IF(COUNT(特に買いたい・利用したい!Q35:AB35)<>12,\"\",AVERAGE(特に買いたい・利用したい!Q35:AB35))","v":30.441666666666663},{"$f":"IF(COUNT(特に買いたい・利用したい!R35:AC35)<>12,\"\",AVERAGE(特に買いたい・利用したい!R35:AC35))","v":30.641666666666662},{"$f":"IF(COUNT(特に買いたい・利用したい!S35:AD35)<>12,\"\",AVERAGE(特に買いたい・利用したい!S35:AD35))","v":30.799999999999997},{"$f":"IF(COUNT(特に買いたい・利用したい!T35:AE35)<>12,\"\",AVERAGE(特に買いたい・利用したい!T35:AE35))","v":29.433333333333334},{"$f":"IF(COUNT(特に買いたい・利用したい!U35:AF35)<>12,\"\",AVERAGE(特に買いたい・利用したい!U35:AF35))","v":28.824999999999999},{"$f":"IF(COUNT(特に買いたい・利用したい!V35:AG35)<>12,\"\",AVERAGE(特に買いたい・利用したい!V35:AG35))","v":27.808333333333334},{"$f":"IF(COUNT(特に買いたい・利用したい!W35:AH35)<>12,\"\",AVERAGE(特に買いたい・利用したい!W35:AH35))","v":27.775000000000002},{"$f":"IF(COUNT(特に買いたい・利用したい!X35:AI35)<>12,\"\",AVERAGE(特に買いたい・利用したい!X35:AI35))","v":27.166666666666671},{"$f":"IF(COUNT(特に買いたい・利用したい!Y35:AJ35)<>12,\"\",AVERAGE(特に買いたい・利用したい!Y35:AJ35))","v":27.708333333333329},{"$f":"IF(COUNT(特に買いたい・利用したい!Z35:AK35)<>12,\"\",AVERAGE(特に買いたい・利用したい!Z35:AK35))","v":27.916666666666661},{"$f":"IF(COUNT(特に買いたい・利用したい!AA35:AL35)<>12,\"\",AVERAGE(特に買いたい・利用したい!AA35:AL35))","v":27.583333333333332},{"$f":"IF(COUNT(特に買いたい・利用したい!AB35:AM35)<>12,\"\",AVERAGE(特に買いたい・利用したい!AB35:AM35))","v":28.025000000000002},{"$f":"IF(COUNT(特に買いたい・利用したい!AC35:AN35)<>12,\"\",AVERAGE(特に買いたい・利用したい!AC35:AN35))","v":27.850000000000005},{"$f":"IF(COUNT(特に買いたい・利用したい!AD35:AO35)<>12,\"\",AVERAGE(特に買いたい・利用したい!AD35:AO35))","v":27.341666666666672},{"$f":"IF(COUNT(特に買いたい・利用したい!AE35:AP35)<>12,\"\",AVERAGE(特に買いたい・利用したい!AE35:AP35))","v":26.733333333333338},{"$f":"IF(COUNT(特に買いたい・利用したい!AF35:AQ35)<>12,\"\",AVERAGE(特に買いたい・利用したい!AF35:AQ35))","v":27.716666666666669},{"$f":"IF(COUNT(特に買いたい・利用したい!AG35:AR35)<>12,\"\",AVERAGE(特に買いたい・利用したい!AG35:AR35))","v":28.566666666666666},{"$f":"IF(COUNT(特に買いたい・利用したい!AH35:AS35)<>12,\"\",AVERAGE(特に買いたい・利用したい!AH35:AS35))","v":28.883333333333329},{"$f":"IF(COUNT(特に買いたい・利用したい!AI35:AT35)<>12,\"\",AVERAGE(特に買いたい・利用したい!AI35:AT35))","v":28.791666666666661},{"$f":"IF(COUNT(特に買いたい・利用したい!AJ35:AU35)<>12,\"\",AVERAGE(特に買いたい・利用したい!AJ35:AU35))","v":28.866666666666664},{"$f":"IF(COUNT(特に買いたい・利用したい!AK35:AV35)<>12,\"\",AVERAGE(特に買いたい・利用したい!AK35:AV35))","v":28.708333333333332},{"$f":"IF(COUNT(特に買いたい・利用したい!AL35:AW35)<>12,\"\",AVERAGE(特に買いたい・利用したい!AL35:AW35))","v":28.541666666666668},{"$f":"IF(COUNT(特に買いたい・利用したい!AM35:AX35)<>12,\"\",AVERAGE(特に買いたい・利用したい!AM35:AX35))","v":28.583333333333332},{"$f":"IF(COUNT(特に買いたい・利用したい!AN35:AY35)<>12,\"\",AVERAGE(特に買いたい・利用したい!AN35:AY35))","v":28.666666666666668},{"$f":"IF(COUNT(特に買いたい・利用したい!AO35:AZ35)<>12,\"\",AVERAGE(特に買いたい・利用したい!AO35:AZ35))","v":29.091666666666669},{"$f":"IF(COUNT(特に買いたい・利用したい!AP35:BA35)<>12,\"\",AVERAGE(特に買いたい・利用したい!AP35:BA35))","v":29.3},{"$f":"IF(COUNT(特に買いたい・利用したい!AQ35:BB35)<>12,\"\",AVERAGE(特に買いたい・利用したい!AQ35:BB35))","v":28.933333333333337},{"$f":"IF(COUNT(特に買いたい・利用したい!AR35:BC35)<>12,\"\",AVERAGE(特に買いたい・利用したい!AR35:BC35))","v":28.500000000000004},{"$f":"IF(COUNT(特に買いたい・利用したい!AS35:BD35)<>12,\"\",AVERAGE(特に買いたい・利用したい!AS35:BD35))","v":28.391666666666676},{"$f":"IF(COUNT(特に買いたい・利用したい!AT35:BE35)<>12,\"\",AVERAGE(特に買いたい・利用したい!AT35:BE35))","v":""},{"$f":"IF(COUNT(特に買いたい・利用したい!AU35:BF35)<>12,\"\",AVERAGE(特に買いたい・利用したい!AU35:BF35))","v":""},{"$f":"IF(COUNT(特に買いたい・利用したい!AV35:BG35)<>12,\"\",AVERAGE(特に買いたい・利用したい!AV35:BG35))","v":""},{"$f":"IF(COUNT(特に買いたい・利用したい!AW35:BH35)<>12,\"\",AVERAGE(特に買いたい・利用したい!AW35:BH35))","v":""},{"$f":"IF(COUNT(特に買いたい・利用したい!AX35:BI35)<>12,\"\",AVERAGE(特に買いたい・利用したい!AX35:BI35))","v":""},{"$f":"IF(COUNT(特に買いたい・利用したい!AY35:BJ35)<>12,\"\",AVERAGE(特に買いたい・利用したい!AY35:BJ35))","v":""},{"$f":"IF(COUNT(特に買いたい・利用したい!AZ35:BK35)<>12,\"\",AVERAGE(特に買いたい・利用したい!AZ35:BK35))","v":""},{"$f":"IF(COUNT(特に買いたい・利用したい!BA35:BL35)<>12,\"\",AVERAGE(特に買いたい・利用したい!BA35:BL35))","v":""},{"$f":"IF(COUNT(特に買いたい・利用したい!BB35:BM35)<>12,\"\",AVERAGE(特に買いたい・利用したい!BB35:BM35))","v":""},{"$f":"IF(COUNT(特に買いたい・利用したい!BC35:BN35)<>12,\"\",AVERAGE(特に買いたい・利用したい!BC35:BN35))","v":""},{"$f":"IF(COUNT(特に買いたい・利用したい!BD35:BO35)<>12,\"\",AVERAGE(特に買いたい・利用したい!BD35:BO35))","v":""},{"$f":"IF(COUNT(特に買いたい・利用したい!BE35:BP35)<>12,\"\",AVERAGE(特に買いたい・利用したい!BE35:BP35))","v":""},{"$f":"IF(COUNT(特に買いたい・利用したい!BF35:BQ35)<>12,\"\",AVERAGE(特に買いたい・利用したい!BF35:BQ35))","v":""},{"$f":"IF(COUNT(特に買いたい・利用したい!BG35:BR35)<>12,\"\",AVERAGE(特に買いたい・利用したい!BG35:BR35))","v":""},{"$f":"IF(COUNT(特に買いたい・利用したい!BH35:BS35)<>12,\"\",AVERAGE(特に買いたい・利用したい!BH35:BS35))","v":""},{"$f":"IF(COUNT(特に買いたい・利用したい!BI35:BT35)<>12,\"\",AVERAGE(特に買いたい・利用したい!BI35:BT35))","v":""},{"$f":"IF(COUNT(特に買いたい・利用したい!BJ35:BU35)<>12,\"\",AVERAGE(特に買いたい・利用したい!BJ35:BU35))","v":""},{"$f":"IF(COUNT(特に買いたい・利用したい!BK35:BV35)<>12,\"\",AVERAGE(特に買いたい・利用したい!BK35:BV35))","v":""},{"$f":"IF(COUNT(特に買いたい・利用したい!BL35:BW35)<>12,\"\",AVERAGE(特に買いたい・利用したい!BL35:BW35))","v":""},{"$f":"IF(COUNT(特に買いたい・利用したい!BM35:BX35)<>12,\"\",AVERAGE(特に買いたい・利用したい!BM35:BX35))","v":""},{"$f":"IF(COUNT(特に買いたい・利用したい!BN35:BY35)<>12,\"\",AVERAGE(特に買いたい・利用したい!BN35:BY35))","v":""},{"$f":"IF(COUNT(特に買いたい・利用したい!BO35:BZ35)<>12,\"\",AVERAGE(特に買いたい・利用したい!BO35:BZ35))","v":""},{"$f":"IF(COUNT(特に買いたい・利用したい!BP35:CA35)<>12,\"\",AVERAGE(特に買いたい・利用したい!BP35:CA35))","v":""},{"$f":"IF(COUNT(特に買いたい・利用したい!BQ35:CB35)<>12,\"\",AVERAGE(特に買いたい・利用したい!BQ35:CB35))","v":""},{"$f":"IF(COUNT(特に買いたい・利用したい!BR35:CC35)<>12,\"\",AVERAGE(特に買いたい・利用したい!BR35:CC35))","v":""},{"$f":"IF(COUNT(特に買いたい・利用したい!BS35:CD35)<>12,\"\",AVERAGE(特に買いたい・利用したい!BS35:CD35))","v":""},{"$f":"IF(COUNT(特に買いたい・利用したい!BT35:CE35)<>12,\"\",AVERAGE(特に買いたい・利用したい!BT35:CE35))","v":""},{"$f":"IF(COUNT(特に買いたい・利用したい!BU35:CF35)<>12,\"\",AVERAGE(特に買いたい・利用したい!BU35:CF35))","v":""},{"$f":"IF(COUNT(特に買いたい・利用したい!BV35:CG35)<>12,\"\",AVERAGE(特に買いたい・利用したい!BV35:CG35))","v":""},{"$f":"IF(COUNT(特に買いたい・利用したい!BW35:CH35)<>12,\"\",AVERAGE(特に買いたい・利用したい!BW35:CH35))","v":""},{"$f":"IF(COUNT(特に買いたい・利用したい!BX35:CI35)<>12,\"\",AVERAGE(特に買いたい・利用したい!BX35:CI35))","v":""},{"$f":"IF(COUNT(特に買いたい・利用したい!BY35:CJ35)<>12,\"\",AVERAGE(特に買いたい・利用したい!BY35:CJ35))","v":""},{"$f":"IF(COUNT(特に買いたい・利用したい!BZ35:CK35)<>12,\"\",AVERAGE(特に買いたい・利用したい!BZ35:CK35))","v":""},{"$f":"IF(COUNT(特に買いたい・利用したい!CA35:CL35)<>12,\"\",AVERAGE(特に買いたい・利用したい!CA35:CL35))","v":""},{"$f":"IF(COUNT(特に買いたい・利用したい!CB35:CM35)<>12,\"\",AVERAGE(特に買いたい・利用したい!CB35:CM35))","v":""},{"$f":"IF(COUNT(特に買いたい・利用したい!CC35:CN35)<>12,\"\",AVERAGE(特に買いたい・利用したい!CC35:CN35))","v":""},{"$f":"IF(COUNT(特に買いたい・利用したい!CD35:CO35)<>12,\"\",AVERAGE(特に買いたい・利用したい!CD35:CO35))","v":""},{"$f":"IF(COUNT(特に買いたい・利用したい!CE35:CP35)<>12,\"\",AVERAGE(特に買いたい・利用したい!CE35:CP35))","v":""},{"$f":"IF(COUNT(特に買いたい・利用したい!CF35:CQ35)<>12,\"\",AVERAGE(特に買いたい・利用したい!CF35:CQ35))","v":""},{"$f":"IF(COUNT(特に買いたい・利用したい!CG35:CR35)<>12,\"\",AVERAGE(特に買いたい・利用したい!CG35:CR35))","v":""},{"$f":"IF(COUNT(特に買いたい・利用したい!CH35:CS35)<>12,\"\",AVERAGE(特に買いたい・利用したい!CH35:CS35))","v":""},{"$f":"IF(COUNT(特に買いたい・利用したい!CI35:CT35)<>12,\"\",AVERAGE(特に買いたい・利用したい!CI35:CT35))","v":""},{"$f":"IF(COUNT(特に買いたい・利用したい!CJ35:CU35)<>12,\"\",AVERAGE(特に買いたい・利用したい!CJ35:CU35))","v":""},{"$f":"IF(COUNT(特に買いたい・利用したい!CK35:CV35)<>12,\"\",AVERAGE(特に買いたい・利用したい!CK35:CV35))","v":""},{"$f":"IF(COUNT(特に買いたい・利用したい!CL35:CW35)<>12,\"\",AVERAGE(特に買いたい・利用したい!CL35:CW35))","v":""},{"$f":"IF(COUNT(特に買いたい・利用したい!CM35:CX35)<>12,\"\",AVERAGE(特に買いたい・利用したい!CM35:CX35))","v":""},{"$f":"IF(COUNT(特に買いたい・利用したい!CN35:CY35)<>12,\"\",AVERAGE(特に買いたい・利用したい!CN35:CY35))","v":""},{"$f":"IF(COUNT(特に買いたい・利用したい!CO35:CZ35)<>12,\"\",AVERAGE(特に買いたい・利用したい!CO35:CZ35))","v":""},{"$f":"IF(COUNT(特に買いたい・利用したい!CP35:DA35)<>12,\"\",AVERAGE(特に買いたい・利用したい!CP35:DA35))","v":""},{"$f":"IF(COUNT(特に買いたい・利用したい!CQ35:DB35)<>12,\"\",AVERAGE(特に買いたい・利用したい!CQ35:DB35))","v":""},{"$f":"IF(COUNT(特に買いたい・利用したい!CR35:DC35)<>12,\"\",AVERAGE(特に買いたい・利用したい!CR35:DC35))","v":""},{"$f":"IF(COUNT(特に買いたい・利用したい!CS35:DD35)<>12,\"\",AVERAGE(特に買いたい・利用したい!CS35:DD35))","v":""},{"$f":"IF(COUNT(特に買いたい・利用したい!CT35:DE35)<>12,\"\",AVERAGE(特に買いたい・利用したい!CT35:DE35))","v":""},{"$f":"IF(COUNT(特に買いたい・利用したい!CU35:DF35)<>12,\"\",AVERAGE(特に買いたい・利用したい!CU35:DF35))","v":""},{"$f":"IF(COUNT(特に買いたい・利用したい!CV35:DG35)<>12,\"\",AVERAGE(特に買いたい・利用したい!CV35:DG35))","v":""}]
[null,null,"女性／阪神30km圏",null,null,null,null,null,null,null,null,null,null,null,null,null,null,null,{"$f":"IF(COUNT(特に買いたい・利用したい!H36:S36)<>12,\"\",AVERAGE(特に買いたい・利用したい!H36:S36))","v":35.300000000000004},{"$f":"IF(COUNT(特に買いたい・利用したい!I36:T36)<>12,\"\",AVERAGE(特に買いたい・利用したい!I36:T36))","v":34.750000000000007},{"$f":"IF(COUNT(特に買いたい・利用したい!J36:U36)<>12,\"\",AVERAGE(特に買いたい・利用したい!J36:U36))","v":34.516666666666673},{"$f":"IF(COUNT(特に買いたい・利用したい!K36:V36)<>12,\"\",AVERAGE(特に買いたい・利用したい!K36:V36))","v":34.291666666666664},{"$f":"IF(COUNT(特に買いたい・利用したい!L36:W36)<>12,\"\",AVERAGE(特に買いたい・利用したい!L36:W36))","v":34.416666666666671},{"$f":"IF(COUNT(特に買いたい・利用したい!M36:X36)<>12,\"\",AVERAGE(特に買いたい・利用したい!M36:X36))","v":33.766666666666673},{"$f":"IF(COUNT(特に買いたい・利用したい!N36:Y36)<>12,\"\",AVERAGE(特に買いたい・利用したい!N36:Y36))","v":33.30833333333333},{"$f":"IF(COUNT(特に買いたい・利用したい!O36:Z36)<>12,\"\",AVERAGE(特に買いたい・利用したい!O36:Z36))","v":32.591666666666661},{"$f":"IF(COUNT(特に買いたい・利用したい!P36:AA36)<>12,\"\",AVERAGE(特に買いたい・利用したい!P36:AA36))","v":32.458333333333336},{"$f":"IF(COUNT(特に買いたい・利用したい!Q36:AB36)<>12,\"\",AVERAGE(特に買いたい・利用したい!Q36:AB36))","v":31.316666666666666},{"$f":"IF(COUNT(特に買いたい・利用したい!R36:AC36)<>12,\"\",AVERAGE(特に買いたい・利用したい!R36:AC36))","v":31.841666666666665},{"$f":"IF(COUNT(特に買いたい・利用したい!S36:AD36)<>12,\"\",AVERAGE(特に買いたい・利用したい!S36:AD36))","v":32.458333333333329},{"$f":"IF(COUNT(特に買いたい・利用したい!T36:AE36)<>12,\"\",AVERAGE(特に買いたい・利用したい!T36:AE36))","v":30.891666666666666},{"$f":"IF(COUNT(特に買いたい・利用したい!U36:AF36)<>12,\"\",AVERAGE(特に買いたい・利用したい!U36:AF36))","v":29.608333333333334},{"$f":"IF(COUNT(特に買いたい・利用したい!V36:AG36)<>12,\"\",AVERAGE(特に買いたい・利用したい!V36:AG36))","v":28.850000000000005},{"$f":"IF(COUNT(特に買いたい・利用したい!W36:AH36)<>12,\"\",AVERAGE(特に買いたい・利用したい!W36:AH36))","v":28.741666666666671},{"$f":"IF(COUNT(特に買いたい・利用したい!X36:AI36)<>12,\"\",AVERAGE(特に買いたい・利用したい!X36:AI36))","v":29.091666666666669},{"$f":"IF(COUNT(特に買いたい・利用したい!Y36:AJ36)<>12,\"\",AVERAGE(特に買いたい・利用したい!Y36:AJ36))","v":29.475000000000005},{"$f":"IF(COUNT(特に買いたい・利用したい!Z36:AK36)<>12,\"\",AVERAGE(特に買いたい・利用したい!Z36:AK36))","v":29.233333333333334},{"$f":"IF(COUNT(特に買いたい・利用したい!AA36:AL36)<>12,\"\",AVERAGE(特に買いたい・利用したい!AA36:AL36))","v":29.091666666666665},{"$f":"IF(COUNT(特に買いたい・利用したい!AB36:AM36)<>12,\"\",AVERAGE(特に買いたい・利用したい!AB36:AM36))","v":29.566666666666663},{"$f":"IF(COUNT(特に買いたい・利用したい!AC36:AN36)<>12,\"\",AVERAGE(特に買いたい・利用したい!AC36:AN36))","v":29.583333333333332},{"$f":"IF(COUNT(特に買いたい・利用したい!AD36:AO36)<>12,\"\",AVERAGE(特に買いたい・利用したい!AD36:AO36))","v":29.283333333333335},{"$f":"IF(COUNT(特に買いたい・利用したい!AE36:AP36)<>12,\"\",AVERAGE(特に買いたい・利用したい!AE36:AP36))","v":28.033333333333331},{"$f":"IF(COUNT(特に買いたい・利用したい!AF36:AQ36)<>12,\"\",AVERAGE(特に買いたい・利用したい!AF36:AQ36))","v":29.658333333333331},{"$f":"IF(COUNT(特に買いたい・利用したい!AG36:AR36)<>12,\"\",AVERAGE(特に買いたい・利用したい!AG36:AR36))","v":30.708333333333332},{"$f":"IF(COUNT(特に買いたい・利用したい!AH36:AS36)<>12,\"\",AVERAGE(特に買いたい・利用したい!AH36:AS36))","v":31.141666666666662},{"$f":"IF(COUNT(特に買いたい・利用したい!AI36:AT36)<>12,\"\",AVERAGE(特に買いたい・利用したい!AI36:AT36))","v":31.283333333333328},{"$f":"IF(COUNT(特に買いたい・利用したい!AJ36:AU36)<>12,\"\",AVERAGE(特に買いたい・利用したい!AJ36:AU36))","v":31.2},{"$f":"IF(COUNT(特に買いたい・利用したい!AK36:AV36)<>12,\"\",AVERAGE(特に買いたい・利用したい!AK36:AV36))","v":31.241666666666664},{"$f":"IF(COUNT(特に買いたい・利用したい!AL36:AW36)<>12,\"\",AVERAGE(特に買いたい・利用したい!AL36:AW36))","v":31.383333333333336},{"$f":"IF(COUNT(特に買いたい・利用したい!AM36:AX36)<>12,\"\",AVERAGE(特に買いたい・利用したい!AM36:AX36))","v":31.291666666666671},{"$f":"IF(COUNT(特に買いたい・利用したい!AN36:AY36)<>12,\"\",AVERAGE(特に買いたい・利用したい!AN36:AY36))","v":31.475000000000005},{"$f":"IF(COUNT(特に買いたい・利用したい!AO36:AZ36)<>12,\"\",AVERAGE(特に買いたい・利用したい!AO36:AZ36))","v":31.816666666666674},{"$f":"IF(COUNT(特に買いたい・利用したい!AP36:BA36)<>12,\"\",AVERAGE(特に買いたい・利用したい!AP36:BA36))","v":31.625},{"$f":"IF(COUNT(特に買いたい・利用したい!AQ36:BB36)<>12,\"\",AVERAGE(特に買いたい・利用したい!AQ36:BB36))","v":31.441666666666666},{"$f":"IF(COUNT(特に買いたい・利用したい!AR36:BC36)<>12,\"\",AVERAGE(特に買いたい・利用したい!AR36:BC36))","v":31.091666666666669},{"$f":"IF(COUNT(特に買いたい・利用したい!AS36:BD36)<>12,\"\",AVERAGE(特に買いたい・利用したい!AS36:BD36))","v":30.900000000000002},{"$f":"IF(COUNT(特に買いたい・利用したい!AT36:BE36)<>12,\"\",AVERAGE(特に買いたい・利用したい!AT36:BE36))","v":""},{"$f":"IF(COUNT(特に買いたい・利用したい!AU36:BF36)<>12,\"\",AVERAGE(特に買いたい・利用したい!AU36:BF36))","v":""},{"$f":"IF(COUNT(特に買いたい・利用したい!AV36:BG36)<>12,\"\",AVERAGE(特に買いたい・利用したい!AV36:BG36))","v":""},{"$f":"IF(COUNT(特に買いたい・利用したい!AW36:BH36)<>12,\"\",AVERAGE(特に買いたい・利用したい!AW36:BH36))","v":""},{"$f":"IF(COUNT(特に買いたい・利用したい!AX36:BI36)<>12,\"\",AVERAGE(特に買いたい・利用したい!AX36:BI36))","v":""},{"$f":"IF(COUNT(特に買いたい・利用したい!AY36:BJ36)<>12,\"\",AVERAGE(特に買いたい・利用したい!AY36:BJ36))","v":""},{"$f":"IF(COUNT(特に買いたい・利用したい!AZ36:BK36)<>12,\"\",AVERAGE(特に買いたい・利用したい!AZ36:BK36))","v":""},{"$f":"IF(COUNT(特に買いたい・利用したい!BA36:BL36)<>12,\"\",AVERAGE(特に買いたい・利用したい!BA36:BL36))","v":""},{"$f":"IF(COUNT(特に買いたい・利用したい!BB36:BM36)<>12,\"\",AVERAGE(特に買いたい・利用したい!BB36:BM36))","v":""},{"$f":"IF(COUNT(特に買いたい・利用したい!BC36:BN36)<>12,\"\",AVERAGE(特に買いたい・利用したい!BC36:BN36))","v":""},{"$f":"IF(COUNT(特に買いたい・利用したい!BD36:BO36)<>12,\"\",AVERAGE(特に買いたい・利用したい!BD36:BO36))","v":""},{"$f":"IF(COUNT(特に買いたい・利用したい!BE36:BP36)<>12,\"\",AVERAGE(特に買いたい・利用したい!BE36:BP36))","v":""},{"$f":"IF(COUNT(特に買いたい・利用したい!BF36:BQ36)<>12,\"\",AVERAGE(特に買いたい・利用したい!BF36:BQ36))","v":""},{"$f":"IF(COUNT(特に買いたい・利用したい!BG36:BR36)<>12,\"\",AVERAGE(特に買いたい・利用したい!BG36:BR36))","v":""},{"$f":"IF(COUNT(特に買いたい・利用したい!BH36:BS36)<>12,\"\",AVERAGE(特に買いたい・利用したい!BH36:BS36))","v":""},{"$f":"IF(COUNT(特に買いたい・利用したい!BI36:BT36)<>12,\"\",AVERAGE(特に買いたい・利用したい!BI36:BT36))","v":""},{"$f":"IF(COUNT(特に買いたい・利用したい!BJ36:BU36)<>12,\"\",AVERAGE(特に買いたい・利用したい!BJ36:BU36))","v":""},{"$f":"IF(COUNT(特に買いたい・利用したい!BK36:BV36)<>12,\"\",AVERAGE(特に買いたい・利用したい!BK36:BV36))","v":""},{"$f":"IF(COUNT(特に買いたい・利用したい!BL36:BW36)<>12,\"\",AVERAGE(特に買いたい・利用したい!BL36:BW36))","v":""},{"$f":"IF(COUNT(特に買いたい・利用したい!BM36:BX36)<>12,\"\",AVERAGE(特に買いたい・利用したい!BM36:BX36))","v":""},{"$f":"IF(COUNT(特に買いたい・利用したい!BN36:BY36)<>12,\"\",AVERAGE(特に買いたい・利用したい!BN36:BY36))","v":""},{"$f":"IF(COUNT(特に買いたい・利用したい!BO36:BZ36)<>12,\"\",AVERAGE(特に買いたい・利用したい!BO36:BZ36))","v":""},{"$f":"IF(COUNT(特に買いたい・利用したい!BP36:CA36)<>12,\"\",AVERAGE(特に買いたい・利用したい!BP36:CA36))","v":""},{"$f":"IF(COUNT(特に買いたい・利用したい!BQ36:CB36)<>12,\"\",AVERAGE(特に買いたい・利用したい!BQ36:CB36))","v":""},{"$f":"IF(COUNT(特に買いたい・利用したい!BR36:CC36)<>12,\"\",AVERAGE(特に買いたい・利用したい!BR36:CC36))","v":""},{"$f":"IF(COUNT(特に買いたい・利用したい!BS36:CD36)<>12,\"\",AVERAGE(特に買いたい・利用したい!BS36:CD36))","v":""},{"$f":"IF(COUNT(特に買いたい・利用したい!BT36:CE36)<>12,\"\",AVERAGE(特に買いたい・利用したい!BT36:CE36))","v":""},{"$f":"IF(COUNT(特に買いたい・利用したい!BU36:CF36)<>12,\"\",AVERAGE(特に買いたい・利用したい!BU36:CF36))","v":""},{"$f":"IF(COUNT(特に買いたい・利用したい!BV36:CG36)<>12,\"\",AVERAGE(特に買いたい・利用したい!BV36:CG36))","v":""},{"$f":"IF(COUNT(特に買いたい・利用したい!BW36:CH36)<>12,\"\",AVERAGE(特に買いたい・利用したい!BW36:CH36))","v":""},{"$f":"IF(COUNT(特に買いたい・利用したい!BX36:CI36)<>12,\"\",AVERAGE(特に買いたい・利用したい!BX36:CI36))","v":""},{"$f":"IF(COUNT(特に買いたい・利用したい!BY36:CJ36)<>12,\"\",AVERAGE(特に買いたい・利用したい!BY36:CJ36))","v":""},{"$f":"IF(COUNT(特に買いたい・利用したい!BZ36:CK36)<>12,\"\",AVERAGE(特に買いたい・利用したい!BZ36:CK36))","v":""},{"$f":"IF(COUNT(特に買いたい・利用したい!CA36:CL36)<>12,\"\",AVERAGE(特に買いたい・利用したい!CA36:CL36))","v":""},{"$f":"IF(COUNT(特に買いたい・利用したい!CB36:CM36)<>12,\"\",AVERAGE(特に買いたい・利用したい!CB36:CM36))","v":""},{"$f":"IF(COUNT(特に買いたい・利用したい!CC36:CN36)<>12,\"\",AVERAGE(特に買いたい・利用したい!CC36:CN36))","v":""},{"$f":"IF(COUNT(特に買いたい・利用したい!CD36:CO36)<>12,\"\",AVERAGE(特に買いたい・利用したい!CD36:CO36))","v":""},{"$f":"IF(COUNT(特に買いたい・利用したい!CE36:CP36)<>12,\"\",AVERAGE(特に買いたい・利用したい!CE36:CP36))","v":""},{"$f":"IF(COUNT(特に買いたい・利用したい!CF36:CQ36)<>12,\"\",AVERAGE(特に買いたい・利用したい!CF36:CQ36))","v":""},{"$f":"IF(COUNT(特に買いたい・利用したい!CG36:CR36)<>12,\"\",AVERAGE(特に買いたい・利用したい!CG36:CR36))","v":""},{"$f":"IF(COUNT(特に買いたい・利用したい!CH36:CS36)<>12,\"\",AVERAGE(特に買いたい・利用したい!CH36:CS36))","v":""},{"$f":"IF(COUNT(特に買いたい・利用したい!CI36:CT36)<>12,\"\",AVERAGE(特に買いたい・利用したい!CI36:CT36))","v":""},{"$f":"IF(COUNT(特に買いたい・利用したい!CJ36:CU36)<>12,\"\",AVERAGE(特に買いたい・利用したい!CJ36:CU36))","v":""},{"$f":"IF(COUNT(特に買いたい・利用したい!CK36:CV36)<>12,\"\",AVERAGE(特に買いたい・利用したい!CK36:CV36))","v":""},{"$f":"IF(COUNT(特に買いたい・利用したい!CL36:CW36)<>12,\"\",AVERAGE(特に買いたい・利用したい!CL36:CW36))","v":""},{"$f":"IF(COUNT(特に買いたい・利用したい!CM36:CX36)<>12,\"\",AVERAGE(特に買いたい・利用したい!CM36:CX36))","v":""},{"$f":"IF(COUNT(特に買いたい・利用したい!CN36:CY36)<>12,\"\",AVERAGE(特に買いたい・利用したい!CN36:CY36))","v":""},{"$f":"IF(COUNT(特に買いたい・利用したい!CO36:CZ36)<>12,\"\",AVERAGE(特に買いたい・利用したい!CO36:CZ36))","v":""},{"$f":"IF(COUNT(特に買いたい・利用したい!CP36:DA36)<>12,\"\",AVERAGE(特に買いたい・利用したい!CP36:DA36))","v":""},{"$f":"IF(COUNT(特に買いたい・利用したい!CQ36:DB36)<>12,\"\",AVERAGE(特に買いたい・利用したい!CQ36:DB36))","v":""},{"$f":"IF(COUNT(特に買いたい・利用したい!CR36:DC36)<>12,\"\",AVERAGE(特に買いたい・利用したい!CR36:DC36))","v":""},{"$f":"IF(COUNT(特に買いたい・利用したい!CS36:DD36)<>12,\"\",AVERAGE(特に買いたい・利用したい!CS36:DD36))","v":""},{"$f":"IF(COUNT(特に買いたい・利用したい!CT36:DE36)<>12,\"\",AVERAGE(特に買いたい・利用したい!CT36:DE36))","v":""},{"$f":"IF(COUNT(特に買いたい・利用したい!CU36:DF36)<>12,\"\",AVERAGE(特に買いたい・利用したい!CU36:DF36))","v":""},{"$f":"IF(COUNT(特に買いたい・利用したい!CV36:DG36)<>12,\"\",AVERAGE(特に買いたい・利用したい!CV36:DG36))","v":""}]
[null,"性別×有職無職別","男性／有職",null,null,null,null,null,null,null,null,null,null,null,null,null,null,null,{"$f":"IF(COUNT(特に買いたい・利用したい!H37:S37)<>12,\"\",AVERAGE(特に買いたい・利用したい!H37:S37))","v":29.358333333333331},{"$f":"IF(COUNT(特に買いたい・利用したい!I37:T37)<>12,\"\",AVERAGE(特に買いたい・利用したい!I37:T37))","v":29.149999999999995},{"$f":"IF(COUNT(特に買いたい・利用したい!J37:U37)<>12,\"\",AVERAGE(特に買いたい・利用したい!J37:U37))","v":28.741666666666664},{"$f":"IF(COUNT(特に買いたい・利用したい!K37:V37)<>12,\"\",AVERAGE(特に買いたい・利用したい!K37:V37))","v":28.008333333333336},{"$f":"IF(COUNT(特に買いたい・利用したい!L37:W37)<>12,\"\",AVERAGE(特に買いたい・利用したい!L37:W37))","v":27.900000000000002},{"$f":"IF(COUNT(特に買いたい・利用したい!M37:X37)<>12,\"\",AVERAGE(特に買いたい・利用したい!M37:X37))","v":27.458333333333332},{"$f":"IF(COUNT(特に買いたい・利用したい!N37:Y37)<>12,\"\",AVERAGE(特に買いたい・利用したい!N37:Y37))","v":27.483333333333334},{"$f":"IF(COUNT(特に買いたい・利用したい!O37:Z37)<>12,\"\",AVERAGE(特に買いたい・利用したい!O37:Z37))","v":27.133333333333329},{"$f":"IF(COUNT(特に買いたい・利用したい!P37:AA37)<>12,\"\",AVERAGE(特に買いたい・利用したい!P37:AA37))","v":26.883333333333336},{"$f":"IF(COUNT(特に買いたい・利用したい!Q37:AB37)<>12,\"\",AVERAGE(特に買いたい・利用したい!Q37:AB37))","v":26.575000000000003},{"$f":"IF(COUNT(特に買いたい・利用したい!R37:AC37)<>12,\"\",AVERAGE(特に買いたい・利用したい!R37:AC37))","v":26.541666666666671},{"$f":"IF(COUNT(特に買いたい・利用したい!S37:AD37)<>12,\"\",AVERAGE(特に買いたい・利用したい!S37:AD37))","v":26.458333333333332},{"$f":"IF(COUNT(特に買いたい・利用したい!T37:AE37)<>12,\"\",AVERAGE(特に買いたい・利用したい!T37:AE37))","v":25.366666666666671},{"$f":"IF(COUNT(特に買いたい・利用したい!U37:AF37)<>12,\"\",AVERAGE(特に買いたい・利用したい!U37:AF37))","v":24.816666666666666},{"$f":"IF(COUNT(特に買いたい・利用したい!V37:AG37)<>12,\"\",AVERAGE(特に買いたい・利用したい!V37:AG37))","v":24.666666666666668},{"$f":"IF(COUNT(特に買いたい・利用したい!W37:AH37)<>12,\"\",AVERAGE(特に買いたい・利用したい!W37:AH37))","v":24.158333333333331},{"$f":"IF(COUNT(特に買いたい・利用したい!X37:AI37)<>12,\"\",AVERAGE(特に買いたい・利用したい!X37:AI37))","v":23.933333333333334},{"$f":"IF(COUNT(特に買いたい・利用したい!Y37:AJ37)<>12,\"\",AVERAGE(特に買いたい・利用したい!Y37:AJ37))","v":24.191666666666666},{"$f":"IF(COUNT(特に買いたい・利用したい!Z37:AK37)<>12,\"\",AVERAGE(特に買いたい・利用したい!Z37:AK37))","v":23.674999999999997},{"$f":"IF(COUNT(特に買いたい・利用したい!AA37:AL37)<>12,\"\",AVERAGE(特に買いたい・利用したい!AA37:AL37))","v":23.900000000000002},{"$f":"IF(COUNT(特に買いたい・利用したい!AB37:AM37)<>12,\"\",AVERAGE(特に買いたい・利用したい!AB37:AM37))","v":23.783333333333331},{"$f":"IF(COUNT(特に買いたい・利用したい!AC37:AN37)<>12,\"\",AVERAGE(特に買いたい・利用したい!AC37:AN37))","v":23.566666666666666},{"$f":"IF(COUNT(特に買いたい・利用したい!AD37:AO37)<>12,\"\",AVERAGE(特に買いたい・利用したい!AD37:AO37))","v":23.533333333333331},{"$f":"IF(COUNT(特に買いたい・利用したい!AE37:AP37)<>12,\"\",AVERAGE(特に買いたい・利用したい!AE37:AP37))","v":23.141666666666669},{"$f":"IF(COUNT(特に買いたい・利用したい!AF37:AQ37)<>12,\"\",AVERAGE(特に買いたい・利用したい!AF37:AQ37))","v":24.116666666666671},{"$f":"IF(COUNT(特に買いたい・利用したい!AG37:AR37)<>12,\"\",AVERAGE(特に買いたい・利用したい!AG37:AR37))","v":24.533333333333331},{"$f":"IF(COUNT(特に買いたい・利用したい!AH37:AS37)<>12,\"\",AVERAGE(特に買いたい・利用したい!AH37:AS37))","v":24.983333333333338},{"$f":"IF(COUNT(特に買いたい・利用したい!AI37:AT37)<>12,\"\",AVERAGE(特に買いたい・利用したい!AI37:AT37))","v":25.508333333333336},{"$f":"IF(COUNT(特に買いたい・利用したい!AJ37:AU37)<>12,\"\",AVERAGE(特に買いたい・利用したい!AJ37:AU37))","v":25.55},{"$f":"IF(COUNT(特に買いたい・利用したい!AK37:AV37)<>12,\"\",AVERAGE(特に買いたい・利用したい!AK37:AV37))","v":25.641666666666669},{"$f":"IF(COUNT(特に買いたい・利用したい!AL37:AW37)<>12,\"\",AVERAGE(特に買いたい・利用したい!AL37:AW37))","v":25.724999999999998},{"$f":"IF(COUNT(特に買いたい・利用したい!AM37:AX37)<>12,\"\",AVERAGE(特に買いたい・利用したい!AM37:AX37))","v":25.549999999999997},{"$f":"IF(COUNT(特に買いたい・利用したい!AN37:AY37)<>12,\"\",AVERAGE(特に買いたい・利用したい!AN37:AY37))","v":25.574999999999999},{"$f":"IF(COUNT(特に買いたい・利用したい!AO37:AZ37)<>12,\"\",AVERAGE(特に買いたい・利用したい!AO37:AZ37))","v":25.541666666666668},{"$f":"IF(COUNT(特に買いたい・利用したい!AP37:BA37)<>12,\"\",AVERAGE(特に買いたい・利用したい!AP37:BA37))","v":25.100000000000005},{"$f":"IF(COUNT(特に買いたい・利用したい!AQ37:BB37)<>12,\"\",AVERAGE(特に買いたい・利用したい!AQ37:BB37))","v":24.950000000000003},{"$f":"IF(COUNT(特に買いたい・利用したい!AR37:BC37)<>12,\"\",AVERAGE(特に買いたい・利用したい!AR37:BC37))","v":24.908333333333335},{"$f":"IF(COUNT(特に買いたい・利用したい!AS37:BD37)<>12,\"\",AVERAGE(特に買いたい・利用したい!AS37:BD37))","v":25.150000000000002},{"$f":"IF(COUNT(特に買いたい・利用したい!AT37:BE37)<>12,\"\",AVERAGE(特に買いたい・利用したい!AT37:BE37))","v":""},{"$f":"IF(COUNT(特に買いたい・利用したい!AU37:BF37)<>12,\"\",AVERAGE(特に買いたい・利用したい!AU37:BF37))","v":""},{"$f":"IF(COUNT(特に買いたい・利用したい!AV37:BG37)<>12,\"\",AVERAGE(特に買いたい・利用したい!AV37:BG37))","v":""},{"$f":"IF(COUNT(特に買いたい・利用したい!AW37:BH37)<>12,\"\",AVERAGE(特に買いたい・利用したい!AW37:BH37))","v":""},{"$f":"IF(COUNT(特に買いたい・利用したい!AX37:BI37)<>12,\"\",AVERAGE(特に買いたい・利用したい!AX37:BI37))","v":""},{"$f":"IF(COUNT(特に買いたい・利用したい!AY37:BJ37)<>12,\"\",AVERAGE(特に買いたい・利用したい!AY37:BJ37))","v":""},{"$f":"IF(COUNT(特に買いたい・利用したい!AZ37:BK37)<>12,\"\",AVERAGE(特に買いたい・利用したい!AZ37:BK37))","v":""},{"$f":"IF(COUNT(特に買いたい・利用したい!BA37:BL37)<>12,\"\",AVERAGE(特に買いたい・利用したい!BA37:BL37))","v":""},{"$f":"IF(COUNT(特に買いたい・利用したい!BB37:BM37)<>12,\"\",AVERAGE(特に買いたい・利用したい!BB37:BM37))","v":""},{"$f":"IF(COUNT(特に買いたい・利用したい!BC37:BN37)<>12,\"\",AVERAGE(特に買いたい・利用したい!BC37:BN37))","v":""},{"$f":"IF(COUNT(特に買いたい・利用したい!BD37:BO37)<>12,\"\",AVERAGE(特に買いたい・利用したい!BD37:BO37))","v":""},{"$f":"IF(COUNT(特に買いたい・利用したい!BE37:BP37)<>12,\"\",AVERAGE(特に買いたい・利用したい!BE37:BP37))","v":""},{"$f":"IF(COUNT(特に買いたい・利用したい!BF37:BQ37)<>12,\"\",AVERAGE(特に買いたい・利用したい!BF37:BQ37))","v":""},{"$f":"IF(COUNT(特に買いたい・利用したい!BG37:BR37)<>12,\"\",AVERAGE(特に買いたい・利用したい!BG37:BR37))","v":""},{"$f":"IF(COUNT(特に買いたい・利用したい!BH37:BS37)<>12,\"\",AVERAGE(特に買いたい・利用したい!BH37:BS37))","v":""},{"$f":"IF(COUNT(特に買いたい・利用したい!BI37:BT37)<>12,\"\",AVERAGE(特に買いたい・利用したい!BI37:BT37))","v":""},{"$f":"IF(COUNT(特に買いたい・利用したい!BJ37:BU37)<>12,\"\",AVERAGE(特に買いたい・利用したい!BJ37:BU37))","v":""},{"$f":"IF(COUNT(特に買いたい・利用したい!BK37:BV37)<>12,\"\",AVERAGE(特に買いたい・利用したい!BK37:BV37))","v":""},{"$f":"IF(COUNT(特に買いたい・利用したい!BL37:BW37)<>12,\"\",AVERAGE(特に買いたい・利用したい!BL37:BW37))","v":""},{"$f":"IF(COUNT(特に買いたい・利用したい!BM37:BX37)<>12,\"\",AVERAGE(特に買いたい・利用したい!BM37:BX37))","v":""},{"$f":"IF(COUNT(特に買いたい・利用したい!BN37:BY37)<>12,\"\",AVERAGE(特に買いたい・利用したい!BN37:BY37))","v":""},{"$f":"IF(COUNT(特に買いたい・利用したい!BO37:BZ37)<>12,\"\",AVERAGE(特に買いたい・利用したい!BO37:BZ37))","v":""},{"$f":"IF(COUNT(特に買いたい・利用したい!BP37:CA37)<>12,\"\",AVERAGE(特に買いたい・利用したい!BP37:CA37))","v":""},{"$f":"IF(COUNT(特に買いたい・利用したい!BQ37:CB37)<>12,\"\",AVERAGE(特に買いたい・利用したい!BQ37:CB37))","v":""},{"$f":"IF(COUNT(特に買いたい・利用したい!BR37:CC37)<>12,\"\",AVERAGE(特に買いたい・利用したい!BR37:CC37))","v":""},{"$f":"IF(COUNT(特に買いたい・利用したい!BS37:CD37)<>12,\"\",AVERAGE(特に買いたい・利用したい!BS37:CD37))","v":""},{"$f":"IF(COUNT(特に買いたい・利用したい!BT37:CE37)<>12,\"\",AVERAGE(特に買いたい・利用したい!BT37:CE37))","v":""},{"$f":"IF(COUNT(特に買いたい・利用したい!BU37:CF37)<>12,\"\",AVERAGE(特に買いたい・利用したい!BU37:CF37))","v":""},{"$f":"IF(COUNT(特に買いたい・利用したい!BV37:CG37)<>12,\"\",AVERAGE(特に買いたい・利用したい!BV37:CG37))","v":""},{"$f":"IF(COUNT(特に買いたい・利用したい!BW37:CH37)<>12,\"\",AVERAGE(特に買いたい・利用したい!BW37:CH37))","v":""},{"$f":"IF(COUNT(特に買いたい・利用したい!BX37:CI37)<>12,\"\",AVERAGE(特に買いたい・利用したい!BX37:CI37))","v":""},{"$f":"IF(COUNT(特に買いたい・利用したい!BY37:CJ37)<>12,\"\",AVERAGE(特に買いたい・利用したい!BY37:CJ37))","v":""},{"$f":"IF(COUNT(特に買いたい・利用したい!BZ37:CK37)<>12,\"\",AVERAGE(特に買いたい・利用したい!BZ37:CK37))","v":""},{"$f":"IF(COUNT(特に買いたい・利用したい!CA37:CL37)<>12,\"\",AVERAGE(特に買いたい・利用したい!CA37:CL37))","v":""},{"$f":"IF(COUNT(特に買いたい・利用したい!CB37:CM37)<>12,\"\",AVERAGE(特に買いたい・利用したい!CB37:CM37))","v":""},{"$f":"IF(COUNT(特に買いたい・利用したい!CC37:CN37)<>12,\"\",AVERAGE(特に買いたい・利用したい!CC37:CN37))","v":""},{"$f":"IF(COUNT(特に買いたい・利用したい!CD37:CO37)<>12,\"\",AVERAGE(特に買いたい・利用したい!CD37:CO37))","v":""},{"$f":"IF(COUNT(特に買いたい・利用したい!CE37:CP37)<>12,\"\",AVERAGE(特に買いたい・利用したい!CE37:CP37))","v":""},{"$f":"IF(COUNT(特に買いたい・利用したい!CF37:CQ37)<>12,\"\",AVERAGE(特に買いたい・利用したい!CF37:CQ37))","v":""},{"$f":"IF(COUNT(特に買いたい・利用したい!CG37:CR37)<>12,\"\",AVERAGE(特に買いたい・利用したい!CG37:CR37))","v":""},{"$f":"IF(COUNT(特に買いたい・利用したい!CH37:CS37)<>12,\"\",AVERAGE(特に買いたい・利用したい!CH37:CS37))","v":""},{"$f":"IF(COUNT(特に買いたい・利用したい!CI37:CT37)<>12,\"\",AVERAGE(特に買いたい・利用したい!CI37:CT37))","v":""},{"$f":"IF(COUNT(特に買いたい・利用したい!CJ37:CU37)<>12,\"\",AVERAGE(特に買いたい・利用したい!CJ37:CU37))","v":""},{"$f":"IF(COUNT(特に買いたい・利用したい!CK37:CV37)<>12,\"\",AVERAGE(特に買いたい・利用したい!CK37:CV37))","v":""},{"$f":"IF(COUNT(特に買いたい・利用したい!CL37:CW37)<>12,\"\",AVERAGE(特に買いたい・利用したい!CL37:CW37))","v":""},{"$f":"IF(COUNT(特に買いたい・利用したい!CM37:CX37)<>12,\"\",AVERAGE(特に買いたい・利用したい!CM37:CX37))","v":""},{"$f":"IF(COUNT(特に買いたい・利用したい!CN37:CY37)<>12,\"\",AVERAGE(特に買いたい・利用したい!CN37:CY37))","v":""},{"$f":"IF(COUNT(特に買いたい・利用したい!CO37:CZ37)<>12,\"\",AVERAGE(特に買いたい・利用したい!CO37:CZ37))","v":""},{"$f":"IF(COUNT(特に買いたい・利用したい!CP37:DA37)<>12,\"\",AVERAGE(特に買いたい・利用したい!CP37:DA37))","v":""},{"$f":"IF(COUNT(特に買いたい・利用したい!CQ37:DB37)<>12,\"\",AVERAGE(特に買いたい・利用したい!CQ37:DB37))","v":""},{"$f":"IF(COUNT(特に買いたい・利用したい!CR37:DC37)<>12,\"\",AVERAGE(特に買いたい・利用したい!CR37:DC37))","v":""},{"$f":"IF(COUNT(特に買いたい・利用したい!CS37:DD37)<>12,\"\",AVERAGE(特に買いたい・利用したい!CS37:DD37))","v":""},{"$f":"IF(COUNT(特に買いたい・利用したい!CT37:DE37)<>12,\"\",AVERAGE(特に買いたい・利用したい!CT37:DE37))","v":""},{"$f":"IF(COUNT(特に買いたい・利用したい!CU37:DF37)<>12,\"\",AVERAGE(特に買いたい・利用したい!CU37:DF37))","v":""},{"$f":"IF(COUNT(特に買いたい・利用したい!CV37:DG37)<>12,\"\",AVERAGE(特に買いたい・利用したい!CV37:DG37))","v":""}]
[null,null,"女性／有職",null,null,null,null,null,null,null,null,null,null,null,null,null,null,null,{"$f":"IF(COUNT(特に買いたい・利用したい!H38:S38)<>12,\"\",AVERAGE(特に買いたい・利用したい!H38:S38))","v":35.749999999999993},{"$f":"IF(COUNT(特に買いたい・利用したい!I38:T38)<>12,\"\",AVERAGE(特に買いたい・利用したい!I38:T38))","v":34.758333333333333},{"$f":"IF(COUNT(特に買いたい・利用したい!J38:U38)<>12,\"\",AVERAGE(特に買いたい・利用したい!J38:U38))","v":34.733333333333327},{"$f":"IF(COUNT(特に買いたい・利用したい!K38:V38)<>12,\"\",AVERAGE(特に買いたい・利用したい!K38:V38))","v":33.774999999999999},{"$f":"IF(COUNT(特に買いたい・利用したい!L38:W38)<>12,\"\",AVERAGE(特に買いたい・利用したい!L38:W38))","v":33.658333333333339},{"$f":"IF(COUNT(特に買いたい・利用したい!M38:X38)<>12,\"\",AVERAGE(特に買いたい・利用したい!M38:X38))","v":32.983333333333334},{"$f":"IF(COUNT(特に買いたい・利用したい!N38:Y38)<>12,\"\",AVERAGE(特に買いたい・利用したい!N38:Y38))","v":32.774999999999999},{"$f":"IF(COUNT(特に買いたい・利用したい!O38:Z38)<>12,\"\",AVERAGE(特に買いたい・利用したい!O38:Z38))","v":32.958333333333336},{"$f":"IF(COUNT(特に買いたい・利用したい!P38:AA38)<>12,\"\",AVERAGE(特に買いたい・利用したい!P38:AA38))","v":33.283333333333339},{"$f":"IF(COUNT(特に買いたい・利用したい!Q38:AB38)<>12,\"\",AVERAGE(特に買いたい・利用したい!Q38:AB38))","v":32.56666666666667},{"$f":"IF(COUNT(特に買いたい・利用したい!R38:AC38)<>12,\"\",AVERAGE(特に買いたい・利用したい!R38:AC38))","v":32.93333333333333},{"$f":"IF(COUNT(特に買いたい・利用したい!S38:AD38)<>12,\"\",AVERAGE(特に買いたい・利用したい!S38:AD38))","v":33.69166666666667},{"$f":"IF(COUNT(特に買いたい・利用したい!T38:AE38)<>12,\"\",AVERAGE(特に買いたい・利用したい!T38:AE38))","v":32.56666666666667},{"$f":"IF(COUNT(特に買いたい・利用したい!U38:AF38)<>12,\"\",AVERAGE(特に買いたい・利用したい!U38:AF38))","v":31.658333333333335},{"$f":"IF(COUNT(特に買いたい・利用したい!V38:AG38)<>12,\"\",AVERAGE(特に買いたい・利用したい!V38:AG38))","v":31.033333333333335},{"$f":"IF(COUNT(特に買いたい・利用したい!W38:AH38)<>12,\"\",AVERAGE(特に買いたい・利用したい!W38:AH38))","v":31.650000000000002},{"$f":"IF(COUNT(特に買いたい・利用したい!X38:AI38)<>12,\"\",AVERAGE(特に買いたい・利用したい!X38:AI38))","v":31.216666666666665},{"$f":"IF(COUNT(特に買いたい・利用したい!Y38:AJ38)<>12,\"\",AVERAGE(特に買いたい・利用したい!Y38:AJ38))","v":31.95},{"$f":"IF(COUNT(特に買いたい・利用したい!Z38:AK38)<>12,\"\",AVERAGE(特に買いたい・利用したい!Z38:AK38))","v":31.816666666666663},{"$f":"IF(COUNT(特に買いたい・利用したい!AA38:AL38)<>12,\"\",AVERAGE(特に買いたい・利用したい!AA38:AL38))","v":30.933333333333334},{"$f":"IF(COUNT(特に買いたい・利用したい!AB38:AM38)<>12,\"\",AVERAGE(特に買いたい・利用したい!AB38:AM38))","v":30.766666666666666},{"$f":"IF(COUNT(特に買いたい・利用したい!AC38:AN38)<>12,\"\",AVERAGE(特に買いたい・利用したい!AC38:AN38))","v":30.666666666666661},{"$f":"IF(COUNT(特に買いたい・利用したい!AD38:AO38)<>12,\"\",AVERAGE(特に買いたい・利用したい!AD38:AO38))","v":30.349999999999998},{"$f":"IF(COUNT(特に買いたい・利用したい!AE38:AP38)<>12,\"\",AVERAGE(特に買いたい・利用したい!AE38:AP38))","v":29.208333333333332},{"$f":"IF(COUNT(特に買いたい・利用したい!AF38:AQ38)<>12,\"\",AVERAGE(特に買いたい・利用したい!AF38:AQ38))","v":30.591666666666665},{"$f":"IF(COUNT(特に買いたい・利用したい!AG38:AR38)<>12,\"\",AVERAGE(特に買いたい・利用したい!AG38:AR38))","v":31.566666666666666},{"$f":"IF(COUNT(特に買いたい・利用したい!AH38:AS38)<>12,\"\",AVERAGE(特に買いたい・利用したい!AH38:AS38))","v":31.716666666666669},{"$f":"IF(COUNT(特に買いたい・利用したい!AI38:AT38)<>12,\"\",AVERAGE(特に買いたい・利用したい!AI38:AT38))","v":31.374999999999996},{"$f":"IF(COUNT(特に買いたい・利用したい!AJ38:AU38)<>12,\"\",AVERAGE(特に買いたい・利用したい!AJ38:AU38))","v":31.324999999999999},{"$f":"IF(COUNT(特に買いたい・利用したい!AK38:AV38)<>12,\"\",AVERAGE(特に買いたい・利用したい!AK38:AV38))","v":31.216666666666665},{"$f":"IF(COUNT(特に買いたい・利用したい!AL38:AW38)<>12,\"\",AVERAGE(特に買いたい・利用したい!AL38:AW38))","v":31.458333333333329},{"$f":"IF(COUNT(特に買いたい・利用したい!AM38:AX38)<>12,\"\",AVERAGE(特に買いたい・利用したい!AM38:AX38))","v":31.616666666666664},{"$f":"IF(COUNT(特に買いたい・利用したい!AN38:AY38)<>12,\"\",AVERAGE(特に買いたい・利用したい!AN38:AY38))","v":31.933333333333337},{"$f":"IF(COUNT(特に買いたい・利用したい!AO38:AZ38)<>12,\"\",AVERAGE(特に買いたい・利用したい!AO38:AZ38))","v":32.475000000000001},{"$f":"IF(COUNT(特に買いたい・利用したい!AP38:BA38)<>12,\"\",AVERAGE(特に買いたい・利用したい!AP38:BA38))","v":32.233333333333334},{"$f":"IF(COUNT(特に買いたい・利用したい!AQ38:BB38)<>12,\"\",AVERAGE(特に買いたい・利用したい!AQ38:BB38))","v":31.95},{"$f":"IF(COUNT(特に買いたい・利用したい!AR38:BC38)<>12,\"\",AVERAGE(特に買いたい・利用したい!AR38:BC38))","v":31.691666666666663},{"$f":"IF(COUNT(特に買いたい・利用したい!AS38:BD38)<>12,\"\",AVERAGE(特に買いたい・利用したい!AS38:BD38))","v":31.808333333333326},{"$f":"IF(COUNT(特に買いたい・利用したい!AT38:BE38)<>12,\"\",AVERAGE(特に買いたい・利用したい!AT38:BE38))","v":""},{"$f":"IF(COUNT(特に買いたい・利用したい!AU38:BF38)<>12,\"\",AVERAGE(特に買いたい・利用したい!AU38:BF38))","v":""},{"$f":"IF(COUNT(特に買いたい・利用したい!AV38:BG38)<>12,\"\",AVERAGE(特に買いたい・利用したい!AV38:BG38))","v":""},{"$f":"IF(COUNT(特に買いたい・利用したい!AW38:BH38)<>12,\"\",AVERAGE(特に買いたい・利用したい!AW38:BH38))","v":""},{"$f":"IF(COUNT(特に買いたい・利用したい!AX38:BI38)<>12,\"\",AVERAGE(特に買いたい・利用したい!AX38:BI38))","v":""},{"$f":"IF(COUNT(特に買いたい・利用したい!AY38:BJ38)<>12,\"\",AVERAGE(特に買いたい・利用したい!AY38:BJ38))","v":""},{"$f":"IF(COUNT(特に買いたい・利用したい!AZ38:BK38)<>12,\"\",AVERAGE(特に買いたい・利用したい!AZ38:BK38))","v":""},{"$f":"IF(COUNT(特に買いたい・利用したい!BA38:BL38)<>12,\"\",AVERAGE(特に買いたい・利用したい!BA38:BL38))","v":""},{"$f":"IF(COUNT(特に買いたい・利用したい!BB38:BM38)<>12,\"\",AVERAGE(特に買いたい・利用したい!BB38:BM38))","v":""},{"$f":"IF(COUNT(特に買いたい・利用したい!BC38:BN38)<>12,\"\",AVERAGE(特に買いたい・利用したい!BC38:BN38))","v":""},{"$f":"IF(COUNT(特に買いたい・利用したい!BD38:BO38)<>12,\"\",AVERAGE(特に買いたい・利用したい!BD38:BO38))","v":""},{"$f":"IF(COUNT(特に買いたい・利用したい!BE38:BP38)<>12,\"\",AVERAGE(特に買いたい・利用したい!BE38:BP38))","v":""},{"$f":"IF(COUNT(特に買いたい・利用したい!BF38:BQ38)<>12,\"\",AVERAGE(特に買いたい・利用したい!BF38:BQ38))","v":""},{"$f":"IF(COUNT(特に買いたい・利用したい!BG38:BR38)<>12,\"\",AVERAGE(特に買いたい・利用したい!BG38:BR38))","v":""},{"$f":"IF(COUNT(特に買いたい・利用したい!BH38:BS38)<>12,\"\",AVERAGE(特に買いたい・利用したい!BH38:BS38))","v":""},{"$f":"IF(COUNT(特に買いたい・利用したい!BI38:BT38)<>12,\"\",AVERAGE(特に買いたい・利用したい!BI38:BT38))","v":""},{"$f":"IF(COUNT(特に買いたい・利用したい!BJ38:BU38)<>12,\"\",AVERAGE(特に買いたい・利用したい!BJ38:BU38))","v":""},{"$f":"IF(COUNT(特に買いたい・利用したい!BK38:BV38)<>12,\"\",AVERAGE(特に買いたい・利用したい!BK38:BV38))","v":""},{"$f":"IF(COUNT(特に買いたい・利用したい!BL38:BW38)<>12,\"\",AVERAGE(特に買いたい・利用したい!BL38:BW38))","v":""},{"$f":"IF(COUNT(特に買いたい・利用したい!BM38:BX38)<>12,\"\",AVERAGE(特に買いたい・利用したい!BM38:BX38))","v":""},{"$f":"IF(COUNT(特に買いたい・利用したい!BN38:BY38)<>12,\"\",AVERAGE(特に買いたい・利用したい!BN38:BY38))","v":""},{"$f":"IF(COUNT(特に買いたい・利用したい!BO38:BZ38)<>12,\"\",AVERAGE(特に買いたい・利用したい!BO38:BZ38))","v":""},{"$f":"IF(COUNT(特に買いたい・利用したい!BP38:CA38)<>12,\"\",AVERAGE(特に買いたい・利用したい!BP38:CA38))","v":""},{"$f":"IF(COUNT(特に買いたい・利用したい!BQ38:CB38)<>12,\"\",AVERAGE(特に買いたい・利用したい!BQ38:CB38))","v":""},{"$f":"IF(COUNT(特に買いたい・利用したい!BR38:CC38)<>12,\"\",AVERAGE(特に買いたい・利用したい!BR38:CC38))","v":""},{"$f":"IF(COUNT(特に買いたい・利用したい!BS38:CD38)<>12,\"\",AVERAGE(特に買いたい・利用したい!BS38:CD38))","v":""},{"$f":"IF(COUNT(特に買いたい・利用したい!BT38:CE38)<>12,\"\",AVERAGE(特に買いたい・利用したい!BT38:CE38))","v":""},{"$f":"IF(COUNT(特に買いたい・利用したい!BU38:CF38)<>12,\"\",AVERAGE(特に買いたい・利用したい!BU38:CF38))","v":""},{"$f":"IF(COUNT(特に買いたい・利用したい!BV38:CG38)<>12,\"\",AVERAGE(特に買いたい・利用したい!BV38:CG38))","v":""},{"$f":"IF(COUNT(特に買いたい・利用したい!BW38:CH38)<>12,\"\",AVERAGE(特に買いたい・利用したい!BW38:CH38))","v":""},{"$f":"IF(COUNT(特に買いたい・利用したい!BX38:CI38)<>12,\"\",AVERAGE(特に買いたい・利用したい!BX38:CI38))","v":""},{"$f":"IF(COUNT(特に買いたい・利用したい!BY38:CJ38)<>12,\"\",AVERAGE(特に買いたい・利用したい!BY38:CJ38))","v":""},{"$f":"IF(COUNT(特に買いたい・利用したい!BZ38:CK38)<>12,\"\",AVERAGE(特に買いたい・利用したい!BZ38:CK38))","v":""},{"$f":"IF(COUNT(特に買いたい・利用したい!CA38:CL38)<>12,\"\",AVERAGE(特に買いたい・利用したい!CA38:CL38))","v":""},{"$f":"IF(COUNT(特に買いたい・利用したい!CB38:CM38)<>12,\"\",AVERAGE(特に買いたい・利用したい!CB38:CM38))","v":""},{"$f":"IF(COUNT(特に買いたい・利用したい!CC38:CN38)<>12,\"\",AVERAGE(特に買いたい・利用したい!CC38:CN38))","v":""},{"$f":"IF(COUNT(特に買いたい・利用したい!CD38:CO38)<>12,\"\",AVERAGE(特に買いたい・利用したい!CD38:CO38))","v":""},{"$f":"IF(COUNT(特に買いたい・利用したい!CE38:CP38)<>12,\"\",AVERAGE(特に買いたい・利用したい!CE38:CP38))","v":""},{"$f":"IF(COUNT(特に買いたい・利用したい!CF38:CQ38)<>12,\"\",AVERAGE(特に買いたい・利用したい!CF38:CQ38))","v":""},{"$f":"IF(COUNT(特に買いたい・利用したい!CG38:CR38)<>12,\"\",AVERAGE(特に買いたい・利用したい!CG38:CR38))","v":""},{"$f":"IF(COUNT(特に買いたい・利用したい!CH38:CS38)<>12,\"\",AVERAGE(特に買いたい・利用したい!CH38:CS38))","v":""},{"$f":"IF(COUNT(特に買いたい・利用したい!CI38:CT38)<>12,\"\",AVERAGE(特に買いたい・利用したい!CI38:CT38))","v":""},{"$f":"IF(COUNT(特に買いたい・利用したい!CJ38:CU38)<>12,\"\",AVERAGE(特に買いたい・利用したい!CJ38:CU38))","v":""},{"$f":"IF(COUNT(特に買いたい・利用したい!CK38:CV38)<>12,\"\",AVERAGE(特に買いたい・利用したい!CK38:CV38))","v":""},{"$f":"IF(COUNT(特に買いたい・利用したい!CL38:CW38)<>12,\"\",AVERAGE(特に買いたい・利用したい!CL38:CW38))","v":""},{"$f":"IF(COUNT(特に買いたい・利用したい!CM38:CX38)<>12,\"\",AVERAGE(特に買いたい・利用したい!CM38:CX38))","v":""},{"$f":"IF(COUNT(特に買いたい・利用したい!CN38:CY38)<>12,\"\",AVERAGE(特に買いたい・利用したい!CN38:CY38))","v":""},{"$f":"IF(COUNT(特に買いたい・利用したい!CO38:CZ38)<>12,\"\",AVERAGE(特に買いたい・利用したい!CO38:CZ38))","v":""},{"$f":"IF(COUNT(特に買いたい・利用したい!CP38:DA38)<>12,\"\",AVERAGE(特に買いたい・利用したい!CP38:DA38))","v":""},{"$f":"IF(COUNT(特に買いたい・利用したい!CQ38:DB38)<>12,\"\",AVERAGE(特に買いたい・利用したい!CQ38:DB38))","v":""},{"$f":"IF(COUNT(特に買いたい・利用したい!CR38:DC38)<>12,\"\",AVERAGE(特に買いたい・利用したい!CR38:DC38))","v":""},{"$f":"IF(COUNT(特に買いたい・利用したい!CS38:DD38)<>12,\"\",AVERAGE(特に買いたい・利用したい!CS38:DD38))","v":""},{"$f":"IF(COUNT(特に買いたい・利用したい!CT38:DE38)<>12,\"\",AVERAGE(特に買いたい・利用したい!CT38:DE38))","v":""},{"$f":"IF(COUNT(特に買いたい・利用したい!CU38:DF38)<>12,\"\",AVERAGE(特に買いたい・利用したい!CU38:DF38))","v":""},{"$f":"IF(COUNT(特に買いたい・利用したい!CV38:DG38)<>12,\"\",AVERAGE(特に買いたい・利用したい!CV38:DG38))","v":""}]
[null,null,"男性／無職",null,null,null,null,null,null,null,null,null,null,null,null,null,null,null,{"$f":"IF(COUNT(特に買いたい・利用したい!H39:S39)<>12,\"\",AVERAGE(特に買いたい・利用したい!H39:S39))","v":31.266666666666669},{"$f":"IF(COUNT(特に買いたい・利用したい!I39:T39)<>12,\"\",AVERAGE(特に買いたい・利用したい!I39:T39))","v":31.483333333333334},{"$f":"IF(COUNT(特に買いたい・利用したい!J39:U39)<>12,\"\",AVERAGE(特に買いたい・利用したい!J39:U39))","v":31.066666666666666},{"$f":"IF(COUNT(特に買いたい・利用したい!K39:V39)<>12,\"\",AVERAGE(特に買いたい・利用したい!K39:V39))","v":30.549999999999997},{"$f":"IF(COUNT(特に買いたい・利用したい!L39:W39)<>12,\"\",AVERAGE(特に買いたい・利用したい!L39:W39))","v":29.991666666666664},{"$f":"IF(COUNT(特に買いたい・利用したい!M39:X39)<>12,\"\",AVERAGE(特に買いたい・利用したい!M39:X39))","v":28.45},{"$f":"IF(COUNT(特に買いたい・利用したい!N39:Y39)<>12,\"\",AVERAGE(特に買いたい・利用したい!N39:Y39))","v":28.274999999999995},{"$f":"IF(COUNT(特に買いたい・利用したい!O39:Z39)<>12,\"\",AVERAGE(特に買いたい・利用したい!O39:Z39))","v":27.683333333333326},{"$f":"IF(COUNT(特に買いたい・利用したい!P39:AA39)<>12,\"\",AVERAGE(特に買いたい・利用したい!P39:AA39))","v":27.333333333333332},{"$f":"IF(COUNT(特に買いたい・利用したい!Q39:AB39)<>12,\"\",AVERAGE(特に買いたい・利用したい!Q39:AB39))","v":27.325000000000003},{"$f":"IF(COUNT(特に買いたい・利用したい!R39:AC39)<>12,\"\",AVERAGE(特に買いたい・利用したい!R39:AC39))","v":27.166666666666671},{"$f":"IF(COUNT(特に買いたい・利用したい!S39:AD39)<>12,\"\",AVERAGE(特に買いたい・利用したい!S39:AD39))","v":26.833333333333343},{"$f":"IF(COUNT(特に買いたい・利用したい!T39:AE39)<>12,\"\",AVERAGE(特に買いたい・利用したい!T39:AE39))","v":25.258333333333336},{"$f":"IF(COUNT(特に買いたい・利用したい!U39:AF39)<>12,\"\",AVERAGE(特に買いたい・利用したい!U39:AF39))","v":24.458333333333339},{"$f":"IF(COUNT(特に買いたい・利用したい!V39:AG39)<>12,\"\",AVERAGE(特に買いたい・利用したい!V39:AG39))","v":23.766666666666666},{"$f":"IF(COUNT(特に買いたい・利用したい!W39:AH39)<>12,\"\",AVERAGE(特に買いたい・利用したい!W39:AH39))","v":23.358333333333334},{"$f":"IF(COUNT(特に買いたい・利用したい!X39:AI39)<>12,\"\",AVERAGE(特に買いたい・利用したい!X39:AI39))","v":23.483333333333334},{"$f":"IF(COUNT(特に買いたい・利用したい!Y39:AJ39)<>12,\"\",AVERAGE(特に買いたい・利用したい!Y39:AJ39))","v":24.441666666666663},{"$f":"IF(COUNT(特に買いたい・利用したい!Z39:AK39)<>12,\"\",AVERAGE(特に買いたい・利用したい!Z39:AK39))","v":24.266666666666666},{"$f":"IF(COUNT(特に買いたい・利用したい!AA39:AL39)<>12,\"\",AVERAGE(特に買いたい・利用したい!AA39:AL39))","v":24.308333333333337},{"$f":"IF(COUNT(特に買いたい・利用したい!AB39:AM39)<>12,\"\",AVERAGE(特に買いたい・利用したい!AB39:AM39))","v":24.741666666666671},{"$f":"IF(COUNT(特に買いたい・利用したい!AC39:AN39)<>12,\"\",AVERAGE(特に買いたい・利用したい!AC39:AN39))","v":24.083333333333339},{"$f":"IF(COUNT(特に買いたい・利用したい!AD39:AO39)<>12,\"\",AVERAGE(特に買いたい・利用したい!AD39:AO39))","v":23.983333333333338},{"$f":"IF(COUNT(特に買いたい・利用したい!AE39:AP39)<>12,\"\",AVERAGE(特に買いたい・利用したい!AE39:AP39))","v":23.733333333333334},{"$f":"IF(COUNT(特に買いたい・利用したい!AF39:AQ39)<>12,\"\",AVERAGE(特に買いたい・利用したい!AF39:AQ39))","v":25.066666666666666},{"$f":"IF(COUNT(特に買いたい・利用したい!AG39:AR39)<>12,\"\",AVERAGE(特に買いたい・利用したい!AG39:AR39))","v":25.549999999999997},{"$f":"IF(COUNT(特に買いたい・利用したい!AH39:AS39)<>12,\"\",AVERAGE(特に買いたい・利用したい!AH39:AS39))","v":25.816666666666663},{"$f":"IF(COUNT(特に買いたい・利用したい!AI39:AT39)<>12,\"\",AVERAGE(特に買いたい・利用したい!AI39:AT39))","v":26.408333333333328},{"$f":"IF(COUNT(特に買いたい・利用したい!AJ39:AU39)<>12,\"\",AVERAGE(特に買いたい・利用したい!AJ39:AU39))","v":27.149999999999995},{"$f":"IF(COUNT(特に買いたい・利用したい!AK39:AV39)<>12,\"\",AVERAGE(特に買いたい・利用したい!AK39:AV39))","v":27.174999999999997},{"$f":"IF(COUNT(特に買いたい・利用したい!AL39:AW39)<>12,\"\",AVERAGE(特に買いたい・利用したい!AL39:AW39))","v":26.916666666666661},{"$f":"IF(COUNT(特に買いたい・利用したい!AM39:AX39)<>12,\"\",AVERAGE(特に買いたい・利用したい!AM39:AX39))","v":27.633333333333329},{"$f":"IF(COUNT(特に買いたい・利用したい!AN39:AY39)<>12,\"\",AVERAGE(特に買いたい・利用したい!AN39:AY39))","v":27.616666666666664},{"$f":"IF(COUNT(特に買いたい・利用したい!AO39:AZ39)<>12,\"\",AVERAGE(特に買いたい・利用したい!AO39:AZ39))","v":28.333333333333332},{"$f":"IF(COUNT(特に買いたい・利用したい!AP39:BA39)<>12,\"\",AVERAGE(特に買いたい・利用したい!AP39:BA39))","v":28.324999999999999},{"$f":"IF(COUNT(特に買いたい・利用したい!AQ39:BB39)<>12,\"\",AVERAGE(特に買いたい・利用したい!AQ39:BB39))","v":28.075000000000003},{"$f":"IF(COUNT(特に買いたい・利用したい!AR39:BC39)<>12,\"\",AVERAGE(特に買いたい・利用したい!AR39:BC39))","v":27.166666666666668},{"$f":"IF(COUNT(特に買いたい・利用したい!AS39:BD39)<>12,\"\",AVERAGE(特に買いたい・利用したい!AS39:BD39))","v":27.133333333333336},{"$f":"IF(COUNT(特に買いたい・利用したい!AT39:BE39)<>12,\"\",AVERAGE(特に買いたい・利用したい!AT39:BE39))","v":""},{"$f":"IF(COUNT(特に買いたい・利用したい!AU39:BF39)<>12,\"\",AVERAGE(特に買いたい・利用したい!AU39:BF39))","v":""},{"$f":"IF(COUNT(特に買いたい・利用したい!AV39:BG39)<>12,\"\",AVERAGE(特に買いたい・利用したい!AV39:BG39))","v":""},{"$f":"IF(COUNT(特に買いたい・利用したい!AW39:BH39)<>12,\"\",AVERAGE(特に買いたい・利用したい!AW39:BH39))","v":""},{"$f":"IF(COUNT(特に買いたい・利用したい!AX39:BI39)<>12,\"\",AVERAGE(特に買いたい・利用したい!AX39:BI39))","v":""},{"$f":"IF(COUNT(特に買いたい・利用したい!AY39:BJ39)<>12,\"\",AVERAGE(特に買いたい・利用したい!AY39:BJ39))","v":""},{"$f":"IF(COUNT(特に買いたい・利用したい!AZ39:BK39)<>12,\"\",AVERAGE(特に買いたい・利用したい!AZ39:BK39))","v":""},{"$f":"IF(COUNT(特に買いたい・利用したい!BA39:BL39)<>12,\"\",AVERAGE(特に買いたい・利用したい!BA39:BL39))","v":""},{"$f":"IF(COUNT(特に買いたい・利用したい!BB39:BM39)<>12,\"\",AVERAGE(特に買いたい・利用したい!BB39:BM39))","v":""},{"$f":"IF(COUNT(特に買いたい・利用したい!BC39:BN39)<>12,\"\",AVERAGE(特に買いたい・利用したい!BC39:BN39))","v":""},{"$f":"IF(COUNT(特に買いたい・利用したい!BD39:BO39)<>12,\"\",AVERAGE(特に買いたい・利用したい!BD39:BO39))","v":""},{"$f":"IF(COUNT(特に買いたい・利用したい!BE39:BP39)<>12,\"\",AVERAGE(特に買いたい・利用したい!BE39:BP39))","v":""},{"$f":"IF(COUNT(特に買いたい・利用したい!BF39:BQ39)<>12,\"\",AVERAGE(特に買いたい・利用したい!BF39:BQ39))","v":""},{"$f":"IF(COUNT(特に買いたい・利用したい!BG39:BR39)<>12,\"\",AVERAGE(特に買いたい・利用したい!BG39:BR39))","v":""},{"$f":"IF(COUNT(特に買いたい・利用したい!BH39:BS39)<>12,\"\",AVERAGE(特に買いたい・利用したい!BH39:BS39))","v":""},{"$f":"IF(COUNT(特に買いたい・利用したい!BI39:BT39)<>12,\"\",AVERAGE(特に買いたい・利用したい!BI39:BT39))","v":""},{"$f":"IF(COUNT(特に買いたい・利用したい!BJ39:BU39)<>12,\"\",AVERAGE(特に買いたい・利用したい!BJ39:BU39))","v":""},{"$f":"IF(COUNT(特に買いたい・利用したい!BK39:BV39)<>12,\"\",AVERAGE(特に買いたい・利用したい!BK39:BV39))","v":""},{"$f":"IF(COUNT(特に買いたい・利用したい!BL39:BW39)<>12,\"\",AVERAGE(特に買いたい・利用したい!BL39:BW39))","v":""},{"$f":"IF(COUNT(特に買いたい・利用したい!BM39:BX39)<>12,\"\",AVERAGE(特に買いたい・利用したい!BM39:BX39))","v":""},{"$f":"IF(COUNT(特に買いたい・利用したい!BN39:BY39)<>12,\"\",AVERAGE(特に買いたい・利用したい!BN39:BY39))","v":""},{"$f":"IF(COUNT(特に買いたい・利用したい!BO39:BZ39)<>12,\"\",AVERAGE(特に買いたい・利用したい!BO39:BZ39))","v":""},{"$f":"IF(COUNT(特に買いたい・利用したい!BP39:CA39)<>12,\"\",AVERAGE(特に買いたい・利用したい!BP39:CA39))","v":""},{"$f":"IF(COUNT(特に買いたい・利用したい!BQ39:CB39)<>12,\"\",AVERAGE(特に買いたい・利用したい!BQ39:CB39))","v":""},{"$f":"IF(COUNT(特に買いたい・利用したい!BR39:CC39)<>12,\"\",AVERAGE(特に買いたい・利用したい!BR39:CC39))","v":""},{"$f":"IF(COUNT(特に買いたい・利用したい!BS39:CD39)<>12,\"\",AVERAGE(特に買いたい・利用したい!BS39:CD39))","v":""},{"$f":"IF(COUNT(特に買いたい・利用したい!BT39:CE39)<>12,\"\",AVERAGE(特に買いたい・利用したい!BT39:CE39))","v":""},{"$f":"IF(COUNT(特に買いたい・利用したい!BU39:CF39)<>12,\"\",AVERAGE(特に買いたい・利用したい!BU39:CF39))","v":""},{"$f":"IF(COUNT(特に買いたい・利用したい!BV39:CG39)<>12,\"\",AVERAGE(特に買いたい・利用したい!BV39:CG39))","v":""},{"$f":"IF(COUNT(特に買いたい・利用したい!BW39:CH39)<>12,\"\",AVERAGE(特に買いたい・利用したい!BW39:CH39))","v":""},{"$f":"IF(COUNT(特に買いたい・利用したい!BX39:CI39)<>12,\"\",AVERAGE(特に買いたい・利用したい!BX39:CI39))","v":""},{"$f":"IF(COUNT(特に買いたい・利用したい!BY39:CJ39)<>12,\"\",AVERAGE(特に買いたい・利用したい!BY39:CJ39))","v":""},{"$f":"IF(COUNT(特に買いたい・利用したい!BZ39:CK39)<>12,\"\",AVERAGE(特に買いたい・利用したい!BZ39:CK39))","v":""},{"$f":"IF(COUNT(特に買いたい・利用したい!CA39:CL39)<>12,\"\",AVERAGE(特に買いたい・利用したい!CA39:CL39))","v":""},{"$f":"IF(COUNT(特に買いたい・利用したい!CB39:CM39)<>12,\"\",AVERAGE(特に買いたい・利用したい!CB39:CM39))","v":""},{"$f":"IF(COUNT(特に買いたい・利用したい!CC39:CN39)<>12,\"\",AVERAGE(特に買いたい・利用したい!CC39:CN39))","v":""},{"$f":"IF(COUNT(特に買いたい・利用したい!CD39:CO39)<>12,\"\",AVERAGE(特に買いたい・利用したい!CD39:CO39))","v":""},{"$f":"IF(COUNT(特に買いたい・利用したい!CE39:CP39)<>12,\"\",AVERAGE(特に買いたい・利用したい!CE39:CP39))","v":""},{"$f":"IF(COUNT(特に買いたい・利用したい!CF39:CQ39)<>12,\"\",AVERAGE(特に買いたい・利用したい!CF39:CQ39))","v":""},{"$f":"IF(COUNT(特に買いたい・利用したい!CG39:CR39)<>12,\"\",AVERAGE(特に買いたい・利用したい!CG39:CR39))","v":""},{"$f":"IF(COUNT(特に買いたい・利用したい!CH39:CS39)<>12,\"\",AVERAGE(特に買いたい・利用したい!CH39:CS39))","v":""},{"$f":"IF(COUNT(特に買いたい・利用したい!CI39:CT39)<>12,\"\",AVERAGE(特に買いたい・利用したい!CI39:CT39))","v":""},{"$f":"IF(COUNT(特に買いたい・利用したい!CJ39:CU39)<>12,\"\",AVERAGE(特に買いたい・利用したい!CJ39:CU39))","v":""},{"$f":"IF(COUNT(特に買いたい・利用したい!CK39:CV39)<>12,\"\",AVERAGE(特に買いたい・利用したい!CK39:CV39))","v":""},{"$f":"IF(COUNT(特に買いたい・利用したい!CL39:CW39)<>12,\"\",AVERAGE(特に買いたい・利用したい!CL39:CW39))","v":""},{"$f":"IF(COUNT(特に買いたい・利用したい!CM39:CX39)<>12,\"\",AVERAGE(特に買いたい・利用したい!CM39:CX39))","v":""},{"$f":"IF(COUNT(特に買いたい・利用したい!CN39:CY39)<>12,\"\",AVERAGE(特に買いたい・利用したい!CN39:CY39))","v":""},{"$f":"IF(COUNT(特に買いたい・利用したい!CO39:CZ39)<>12,\"\",AVERAGE(特に買いたい・利用したい!CO39:CZ39))","v":""},{"$f":"IF(COUNT(特に買いたい・利用したい!CP39:DA39)<>12,\"\",AVERAGE(特に買いたい・利用したい!CP39:DA39))","v":""},{"$f":"IF(COUNT(特に買いたい・利用したい!CQ39:DB39)<>12,\"\",AVERAGE(特に買いたい・利用したい!CQ39:DB39))","v":""},{"$f":"IF(COUNT(特に買いたい・利用したい!CR39:DC39)<>12,\"\",AVERAGE(特に買いたい・利用したい!CR39:DC39))","v":""},{"$f":"IF(COUNT(特に買いたい・利用したい!CS39:DD39)<>12,\"\",AVERAGE(特に買いたい・利用したい!CS39:DD39))","v":""},{"$f":"IF(COUNT(特に買いたい・利用したい!CT39:DE39)<>12,\"\",AVERAGE(特に買いたい・利用したい!CT39:DE39))","v":""},{"$f":"IF(COUNT(特に買いたい・利用したい!CU39:DF39)<>12,\"\",AVERAGE(特に買いたい・利用したい!CU39:DF39))","v":""},{"$f":"IF(COUNT(特に買いたい・利用したい!CV39:DG39)<>12,\"\",AVERAGE(特に買いたい・利用したい!CV39:DG39))","v":""}]
[null,null,"女性／無職",null,null,null,null,null,null,null,null,null,null,null,null,null,null,null,{"$f":"IF(COUNT(特に買いたい・利用したい!H40:S40)<>12,\"\",AVERAGE(特に買いたい・利用したい!H40:S40))","v":34.308333333333337},{"$f":"IF(COUNT(特に買いたい・利用したい!I40:T40)<>12,\"\",AVERAGE(特に買いたい・利用したい!I40:T40))","v":33.63333333333334},{"$f":"IF(COUNT(特に買いたい・利用したい!J40:U40)<>12,\"\",AVERAGE(特に買いたい・利用したい!J40:U40))","v":33.325000000000003},{"$f":"IF(COUNT(特に買いたい・利用したい!K40:V40)<>12,\"\",AVERAGE(特に買いたい・利用したい!K40:V40))","v":32.783333333333339},{"$f":"IF(COUNT(特に買いたい・利用したい!L40:W40)<>12,\"\",AVERAGE(特に買いたい・利用したい!L40:W40))","v":32.991666666666674},{"$f":"IF(COUNT(特に買いたい・利用したい!M40:X40)<>12,\"\",AVERAGE(特に買いたい・利用したい!M40:X40))","v":32.600000000000009},{"$f":"IF(COUNT(特に買いたい・利用したい!N40:Y40)<>12,\"\",AVERAGE(特に買いたい・利用したい!N40:Y40))","v":32.183333333333337},{"$f":"IF(COUNT(特に買いたい・利用したい!O40:Z40)<>12,\"\",AVERAGE(特に買いたい・利用したい!O40:Z40))","v":31.275000000000002},{"$f":"IF(COUNT(特に買いたい・利用したい!P40:AA40)<>12,\"\",AVERAGE(特に買いたい・利用したい!P40:AA40))","v":30.616666666666664},{"$f":"IF(COUNT(特に買いたい・利用したい!Q40:AB40)<>12,\"\",AVERAGE(特に買いたい・利用したい!Q40:AB40))","v":29.616666666666664},{"$f":"IF(COUNT(特に買いたい・利用したい!R40:AC40)<>12,\"\",AVERAGE(特に買いたい・利用したい!R40:AC40))","v":29.933333333333337},{"$f":"IF(COUNT(特に買いたい・利用したい!S40:AD40)<>12,\"\",AVERAGE(特に買いたい・利用したい!S40:AD40))","v":30.583333333333339},{"$f":"IF(COUNT(特に買いたい・利用したい!T40:AE40)<>12,\"\",AVERAGE(特に買いたい・利用したい!T40:AE40))","v":29.041666666666671},{"$f":"IF(COUNT(特に買いたい・利用したい!U40:AF40)<>12,\"\",AVERAGE(特に買いたい・利用したい!U40:AF40))","v":28.283333333333335},{"$f":"IF(COUNT(特に買いたい・利用したい!V40:AG40)<>12,\"\",AVERAGE(特に買いたい・利用したい!V40:AG40))","v":27.691666666666663},{"$f":"IF(COUNT(特に買いたい・利用したい!W40:AH40)<>12,\"\",AVERAGE(特に買いたい・利用したい!W40:AH40))","v":27.266666666666666},{"$f":"IF(COUNT(特に買いたい・利用したい!X40:AI40)<>12,\"\",AVERAGE(特に買いたい・利用したい!X40:AI40))","v":27.133333333333329},{"$f":"IF(COUNT(特に買いたい・利用したい!Y40:AJ40)<>12,\"\",AVERAGE(特に買いたい・利用したい!Y40:AJ40))","v":27.299999999999997},{"$f":"IF(COUNT(特に買いたい・利用したい!Z40:AK40)<>12,\"\",AVERAGE(特に買いたい・利用したい!Z40:AK40))","v":26.891666666666666},{"$f":"IF(COUNT(特に買いたい・利用したい!AA40:AL40)<>12,\"\",AVERAGE(特に買いたい・利用したい!AA40:AL40))","v":26.95},{"$f":"IF(COUNT(特に買いたい・利用したい!AB40:AM40)<>12,\"\",AVERAGE(特に買いたい・利用したい!AB40:AM40))","v":27.875},{"$f":"IF(COUNT(特に買いたい・利用したい!AC40:AN40)<>12,\"\",AVERAGE(特に買いたい・利用したい!AC40:AN40))","v":27.666666666666671},{"$f":"IF(COUNT(特に買いたい・利用したい!AD40:AO40)<>12,\"\",AVERAGE(特に買いたい・利用したい!AD40:AO40))","v":27.116666666666671},{"$f":"IF(COUNT(特に買いたい・利用したい!AE40:AP40)<>12,\"\",AVERAGE(特に買いたい・利用したい!AE40:AP40))","v":25.966666666666669},{"$f":"IF(COUNT(特に買いたい・利用したい!AF40:AQ40)<>12,\"\",AVERAGE(特に買いたい・利用したい!AF40:AQ40))","v":27.083333333333332},{"$f":"IF(COUNT(特に買いたい・利用したい!AG40:AR40)<>12,\"\",AVERAGE(特に買いたい・利用したい!AG40:AR40))","v":27.758333333333336},{"$f":"IF(COUNT(特に買いたい・利用したい!AH40:AS40)<>12,\"\",AVERAGE(特に買いたい・利用したい!AH40:AS40))","v":27.924999999999997},{"$f":"IF(COUNT(特に買いたい・利用したい!AI40:AT40)<>12,\"\",AVERAGE(特に買いたい・利用したい!AI40:AT40))","v":28.266666666666669},{"$f":"IF(COUNT(特に買いたい・利用したい!AJ40:AU40)<>12,\"\",AVERAGE(特に買いたい・利用したい!AJ40:AU40))","v":28.3},{"$f":"IF(COUNT(特に買いたい・利用したい!AK40:AV40)<>12,\"\",AVERAGE(特に買いたい・利用したい!AK40:AV40))","v":28.541666666666668},{"$f":"IF(COUNT(特に買いたい・利用したい!AL40:AW40)<>12,\"\",AVERAGE(特に買いたい・利用したい!AL40:AW40))","v":28.733333333333334},{"$f":"IF(COUNT(特に買いたい・利用したい!AM40:AX40)<>12,\"\",AVERAGE(特に買いたい・利用したい!AM40:AX40))","v":29.141666666666666},{"$f":"IF(COUNT(特に買いたい・利用したい!AN40:AY40)<>12,\"\",AVERAGE(特に買いたい・利用したい!AN40:AY40))","v":29.05},{"$f":"IF(COUNT(特に買いたい・利用したい!AO40:AZ40)<>12,\"\",AVERAGE(特に買いたい・利用したい!AO40:AZ40))","v":29.499999999999996},{"$f":"IF(COUNT(特に買いたい・利用したい!AP40:BA40)<>12,\"\",AVERAGE(特に買いたい・利用したい!AP40:BA40))","v":30.033333333333328},{"$f":"IF(COUNT(特に買いたい・利用したい!AQ40:BB40)<>12,\"\",AVERAGE(特に買いたい・利用したい!AQ40:BB40))","v":29.766666666666662},{"$f":"IF(COUNT(特に買いたい・利用したい!AR40:BC40)<>12,\"\",AVERAGE(特に買いたい・利用したい!AR40:BC40))","v":29.199999999999992},{"$f":"IF(COUNT(特に買いたい・利用したい!AS40:BD40)<>12,\"\",AVERAGE(特に買いたい・利用したい!AS40:BD40))","v":29.316666666666666},{"$f":"IF(COUNT(特に買いたい・利用したい!AT40:BE40)<>12,\"\",AVERAGE(特に買いたい・利用したい!AT40:BE40))","v":""},{"$f":"IF(COUNT(特に買いたい・利用したい!AU40:BF40)<>12,\"\",AVERAGE(特に買いたい・利用したい!AU40:BF40))","v":""},{"$f":"IF(COUNT(特に買いたい・利用したい!AV40:BG40)<>12,\"\",AVERAGE(特に買いたい・利用したい!AV40:BG40))","v":""},{"$f":"IF(COUNT(特に買いたい・利用したい!AW40:BH40)<>12,\"\",AVERAGE(特に買いたい・利用したい!AW40:BH40))","v":""},{"$f":"IF(COUNT(特に買いたい・利用したい!AX40:BI40)<>12,\"\",AVERAGE(特に買いたい・利用したい!AX40:BI40))","v":""},{"$f":"IF(COUNT(特に買いたい・利用したい!AY40:BJ40)<>12,\"\",AVERAGE(特に買いたい・利用したい!AY40:BJ40))","v":""},{"$f":"IF(COUNT(特に買いたい・利用したい!AZ40:BK40)<>12,\"\",AVERAGE(特に買いたい・利用したい!AZ40:BK40))","v":""},{"$f":"IF(COUNT(特に買いたい・利用したい!BA40:BL40)<>12,\"\",AVERAGE(特に買いたい・利用したい!BA40:BL40))","v":""},{"$f":"IF(COUNT(特に買いたい・利用したい!BB40:BM40)<>12,\"\",AVERAGE(特に買いたい・利用したい!BB40:BM40))","v":""},{"$f":"IF(COUNT(特に買いたい・利用したい!BC40:BN40)<>12,\"\",AVERAGE(特に買いたい・利用したい!BC40:BN40))","v":""},{"$f":"IF(COUNT(特に買いたい・利用したい!BD40:BO40)<>12,\"\",AVERAGE(特に買いたい・利用したい!BD40:BO40))","v":""},{"$f":"IF(COUNT(特に買いたい・利用したい!BE40:BP40)<>12,\"\",AVERAGE(特に買いたい・利用したい!BE40:BP40))","v":""},{"$f":"IF(COUNT(特に買いたい・利用したい!BF40:BQ40)<>12,\"\",AVERAGE(特に買いたい・利用したい!BF40:BQ40))","v":""},{"$f":"IF(COUNT(特に買いたい・利用したい!BG40:BR40)<>12,\"\",AVERAGE(特に買いたい・利用したい!BG40:BR40))","v":""},{"$f":"IF(COUNT(特に買いたい・利用したい!BH40:BS40)<>12,\"\",AVERAGE(特に買いたい・利用したい!BH40:BS40))","v":""},{"$f":"IF(COUNT(特に買いたい・利用したい!BI40:BT40)<>12,\"\",AVERAGE(特に買いたい・利用したい!BI40:BT40))","v":""},{"$f":"IF(COUNT(特に買いたい・利用したい!BJ40:BU40)<>12,\"\",AVERAGE(特に買いたい・利用したい!BJ40:BU40))","v":""},{"$f":"IF(COUNT(特に買いたい・利用したい!BK40:BV40)<>12,\"\",AVERAGE(特に買いたい・利用したい!BK40:BV40))","v":""},{"$f":"IF(COUNT(特に買いたい・利用したい!BL40:BW40)<>12,\"\",AVERAGE(特に買いたい・利用したい!BL40:BW40))","v":""},{"$f":"IF(COUNT(特に買いたい・利用したい!BM40:BX40)<>12,\"\",AVERAGE(特に買いたい・利用したい!BM40:BX40))","v":""},{"$f":"IF(COUNT(特に買いたい・利用したい!BN40:BY40)<>12,\"\",AVERAGE(特に買いたい・利用したい!BN40:BY40))","v":""},{"$f":"IF(COUNT(特に買いたい・利用したい!BO40:BZ40)<>12,\"\",AVERAGE(特に買いたい・利用したい!BO40:BZ40))","v":""},{"$f":"IF(COUNT(特に買いたい・利用したい!BP40:CA40)<>12,\"\",AVERAGE(特に買いたい・利用したい!BP40:CA40))","v":""},{"$f":"IF(COUNT(特に買いたい・利用したい!BQ40:CB40)<>12,\"\",AVERAGE(特に買いたい・利用したい!BQ40:CB40))","v":""},{"$f":"IF(COUNT(特に買いたい・利用したい!BR40:CC40)<>12,\"\",AVERAGE(特に買いたい・利用したい!BR40:CC40))","v":""},{"$f":"IF(COUNT(特に買いたい・利用したい!BS40:CD40)<>12,\"\",AVERAGE(特に買いたい・利用したい!BS40:CD40))","v":""},{"$f":"IF(COUNT(特に買いたい・利用したい!BT40:CE40)<>12,\"\",AVERAGE(特に買いたい・利用したい!BT40:CE40))","v":""},{"$f":"IF(COUNT(特に買いたい・利用したい!BU40:CF40)<>12,\"\",AVERAGE(特に買いたい・利用したい!BU40:CF40))","v":""},{"$f":"IF(COUNT(特に買いたい・利用したい!BV40:CG40)<>12,\"\",AVERAGE(特に買いたい・利用したい!BV40:CG40))","v":""},{"$f":"IF(COUNT(特に買いたい・利用したい!BW40:CH40)<>12,\"\",AVERAGE(特に買いたい・利用したい!BW40:CH40))","v":""},{"$f":"IF(COUNT(特に買いたい・利用したい!BX40:CI40)<>12,\"\",AVERAGE(特に買いたい・利用したい!BX40:CI40))","v":""},{"$f":"IF(COUNT(特に買いたい・利用したい!BY40:CJ40)<>12,\"\",AVERAGE(特に買いたい・利用したい!BY40:CJ40))","v":""},{"$f":"IF(COUNT(特に買いたい・利用したい!BZ40:CK40)<>12,\"\",AVERAGE(特に買いたい・利用したい!BZ40:CK40))","v":""},{"$f":"IF(COUNT(特に買いたい・利用したい!CA40:CL40)<>12,\"\",AVERAGE(特に買いたい・利用したい!CA40:CL40))","v":""},{"$f":"IF(COUNT(特に買いたい・利用したい!CB40:CM40)<>12,\"\",AVERAGE(特に買いたい・利用したい!CB40:CM40))","v":""},{"$f":"IF(COUNT(特に買いたい・利用したい!CC40:CN40)<>12,\"\",AVERAGE(特に買いたい・利用したい!CC40:CN40))","v":""},{"$f":"IF(COUNT(特に買いたい・利用したい!CD40:CO40)<>12,\"\",AVERAGE(特に買いたい・利用したい!CD40:CO40))","v":""},{"$f":"IF(COUNT(特に買いたい・利用したい!CE40:CP40)<>12,\"\",AVERAGE(特に買いたい・利用したい!CE40:CP40))","v":""},{"$f":"IF(COUNT(特に買いたい・利用したい!CF40:CQ40)<>12,\"\",AVERAGE(特に買いたい・利用したい!CF40:CQ40))","v":""},{"$f":"IF(COUNT(特に買いたい・利用したい!CG40:CR40)<>12,\"\",AVERAGE(特に買いたい・利用したい!CG40:CR40))","v":""},{"$f":"IF(COUNT(特に買いたい・利用したい!CH40:CS40)<>12,\"\",AVERAGE(特に買いたい・利用したい!CH40:CS40))","v":""},{"$f":"IF(COUNT(特に買いたい・利用したい!CI40:CT40)<>12,\"\",AVERAGE(特に買いたい・利用したい!CI40:CT40))","v":""},{"$f":"IF(COUNT(特に買いたい・利用したい!CJ40:CU40)<>12,\"\",AVERAGE(特に買いたい・利用したい!CJ40:CU40))","v":""},{"$f":"IF(COUNT(特に買いたい・利用したい!CK40:CV40)<>12,\"\",AVERAGE(特に買いたい・利用したい!CK40:CV40))","v":""},{"$f":"IF(COUNT(特に買いたい・利用したい!CL40:CW40)<>12,\"\",AVERAGE(特に買いたい・利用したい!CL40:CW40))","v":""},{"$f":"IF(COUNT(特に買いたい・利用したい!CM40:CX40)<>12,\"\",AVERAGE(特に買いたい・利用したい!CM40:CX40))","v":""},{"$f":"IF(COUNT(特に買いたい・利用したい!CN40:CY40)<>12,\"\",AVERAGE(特に買いたい・利用したい!CN40:CY40))","v":""},{"$f":"IF(COUNT(特に買いたい・利用したい!CO40:CZ40)<>12,\"\",AVERAGE(特に買いたい・利用したい!CO40:CZ40))","v":""},{"$f":"IF(COUNT(特に買いたい・利用したい!CP40:DA40)<>12,\"\",AVERAGE(特に買いたい・利用したい!CP40:DA40))","v":""},{"$f":"IF(COUNT(特に買いたい・利用したい!CQ40:DB40)<>12,\"\",AVERAGE(特に買いたい・利用したい!CQ40:DB40))","v":""},{"$f":"IF(COUNT(特に買いたい・利用したい!CR40:DC40)<>12,\"\",AVERAGE(特に買いたい・利用したい!CR40:DC40))","v":""},{"$f":"IF(COUNT(特に買いたい・利用したい!CS40:DD40)<>12,\"\",AVERAGE(特に買いたい・利用したい!CS40:DD40))","v":""},{"$f":"IF(COUNT(特に買いたい・利用したい!CT40:DE40)<>12,\"\",AVERAGE(特に買いたい・利用したい!CT40:DE40))","v":""},{"$f":"IF(COUNT(特に買いたい・利用したい!CU40:DF40)<>12,\"\",AVERAGE(特に買いたい・利用したい!CU40:DF40))","v":""},{"$f":"IF(COUNT(特に買いたい・利用したい!CV40:DG40)<>12,\"\",AVERAGE(特に買いたい・利用したい!CV40:DG40))","v":""}]
[null,"職業別","勤め人（未婚）",null,null,null,null,null,null,null,null,null,null,null,null,null,null,null,{"$f":"IF(COUNT(特に買いたい・利用したい!H41:S41)<>12,\"\",AVERAGE(特に買いたい・利用したい!H41:S41))","v":34.466666666666669},{"$f":"IF(COUNT(特に買いたい・利用したい!I41:T41)<>12,\"\",AVERAGE(特に買いたい・利用したい!I41:T41))","v":33.716666666666661},{"$f":"IF(COUNT(特に買いたい・利用したい!J41:U41)<>12,\"\",AVERAGE(特に買いたい・利用したい!J41:U41))","v":33.649999999999991},{"$f":"IF(COUNT(特に買いたい・利用したい!K41:V41)<>12,\"\",AVERAGE(特に買いたい・利用したい!K41:V41))","v":32.508333333333333},{"$f":"IF(COUNT(特に買いたい・利用したい!L41:W41)<>12,\"\",AVERAGE(特に買いたい・利用したい!L41:W41))","v":32.708333333333336},{"$f":"IF(COUNT(特に買いたい・利用したい!M41:X41)<>12,\"\",AVERAGE(特に買いたい・利用したい!M41:X41))","v":31.916666666666668},{"$f":"IF(COUNT(特に買いたい・利用したい!N41:Y41)<>12,\"\",AVERAGE(特に買いたい・利用したい!N41:Y41))","v":32.283333333333331},{"$f":"IF(COUNT(特に買いたい・利用したい!O41:Z41)<>12,\"\",AVERAGE(特に買いたい・利用したい!O41:Z41))","v":32.608333333333327},{"$f":"IF(COUNT(特に買いたい・利用したい!P41:AA41)<>12,\"\",AVERAGE(特に買いたい・利用したい!P41:AA41))","v":32.241666666666667},{"$f":"IF(COUNT(特に買いたい・利用したい!Q41:AB41)<>12,\"\",AVERAGE(特に買いたい・利用したい!Q41:AB41))","v":31.8},{"$f":"IF(COUNT(特に買いたい・利用したい!R41:AC41)<>12,\"\",AVERAGE(特に買いたい・利用したい!R41:AC41))","v":31.55},{"$f":"IF(COUNT(特に買いたい・利用したい!S41:AD41)<>12,\"\",AVERAGE(特に買いたい・利用したい!S41:AD41))","v":31.55},{"$f":"IF(COUNT(特に買いたい・利用したい!T41:AE41)<>12,\"\",AVERAGE(特に買いたい・利用したい!T41:AE41))","v":30.250000000000004},{"$f":"IF(COUNT(特に買いたい・利用したい!U41:AF41)<>12,\"\",AVERAGE(特に買いたい・利用したい!U41:AF41))","v":29.850000000000005},{"$f":"IF(COUNT(特に買いたい・利用したい!V41:AG41)<>12,\"\",AVERAGE(特に買いたい・利用したい!V41:AG41))","v":29.525000000000006},{"$f":"IF(COUNT(特に買いたい・利用したい!W41:AH41)<>12,\"\",AVERAGE(特に買いたい・利用したい!W41:AH41))","v":29.641666666666669},{"$f":"IF(COUNT(特に買いたい・利用したい!X41:AI41)<>12,\"\",AVERAGE(特に買いたい・利用したい!X41:AI41))","v":29.408333333333335},{"$f":"IF(COUNT(特に買いたい・利用したい!Y41:AJ41)<>12,\"\",AVERAGE(特に買いたい・利用したい!Y41:AJ41))","v":29.799999999999997},{"$f":"IF(COUNT(特に買いたい・利用したい!Z41:AK41)<>12,\"\",AVERAGE(特に買いたい・利用したい!Z41:AK41))","v":29.158333333333331},{"$f":"IF(COUNT(特に買いたい・利用したい!AA41:AL41)<>12,\"\",AVERAGE(特に買いたい・利用したい!AA41:AL41))","v":28.991666666666664},{"$f":"IF(COUNT(特に買いたい・利用したい!AB41:AM41)<>12,\"\",AVERAGE(特に買いたい・利用したい!AB41:AM41))","v":29.041666666666661},{"$f":"IF(COUNT(特に買いたい・利用したい!AC41:AN41)<>12,\"\",AVERAGE(特に買いたい・利用したい!AC41:AN41))","v":29.408333333333331},{"$f":"IF(COUNT(特に買いたい・利用したい!AD41:AO41)<>12,\"\",AVERAGE(特に買いたい・利用したい!AD41:AO41))","v":29.358333333333334},{"$f":"IF(COUNT(特に買いたい・利用したい!AE41:AP41)<>12,\"\",AVERAGE(特に買いたい・利用したい!AE41:AP41))","v":28.649999999999995},{"$f":"IF(COUNT(特に買いたい・利用したい!AF41:AQ41)<>12,\"\",AVERAGE(特に買いたい・利用したい!AF41:AQ41))","v":30.008333333333329},{"$f":"IF(COUNT(特に買いたい・利用したい!AG41:AR41)<>12,\"\",AVERAGE(特に買いたい・利用したい!AG41:AR41))","v":30.208333333333329},{"$f":"IF(COUNT(特に買いたい・利用したい!AH41:AS41)<>12,\"\",AVERAGE(特に買いたい・利用したい!AH41:AS41))","v":30.566666666666663},{"$f":"IF(COUNT(特に買いたい・利用したい!AI41:AT41)<>12,\"\",AVERAGE(特に買いたい・利用したい!AI41:AT41))","v":30.708333333333332},{"$f":"IF(COUNT(特に買いたい・利用したい!AJ41:AU41)<>12,\"\",AVERAGE(特に買いたい・利用したい!AJ41:AU41))","v":30.599999999999998},{"$f":"IF(COUNT(特に買いたい・利用したい!AK41:AV41)<>12,\"\",AVERAGE(特に買いたい・利用したい!AK41:AV41))","v":30.616666666666664},{"$f":"IF(COUNT(特に買いたい・利用したい!AL41:AW41)<>12,\"\",AVERAGE(特に買いたい・利用したい!AL41:AW41))","v":30.866666666666671},{"$f":"IF(COUNT(特に買いたい・利用したい!AM41:AX41)<>12,\"\",AVERAGE(特に買いたい・利用したい!AM41:AX41))","v":30.533333333333335},{"$f":"IF(COUNT(特に買いたい・利用したい!AN41:AY41)<>12,\"\",AVERAGE(特に買いたい・利用したい!AN41:AY41))","v":30.566666666666674},{"$f":"IF(COUNT(特に買いたい・利用したい!AO41:AZ41)<>12,\"\",AVERAGE(特に買いたい・利用したい!AO41:AZ41))","v":30.683333333333337},{"$f":"IF(COUNT(特に買いたい・利用したい!AP41:BA41)<>12,\"\",AVERAGE(特に買いたい・利用したい!AP41:BA41))","v":30.416666666666668},{"$f":"IF(COUNT(特に買いたい・利用したい!AQ41:BB41)<>12,\"\",AVERAGE(特に買いたい・利用したい!AQ41:BB41))","v":30.366666666666671},{"$f":"IF(COUNT(特に買いたい・利用したい!AR41:BC41)<>12,\"\",AVERAGE(特に買いたい・利用したい!AR41:BC41))","v":30.358333333333334},{"$f":"IF(COUNT(特に買いたい・利用したい!AS41:BD41)<>12,\"\",AVERAGE(特に買いたい・利用したい!AS41:BD41))","v":30.875},{"$f":"IF(COUNT(特に買いたい・利用したい!AT41:BE41)<>12,\"\",AVERAGE(特に買いたい・利用したい!AT41:BE41))","v":""},{"$f":"IF(COUNT(特に買いたい・利用したい!AU41:BF41)<>12,\"\",AVERAGE(特に買いたい・利用したい!AU41:BF41))","v":""},{"$f":"IF(COUNT(特に買いたい・利用したい!AV41:BG41)<>12,\"\",AVERAGE(特に買いたい・利用したい!AV41:BG41))","v":""},{"$f":"IF(COUNT(特に買いたい・利用したい!AW41:BH41)<>12,\"\",AVERAGE(特に買いたい・利用したい!AW41:BH41))","v":""},{"$f":"IF(COUNT(特に買いたい・利用したい!AX41:BI41)<>12,\"\",AVERAGE(特に買いたい・利用したい!AX41:BI41))","v":""},{"$f":"IF(COUNT(特に買いたい・利用したい!AY41:BJ41)<>12,\"\",AVERAGE(特に買いたい・利用したい!AY41:BJ41))","v":""},{"$f":"IF(COUNT(特に買いたい・利用したい!AZ41:BK41)<>12,\"\",AVERAGE(特に買いたい・利用したい!AZ41:BK41))","v":""},{"$f":"IF(COUNT(特に買いたい・利用したい!BA41:BL41)<>12,\"\",AVERAGE(特に買いたい・利用したい!BA41:BL41))","v":""},{"$f":"IF(COUNT(特に買いたい・利用したい!BB41:BM41)<>12,\"\",AVERAGE(特に買いたい・利用したい!BB41:BM41))","v":""},{"$f":"IF(COUNT(特に買いたい・利用したい!BC41:BN41)<>12,\"\",AVERAGE(特に買いたい・利用したい!BC41:BN41))","v":""},{"$f":"IF(COUNT(特に買いたい・利用したい!BD41:BO41)<>12,\"\",AVERAGE(特に買いたい・利用したい!BD41:BO41))","v":""},{"$f":"IF(COUNT(特に買いたい・利用したい!BE41:BP41)<>12,\"\",AVERAGE(特に買いたい・利用したい!BE41:BP41))","v":""},{"$f":"IF(COUNT(特に買いたい・利用したい!BF41:BQ41)<>12,\"\",AVERAGE(特に買いたい・利用したい!BF41:BQ41))","v":""},{"$f":"IF(COUNT(特に買いたい・利用したい!BG41:BR41)<>12,\"\",AVERAGE(特に買いたい・利用したい!BG41:BR41))","v":""},{"$f":"IF(COUNT(特に買いたい・利用したい!BH41:BS41)<>12,\"\",AVERAGE(特に買いたい・利用したい!BH41:BS41))","v":""},{"$f":"IF(COUNT(特に買いたい・利用したい!BI41:BT41)<>12,\"\",AVERAGE(特に買いたい・利用したい!BI41:BT41))","v":""},{"$f":"IF(COUNT(特に買いたい・利用したい!BJ41:BU41)<>12,\"\",AVERAGE(特に買いたい・利用したい!BJ41:BU41))","v":""},{"$f":"IF(COUNT(特に買いたい・利用したい!BK41:BV41)<>12,\"\",AVERAGE(特に買いたい・利用したい!BK41:BV41))","v":""},{"$f":"IF(COUNT(特に買いたい・利用したい!BL41:BW41)<>12,\"\",AVERAGE(特に買いたい・利用したい!BL41:BW41))","v":""},{"$f":"IF(COUNT(特に買いたい・利用したい!BM41:BX41)<>12,\"\",AVERAGE(特に買いたい・利用したい!BM41:BX41))","v":""},{"$f":"IF(COUNT(特に買いたい・利用したい!BN41:BY41)<>12,\"\",AVERAGE(特に買いたい・利用したい!BN41:BY41))","v":""},{"$f":"IF(COUNT(特に買いたい・利用したい!BO41:BZ41)<>12,\"\",AVERAGE(特に買いたい・利用したい!BO41:BZ41))","v":""},{"$f":"IF(COUNT(特に買いたい・利用したい!BP41:CA41)<>12,\"\",AVERAGE(特に買いたい・利用したい!BP41:CA41))","v":""},{"$f":"IF(COUNT(特に買いたい・利用したい!BQ41:CB41)<>12,\"\",AVERAGE(特に買いたい・利用したい!BQ41:CB41))","v":""},{"$f":"IF(COUNT(特に買いたい・利用したい!BR41:CC41)<>12,\"\",AVERAGE(特に買いたい・利用したい!BR41:CC41))","v":""},{"$f":"IF(COUNT(特に買いたい・利用したい!BS41:CD41)<>12,\"\",AVERAGE(特に買いたい・利用したい!BS41:CD41))","v":""},{"$f":"IF(COUNT(特に買いたい・利用したい!BT41:CE41)<>12,\"\",AVERAGE(特に買いたい・利用したい!BT41:CE41))","v":""},{"$f":"IF(COUNT(特に買いたい・利用したい!BU41:CF41)<>12,\"\",AVERAGE(特に買いたい・利用したい!BU41:CF41))","v":""},{"$f":"IF(COUNT(特に買いたい・利用したい!BV41:CG41)<>12,\"\",AVERAGE(特に買いたい・利用したい!BV41:CG41))","v":""},{"$f":"IF(COUNT(特に買いたい・利用したい!BW41:CH41)<>12,\"\",AVERAGE(特に買いたい・利用したい!BW41:CH41))","v":""},{"$f":"IF(COUNT(特に買いたい・利用したい!BX41:CI41)<>12,\"\",AVERAGE(特に買いたい・利用したい!BX41:CI41))","v":""},{"$f":"IF(COUNT(特に買いたい・利用したい!BY41:CJ41)<>12,\"\",AVERAGE(特に買いたい・利用したい!BY41:CJ41))","v":""},{"$f":"IF(COUNT(特に買いたい・利用したい!BZ41:CK41)<>12,\"\",AVERAGE(特に買いたい・利用したい!BZ41:CK41))","v":""},{"$f":"IF(COUNT(特に買いたい・利用したい!CA41:CL41)<>12,\"\",AVERAGE(特に買いたい・利用したい!CA41:CL41))","v":""},{"$f":"IF(COUNT(特に買いたい・利用したい!CB41:CM41)<>12,\"\",AVERAGE(特に買いたい・利用したい!CB41:CM41))","v":""},{"$f":"IF(COUNT(特に買いたい・利用したい!CC41:CN41)<>12,\"\",AVERAGE(特に買いたい・利用したい!CC41:CN41))","v":""},{"$f":"IF(COUNT(特に買いたい・利用したい!CD41:CO41)<>12,\"\",AVERAGE(特に買いたい・利用したい!CD41:CO41))","v":""},{"$f":"IF(COUNT(特に買いたい・利用したい!CE41:CP41)<>12,\"\",AVERAGE(特に買いたい・利用したい!CE41:CP41))","v":""},{"$f":"IF(COUNT(特に買いたい・利用したい!CF41:CQ41)<>12,\"\",AVERAGE(特に買いたい・利用したい!CF41:CQ41))","v":""},{"$f":"IF(COUNT(特に買いたい・利用したい!CG41:CR41)<>12,\"\",AVERAGE(特に買いたい・利用したい!CG41:CR41))","v":""},{"$f":"IF(COUNT(特に買いたい・利用したい!CH41:CS41)<>12,\"\",AVERAGE(特に買いたい・利用したい!CH41:CS41))","v":""},{"$f":"IF(COUNT(特に買いたい・利用したい!CI41:CT41)<>12,\"\",AVERAGE(特に買いたい・利用したい!CI41:CT41))","v":""},{"$f":"IF(COUNT(特に買いたい・利用したい!CJ41:CU41)<>12,\"\",AVERAGE(特に買いたい・利用したい!CJ41:CU41))","v":""},{"$f":"IF(COUNT(特に買いたい・利用したい!CK41:CV41)<>12,\"\",AVERAGE(特に買いたい・利用したい!CK41:CV41))","v":""},{"$f":"IF(COUNT(特に買いたい・利用したい!CL41:CW41)<>12,\"\",AVERAGE(特に買いたい・利用したい!CL41:CW41))","v":""},{"$f":"IF(COUNT(特に買いたい・利用したい!CM41:CX41)<>12,\"\",AVERAGE(特に買いたい・利用したい!CM41:CX41))","v":""},{"$f":"IF(COUNT(特に買いたい・利用したい!CN41:CY41)<>12,\"\",AVERAGE(特に買いたい・利用したい!CN41:CY41))","v":""},{"$f":"IF(COUNT(特に買いたい・利用したい!CO41:CZ41)<>12,\"\",AVERAGE(特に買いたい・利用したい!CO41:CZ41))","v":""},{"$f":"IF(COUNT(特に買いたい・利用したい!CP41:DA41)<>12,\"\",AVERAGE(特に買いたい・利用したい!CP41:DA41))","v":""},{"$f":"IF(COUNT(特に買いたい・利用したい!CQ41:DB41)<>12,\"\",AVERAGE(特に買いたい・利用したい!CQ41:DB41))","v":""},{"$f":"IF(COUNT(特に買いたい・利用したい!CR41:DC41)<>12,\"\",AVERAGE(特に買いたい・利用したい!CR41:DC41))","v":""},{"$f":"IF(COUNT(特に買いたい・利用したい!CS41:DD41)<>12,\"\",AVERAGE(特に買いたい・利用したい!CS41:DD41))","v":""},{"$f":"IF(COUNT(特に買いたい・利用したい!CT41:DE41)<>12,\"\",AVERAGE(特に買いたい・利用したい!CT41:DE41))","v":""},{"$f":"IF(COUNT(特に買いたい・利用したい!CU41:DF41)<>12,\"\",AVERAGE(特に買いたい・利用したい!CU41:DF41))","v":""},{"$f":"IF(COUNT(特に買いたい・利用したい!CV41:DG41)<>12,\"\",AVERAGE(特に買いたい・利用したい!CV41:DG41))","v":""}]
[null,null,"勤め人（既婚）",null,null,null,null,null,null,null,null,null,null,null,null,null,null,null,{"$f":"IF(COUNT(特に買いたい・利用したい!H42:S42)<>12,\"\",AVERAGE(特に買いたい・利用したい!H42:S42))","v":30.450000000000003},{"$f":"IF(COUNT(特に買いたい・利用したい!I42:T42)<>12,\"\",AVERAGE(特に買いたい・利用したい!I42:T42))","v":29.916666666666671},{"$f":"IF(COUNT(特に買いたい・利用したい!J42:U42)<>12,\"\",AVERAGE(特に買いたい・利用したい!J42:U42))","v":29.350000000000005},{"$f":"IF(COUNT(特に買いたい・利用したい!K42:V42)<>12,\"\",AVERAGE(特に買いたい・利用したい!K42:V42))","v":28.616666666666674},{"$f":"IF(COUNT(特に買いたい・利用したい!L42:W42)<>12,\"\",AVERAGE(特に買いたい・利用したい!L42:W42))","v":28.375},{"$f":"IF(COUNT(特に買いたい・利用したい!M42:X42)<>12,\"\",AVERAGE(特に買いたい・利用したい!M42:X42))","v":27.600000000000005},{"$f":"IF(COUNT(特に買いたい・利用したい!N42:Y42)<>12,\"\",AVERAGE(特に買いたい・利用したい!N42:Y42))","v":27.175000000000001},{"$f":"IF(COUNT(特に買いたい・利用したい!O42:Z42)<>12,\"\",AVERAGE(特に買いたい・利用したい!O42:Z42))","v":26.866666666666671},{"$f":"IF(COUNT(特に買いたい・利用したい!P42:AA42)<>12,\"\",AVERAGE(特に買いたい・利用したい!P42:AA42))","v":26.566666666666666},{"$f":"IF(COUNT(特に買いたい・利用したい!Q42:AB42)<>12,\"\",AVERAGE(特に買いたい・利用したい!Q42:AB42))","v":26.125},{"$f":"IF(COUNT(特に買いたい・利用したい!R42:AC42)<>12,\"\",AVERAGE(特に買いたい・利用したい!R42:AC42))","v":25.858333333333331},{"$f":"IF(COUNT(特に買いたい・利用したい!S42:AD42)<>12,\"\",AVERAGE(特に買いたい・利用したい!S42:AD42))","v":25.991666666666664},{"$f":"IF(COUNT(特に買いたい・利用したい!T42:AE42)<>12,\"\",AVERAGE(特に買いたい・利用したい!T42:AE42))","v":25.041666666666668},{"$f":"IF(COUNT(特に買いたい・利用したい!U42:AF42)<>12,\"\",AVERAGE(特に買いたい・利用したい!U42:AF42))","v":24.55},{"$f":"IF(COUNT(特に買いたい・利用したい!V42:AG42)<>12,\"\",AVERAGE(特に買いたい・利用したい!V42:AG42))","v":24.125},{"$f":"IF(COUNT(特に買いたい・利用したい!W42:AH42)<>12,\"\",AVERAGE(特に買いたい・利用したい!W42:AH42))","v":23.841666666666665},{"$f":"IF(COUNT(特に買いたい・利用したい!X42:AI42)<>12,\"\",AVERAGE(特に買いたい・利用したい!X42:AI42))","v":23.441666666666663},{"$f":"IF(COUNT(特に買いたい・利用したい!Y42:AJ42)<>12,\"\",AVERAGE(特に買いたい・利用したい!Y42:AJ42))","v":23.633333333333329},{"$f":"IF(COUNT(特に買いたい・利用したい!Z42:AK42)<>12,\"\",AVERAGE(特に買いたい・利用したい!Z42:AK42))","v":23.341666666666665},{"$f":"IF(COUNT(特に買いたい・利用したい!AA42:AL42)<>12,\"\",AVERAGE(特に買いたい・利用したい!AA42:AL42))","v":23.366666666666664},{"$f":"IF(COUNT(特に買いたい・利用したい!AB42:AM42)<>12,\"\",AVERAGE(特に買いたい・利用したい!AB42:AM42))","v":23.05},{"$f":"IF(COUNT(特に買いたい・利用したい!AC42:AN42)<>12,\"\",AVERAGE(特に買いたい・利用したい!AC42:AN42))","v":22.466666666666665},{"$f":"IF(COUNT(特に買いたい・利用したい!AD42:AO42)<>12,\"\",AVERAGE(特に買いたい・利用したい!AD42:AO42))","v":22.55},{"$f":"IF(COUNT(特に買いたい・利用したい!AE42:AP42)<>12,\"\",AVERAGE(特に買いたい・利用したい!AE42:AP42))","v":22.3},{"$f":"IF(COUNT(特に買いたい・利用したい!AF42:AQ42)<>12,\"\",AVERAGE(特に買いたい・利用したい!AF42:AQ42))","v":23.383333333333336},{"$f":"IF(COUNT(特に買いたい・利用したい!AG42:AR42)<>12,\"\",AVERAGE(特に買いたい・利用したい!AG42:AR42))","v":23.983333333333334},{"$f":"IF(COUNT(特に買いたい・利用したい!AH42:AS42)<>12,\"\",AVERAGE(特に買いたい・利用したい!AH42:AS42))","v":24.433333333333334},{"$f":"IF(COUNT(特に買いたい・利用したい!AI42:AT42)<>12,\"\",AVERAGE(特に買いたい・利用したい!AI42:AT42))","v":24.966666666666669},{"$f":"IF(COUNT(特に買いたい・利用したい!AJ42:AU42)<>12,\"\",AVERAGE(特に買いたい・利用したい!AJ42:AU42))","v":25.191666666666666},{"$f":"IF(COUNT(特に買いたい・利用したい!AK42:AV42)<>12,\"\",AVERAGE(特に買いたい・利用したい!AK42:AV42))","v":25.475000000000005},{"$f":"IF(COUNT(特に買いたい・利用したい!AL42:AW42)<>12,\"\",AVERAGE(特に買いたい・利用したい!AL42:AW42))","v":25.616666666666664},{"$f":"IF(COUNT(特に買いたい・利用したい!AM42:AX42)<>12,\"\",AVERAGE(特に買いたい・利用したい!AM42:AX42))","v":25.724999999999994},{"$f":"IF(COUNT(特に買いたい・利用したい!AN42:AY42)<>12,\"\",AVERAGE(特に買いたい・利用したい!AN42:AY42))","v":26.041666666666661},{"$f":"IF(COUNT(特に買いたい・利用したい!AO42:AZ42)<>12,\"\",AVERAGE(特に買いたい・利用したい!AO42:AZ42))","v":26.333333333333329},{"$f":"IF(COUNT(特に買いたい・利用したい!AP42:BA42)<>12,\"\",AVERAGE(特に買いたい・利用したい!AP42:BA42))","v":25.924999999999997},{"$f":"IF(COUNT(特に買いたい・利用したい!AQ42:BB42)<>12,\"\",AVERAGE(特に買いたい・利用したい!AQ42:BB42))","v":25.674999999999997},{"$f":"IF(COUNT(特に買いたい・利用したい!AR42:BC42)<>12,\"\",AVERAGE(特に買いたい・利用したい!AR42:BC42))","v":25.666666666666668},{"$f":"IF(COUNT(特に買いたい・利用したい!AS42:BD42)<>12,\"\",AVERAGE(特に買いたい・利用したい!AS42:BD42))","v":25.791666666666668},{"$f":"IF(COUNT(特に買いたい・利用したい!AT42:BE42)<>12,\"\",AVERAGE(特に買いたい・利用したい!AT42:BE42))","v":""},{"$f":"IF(COUNT(特に買いたい・利用したい!AU42:BF42)<>12,\"\",AVERAGE(特に買いたい・利用したい!AU42:BF42))","v":""},{"$f":"IF(COUNT(特に買いたい・利用したい!AV42:BG42)<>12,\"\",AVERAGE(特に買いたい・利用したい!AV42:BG42))","v":""},{"$f":"IF(COUNT(特に買いたい・利用したい!AW42:BH42)<>12,\"\",AVERAGE(特に買いたい・利用したい!AW42:BH42))","v":""},{"$f":"IF(COUNT(特に買いたい・利用したい!AX42:BI42)<>12,\"\",AVERAGE(特に買いたい・利用したい!AX42:BI42))","v":""},{"$f":"IF(COUNT(特に買いたい・利用したい!AY42:BJ42)<>12,\"\",AVERAGE(特に買いたい・利用したい!AY42:BJ42))","v":""},{"$f":"IF(COUNT(特に買いたい・利用したい!AZ42:BK42)<>12,\"\",AVERAGE(特に買いたい・利用したい!AZ42:BK42))","v":""},{"$f":"IF(COUNT(特に買いたい・利用したい!BA42:BL42)<>12,\"\",AVERAGE(特に買いたい・利用したい!BA42:BL42))","v":""},{"$f":"IF(COUNT(特に買いたい・利用したい!BB42:BM42)<>12,\"\",AVERAGE(特に買いたい・利用したい!BB42:BM42))","v":""},{"$f":"IF(COUNT(特に買いたい・利用したい!BC42:BN42)<>12,\"\",AVERAGE(特に買いたい・利用したい!BC42:BN42))","v":""},{"$f":"IF(COUNT(特に買いたい・利用したい!BD42:BO42)<>12,\"\",AVERAGE(特に買いたい・利用したい!BD42:BO42))","v":""},{"$f":"IF(COUNT(特に買いたい・利用したい!BE42:BP42)<>12,\"\",AVERAGE(特に買いたい・利用したい!BE42:BP42))","v":""},{"$f":"IF(COUNT(特に買いたい・利用したい!BF42:BQ42)<>12,\"\",AVERAGE(特に買いたい・利用したい!BF42:BQ42))","v":""},{"$f":"IF(COUNT(特に買いたい・利用したい!BG42:BR42)<>12,\"\",AVERAGE(特に買いたい・利用したい!BG42:BR42))","v":""},{"$f":"IF(COUNT(特に買いたい・利用したい!BH42:BS42)<>12,\"\",AVERAGE(特に買いたい・利用したい!BH42:BS42))","v":""},{"$f":"IF(COUNT(特に買いたい・利用したい!BI42:BT42)<>12,\"\",AVERAGE(特に買いたい・利用したい!BI42:BT42))","v":""},{"$f":"IF(COUNT(特に買いたい・利用したい!BJ42:BU42)<>12,\"\",AVERAGE(特に買いたい・利用したい!BJ42:BU42))","v":""},{"$f":"IF(COUNT(特に買いたい・利用したい!BK42:BV42)<>12,\"\",AVERAGE(特に買いたい・利用したい!BK42:BV42))","v":""},{"$f":"IF(COUNT(特に買いたい・利用したい!BL42:BW42)<>12,\"\",AVERAGE(特に買いたい・利用したい!BL42:BW42))","v":""},{"$f":"IF(COUNT(特に買いたい・利用したい!BM42:BX42)<>12,\"\",AVERAGE(特に買いたい・利用したい!BM42:BX42))","v":""},{"$f":"IF(COUNT(特に買いたい・利用したい!BN42:BY42)<>12,\"\",AVERAGE(特に買いたい・利用したい!BN42:BY42))","v":""},{"$f":"IF(COUNT(特に買いたい・利用したい!BO42:BZ42)<>12,\"\",AVERAGE(特に買いたい・利用したい!BO42:BZ42))","v":""},{"$f":"IF(COUNT(特に買いたい・利用したい!BP42:CA42)<>12,\"\",AVERAGE(特に買いたい・利用したい!BP42:CA42))","v":""},{"$f":"IF(COUNT(特に買いたい・利用したい!BQ42:CB42)<>12,\"\",AVERAGE(特に買いたい・利用したい!BQ42:CB42))","v":""},{"$f":"IF(COUNT(特に買いたい・利用したい!BR42:CC42)<>12,\"\",AVERAGE(特に買いたい・利用したい!BR42:CC42))","v":""},{"$f":"IF(COUNT(特に買いたい・利用したい!BS42:CD42)<>12,\"\",AVERAGE(特に買いたい・利用したい!BS42:CD42))","v":""},{"$f":"IF(COUNT(特に買いたい・利用したい!BT42:CE42)<>12,\"\",AVERAGE(特に買いたい・利用したい!BT42:CE42))","v":""},{"$f":"IF(COUNT(特に買いたい・利用したい!BU42:CF42)<>12,\"\",AVERAGE(特に買いたい・利用したい!BU42:CF42))","v":""},{"$f":"IF(COUNT(特に買いたい・利用したい!BV42:CG42)<>12,\"\",AVERAGE(特に買いたい・利用したい!BV42:CG42))","v":""},{"$f":"IF(COUNT(特に買いたい・利用したい!BW42:CH42)<>12,\"\",AVERAGE(特に買いたい・利用したい!BW42:CH42))","v":""},{"$f":"IF(COUNT(特に買いたい・利用したい!BX42:CI42)<>12,\"\",AVERAGE(特に買いたい・利用したい!BX42:CI42))","v":""},{"$f":"IF(COUNT(特に買いたい・利用したい!BY42:CJ42)<>12,\"\",AVERAGE(特に買いたい・利用したい!BY42:CJ42))","v":""},{"$f":"IF(COUNT(特に買いたい・利用したい!BZ42:CK42)<>12,\"\",AVERAGE(特に買いたい・利用したい!BZ42:CK42))","v":""},{"$f":"IF(COUNT(特に買いたい・利用したい!CA42:CL42)<>12,\"\",AVERAGE(特に買いたい・利用したい!CA42:CL42))","v":""},{"$f":"IF(COUNT(特に買いたい・利用したい!CB42:CM42)<>12,\"\",AVERAGE(特に買いたい・利用したい!CB42:CM42))","v":""},{"$f":"IF(COUNT(特に買いたい・利用したい!CC42:CN42)<>12,\"\",AVERAGE(特に買いたい・利用したい!CC42:CN42))","v":""},{"$f":"IF(COUNT(特に買いたい・利用したい!CD42:CO42)<>12,\"\",AVERAGE(特に買いたい・利用したい!CD42:CO42))","v":""},{"$f":"IF(COUNT(特に買いたい・利用したい!CE42:CP42)<>12,\"\",AVERAGE(特に買いたい・利用したい!CE42:CP42))","v":""},{"$f":"IF(COUNT(特に買いたい・利用したい!CF42:CQ42)<>12,\"\",AVERAGE(特に買いたい・利用したい!CF42:CQ42))","v":""},{"$f":"IF(COUNT(特に買いたい・利用したい!CG42:CR42)<>12,\"\",AVERAGE(特に買いたい・利用したい!CG42:CR42))","v":""},{"$f":"IF(COUNT(特に買いたい・利用したい!CH42:CS42)<>12,\"\",AVERAGE(特に買いたい・利用したい!CH42:CS42))","v":""},{"$f":"IF(COUNT(特に買いたい・利用したい!CI42:CT42)<>12,\"\",AVERAGE(特に買いたい・利用したい!CI42:CT42))","v":""},{"$f":"IF(COUNT(特に買いたい・利用したい!CJ42:CU42)<>12,\"\",AVERAGE(特に買いたい・利用したい!CJ42:CU42))","v":""},{"$f":"IF(COUNT(特に買いたい・利用したい!CK42:CV42)<>12,\"\",AVERAGE(特に買いたい・利用したい!CK42:CV42))","v":""},{"$f":"IF(COUNT(特に買いたい・利用したい!CL42:CW42)<>12,\"\",AVERAGE(特に買いたい・利用したい!CL42:CW42))","v":""},{"$f":"IF(COUNT(特に買いたい・利用したい!CM42:CX42)<>12,\"\",AVERAGE(特に買いたい・利用したい!CM42:CX42))","v":""},{"$f":"IF(COUNT(特に買いたい・利用したい!CN42:CY42)<>12,\"\",AVERAGE(特に買いたい・利用したい!CN42:CY42))","v":""},{"$f":"IF(COUNT(特に買いたい・利用したい!CO42:CZ42)<>12,\"\",AVERAGE(特に買いたい・利用したい!CO42:CZ42))","v":""},{"$f":"IF(COUNT(特に買いたい・利用したい!CP42:DA42)<>12,\"\",AVERAGE(特に買いたい・利用したい!CP42:DA42))","v":""},{"$f":"IF(COUNT(特に買いたい・利用したい!CQ42:DB42)<>12,\"\",AVERAGE(特に買いたい・利用したい!CQ42:DB42))","v":""},{"$f":"IF(COUNT(特に買いたい・利用したい!CR42:DC42)<>12,\"\",AVERAGE(特に買いたい・利用したい!CR42:DC42))","v":""},{"$f":"IF(COUNT(特に買いたい・利用したい!CS42:DD42)<>12,\"\",AVERAGE(特に買いたい・利用したい!CS42:DD42))","v":""},{"$f":"IF(COUNT(特に買いたい・利用したい!CT42:DE42)<>12,\"\",AVERAGE(特に買いたい・利用したい!CT42:DE42))","v":""},{"$f":"IF(COUNT(特に買いたい・利用したい!CU42:DF42)<>12,\"\",AVERAGE(特に買いたい・利用したい!CU42:DF42))","v":""},{"$f":"IF(COUNT(特に買いたい・利用したい!CV42:DG42)<>12,\"\",AVERAGE(特に買いたい・利用したい!CV42:DG42))","v":""}]
[null,null,"自由・自営業",null,null,null,null,null,null,null,null,null,null,null,null,null,null,null,{"$f":"IF(COUNT(特に買いたい・利用したい!H43:S43)<>12,\"\",AVERAGE(特に買いたい・利用したい!H43:S43))","v":26.408333333333331},{"$f":"IF(COUNT(特に買いたい・利用したい!I43:T43)<>12,\"\",AVERAGE(特に買いたい・利用したい!I43:T43))","v":26.400000000000002},{"$f":"IF(COUNT(特に買いたい・利用したい!J43:U43)<>12,\"\",AVERAGE(特に買いたい・利用したい!J43:U43))","v":26.266666666666666},{"$f":"IF(COUNT(特に買いたい・利用したい!K43:V43)<>12,\"\",AVERAGE(特に買いたい・利用したい!K43:V43))","v":25.358333333333334},{"$f":"IF(COUNT(特に買いたい・利用したい!L43:W43)<>12,\"\",AVERAGE(特に買いたい・利用したい!L43:W43))","v":25.458333333333339},{"$f":"IF(COUNT(特に買いたい・利用したい!M43:X43)<>12,\"\",AVERAGE(特に買いたい・利用したい!M43:X43))","v":25.63333333333334},{"$f":"IF(COUNT(特に買いたい・利用したい!N43:Y43)<>12,\"\",AVERAGE(特に買いたい・利用したい!N43:Y43))","v":26.25833333333334},{"$f":"IF(COUNT(特に買いたい・利用したい!O43:Z43)<>12,\"\",AVERAGE(特に買いたい・利用したい!O43:Z43))","v":26.166666666666671},{"$f":"IF(COUNT(特に買いたい・利用したい!P43:AA43)<>12,\"\",AVERAGE(特に買いたい・利用したい!P43:AA43))","v":26.941666666666666},{"$f":"IF(COUNT(特に買いたい・利用したい!Q43:AB43)<>12,\"\",AVERAGE(特に買いたい・利用したい!Q43:AB43))","v":26.433333333333337},{"$f":"IF(COUNT(特に買いたい・利用したい!R43:AC43)<>12,\"\",AVERAGE(特に買いたい・利用したい!R43:AC43))","v":27.675000000000008},{"$f":"IF(COUNT(特に買いたい・利用したい!S43:AD43)<>12,\"\",AVERAGE(特に買いたい・利用したい!S43:AD43))","v":27.691666666666663},{"$f":"IF(COUNT(特に買いたい・利用したい!T43:AE43)<>12,\"\",AVERAGE(特に買いたい・利用したい!T43:AE43))","v":26.724999999999998},{"$f":"IF(COUNT(特に買いたい・利用したい!U43:AF43)<>12,\"\",AVERAGE(特に買いたい・利用したい!U43:AF43))","v":26.083333333333332},{"$f":"IF(COUNT(特に買いたい・利用したい!V43:AG43)<>12,\"\",AVERAGE(特に買いたい・利用したい!V43:AG43))","v":26},{"$f":"IF(COUNT(特に買いたい・利用したい!W43:AH43)<>12,\"\",AVERAGE(特に買いたい・利用したい!W43:AH43))","v":25.558333333333334},{"$f":"IF(COUNT(特に買いたい・利用したい!X43:AI43)<>12,\"\",AVERAGE(特に買いたい・利用したい!X43:AI43))","v":25},{"$f":"IF(COUNT(特に買いたい・利用したい!Y43:AJ43)<>12,\"\",AVERAGE(特に買いたい・利用したい!Y43:AJ43))","v":25.925000000000001},{"$f":"IF(COUNT(特に買いたい・利用したい!Z43:AK43)<>12,\"\",AVERAGE(特に買いたい・利用したい!Z43:AK43))","v":25.233333333333334},{"$f":"IF(COUNT(特に買いたい・利用したい!AA43:AL43)<>12,\"\",AVERAGE(特に買いたい・利用したい!AA43:AL43))","v":24.891666666666669},{"$f":"IF(COUNT(特に買いたい・利用したい!AB43:AM43)<>12,\"\",AVERAGE(特に買いたい・利用したい!AB43:AM43))","v":25.116666666666664},{"$f":"IF(COUNT(特に買いたい・利用したい!AC43:AN43)<>12,\"\",AVERAGE(特に買いたい・利用したい!AC43:AN43))","v":25.491666666666664},{"$f":"IF(COUNT(特に買いたい・利用したい!AD43:AO43)<>12,\"\",AVERAGE(特に買いたい・利用したい!AD43:AO43))","v":25.058333333333334},{"$f":"IF(COUNT(特に買いたい・利用したい!AE43:AP43)<>12,\"\",AVERAGE(特に買いたい・利用したい!AE43:AP43))","v":24.400000000000002},{"$f":"IF(COUNT(特に買いたい・利用したい!AF43:AQ43)<>12,\"\",AVERAGE(特に買いたい・利用したい!AF43:AQ43))","v":25.366666666666664},{"$f":"IF(COUNT(特に買いたい・利用したい!AG43:AR43)<>12,\"\",AVERAGE(特に買いたい・利用したい!AG43:AR43))","v":26.474999999999994},{"$f":"IF(COUNT(特に買いたい・利用したい!AH43:AS43)<>12,\"\",AVERAGE(特に買いたい・利用したい!AH43:AS43))","v":26.516666666666662},{"$f":"IF(COUNT(特に買いたい・利用したい!AI43:AT43)<>12,\"\",AVERAGE(特に買いたい・利用したい!AI43:AT43))","v":26.816666666666666},{"$f":"IF(COUNT(特に買いたい・利用したい!AJ43:AU43)<>12,\"\",AVERAGE(特に買いたい・利用したい!AJ43:AU43))","v":26.958333333333339},{"$f":"IF(COUNT(特に買いたい・利用したい!AK43:AV43)<>12,\"\",AVERAGE(特に買いたい・利用したい!AK43:AV43))","v":26.00833333333334},{"$f":"IF(COUNT(特に買いたい・利用したい!AL43:AW43)<>12,\"\",AVERAGE(特に買いたい・利用したい!AL43:AW43))","v":26.466666666666669},{"$f":"IF(COUNT(特に買いたい・利用したい!AM43:AX43)<>12,\"\",AVERAGE(特に買いたい・利用したい!AM43:AX43))","v":26.591666666666672},{"$f":"IF(COUNT(特に買いたい・利用したい!AN43:AY43)<>12,\"\",AVERAGE(特に買いたい・利用したい!AN43:AY43))","v":26.583333333333339},{"$f":"IF(COUNT(特に買いたい・利用したい!AO43:AZ43)<>12,\"\",AVERAGE(特に買いたい・利用したい!AO43:AZ43))","v":26.366666666666671},{"$f":"IF(COUNT(特に買いたい・利用したい!AP43:BA43)<>12,\"\",AVERAGE(特に買いたい・利用したい!AP43:BA43))","v":25.816666666666666},{"$f":"IF(COUNT(特に買いたい・利用したい!AQ43:BB43)<>12,\"\",AVERAGE(特に買いたい・利用したい!AQ43:BB43))","v":25.333333333333332},{"$f":"IF(COUNT(特に買いたい・利用したい!AR43:BC43)<>12,\"\",AVERAGE(特に買いたい・利用したい!AR43:BC43))","v":25.200000000000003},{"$f":"IF(COUNT(特に買いたい・利用したい!AS43:BD43)<>12,\"\",AVERAGE(特に買いたい・利用したい!AS43:BD43))","v":25.291666666666668},{"$f":"IF(COUNT(特に買いたい・利用したい!AT43:BE43)<>12,\"\",AVERAGE(特に買いたい・利用したい!AT43:BE43))","v":""},{"$f":"IF(COUNT(特に買いたい・利用したい!AU43:BF43)<>12,\"\",AVERAGE(特に買いたい・利用したい!AU43:BF43))","v":""},{"$f":"IF(COUNT(特に買いたい・利用したい!AV43:BG43)<>12,\"\",AVERAGE(特に買いたい・利用したい!AV43:BG43))","v":""},{"$f":"IF(COUNT(特に買いたい・利用したい!AW43:BH43)<>12,\"\",AVERAGE(特に買いたい・利用したい!AW43:BH43))","v":""},{"$f":"IF(COUNT(特に買いたい・利用したい!AX43:BI43)<>12,\"\",AVERAGE(特に買いたい・利用したい!AX43:BI43))","v":""},{"$f":"IF(COUNT(特に買いたい・利用したい!AY43:BJ43)<>12,\"\",AVERAGE(特に買いたい・利用したい!AY43:BJ43))","v":""},{"$f":"IF(COUNT(特に買いたい・利用したい!AZ43:BK43)<>12,\"\",AVERAGE(特に買いたい・利用したい!AZ43:BK43))","v":""},{"$f":"IF(COUNT(特に買いたい・利用したい!BA43:BL43)<>12,\"\",AVERAGE(特に買いたい・利用したい!BA43:BL43))","v":""},{"$f":"IF(COUNT(特に買いたい・利用したい!BB43:BM43)<>12,\"\",AVERAGE(特に買いたい・利用したい!BB43:BM43))","v":""},{"$f":"IF(COUNT(特に買いたい・利用したい!BC43:BN43)<>12,\"\",AVERAGE(特に買いたい・利用したい!BC43:BN43))","v":""},{"$f":"IF(COUNT(特に買いたい・利用したい!BD43:BO43)<>12,\"\",AVERAGE(特に買いたい・利用したい!BD43:BO43))","v":""},{"$f":"IF(COUNT(特に買いたい・利用したい!BE43:BP43)<>12,\"\",AVERAGE(特に買いたい・利用したい!BE43:BP43))","v":""},{"$f":"IF(COUNT(特に買いたい・利用したい!BF43:BQ43)<>12,\"\",AVERAGE(特に買いたい・利用したい!BF43:BQ43))","v":""},{"$f":"IF(COUNT(特に買いたい・利用したい!BG43:BR43)<>12,\"\",AVERAGE(特に買いたい・利用したい!BG43:BR43))","v":""},{"$f":"IF(COUNT(特に買いたい・利用したい!BH43:BS43)<>12,\"\",AVERAGE(特に買いたい・利用したい!BH43:BS43))","v":""},{"$f":"IF(COUNT(特に買いたい・利用したい!BI43:BT43)<>12,\"\",AVERAGE(特に買いたい・利用したい!BI43:BT43))","v":""},{"$f":"IF(COUNT(特に買いたい・利用したい!BJ43:BU43)<>12,\"\",AVERAGE(特に買いたい・利用したい!BJ43:BU43))","v":""},{"$f":"IF(COUNT(特に買いたい・利用したい!BK43:BV43)<>12,\"\",AVERAGE(特に買いたい・利用したい!BK43:BV43))","v":""},{"$f":"IF(COUNT(特に買いたい・利用したい!BL43:BW43)<>12,\"\",AVERAGE(特に買いたい・利用したい!BL43:BW43))","v":""},{"$f":"IF(COUNT(特に買いたい・利用したい!BM43:BX43)<>12,\"\",AVERAGE(特に買いたい・利用したい!BM43:BX43))","v":""},{"$f":"IF(COUNT(特に買いたい・利用したい!BN43:BY43)<>12,\"\",AVERAGE(特に買いたい・利用したい!BN43:BY43))","v":""},{"$f":"IF(COUNT(特に買いたい・利用したい!BO43:BZ43)<>12,\"\",AVERAGE(特に買いたい・利用したい!BO43:BZ43))","v":""},{"$f":"IF(COUNT(特に買いたい・利用したい!BP43:CA43)<>12,\"\",AVERAGE(特に買いたい・利用したい!BP43:CA43))","v":""},{"$f":"IF(COUNT(特に買いたい・利用したい!BQ43:CB43)<>12,\"\",AVERAGE(特に買いたい・利用したい!BQ43:CB43))","v":""},{"$f":"IF(COUNT(特に買いたい・利用したい!BR43:CC43)<>12,\"\",AVERAGE(特に買いたい・利用したい!BR43:CC43))","v":""},{"$f":"IF(COUNT(特に買いたい・利用したい!BS43:CD43)<>12,\"\",AVERAGE(特に買いたい・利用したい!BS43:CD43))","v":""},{"$f":"IF(COUNT(特に買いたい・利用したい!BT43:CE43)<>12,\"\",AVERAGE(特に買いたい・利用したい!BT43:CE43))","v":""},{"$f":"IF(COUNT(特に買いたい・利用したい!BU43:CF43)<>12,\"\",AVERAGE(特に買いたい・利用したい!BU43:CF43))","v":""},{"$f":"IF(COUNT(特に買いたい・利用したい!BV43:CG43)<>12,\"\",AVERAGE(特に買いたい・利用したい!BV43:CG43))","v":""},{"$f":"IF(COUNT(特に買いたい・利用したい!BW43:CH43)<>12,\"\",AVERAGE(特に買いたい・利用したい!BW43:CH43))","v":""},{"$f":"IF(COUNT(特に買いたい・利用したい!BX43:CI43)<>12,\"\",AVERAGE(特に買いたい・利用したい!BX43:CI43))","v":""},{"$f":"IF(COUNT(特に買いたい・利用したい!BY43:CJ43)<>12,\"\",AVERAGE(特に買いたい・利用したい!BY43:CJ43))","v":""},{"$f":"IF(COUNT(特に買いたい・利用したい!BZ43:CK43)<>12,\"\",AVERAGE(特に買いたい・利用したい!BZ43:CK43))","v":""},{"$f":"IF(COUNT(特に買いたい・利用したい!CA43:CL43)<>12,\"\",AVERAGE(特に買いたい・利用したい!CA43:CL43))","v":""},{"$f":"IF(COUNT(特に買いたい・利用したい!CB43:CM43)<>12,\"\",AVERAGE(特に買いたい・利用したい!CB43:CM43))","v":""},{"$f":"IF(COUNT(特に買いたい・利用したい!CC43:CN43)<>12,\"\",AVERAGE(特に買いたい・利用したい!CC43:CN43))","v":""},{"$f":"IF(COUNT(特に買いたい・利用したい!CD43:CO43)<>12,\"\",AVERAGE(特に買いたい・利用したい!CD43:CO43))","v":""},{"$f":"IF(COUNT(特に買いたい・利用したい!CE43:CP43)<>12,\"\",AVERAGE(特に買いたい・利用したい!CE43:CP43))","v":""},{"$f":"IF(COUNT(特に買いたい・利用したい!CF43:CQ43)<>12,\"\",AVERAGE(特に買いたい・利用したい!CF43:CQ43))","v":""},{"$f":"IF(COUNT(特に買いたい・利用したい!CG43:CR43)<>12,\"\",AVERAGE(特に買いたい・利用したい!CG43:CR43))","v":""},{"$f":"IF(COUNT(特に買いたい・利用したい!CH43:CS43)<>12,\"\",AVERAGE(特に買いたい・利用したい!CH43:CS43))","v":""},{"$f":"IF(COUNT(特に買いたい・利用したい!CI43:CT43)<>12,\"\",AVERAGE(特に買いたい・利用したい!CI43:CT43))","v":""},{"$f":"IF(COUNT(特に買いたい・利用したい!CJ43:CU43)<>12,\"\",AVERAGE(特に買いたい・利用したい!CJ43:CU43))","v":""},{"$f":"IF(COUNT(特に買いたい・利用したい!CK43:CV43)<>12,\"\",AVERAGE(特に買いたい・利用したい!CK43:CV43))","v":""},{"$f":"IF(COUNT(特に買いたい・利用したい!CL43:CW43)<>12,\"\",AVERAGE(特に買いたい・利用したい!CL43:CW43))","v":""},{"$f":"IF(COUNT(特に買いたい・利用したい!CM43:CX43)<>12,\"\",AVERAGE(特に買いたい・利用したい!CM43:CX43))","v":""},{"$f":"IF(COUNT(特に買いたい・利用したい!CN43:CY43)<>12,\"\",AVERAGE(特に買いたい・利用したい!CN43:CY43))","v":""},{"$f":"IF(COUNT(特に買いたい・利用したい!CO43:CZ43)<>12,\"\",AVERAGE(特に買いたい・利用したい!CO43:CZ43))","v":""},{"$f":"IF(COUNT(特に買いたい・利用したい!CP43:DA43)<>12,\"\",AVERAGE(特に買いたい・利用したい!CP43:DA43))","v":""},{"$f":"IF(COUNT(特に買いたい・利用したい!CQ43:DB43)<>12,\"\",AVERAGE(特に買いたい・利用したい!CQ43:DB43))","v":""},{"$f":"IF(COUNT(特に買いたい・利用したい!CR43:DC43)<>12,\"\",AVERAGE(特に買いたい・利用したい!CR43:DC43))","v":""},{"$f":"IF(COUNT(特に買いたい・利用したい!CS43:DD43)<>12,\"\",AVERAGE(特に買いたい・利用したい!CS43:DD43))","v":""},{"$f":"IF(COUNT(特に買いたい・利用したい!CT43:DE43)<>12,\"\",AVERAGE(特に買いたい・利用したい!CT43:DE43))","v":""},{"$f":"IF(COUNT(特に買いたい・利用したい!CU43:DF43)<>12,\"\",AVERAGE(特に買いたい・利用したい!CU43:DF43))","v":""},{"$f":"IF(COUNT(特に買いたい・利用したい!CV43:DG43)<>12,\"\",AVERAGE(特に買いたい・利用したい!CV43:DG43))","v":""}]
[null,null,"パート・アルバイト",null,null,null,null,null,null,null,null,null,null,null,null,null,null,null,{"$f":"IF(COUNT(特に買いたい・利用したい!H44:S44)<>12,\"\",AVERAGE(特に買いたい・利用したい!H44:S44))","v":33.883333333333333},{"$f":"IF(COUNT(特に買いたい・利用したい!I44:T44)<>12,\"\",AVERAGE(特に買いたい・利用したい!I44:T44))","v":33.566666666666663},{"$f":"IF(COUNT(特に買いたい・利用したい!J44:U44)<>12,\"\",AVERAGE(特に買いたい・利用したい!J44:U44))","v":33.416666666666664},{"$f":"IF(COUNT(特に買いたい・利用したい!K44:V44)<>12,\"\",AVERAGE(特に買いたい・利用したい!K44:V44))","v":32.93333333333333},{"$f":"IF(COUNT(特に買いたい・利用したい!L44:W44)<>12,\"\",AVERAGE(特に買いたい・利用したい!L44:W44))","v":32.549999999999997},{"$f":"IF(COUNT(特に買いたい・利用したい!M44:X44)<>12,\"\",AVERAGE(特に買いたい・利用したい!M44:X44))","v":32.366666666666667},{"$f":"IF(COUNT(特に買いたい・利用したい!N44:Y44)<>12,\"\",AVERAGE(特に買いたい・利用したい!N44:Y44))","v":32.008333333333333},{"$f":"IF(COUNT(特に買いたい・利用したい!O44:Z44)<>12,\"\",AVERAGE(特に買いたい・利用したい!O44:Z44))","v":31.474999999999998},{"$f":"IF(COUNT(特に買いたい・利用したい!P44:AA44)<>12,\"\",AVERAGE(特に買いたい・利用したい!P44:AA44))","v":31.8},{"$f":"IF(COUNT(特に買いたい・利用したい!Q44:AB44)<>12,\"\",AVERAGE(特に買いたい・利用したい!Q44:AB44))","v":31.350000000000005},{"$f":"IF(COUNT(特に買いたい・利用したい!R44:AC44)<>12,\"\",AVERAGE(特に買いたい・利用したい!R44:AC44))","v":31.900000000000002},{"$f":"IF(COUNT(特に買いたい・利用したい!S44:AD44)<>12,\"\",AVERAGE(特に買いたい・利用したい!S44:AD44))","v":32.541666666666671},{"$f":"IF(COUNT(特に買いたい・利用したい!T44:AE44)<>12,\"\",AVERAGE(特に買いたい・利用したい!T44:AE44))","v":31.283333333333331},{"$f":"IF(COUNT(特に買いたい・利用したい!U44:AF44)<>12,\"\",AVERAGE(特に買いたい・利用したい!U44:AF44))","v":29.816666666666666},{"$f":"IF(COUNT(特に買いたい・利用したい!V44:AG44)<>12,\"\",AVERAGE(特に買いたい・利用したい!V44:AG44))","v":29.558333333333337},{"$f":"IF(COUNT(特に買いたい・利用したい!W44:AH44)<>12,\"\",AVERAGE(特に買いたい・利用したい!W44:AH44))","v":29.691666666666674},{"$f":"IF(COUNT(特に買いたい・利用したい!X44:AI44)<>12,\"\",AVERAGE(特に買いたい・利用したい!X44:AI44))","v":29.583333333333332},{"$f":"IF(COUNT(特に買いたい・利用したい!Y44:AJ44)<>12,\"\",AVERAGE(特に買いたい・利用したい!Y44:AJ44))","v":30.250000000000004},{"$f":"IF(COUNT(特に買いたい・利用したい!Z44:AK44)<>12,\"\",AVERAGE(特に買いたい・利用したい!Z44:AK44))","v":30.224999999999998},{"$f":"IF(COUNT(特に買いたい・利用したい!AA44:AL44)<>12,\"\",AVERAGE(特に買いたい・利用したい!AA44:AL44))","v":29.766666666666662},{"$f":"IF(COUNT(特に買いたい・利用したい!AB44:AM44)<>12,\"\",AVERAGE(特に買いたい・利用したい!AB44:AM44))","v":29.524999999999995},{"$f":"IF(COUNT(特に買いたい・利用したい!AC44:AN44)<>12,\"\",AVERAGE(特に買いたい・利用したい!AC44:AN44))","v":29.108333333333331},{"$f":"IF(COUNT(特に買いたい・利用したい!AD44:AO44)<>12,\"\",AVERAGE(特に買いたい・利用したい!AD44:AO44))","v":28.625},{"$f":"IF(COUNT(特に買いたい・利用したい!AE44:AP44)<>12,\"\",AVERAGE(特に買いたい・利用したい!AE44:AP44))","v":27.391666666666666},{"$f":"IF(COUNT(特に買いたい・利用したい!AF44:AQ44)<>12,\"\",AVERAGE(特に買いたい・利用したい!AF44:AQ44))","v":28.458333333333332},{"$f":"IF(COUNT(特に買いたい・利用したい!AG44:AR44)<>12,\"\",AVERAGE(特に買いたい・利用したい!AG44:AR44))","v":29.316666666666663},{"$f":"IF(COUNT(特に買いたい・利用したい!AH44:AS44)<>12,\"\",AVERAGE(特に買いたい・利用したい!AH44:AS44))","v":29.591666666666665},{"$f":"IF(COUNT(特に買いたい・利用したい!AI44:AT44)<>12,\"\",AVERAGE(特に買いたい・利用したい!AI44:AT44))","v":29.333333333333332},{"$f":"IF(COUNT(特に買いたい・利用したい!AJ44:AU44)<>12,\"\",AVERAGE(特に買いたい・利用したい!AJ44:AU44))","v":29.024999999999995},{"$f":"IF(COUNT(特に買いたい・利用したい!AK44:AV44)<>12,\"\",AVERAGE(特に買いたい・利用したい!AK44:AV44))","v":29.074999999999999},{"$f":"IF(COUNT(特に買いたい・利用したい!AL44:AW44)<>12,\"\",AVERAGE(特に買いたい・利用したい!AL44:AW44))","v":29.058333333333326},{"$f":"IF(COUNT(特に買いたい・利用したい!AM44:AX44)<>12,\"\",AVERAGE(特に買いたい・利用したい!AM44:AX44))","v":28.941666666666666},{"$f":"IF(COUNT(特に買いたい・利用したい!AN44:AY44)<>12,\"\",AVERAGE(特に買いたい・利用したい!AN44:AY44))","v":29.025000000000002},{"$f":"IF(COUNT(特に買いたい・利用したい!AO44:AZ44)<>12,\"\",AVERAGE(特に買いたい・利用したい!AO44:AZ44))","v":29.258333333333336},{"$f":"IF(COUNT(特に買いたい・利用したい!AP44:BA44)<>12,\"\",AVERAGE(特に買いたい・利用したい!AP44:BA44))","v":28.874999999999996},{"$f":"IF(COUNT(特に買いたい・利用したい!AQ44:BB44)<>12,\"\",AVERAGE(特に買いたい・利用したい!AQ44:BB44))","v":28.691666666666663},{"$f":"IF(COUNT(特に買いたい・利用したい!AR44:BC44)<>12,\"\",AVERAGE(特に買いたい・利用したい!AR44:BC44))","v":28.166666666666668},{"$f":"IF(COUNT(特に買いたい・利用したい!AS44:BD44)<>12,\"\",AVERAGE(特に買いたい・利用したい!AS44:BD44))","v":28.141666666666669},{"$f":"IF(COUNT(特に買いたい・利用したい!AT44:BE44)<>12,\"\",AVERAGE(特に買いたい・利用したい!AT44:BE44))","v":""},{"$f":"IF(COUNT(特に買いたい・利用したい!AU44:BF44)<>12,\"\",AVERAGE(特に買いたい・利用したい!AU44:BF44))","v":""},{"$f":"IF(COUNT(特に買いたい・利用したい!AV44:BG44)<>12,\"\",AVERAGE(特に買いたい・利用したい!AV44:BG44))","v":""},{"$f":"IF(COUNT(特に買いたい・利用したい!AW44:BH44)<>12,\"\",AVERAGE(特に買いたい・利用したい!AW44:BH44))","v":""},{"$f":"IF(COUNT(特に買いたい・利用したい!AX44:BI44)<>12,\"\",AVERAGE(特に買いたい・利用したい!AX44:BI44))","v":""},{"$f":"IF(COUNT(特に買いたい・利用したい!AY44:BJ44)<>12,\"\",AVERAGE(特に買いたい・利用したい!AY44:BJ44))","v":""},{"$f":"IF(COUNT(特に買いたい・利用したい!AZ44:BK44)<>12,\"\",AVERAGE(特に買いたい・利用したい!AZ44:BK44))","v":""},{"$f":"IF(COUNT(特に買いたい・利用したい!BA44:BL44)<>12,\"\",AVERAGE(特に買いたい・利用したい!BA44:BL44))","v":""},{"$f":"IF(COUNT(特に買いたい・利用したい!BB44:BM44)<>12,\"\",AVERAGE(特に買いたい・利用したい!BB44:BM44))","v":""},{"$f":"IF(COUNT(特に買いたい・利用したい!BC44:BN44)<>12,\"\",AVERAGE(特に買いたい・利用したい!BC44:BN44))","v":""},{"$f":"IF(COUNT(特に買いたい・利用したい!BD44:BO44)<>12,\"\",AVERAGE(特に買いたい・利用したい!BD44:BO44))","v":""},{"$f":"IF(COUNT(特に買いたい・利用したい!BE44:BP44)<>12,\"\",AVERAGE(特に買いたい・利用したい!BE44:BP44))","v":""},{"$f":"IF(COUNT(特に買いたい・利用したい!BF44:BQ44)<>12,\"\",AVERAGE(特に買いたい・利用したい!BF44:BQ44))","v":""},{"$f":"IF(COUNT(特に買いたい・利用したい!BG44:BR44)<>12,\"\",AVERAGE(特に買いたい・利用したい!BG44:BR44))","v":""},{"$f":"IF(COUNT(特に買いたい・利用したい!BH44:BS44)<>12,\"\",AVERAGE(特に買いたい・利用したい!BH44:BS44))","v":""},{"$f":"IF(COUNT(特に買いたい・利用したい!BI44:BT44)<>12,\"\",AVERAGE(特に買いたい・利用したい!BI44:BT44))","v":""},{"$f":"IF(COUNT(特に買いたい・利用したい!BJ44:BU44)<>12,\"\",AVERAGE(特に買いたい・利用したい!BJ44:BU44))","v":""},{"$f":"IF(COUNT(特に買いたい・利用したい!BK44:BV44)<>12,\"\",AVERAGE(特に買いたい・利用したい!BK44:BV44))","v":""},{"$f":"IF(COUNT(特に買いたい・利用したい!BL44:BW44)<>12,\"\",AVERAGE(特に買いたい・利用したい!BL44:BW44))","v":""},{"$f":"IF(COUNT(特に買いたい・利用したい!BM44:BX44)<>12,\"\",AVERAGE(特に買いたい・利用したい!BM44:BX44))","v":""},{"$f":"IF(COUNT(特に買いたい・利用したい!BN44:BY44)<>12,\"\",AVERAGE(特に買いたい・利用したい!BN44:BY44))","v":""},{"$f":"IF(COUNT(特に買いたい・利用したい!BO44:BZ44)<>12,\"\",AVERAGE(特に買いたい・利用したい!BO44:BZ44))","v":""},{"$f":"IF(COUNT(特に買いたい・利用したい!BP44:CA44)<>12,\"\",AVERAGE(特に買いたい・利用したい!BP44:CA44))","v":""},{"$f":"IF(COUNT(特に買いたい・利用したい!BQ44:CB44)<>12,\"\",AVERAGE(特に買いたい・利用したい!BQ44:CB44))","v":""},{"$f":"IF(COUNT(特に買いたい・利用したい!BR44:CC44)<>12,\"\",AVERAGE(特に買いたい・利用したい!BR44:CC44))","v":""},{"$f":"IF(COUNT(特に買いたい・利用したい!BS44:CD44)<>12,\"\",AVERAGE(特に買いたい・利用したい!BS44:CD44))","v":""},{"$f":"IF(COUNT(特に買いたい・利用したい!BT44:CE44)<>12,\"\",AVERAGE(特に買いたい・利用したい!BT44:CE44))","v":""},{"$f":"IF(COUNT(特に買いたい・利用したい!BU44:CF44)<>12,\"\",AVERAGE(特に買いたい・利用したい!BU44:CF44))","v":""},{"$f":"IF(COUNT(特に買いたい・利用したい!BV44:CG44)<>12,\"\",AVERAGE(特に買いたい・利用したい!BV44:CG44))","v":""},{"$f":"IF(COUNT(特に買いたい・利用したい!BW44:CH44)<>12,\"\",AVERAGE(特に買いたい・利用したい!BW44:CH44))","v":""},{"$f":"IF(COUNT(特に買いたい・利用したい!BX44:CI44)<>12,\"\",AVERAGE(特に買いたい・利用したい!BX44:CI44))","v":""},{"$f":"IF(COUNT(特に買いたい・利用したい!BY44:CJ44)<>12,\"\",AVERAGE(特に買いたい・利用したい!BY44:CJ44))","v":""},{"$f":"IF(COUNT(特に買いたい・利用したい!BZ44:CK44)<>12,\"\",AVERAGE(特に買いたい・利用したい!BZ44:CK44))","v":""},{"$f":"IF(COUNT(特に買いたい・利用したい!CA44:CL44)<>12,\"\",AVERAGE(特に買いたい・利用したい!CA44:CL44))","v":""},{"$f":"IF(COUNT(特に買いたい・利用したい!CB44:CM44)<>12,\"\",AVERAGE(特に買いたい・利用したい!CB44:CM44))","v":""},{"$f":"IF(COUNT(特に買いたい・利用したい!CC44:CN44)<>12,\"\",AVERAGE(特に買いたい・利用したい!CC44:CN44))","v":""},{"$f":"IF(COUNT(特に買いたい・利用したい!CD44:CO44)<>12,\"\",AVERAGE(特に買いたい・利用したい!CD44:CO44))","v":""},{"$f":"IF(COUNT(特に買いたい・利用したい!CE44:CP44)<>12,\"\",AVERAGE(特に買いたい・利用したい!CE44:CP44))","v":""},{"$f":"IF(COUNT(特に買いたい・利用したい!CF44:CQ44)<>12,\"\",AVERAGE(特に買いたい・利用したい!CF44:CQ44))","v":""},{"$f":"IF(COUNT(特に買いたい・利用したい!CG44:CR44)<>12,\"\",AVERAGE(特に買いたい・利用したい!CG44:CR44))","v":""},{"$f":"IF(COUNT(特に買いたい・利用したい!CH44:CS44)<>12,\"\",AVERAGE(特に買いたい・利用したい!CH44:CS44))","v":""},{"$f":"IF(COUNT(特に買いたい・利用したい!CI44:CT44)<>12,\"\",AVERAGE(特に買いたい・利用したい!CI44:CT44))","v":""},{"$f":"IF(COUNT(特に買いたい・利用したい!CJ44:CU44)<>12,\"\",AVERAGE(特に買いたい・利用したい!CJ44:CU44))","v":""},{"$f":"IF(COUNT(特に買いたい・利用したい!CK44:CV44)<>12,\"\",AVERAGE(特に買いたい・利用したい!CK44:CV44))","v":""},{"$f":"IF(COUNT(特に買いたい・利用したい!CL44:CW44)<>12,\"\",AVERAGE(特に買いたい・利用したい!CL44:CW44))","v":""},{"$f":"IF(COUNT(特に買いたい・利用したい!CM44:CX44)<>12,\"\",AVERAGE(特に買いたい・利用したい!CM44:CX44))","v":""},{"$f":"IF(COUNT(特に買いたい・利用したい!CN44:CY44)<>12,\"\",AVERAGE(特に買いたい・利用したい!CN44:CY44))","v":""},{"$f":"IF(COUNT(特に買いたい・利用したい!CO44:CZ44)<>12,\"\",AVERAGE(特に買いたい・利用したい!CO44:CZ44))","v":""},{"$f":"IF(COUNT(特に買いたい・利用したい!CP44:DA44)<>12,\"\",AVERAGE(特に買いたい・利用したい!CP44:DA44))","v":""},{"$f":"IF(COUNT(特に買いたい・利用したい!CQ44:DB44)<>12,\"\",AVERAGE(特に買いたい・利用したい!CQ44:DB44))","v":""},{"$f":"IF(COUNT(特に買いたい・利用したい!CR44:DC44)<>12,\"\",AVERAGE(特に買いたい・利用したい!CR44:DC44))","v":""},{"$f":"IF(COUNT(特に買いたい・利用したい!CS44:DD44)<>12,\"\",AVERAGE(特に買いたい・利用したい!CS44:DD44))","v":""},{"$f":"IF(COUNT(特に買いたい・利用したい!CT44:DE44)<>12,\"\",AVERAGE(特に買いたい・利用したい!CT44:DE44))","v":""},{"$f":"IF(COUNT(特に買いたい・利用したい!CU44:DF44)<>12,\"\",AVERAGE(特に買いたい・利用したい!CU44:DF44))","v":""},{"$f":"IF(COUNT(特に買いたい・利用したい!CV44:DG44)<>12,\"\",AVERAGE(特に買いたい・利用したい!CV44:DG44))","v":""}]
[null,null,"専業主婦",null,null,null,null,null,null,null,null,null,null,null,null,null,null,null,{"$f":"IF(COUNT(特に買いたい・利用したい!H45:S45)<>12,\"\",AVERAGE(特に買いたい・利用したい!H45:S45))","v":32.916666666666664},{"$f":"IF(COUNT(特に買いたい・利用したい!I45:T45)<>12,\"\",AVERAGE(特に買いたい・利用したい!I45:T45))","v":32.033333333333331},{"$f":"IF(COUNT(特に買いたい・利用したい!J45:U45)<>12,\"\",AVERAGE(特に買いたい・利用したい!J45:U45))","v":31.650000000000002},{"$f":"IF(COUNT(特に買いたい・利用したい!K45:V45)<>12,\"\",AVERAGE(特に買いたい・利用したい!K45:V45))","v":31.308333333333334},{"$f":"IF(COUNT(特に買いたい・利用したい!L45:W45)<>12,\"\",AVERAGE(特に買いたい・利用したい!L45:W45))","v":31.491666666666664},{"$f":"IF(COUNT(特に買いたい・利用したい!M45:X45)<>12,\"\",AVERAGE(特に買いたい・利用したい!M45:X45))","v":30.875},{"$f":"IF(COUNT(特に買いたい・利用したい!N45:Y45)<>12,\"\",AVERAGE(特に買いたい・利用したい!N45:Y45))","v":30.241666666666671},{"$f":"IF(COUNT(特に買いたい・利用したい!O45:Z45)<>12,\"\",AVERAGE(特に買いたい・利用したい!O45:Z45))","v":29.75},{"$f":"IF(COUNT(特に買いたい・利用したい!P45:AA45)<>12,\"\",AVERAGE(特に買いたい・利用したい!P45:AA45))","v":29.116666666666664},{"$f":"IF(COUNT(特に買いたい・利用したい!Q45:AB45)<>12,\"\",AVERAGE(特に買いたい・利用したい!Q45:AB45))","v":28.150000000000002},{"$f":"IF(COUNT(特に買いたい・利用したい!R45:AC45)<>12,\"\",AVERAGE(特に買いたい・利用したい!R45:AC45))","v":28.491666666666664},{"$f":"IF(COUNT(特に買いたい・利用したい!S45:AD45)<>12,\"\",AVERAGE(特に買いたい・利用したい!S45:AD45))","v":29.474999999999998},{"$f":"IF(COUNT(特に買いたい・利用したい!T45:AE45)<>12,\"\",AVERAGE(特に買いたい・利用したい!T45:AE45))","v":27.966666666666669},{"$f":"IF(COUNT(特に買いたい・利用したい!U45:AF45)<>12,\"\",AVERAGE(特に買いたい・利用したい!U45:AF45))","v":27.325000000000003},{"$f":"IF(COUNT(特に買いたい・利用したい!V45:AG45)<>12,\"\",AVERAGE(特に買いたい・利用したい!V45:AG45))","v":26.608333333333338},{"$f":"IF(COUNT(特に買いたい・利用したい!W45:AH45)<>12,\"\",AVERAGE(特に買いたい・利用したい!W45:AH45))","v":25.958333333333332},{"$f":"IF(COUNT(特に買いたい・利用したい!X45:AI45)<>12,\"\",AVERAGE(特に買いたい・利用したい!X45:AI45))","v":25.683333333333334},{"$f":"IF(COUNT(特に買いたい・利用したい!Y45:AJ45)<>12,\"\",AVERAGE(特に買いたい・利用したい!Y45:AJ45))","v":26.008333333333329},{"$f":"IF(COUNT(特に買いたい・利用したい!Z45:AK45)<>12,\"\",AVERAGE(特に買いたい・利用したい!Z45:AK45))","v":25.741666666666671},{"$f":"IF(COUNT(特に買いたい・利用したい!AA45:AL45)<>12,\"\",AVERAGE(特に買いたい・利用したい!AA45:AL45))","v":25.758333333333336},{"$f":"IF(COUNT(特に買いたい・利用したい!AB45:AM45)<>12,\"\",AVERAGE(特に買いたい・利用したい!AB45:AM45))","v":26.649999999999995},{"$f":"IF(COUNT(特に買いたい・利用したい!AC45:AN45)<>12,\"\",AVERAGE(特に買いたい・利用したい!AC45:AN45))","v":26.491666666666664},{"$f":"IF(COUNT(特に買いたい・利用したい!AD45:AO45)<>12,\"\",AVERAGE(特に買いたい・利用したい!AD45:AO45))","v":26.033333333333331},{"$f":"IF(COUNT(特に買いたい・利用したい!AE45:AP45)<>12,\"\",AVERAGE(特に買いたい・利用したい!AE45:AP45))","v":24.658333333333331},{"$f":"IF(COUNT(特に買いたい・利用したい!AF45:AQ45)<>12,\"\",AVERAGE(特に買いたい・利用したい!AF45:AQ45))","v":25.741666666666664},{"$f":"IF(COUNT(特に買いたい・利用したい!AG45:AR45)<>12,\"\",AVERAGE(特に買いたい・利用したい!AG45:AR45))","v":26.38333333333334},{"$f":"IF(COUNT(特に買いたい・利用したい!AH45:AS45)<>12,\"\",AVERAGE(特に買いたい・利用したい!AH45:AS45))","v":26.641666666666669},{"$f":"IF(COUNT(特に買いたい・利用したい!AI45:AT45)<>12,\"\",AVERAGE(特に買いたい・利用したい!AI45:AT45))","v":27.191666666666666},{"$f":"IF(COUNT(特に買いたい・利用したい!AJ45:AU45)<>12,\"\",AVERAGE(特に買いたい・利用したい!AJ45:AU45))","v":27.441666666666666},{"$f":"IF(COUNT(特に買いたい・利用したい!AK45:AV45)<>12,\"\",AVERAGE(特に買いたい・利用したい!AK45:AV45))","v":27.658333333333331},{"$f":"IF(COUNT(特に買いたい・利用したい!AL45:AW45)<>12,\"\",AVERAGE(特に買いたい・利用したい!AL45:AW45))","v":27.924999999999997},{"$f":"IF(COUNT(特に買いたい・利用したい!AM45:AX45)<>12,\"\",AVERAGE(特に買いたい・利用したい!AM45:AX45))","v":28.208333333333339},{"$f":"IF(COUNT(特に買いたい・利用したい!AN45:AY45)<>12,\"\",AVERAGE(特に買いたい・利用したい!AN45:AY45))","v":28.458333333333332},{"$f":"IF(COUNT(特に買いたい・利用したい!AO45:AZ45)<>12,\"\",AVERAGE(特に買いたい・利用したい!AO45:AZ45))","v":28.916666666666668},{"$f":"IF(COUNT(特に買いたい・利用したい!AP45:BA45)<>12,\"\",AVERAGE(特に買いたい・利用したい!AP45:BA45))","v":29.375},{"$f":"IF(COUNT(特に買いたい・利用したい!AQ45:BB45)<>12,\"\",AVERAGE(特に買いたい・利用したい!AQ45:BB45))","v":29.099999999999998},{"$f":"IF(COUNT(特に買いたい・利用したい!AR45:BC45)<>12,\"\",AVERAGE(特に買いたい・利用したい!AR45:BC45))","v":28.441666666666663},{"$f":"IF(COUNT(特に買いたい・利用したい!AS45:BD45)<>12,\"\",AVERAGE(特に買いたい・利用したい!AS45:BD45))","v":28.49166666666666},{"$f":"IF(COUNT(特に買いたい・利用したい!AT45:BE45)<>12,\"\",AVERAGE(特に買いたい・利用したい!AT45:BE45))","v":""},{"$f":"IF(COUNT(特に買いたい・利用したい!AU45:BF45)<>12,\"\",AVERAGE(特に買いたい・利用したい!AU45:BF45))","v":""},{"$f":"IF(COUNT(特に買いたい・利用したい!AV45:BG45)<>12,\"\",AVERAGE(特に買いたい・利用したい!AV45:BG45))","v":""},{"$f":"IF(COUNT(特に買いたい・利用したい!AW45:BH45)<>12,\"\",AVERAGE(特に買いたい・利用したい!AW45:BH45))","v":""},{"$f":"IF(COUNT(特に買いたい・利用したい!AX45:BI45)<>12,\"\",AVERAGE(特に買いたい・利用したい!AX45:BI45))","v":""},{"$f":"IF(COUNT(特に買いたい・利用したい!AY45:BJ45)<>12,\"\",AVERAGE(特に買いたい・利用したい!AY45:BJ45))","v":""},{"$f":"IF(COUNT(特に買いたい・利用したい!AZ45:BK45)<>12,\"\",AVERAGE(特に買いたい・利用したい!AZ45:BK45))","v":""},{"$f":"IF(COUNT(特に買いたい・利用したい!BA45:BL45)<>12,\"\",AVERAGE(特に買いたい・利用したい!BA45:BL45))","v":""},{"$f":"IF(COUNT(特に買いたい・利用したい!BB45:BM45)<>12,\"\",AVERAGE(特に買いたい・利用したい!BB45:BM45))","v":""},{"$f":"IF(COUNT(特に買いたい・利用したい!BC45:BN45)<>12,\"\",AVERAGE(特に買いたい・利用したい!BC45:BN45))","v":""},{"$f":"IF(COUNT(特に買いたい・利用したい!BD45:BO45)<>12,\"\",AVERAGE(特に買いたい・利用したい!BD45:BO45))","v":""},{"$f":"IF(COUNT(特に買いたい・利用したい!BE45:BP45)<>12,\"\",AVERAGE(特に買いたい・利用したい!BE45:BP45))","v":""},{"$f":"IF(COUNT(特に買いたい・利用したい!BF45:BQ45)<>12,\"\",AVERAGE(特に買いたい・利用したい!BF45:BQ45))","v":""},{"$f":"IF(COUNT(特に買いたい・利用したい!BG45:BR45)<>12,\"\",AVERAGE(特に買いたい・利用したい!BG45:BR45))","v":""},{"$f":"IF(COUNT(特に買いたい・利用したい!BH45:BS45)<>12,\"\",AVERAGE(特に買いたい・利用したい!BH45:BS45))","v":""},{"$f":"IF(COUNT(特に買いたい・利用したい!BI45:BT45)<>12,\"\",AVERAGE(特に買いたい・利用したい!BI45:BT45))","v":""},{"$f":"IF(COUNT(特に買いたい・利用したい!BJ45:BU45)<>12,\"\",AVERAGE(特に買いたい・利用したい!BJ45:BU45))","v":""},{"$f":"IF(COUNT(特に買いたい・利用したい!BK45:BV45)<>12,\"\",AVERAGE(特に買いたい・利用したい!BK45:BV45))","v":""},{"$f":"IF(COUNT(特に買いたい・利用したい!BL45:BW45)<>12,\"\",AVERAGE(特に買いたい・利用したい!BL45:BW45))","v":""},{"$f":"IF(COUNT(特に買いたい・利用したい!BM45:BX45)<>12,\"\",AVERAGE(特に買いたい・利用したい!BM45:BX45))","v":""},{"$f":"IF(COUNT(特に買いたい・利用したい!BN45:BY45)<>12,\"\",AVERAGE(特に買いたい・利用したい!BN45:BY45))","v":""},{"$f":"IF(COUNT(特に買いたい・利用したい!BO45:BZ45)<>12,\"\",AVERAGE(特に買いたい・利用したい!BO45:BZ45))","v":""},{"$f":"IF(COUNT(特に買いたい・利用したい!BP45:CA45)<>12,\"\",AVERAGE(特に買いたい・利用したい!BP45:CA45))","v":""},{"$f":"IF(COUNT(特に買いたい・利用したい!BQ45:CB45)<>12,\"\",AVERAGE(特に買いたい・利用したい!BQ45:CB45))","v":""},{"$f":"IF(COUNT(特に買いたい・利用したい!BR45:CC45)<>12,\"\",AVERAGE(特に買いたい・利用したい!BR45:CC45))","v":""},{"$f":"IF(COUNT(特に買いたい・利用したい!BS45:CD45)<>12,\"\",AVERAGE(特に買いたい・利用したい!BS45:CD45))","v":""},{"$f":"IF(COUNT(特に買いたい・利用したい!BT45:CE45)<>12,\"\",AVERAGE(特に買いたい・利用したい!BT45:CE45))","v":""},{"$f":"IF(COUNT(特に買いたい・利用したい!BU45:CF45)<>12,\"\",AVERAGE(特に買いたい・利用したい!BU45:CF45))","v":""},{"$f":"IF(COUNT(特に買いたい・利用したい!BV45:CG45)<>12,\"\",AVERAGE(特に買いたい・利用したい!BV45:CG45))","v":""},{"$f":"IF(COUNT(特に買いたい・利用したい!BW45:CH45)<>12,\"\",AVERAGE(特に買いたい・利用したい!BW45:CH45))","v":""},{"$f":"IF(COUNT(特に買いたい・利用したい!BX45:CI45)<>12,\"\",AVERAGE(特に買いたい・利用したい!BX45:CI45))","v":""},{"$f":"IF(COUNT(特に買いたい・利用したい!BY45:CJ45)<>12,\"\",AVERAGE(特に買いたい・利用したい!BY45:CJ45))","v":""},{"$f":"IF(COUNT(特に買いたい・利用したい!BZ45:CK45)<>12,\"\",AVERAGE(特に買いたい・利用したい!BZ45:CK45))","v":""},{"$f":"IF(COUNT(特に買いたい・利用したい!CA45:CL45)<>12,\"\",AVERAGE(特に買いたい・利用したい!CA45:CL45))","v":""},{"$f":"IF(COUNT(特に買いたい・利用したい!CB45:CM45)<>12,\"\",AVERAGE(特に買いたい・利用したい!CB45:CM45))","v":""},{"$f":"IF(COUNT(特に買いたい・利用したい!CC45:CN45)<>12,\"\",AVERAGE(特に買いたい・利用したい!CC45:CN45))","v":""},{"$f":"IF(COUNT(特に買いたい・利用したい!CD45:CO45)<>12,\"\",AVERAGE(特に買いたい・利用したい!CD45:CO45))","v":""},{"$f":"IF(COUNT(特に買いたい・利用したい!CE45:CP45)<>12,\"\",AVERAGE(特に買いたい・利用したい!CE45:CP45))","v":""},{"$f":"IF(COUNT(特に買いたい・利用したい!CF45:CQ45)<>12,\"\",AVERAGE(特に買いたい・利用したい!CF45:CQ45))","v":""},{"$f":"IF(COUNT(特に買いたい・利用したい!CG45:CR45)<>12,\"\",AVERAGE(特に買いたい・利用したい!CG45:CR45))","v":""},{"$f":"IF(COUNT(特に買いたい・利用したい!CH45:CS45)<>12,\"\",AVERAGE(特に買いたい・利用したい!CH45:CS45))","v":""},{"$f":"IF(COUNT(特に買いたい・利用したい!CI45:CT45)<>12,\"\",AVERAGE(特に買いたい・利用したい!CI45:CT45))","v":""},{"$f":"IF(COUNT(特に買いたい・利用したい!CJ45:CU45)<>12,\"\",AVERAGE(特に買いたい・利用したい!CJ45:CU45))","v":""},{"$f":"IF(COUNT(特に買いたい・利用したい!CK45:CV45)<>12,\"\",AVERAGE(特に買いたい・利用したい!CK45:CV45))","v":""},{"$f":"IF(COUNT(特に買いたい・利用したい!CL45:CW45)<>12,\"\",AVERAGE(特に買いたい・利用したい!CL45:CW45))","v":""},{"$f":"IF(COUNT(特に買いたい・利用したい!CM45:CX45)<>12,\"\",AVERAGE(特に買いたい・利用したい!CM45:CX45))","v":""},{"$f":"IF(COUNT(特に買いたい・利用したい!CN45:CY45)<>12,\"\",AVERAGE(特に買いたい・利用したい!CN45:CY45))","v":""},{"$f":"IF(COUNT(特に買いたい・利用したい!CO45:CZ45)<>12,\"\",AVERAGE(特に買いたい・利用したい!CO45:CZ45))","v":""},{"$f":"IF(COUNT(特に買いたい・利用したい!CP45:DA45)<>12,\"\",AVERAGE(特に買いたい・利用したい!CP45:DA45))","v":""},{"$f":"IF(COUNT(特に買いたい・利用したい!CQ45:DB45)<>12,\"\",AVERAGE(特に買いたい・利用したい!CQ45:DB45))","v":""},{"$f":"IF(COUNT(特に買いたい・利用したい!CR45:DC45)<>12,\"\",AVERAGE(特に買いたい・利用したい!CR45:DC45))","v":""},{"$f":"IF(COUNT(特に買いたい・利用したい!CS45:DD45)<>12,\"\",AVERAGE(特に買いたい・利用したい!CS45:DD45))","v":""},{"$f":"IF(COUNT(特に買いたい・利用したい!CT45:DE45)<>12,\"\",AVERAGE(特に買いたい・利用したい!CT45:DE45))","v":""},{"$f":"IF(COUNT(特に買いたい・利用したい!CU45:DF45)<>12,\"\",AVERAGE(特に買いたい・利用したい!CU45:DF45))","v":""},{"$f":"IF(COUNT(特に買いたい・利用したい!CV45:DG45)<>12,\"\",AVERAGE(特に買いたい・利用したい!CV45:DG45))","v":""}]
[null,null,"学生",null,null,null,null,null,null,null,null,null,null,null,null,null,null,null,{"$f":"IF(COUNT(特に買いたい・利用したい!H46:S46)<>12,\"\",AVERAGE(特に買いたい・利用したい!H46:S46))","v":48.80833333333333},{"$f":"IF(COUNT(特に買いたい・利用したい!I46:T46)<>12,\"\",AVERAGE(特に買いたい・利用したい!I46:T46))","v":49.916666666666657},{"$f":"IF(COUNT(特に買いたい・利用したい!J46:U46)<>12,\"\",AVERAGE(特に買いたい・利用したい!J46:U46))","v":47.616666666666667},{"$f":"IF(COUNT(特に買いたい・利用したい!K46:V46)<>12,\"\",AVERAGE(特に買いたい・利用したい!K46:V46))","v":46.241666666666674},{"$f":"IF(COUNT(特に買いたい・利用したい!L46:W46)<>12,\"\",AVERAGE(特に買いたい・利用したい!L46:W46))","v":45.81666666666667},{"$f":"IF(COUNT(特に買いたい・利用したい!M46:X46)<>12,\"\",AVERAGE(特に買いたい・利用したい!M46:X46))","v":43.925000000000004},{"$f":"IF(COUNT(特に買いたい・利用したい!N46:Y46)<>12,\"\",AVERAGE(特に買いたい・利用したい!N46:Y46))","v":44.024999999999999},{"$f":"IF(COUNT(特に買いたい・利用したい!O46:Z46)<>12,\"\",AVERAGE(特に買いたい・利用したい!O46:Z46))","v":43.291666666666664},{"$f":"IF(COUNT(特に買いたい・利用したい!P46:AA46)<>12,\"\",AVERAGE(特に買いたい・利用したい!P46:AA46))","v":44.066666666666663},{"$f":"IF(COUNT(特に買いたい・利用したい!Q46:AB46)<>12,\"\",AVERAGE(特に買いたい・利用したい!Q46:AB46))","v":43.599999999999994},{"$f":"IF(COUNT(特に買いたい・利用したい!R46:AC46)<>12,\"\",AVERAGE(特に買いたい・利用したい!R46:AC46))","v":43.516666666666673},{"$f":"IF(COUNT(特に買いたい・利用したい!S46:AD46)<>12,\"\",AVERAGE(特に買いたい・利用したい!S46:AD46))","v":42.966666666666661},{"$f":"IF(COUNT(特に買いたい・利用したい!T46:AE46)<>12,\"\",AVERAGE(特に買いたい・利用したい!T46:AE46))","v":41.008333333333333},{"$f":"IF(COUNT(特に買いたい・利用したい!U46:AF46)<>12,\"\",AVERAGE(特に買いたい・利用したい!U46:AF46))","v":40.458333333333336},{"$f":"IF(COUNT(特に買いたい・利用したい!V46:AG46)<>12,\"\",AVERAGE(特に買いたい・利用したい!V46:AG46))","v":41.25},{"$f":"IF(COUNT(特に買いたい・利用したい!W46:AH46)<>12,\"\",AVERAGE(特に買いたい・利用したい!W46:AH46))","v":41.608333333333334},{"$f":"IF(COUNT(特に買いたい・利用したい!X46:AI46)<>12,\"\",AVERAGE(特に買いたい・利用したい!X46:AI46))","v":41.883333333333333},{"$f":"IF(COUNT(特に買いたい・利用したい!Y46:AJ46)<>12,\"\",AVERAGE(特に買いたい・利用したい!Y46:AJ46))","v":42.225000000000001},{"$f":"IF(COUNT(特に買いたい・利用したい!Z46:AK46)<>12,\"\",AVERAGE(特に買いたい・利用したい!Z46:AK46))","v":40.766666666666673},{"$f":"IF(COUNT(特に買いたい・利用したい!AA46:AL46)<>12,\"\",AVERAGE(特に買いたい・利用したい!AA46:AL46))","v":41.033333333333339},{"$f":"IF(COUNT(特に買いたい・利用したい!AB46:AM46)<>12,\"\",AVERAGE(特に買いたい・利用したい!AB46:AM46))","v":41.675000000000004},{"$f":"IF(COUNT(特に買いたい・利用したい!AC46:AN46)<>12,\"\",AVERAGE(特に買いたい・利用したい!AC46:AN46))","v":41.491666666666667},{"$f":"IF(COUNT(特に買いたい・利用したい!AD46:AO46)<>12,\"\",AVERAGE(特に買いたい・利用したい!AD46:AO46))","v":42.016666666666666},{"$f":"IF(COUNT(特に買いたい・利用したい!AE46:AP46)<>12,\"\",AVERAGE(特に買いたい・利用したい!AE46:AP46))","v":42.325000000000003},{"$f":"IF(COUNT(特に買いたい・利用したい!AF46:AQ46)<>12,\"\",AVERAGE(特に買いたい・利用したい!AF46:AQ46))","v":43.758333333333333},{"$f":"IF(COUNT(特に買いたい・利用したい!AG46:AR46)<>12,\"\",AVERAGE(特に買いたい・利用したい!AG46:AR46))","v":43.150000000000006},{"$f":"IF(COUNT(特に買いたい・利用したい!AH46:AS46)<>12,\"\",AVERAGE(特に買いたい・利用したい!AH46:AS46))","v":42.400000000000006},{"$f":"IF(COUNT(特に買いたい・利用したい!AI46:AT46)<>12,\"\",AVERAGE(特に買いたい・利用したい!AI46:AT46))","v":41.833333333333336},{"$f":"IF(COUNT(特に買いたい・利用したい!AJ46:AU46)<>12,\"\",AVERAGE(特に買いたい・利用したい!AJ46:AU46))","v":42.791666666666664},{"$f":"IF(COUNT(特に買いたい・利用したい!AK46:AV46)<>12,\"\",AVERAGE(特に買いたい・利用したい!AK46:AV46))","v":42.683333333333337},{"$f":"IF(COUNT(特に買いたい・利用したい!AL46:AW46)<>12,\"\",AVERAGE(特に買いたい・利用したい!AL46:AW46))","v":42.583333333333343},{"$f":"IF(COUNT(特に買いたい・利用したい!AM46:AX46)<>12,\"\",AVERAGE(特に買いたい・利用したい!AM46:AX46))","v":42.458333333333336},{"$f":"IF(COUNT(特に買いたい・利用したい!AN46:AY46)<>12,\"\",AVERAGE(特に買いたい・利用したい!AN46:AY46))","v":41.183333333333337},{"$f":"IF(COUNT(特に買いたい・利用したい!AO46:AZ46)<>12,\"\",AVERAGE(特に買いたい・利用したい!AO46:AZ46))","v":42.416666666666664},{"$f":"IF(COUNT(特に買いたい・利用したい!AP46:BA46)<>12,\"\",AVERAGE(特に買いたい・利用したい!AP46:BA46))","v":42.491666666666667},{"$f":"IF(COUNT(特に買いたい・利用したい!AQ46:BB46)<>12,\"\",AVERAGE(特に買いたい・利用したい!AQ46:BB46))","v":41.783333333333339},{"$f":"IF(COUNT(特に買いたい・利用したい!AR46:BC46)<>12,\"\",AVERAGE(特に買いたい・利用したい!AR46:BC46))","v":40.908333333333339},{"$f":"IF(COUNT(特に買いたい・利用したい!AS46:BD46)<>12,\"\",AVERAGE(特に買いたい・利用したい!AS46:BD46))","v":40.6},{"$f":"IF(COUNT(特に買いたい・利用したい!AT46:BE46)<>12,\"\",AVERAGE(特に買いたい・利用したい!AT46:BE46))","v":""},{"$f":"IF(COUNT(特に買いたい・利用したい!AU46:BF46)<>12,\"\",AVERAGE(特に買いたい・利用したい!AU46:BF46))","v":""},{"$f":"IF(COUNT(特に買いたい・利用したい!AV46:BG46)<>12,\"\",AVERAGE(特に買いたい・利用したい!AV46:BG46))","v":""},{"$f":"IF(COUNT(特に買いたい・利用したい!AW46:BH46)<>12,\"\",AVERAGE(特に買いたい・利用したい!AW46:BH46))","v":""},{"$f":"IF(COUNT(特に買いたい・利用したい!AX46:BI46)<>12,\"\",AVERAGE(特に買いたい・利用したい!AX46:BI46))","v":""},{"$f":"IF(COUNT(特に買いたい・利用したい!AY46:BJ46)<>12,\"\",AVERAGE(特に買いたい・利用したい!AY46:BJ46))","v":""},{"$f":"IF(COUNT(特に買いたい・利用したい!AZ46:BK46)<>12,\"\",AVERAGE(特に買いたい・利用したい!AZ46:BK46))","v":""},{"$f":"IF(COUNT(特に買いたい・利用したい!BA46:BL46)<>12,\"\",AVERAGE(特に買いたい・利用したい!BA46:BL46))","v":""},{"$f":"IF(COUNT(特に買いたい・利用したい!BB46:BM46)<>12,\"\",AVERAGE(特に買いたい・利用したい!BB46:BM46))","v":""},{"$f":"IF(COUNT(特に買いたい・利用したい!BC46:BN46)<>12,\"\",AVERAGE(特に買いたい・利用したい!BC46:BN46))","v":""},{"$f":"IF(COUNT(特に買いたい・利用したい!BD46:BO46)<>12,\"\",AVERAGE(特に買いたい・利用したい!BD46:BO46))","v":""},{"$f":"IF(COUNT(特に買いたい・利用したい!BE46:BP46)<>12,\"\",AVERAGE(特に買いたい・利用したい!BE46:BP46))","v":""},{"$f":"IF(COUNT(特に買いたい・利用したい!BF46:BQ46)<>12,\"\",AVERAGE(特に買いたい・利用したい!BF46:BQ46))","v":""},{"$f":"IF(COUNT(特に買いたい・利用したい!BG46:BR46)<>12,\"\",AVERAGE(特に買いたい・利用したい!BG46:BR46))","v":""},{"$f":"IF(COUNT(特に買いたい・利用したい!BH46:BS46)<>12,\"\",AVERAGE(特に買いたい・利用したい!BH46:BS46))","v":""},{"$f":"IF(COUNT(特に買いたい・利用したい!BI46:BT46)<>12,\"\",AVERAGE(特に買いたい・利用したい!BI46:BT46))","v":""},{"$f":"IF(COUNT(特に買いたい・利用したい!BJ46:BU46)<>12,\"\",AVERAGE(特に買いたい・利用したい!BJ46:BU46))","v":""},{"$f":"IF(COUNT(特に買いたい・利用したい!BK46:BV46)<>12,\"\",AVERAGE(特に買いたい・利用したい!BK46:BV46))","v":""},{"$f":"IF(COUNT(特に買いたい・利用したい!BL46:BW46)<>12,\"\",AVERAGE(特に買いたい・利用したい!BL46:BW46))","v":""},{"$f":"IF(COUNT(特に買いたい・利用したい!BM46:BX46)<>12,\"\",AVERAGE(特に買いたい・利用したい!BM46:BX46))","v":""},{"$f":"IF(COUNT(特に買いたい・利用したい!BN46:BY46)<>12,\"\",AVERAGE(特に買いたい・利用したい!BN46:BY46))","v":""},{"$f":"IF(COUNT(特に買いたい・利用したい!BO46:BZ46)<>12,\"\",AVERAGE(特に買いたい・利用したい!BO46:BZ46))","v":""},{"$f":"IF(COUNT(特に買いたい・利用したい!BP46:CA46)<>12,\"\",AVERAGE(特に買いたい・利用したい!BP46:CA46))","v":""},{"$f":"IF(COUNT(特に買いたい・利用したい!BQ46:CB46)<>12,\"\",AVERAGE(特に買いたい・利用したい!BQ46:CB46))","v":""},{"$f":"IF(COUNT(特に買いたい・利用したい!BR46:CC46)<>12,\"\",AVERAGE(特に買いたい・利用したい!BR46:CC46))","v":""},{"$f":"IF(COUNT(特に買いたい・利用したい!BS46:CD46)<>12,\"\",AVERAGE(特に買いたい・利用したい!BS46:CD46))","v":""},{"$f":"IF(COUNT(特に買いたい・利用したい!BT46:CE46)<>12,\"\",AVERAGE(特に買いたい・利用したい!BT46:CE46))","v":""},{"$f":"IF(COUNT(特に買いたい・利用したい!BU46:CF46)<>12,\"\",AVERAGE(特に買いたい・利用したい!BU46:CF46))","v":""},{"$f":"IF(COUNT(特に買いたい・利用したい!BV46:CG46)<>12,\"\",AVERAGE(特に買いたい・利用したい!BV46:CG46))","v":""},{"$f":"IF(COUNT(特に買いたい・利用したい!BW46:CH46)<>12,\"\",AVERAGE(特に買いたい・利用したい!BW46:CH46))","v":""},{"$f":"IF(COUNT(特に買いたい・利用したい!BX46:CI46)<>12,\"\",AVERAGE(特に買いたい・利用したい!BX46:CI46))","v":""},{"$f":"IF(COUNT(特に買いたい・利用したい!BY46:CJ46)<>12,\"\",AVERAGE(特に買いたい・利用したい!BY46:CJ46))","v":""},{"$f":"IF(COUNT(特に買いたい・利用したい!BZ46:CK46)<>12,\"\",AVERAGE(特に買いたい・利用したい!BZ46:CK46))","v":""},{"$f":"IF(COUNT(特に買いたい・利用したい!CA46:CL46)<>12,\"\",AVERAGE(特に買いたい・利用したい!CA46:CL46))","v":""},{"$f":"IF(COUNT(特に買いたい・利用したい!CB46:CM46)<>12,\"\",AVERAGE(特に買いたい・利用したい!CB46:CM46))","v":""},{"$f":"IF(COUNT(特に買いたい・利用したい!CC46:CN46)<>12,\"\",AVERAGE(特に買いたい・利用したい!CC46:CN46))","v":""},{"$f":"IF(COUNT(特に買いたい・利用したい!CD46:CO46)<>12,\"\",AVERAGE(特に買いたい・利用したい!CD46:CO46))","v":""},{"$f":"IF(COUNT(特に買いたい・利用したい!CE46:CP46)<>12,\"\",AVERAGE(特に買いたい・利用したい!CE46:CP46))","v":""},{"$f":"IF(COUNT(特に買いたい・利用したい!CF46:CQ46)<>12,\"\",AVERAGE(特に買いたい・利用したい!CF46:CQ46))","v":""},{"$f":"IF(COUNT(特に買いたい・利用したい!CG46:CR46)<>12,\"\",AVERAGE(特に買いたい・利用したい!CG46:CR46))","v":""},{"$f":"IF(COUNT(特に買いたい・利用したい!CH46:CS46)<>12,\"\",AVERAGE(特に買いたい・利用したい!CH46:CS46))","v":""},{"$f":"IF(COUNT(特に買いたい・利用したい!CI46:CT46)<>12,\"\",AVERAGE(特に買いたい・利用したい!CI46:CT46))","v":""},{"$f":"IF(COUNT(特に買いたい・利用したい!CJ46:CU46)<>12,\"\",AVERAGE(特に買いたい・利用したい!CJ46:CU46))","v":""},{"$f":"IF(COUNT(特に買いたい・利用したい!CK46:CV46)<>12,\"\",AVERAGE(特に買いたい・利用したい!CK46:CV46))","v":""},{"$f":"IF(COUNT(特に買いたい・利用したい!CL46:CW46)<>12,\"\",AVERAGE(特に買いたい・利用したい!CL46:CW46))","v":""},{"$f":"IF(COUNT(特に買いたい・利用したい!CM46:CX46)<>12,\"\",AVERAGE(特に買いたい・利用したい!CM46:CX46))","v":""},{"$f":"IF(COUNT(特に買いたい・利用したい!CN46:CY46)<>12,\"\",AVERAGE(特に買いたい・利用したい!CN46:CY46))","v":""},{"$f":"IF(COUNT(特に買いたい・利用したい!CO46:CZ46)<>12,\"\",AVERAGE(特に買いたい・利用したい!CO46:CZ46))","v":""},{"$f":"IF(COUNT(特に買いたい・利用したい!CP46:DA46)<>12,\"\",AVERAGE(特に買いたい・利用したい!CP46:DA46))","v":""},{"$f":"IF(COUNT(特に買いたい・利用したい!CQ46:DB46)<>12,\"\",AVERAGE(特に買いたい・利用したい!CQ46:DB46))","v":""},{"$f":"IF(COUNT(特に買いたい・利用したい!CR46:DC46)<>12,\"\",AVERAGE(特に買いたい・利用したい!CR46:DC46))","v":""},{"$f":"IF(COUNT(特に買いたい・利用したい!CS46:DD46)<>12,\"\",AVERAGE(特に買いたい・利用したい!CS46:DD46))","v":""},{"$f":"IF(COUNT(特に買いたい・利用したい!CT46:DE46)<>12,\"\",AVERAGE(特に買いたい・利用したい!CT46:DE46))","v":""},{"$f":"IF(COUNT(特に買いたい・利用したい!CU46:DF46)<>12,\"\",AVERAGE(特に買いたい・利用したい!CU46:DF46))","v":""},{"$f":"IF(COUNT(特に買いたい・利用したい!CV46:DG46)<>12,\"\",AVERAGE(特に買いたい・利用したい!CV46:DG46))","v":""}]
[null,null,"無職・その他",null,null,null,null,null,null,null,null,null,null,null,null,null,null,null,{"$f":"IF(COUNT(特に買いたい・利用したい!H47:S47)<>12,\"\",AVERAGE(特に買いたい・利用したい!H47:S47))","v":29.633333333333336},{"$f":"IF(COUNT(特に買いたい・利用したい!I47:T47)<>12,\"\",AVERAGE(特に買いたい・利用したい!I47:T47))","v":29.491666666666671},{"$f":"IF(COUNT(特に買いたい・利用したい!J47:U47)<>12,\"\",AVERAGE(特に買いたい・利用したい!J47:U47))","v":29.691666666666663},{"$f":"IF(COUNT(特に買いたい・利用したい!K47:V47)<>12,\"\",AVERAGE(特に買いたい・利用したい!K47:V47))","v":29.141666666666666},{"$f":"IF(COUNT(特に買いたい・利用したい!L47:W47)<>12,\"\",AVERAGE(特に買いたい・利用したい!L47:W47))","v":29.074999999999999},{"$f":"IF(COUNT(特に買いたい・利用したい!M47:X47)<>12,\"\",AVERAGE(特に買いたい・利用したい!M47:X47))","v":28.458333333333329},{"$f":"IF(COUNT(特に買いたい・利用したい!N47:Y47)<>12,\"\",AVERAGE(特に買いたい・利用したい!N47:Y47))","v":28.61666666666666},{"$f":"IF(COUNT(特に買いたい・利用したい!O47:Z47)<>12,\"\",AVERAGE(特に買いたい・利用したい!O47:Z47))","v":27.274999999999995},{"$f":"IF(COUNT(特に買いたい・利用したい!P47:AA47)<>12,\"\",AVERAGE(特に買いたい・利用したい!P47:AA47))","v":26.158333333333331},{"$f":"IF(COUNT(特に買いたい・利用したい!Q47:AB47)<>12,\"\",AVERAGE(特に買いたい・利用したい!Q47:AB47))","v":25.891666666666666},{"$f":"IF(COUNT(特に買いたい・利用したい!R47:AC47)<>12,\"\",AVERAGE(特に買いたい・利用したい!R47:AC47))","v":25.874999999999996},{"$f":"IF(COUNT(特に買いたい・利用したい!S47:AD47)<>12,\"\",AVERAGE(特に買いたい・利用したい!S47:AD47))","v":25.566666666666666},{"$f":"IF(COUNT(特に買いたい・利用したい!T47:AE47)<>12,\"\",AVERAGE(特に買いたい・利用したい!T47:AE47))","v":24.008333333333336},{"$f":"IF(COUNT(特に買いたい・利用したい!U47:AF47)<>12,\"\",AVERAGE(特に買いたい・利用したい!U47:AF47))","v":22.958333333333332},{"$f":"IF(COUNT(特に買いたい・利用したい!V47:AG47)<>12,\"\",AVERAGE(特に買いたい・利用したい!V47:AG47))","v":21.974999999999998},{"$f":"IF(COUNT(特に買いたい・利用したい!W47:AH47)<>12,\"\",AVERAGE(特に買いたい・利用したい!W47:AH47))","v":21.674999999999997},{"$f":"IF(COUNT(特に買いたい・利用したい!X47:AI47)<>12,\"\",AVERAGE(特に買いたい・利用したい!X47:AI47))","v":21.833333333333332},{"$f":"IF(COUNT(特に買いたい・利用したい!Y47:AJ47)<>12,\"\",AVERAGE(特に買いたい・利用したい!Y47:AJ47))","v":22.408333333333335},{"$f":"IF(COUNT(特に買いたい・利用したい!Z47:AK47)<>12,\"\",AVERAGE(特に買いたい・利用したい!Z47:AK47))","v":22.216666666666669},{"$f":"IF(COUNT(特に買いたい・利用したい!AA47:AL47)<>12,\"\",AVERAGE(特に買いたい・利用したい!AA47:AL47))","v":22.125},{"$f":"IF(COUNT(特に買いたい・利用したい!AB47:AM47)<>12,\"\",AVERAGE(特に買いたい・利用したい!AB47:AM47))","v":23.033333333333335},{"$f":"IF(COUNT(特に買いたい・利用したい!AC47:AN47)<>12,\"\",AVERAGE(特に買いたい・利用したい!AC47:AN47))","v":22.216666666666669},{"$f":"IF(COUNT(特に買いたい・利用したい!AD47:AO47)<>12,\"\",AVERAGE(特に買いたい・利用したい!AD47:AO47))","v":21.708333333333329},{"$f":"IF(COUNT(特に買いたい・利用したい!AE47:AP47)<>12,\"\",AVERAGE(特に買いたい・利用したい!AE47:AP47))","v":21.291666666666664},{"$f":"IF(COUNT(特に買いたい・利用したい!AF47:AQ47)<>12,\"\",AVERAGE(特に買いたい・利用したい!AF47:AQ47))","v":22.583333333333332},{"$f":"IF(COUNT(特に買いたい・利用したい!AG47:AR47)<>12,\"\",AVERAGE(特に買いたい・利用したい!AG47:AR47))","v":23.574999999999999},{"$f":"IF(COUNT(特に買いたい・利用したい!AH47:AS47)<>12,\"\",AVERAGE(特に買いたい・利用したい!AH47:AS47))","v":24.091666666666669},{"$f":"IF(COUNT(特に買いたい・利用したい!AI47:AT47)<>12,\"\",AVERAGE(特に買いたい・利用したい!AI47:AT47))","v":24.574999999999999},{"$f":"IF(COUNT(特に買いたい・利用したい!AJ47:AU47)<>12,\"\",AVERAGE(特に買いたい・利用したい!AJ47:AU47))","v":24.658333333333335},{"$f":"IF(COUNT(特に買いたい・利用したい!AK47:AV47)<>12,\"\",AVERAGE(特に買いたい・利用したい!AK47:AV47))","v":24.916666666666668},{"$f":"IF(COUNT(特に買いたい・利用したい!AL47:AW47)<>12,\"\",AVERAGE(特に買いたい・利用したい!AL47:AW47))","v":24.708333333333332},{"$f":"IF(COUNT(特に買いたい・利用したい!AM47:AX47)<>12,\"\",AVERAGE(特に買いたい・利用したい!AM47:AX47))","v":25.924999999999997},{"$f":"IF(COUNT(特に買いたい・利用したい!AN47:AY47)<>12,\"\",AVERAGE(特に買いたい・利用したい!AN47:AY47))","v":25.675000000000001},{"$f":"IF(COUNT(特に買いたい・利用したい!AO47:AZ47)<>12,\"\",AVERAGE(特に買いたい・利用したい!AO47:AZ47))","v":26.183333333333337},{"$f":"IF(COUNT(特に買いたい・利用したい!AP47:BA47)<>12,\"\",AVERAGE(特に買いたい・利用したい!AP47:BA47))","v":26.500000000000004},{"$f":"IF(COUNT(特に買いたい・利用したい!AQ47:BB47)<>12,\"\",AVERAGE(特に買いたい・利用したい!AQ47:BB47))","v":26.466666666666669},{"$f":"IF(COUNT(特に買いたい・利用したい!AR47:BC47)<>12,\"\",AVERAGE(特に買いたい・利用したい!AR47:BC47))","v":25.891666666666666},{"$f":"IF(COUNT(特に買いたい・利用したい!AS47:BD47)<>12,\"\",AVERAGE(特に買いたい・利用したい!AS47:BD47))","v":26.125},{"$f":"IF(COUNT(特に買いたい・利用したい!AT47:BE47)<>12,\"\",AVERAGE(特に買いたい・利用したい!AT47:BE47))","v":""},{"$f":"IF(COUNT(特に買いたい・利用したい!AU47:BF47)<>12,\"\",AVERAGE(特に買いたい・利用したい!AU47:BF47))","v":""},{"$f":"IF(COUNT(特に買いたい・利用したい!AV47:BG47)<>12,\"\",AVERAGE(特に買いたい・利用したい!AV47:BG47))","v":""},{"$f":"IF(COUNT(特に買いたい・利用したい!AW47:BH47)<>12,\"\",AVERAGE(特に買いたい・利用したい!AW47:BH47))","v":""},{"$f":"IF(COUNT(特に買いたい・利用したい!AX47:BI47)<>12,\"\",AVERAGE(特に買いたい・利用したい!AX47:BI47))","v":""},{"$f":"IF(COUNT(特に買いたい・利用したい!AY47:BJ47)<>12,\"\",AVERAGE(特に買いたい・利用したい!AY47:BJ47))","v":""},{"$f":"IF(COUNT(特に買いたい・利用したい!AZ47:BK47)<>12,\"\",AVERAGE(特に買いたい・利用したい!AZ47:BK47))","v":""},{"$f":"IF(COUNT(特に買いたい・利用したい!BA47:BL47)<>12,\"\",AVERAGE(特に買いたい・利用したい!BA47:BL47))","v":""},{"$f":"IF(COUNT(特に買いたい・利用したい!BB47:BM47)<>12,\"\",AVERAGE(特に買いたい・利用したい!BB47:BM47))","v":""},{"$f":"IF(COUNT(特に買いたい・利用したい!BC47:BN47)<>12,\"\",AVERAGE(特に買いたい・利用したい!BC47:BN47))","v":""},{"$f":"IF(COUNT(特に買いたい・利用したい!BD47:BO47)<>12,\"\",AVERAGE(特に買いたい・利用したい!BD47:BO47))","v":""},{"$f":"IF(COUNT(特に買いたい・利用したい!BE47:BP47)<>12,\"\",AVERAGE(特に買いたい・利用したい!BE47:BP47))","v":""},{"$f":"IF(COUNT(特に買いたい・利用したい!BF47:BQ47)<>12,\"\",AVERAGE(特に買いたい・利用したい!BF47:BQ47))","v":""},{"$f":"IF(COUNT(特に買いたい・利用したい!BG47:BR47)<>12,\"\",AVERAGE(特に買いたい・利用したい!BG47:BR47))","v":""},{"$f":"IF(COUNT(特に買いたい・利用したい!BH47:BS47)<>12,\"\",AVERAGE(特に買いたい・利用したい!BH47:BS47))","v":""},{"$f":"IF(COUNT(特に買いたい・利用したい!BI47:BT47)<>12,\"\",AVERAGE(特に買いたい・利用したい!BI47:BT47))","v":""},{"$f":"IF(COUNT(特に買いたい・利用したい!BJ47:BU47)<>12,\"\",AVERAGE(特に買いたい・利用したい!BJ47:BU47))","v":""},{"$f":"IF(COUNT(特に買いたい・利用したい!BK47:BV47)<>12,\"\",AVERAGE(特に買いたい・利用したい!BK47:BV47))","v":""},{"$f":"IF(COUNT(特に買いたい・利用したい!BL47:BW47)<>12,\"\",AVERAGE(特に買いたい・利用したい!BL47:BW47))","v":""},{"$f":"IF(COUNT(特に買いたい・利用したい!BM47:BX47)<>12,\"\",AVERAGE(特に買いたい・利用したい!BM47:BX47))","v":""},{"$f":"IF(COUNT(特に買いたい・利用したい!BN47:BY47)<>12,\"\",AVERAGE(特に買いたい・利用したい!BN47:BY47))","v":""},{"$f":"IF(COUNT(特に買いたい・利用したい!BO47:BZ47)<>12,\"\",AVERAGE(特に買いたい・利用したい!BO47:BZ47))","v":""},{"$f":"IF(COUNT(特に買いたい・利用したい!BP47:CA47)<>12,\"\",AVERAGE(特に買いたい・利用したい!BP47:CA47))","v":""},{"$f":"IF(COUNT(特に買いたい・利用したい!BQ47:CB47)<>12,\"\",AVERAGE(特に買いたい・利用したい!BQ47:CB47))","v":""},{"$f":"IF(COUNT(特に買いたい・利用したい!BR47:CC47)<>12,\"\",AVERAGE(特に買いたい・利用したい!BR47:CC47))","v":""},{"$f":"IF(COUNT(特に買いたい・利用したい!BS47:CD47)<>12,\"\",AVERAGE(特に買いたい・利用したい!BS47:CD47))","v":""},{"$f":"IF(COUNT(特に買いたい・利用したい!BT47:CE47)<>12,\"\",AVERAGE(特に買いたい・利用したい!BT47:CE47))","v":""},{"$f":"IF(COUNT(特に買いたい・利用したい!BU47:CF47)<>12,\"\",AVERAGE(特に買いたい・利用したい!BU47:CF47))","v":""},{"$f":"IF(COUNT(特に買いたい・利用したい!BV47:CG47)<>12,\"\",AVERAGE(特に買いたい・利用したい!BV47:CG47))","v":""},{"$f":"IF(COUNT(特に買いたい・利用したい!BW47:CH47)<>12,\"\",AVERAGE(特に買いたい・利用したい!BW47:CH47))","v":""},{"$f":"IF(COUNT(特に買いたい・利用したい!BX47:CI47)<>12,\"\",AVERAGE(特に買いたい・利用したい!BX47:CI47))","v":""},{"$f":"IF(COUNT(特に買いたい・利用したい!BY47:CJ47)<>12,\"\",AVERAGE(特に買いたい・利用したい!BY47:CJ47))","v":""},{"$f":"IF(COUNT(特に買いたい・利用したい!BZ47:CK47)<>12,\"\",AVERAGE(特に買いたい・利用したい!BZ47:CK47))","v":""},{"$f":"IF(COUNT(特に買いたい・利用したい!CA47:CL47)<>12,\"\",AVERAGE(特に買いたい・利用したい!CA47:CL47))","v":""},{"$f":"IF(COUNT(特に買いたい・利用したい!CB47:CM47)<>12,\"\",AVERAGE(特に買いたい・利用したい!CB47:CM47))","v":""},{"$f":"IF(COUNT(特に買いたい・利用したい!CC47:CN47)<>12,\"\",AVERAGE(特に買いたい・利用したい!CC47:CN47))","v":""},{"$f":"IF(COUNT(特に買いたい・利用したい!CD47:CO47)<>12,\"\",AVERAGE(特に買いたい・利用したい!CD47:CO47))","v":""},{"$f":"IF(COUNT(特に買いたい・利用したい!CE47:CP47)<>12,\"\",AVERAGE(特に買いたい・利用したい!CE47:CP47))","v":""},{"$f":"IF(COUNT(特に買いたい・利用したい!CF47:CQ47)<>12,\"\",AVERAGE(特に買いたい・利用したい!CF47:CQ47))","v":""},{"$f":"IF(COUNT(特に買いたい・利用したい!CG47:CR47)<>12,\"\",AVERAGE(特に買いたい・利用したい!CG47:CR47))","v":""},{"$f":"IF(COUNT(特に買いたい・利用したい!CH47:CS47)<>12,\"\",AVERAGE(特に買いたい・利用したい!CH47:CS47))","v":""},{"$f":"IF(COUNT(特に買いたい・利用したい!CI47:CT47)<>12,\"\",AVERAGE(特に買いたい・利用したい!CI47:CT47))","v":""},{"$f":"IF(COUNT(特に買いたい・利用したい!CJ47:CU47)<>12,\"\",AVERAGE(特に買いたい・利用したい!CJ47:CU47))","v":""},{"$f":"IF(COUNT(特に買いたい・利用したい!CK47:CV47)<>12,\"\",AVERAGE(特に買いたい・利用したい!CK47:CV47))","v":""},{"$f":"IF(COUNT(特に買いたい・利用したい!CL47:CW47)<>12,\"\",AVERAGE(特に買いたい・利用したい!CL47:CW47))","v":""},{"$f":"IF(COUNT(特に買いたい・利用したい!CM47:CX47)<>12,\"\",AVERAGE(特に買いたい・利用したい!CM47:CX47))","v":""},{"$f":"IF(COUNT(特に買いたい・利用したい!CN47:CY47)<>12,\"\",AVERAGE(特に買いたい・利用したい!CN47:CY47))","v":""},{"$f":"IF(COUNT(特に買いたい・利用したい!CO47:CZ47)<>12,\"\",AVERAGE(特に買いたい・利用したい!CO47:CZ47))","v":""},{"$f":"IF(COUNT(特に買いたい・利用したい!CP47:DA47)<>12,\"\",AVERAGE(特に買いたい・利用したい!CP47:DA47))","v":""},{"$f":"IF(COUNT(特に買いたい・利用したい!CQ47:DB47)<>12,\"\",AVERAGE(特に買いたい・利用したい!CQ47:DB47))","v":""},{"$f":"IF(COUNT(特に買いたい・利用したい!CR47:DC47)<>12,\"\",AVERAGE(特に買いたい・利用したい!CR47:DC47))","v":""},{"$f":"IF(COUNT(特に買いたい・利用したい!CS47:DD47)<>12,\"\",AVERAGE(特に買いたい・利用したい!CS47:DD47))","v":""},{"$f":"IF(COUNT(特に買いたい・利用したい!CT47:DE47)<>12,\"\",AVERAGE(特に買いたい・利用したい!CT47:DE47))","v":""},{"$f":"IF(COUNT(特に買いたい・利用したい!CU47:DF47)<>12,\"\",AVERAGE(特に買いたい・利用したい!CU47:DF47))","v":""},{"$f":"IF(COUNT(特に買いたい・利用したい!CV47:DG47)<>12,\"\",AVERAGE(特に買いたい・利用したい!CV47:DG47))","v":""}]
[null,"世帯年収別","高（800万円以上）",null,null,null,null,null,null,null,null,null,null,null,null,null,null,null,{"$f":"IF(COUNT(特に買いたい・利用したい!H48:S48)<>12,\"\",AVERAGE(特に買いたい・利用したい!H48:S48))","v":33.833333333333329},{"$f":"IF(COUNT(特に買いたい・利用したい!I48:T48)<>12,\"\",AVERAGE(特に買いたい・利用したい!I48:T48))","v":33.166666666666664},{"$f":"IF(COUNT(特に買いたい・利用したい!J48:U48)<>12,\"\",AVERAGE(特に買いたい・利用したい!J48:U48))","v":32.80833333333333},{"$f":"IF(COUNT(特に買いたい・利用したい!K48:V48)<>12,\"\",AVERAGE(特に買いたい・利用したい!K48:V48))","v":32.1},{"$f":"IF(COUNT(特に買いたい・利用したい!L48:W48)<>12,\"\",AVERAGE(特に買いたい・利用したい!L48:W48))","v":31.583333333333339},{"$f":"IF(COUNT(特に買いたい・利用したい!M48:X48)<>12,\"\",AVERAGE(特に買いたい・利用したい!M48:X48))","v":30.733333333333338},{"$f":"IF(COUNT(特に買いたい・利用したい!N48:Y48)<>12,\"\",AVERAGE(特に買いたい・利用したい!N48:Y48))","v":30.608333333333334},{"$f":"IF(COUNT(特に買いたい・利用したい!O48:Z48)<>12,\"\",AVERAGE(特に買いたい・利用したい!O48:Z48))","v":30.191666666666666},{"$f":"IF(COUNT(特に買いたい・利用したい!P48:AA48)<>12,\"\",AVERAGE(特に買いたい・利用したい!P48:AA48))","v":30.191666666666666},{"$f":"IF(COUNT(特に買いたい・利用したい!Q48:AB48)<>12,\"\",AVERAGE(特に買いたい・利用したい!Q48:AB48))","v":29.325000000000003},{"$f":"IF(COUNT(特に買いたい・利用したい!R48:AC48)<>12,\"\",AVERAGE(特に買いたい・利用したい!R48:AC48))","v":29.666666666666671},{"$f":"IF(COUNT(特に買いたい・利用したい!S48:AD48)<>12,\"\",AVERAGE(特に買いたい・利用したい!S48:AD48))","v":29.741666666666671},{"$f":"IF(COUNT(特に買いたい・利用したい!T48:AE48)<>12,\"\",AVERAGE(特に買いたい・利用したい!T48:AE48))","v":28.391666666666669},{"$f":"IF(COUNT(特に買いたい・利用したい!U48:AF48)<>12,\"\",AVERAGE(特に買いたい・利用したい!U48:AF48))","v":27.933333333333334},{"$f":"IF(COUNT(特に買いたい・利用したい!V48:AG48)<>12,\"\",AVERAGE(特に買いたい・利用したい!V48:AG48))","v":27.491666666666671},{"$f":"IF(COUNT(特に買いたい・利用したい!W48:AH48)<>12,\"\",AVERAGE(特に買いたい・利用したい!W48:AH48))","v":27.358333333333334},{"$f":"IF(COUNT(特に買いたい・利用したい!X48:AI48)<>12,\"\",AVERAGE(特に買いたい・利用したい!X48:AI48))","v":26.916666666666671},{"$f":"IF(COUNT(特に買いたい・利用したい!Y48:AJ48)<>12,\"\",AVERAGE(特に買いたい・利用したい!Y48:AJ48))","v":27.341666666666669},{"$f":"IF(COUNT(特に買いたい・利用したい!Z48:AK48)<>12,\"\",AVERAGE(特に買いたい・利用したい!Z48:AK48))","v":26.941666666666666},{"$f":"IF(COUNT(特に買いたい・利用したい!AA48:AL48)<>12,\"\",AVERAGE(特に買いたい・利用したい!AA48:AL48))","v":27.058333333333334},{"$f":"IF(COUNT(特に買いたい・利用したい!AB48:AM48)<>12,\"\",AVERAGE(特に買いたい・利用したい!AB48:AM48))","v":26.891666666666669},{"$f":"IF(COUNT(特に買いたい・利用したい!AC48:AN48)<>12,\"\",AVERAGE(特に買いたい・利用したい!AC48:AN48))","v":27.149999999999995},{"$f":"IF(COUNT(特に買いたい・利用したい!AD48:AO48)<>12,\"\",AVERAGE(特に買いたい・利用したい!AD48:AO48))","v":27.041666666666668},{"$f":"IF(COUNT(特に買いたい・利用したい!AE48:AP48)<>12,\"\",AVERAGE(特に買いたい・利用したい!AE48:AP48))","v":26.908333333333331},{"$f":"IF(COUNT(特に買いたい・利用したい!AF48:AQ48)<>12,\"\",AVERAGE(特に買いたい・利用したい!AF48:AQ48))","v":27.95},{"$f":"IF(COUNT(特に買いたい・利用したい!AG48:AR48)<>12,\"\",AVERAGE(特に買いたい・利用したい!AG48:AR48))","v":28.391666666666669},{"$f":"IF(COUNT(特に買いたい・利用したい!AH48:AS48)<>12,\"\",AVERAGE(特に買いたい・利用したい!AH48:AS48))","v":28.850000000000005},{"$f":"IF(COUNT(特に買いたい・利用したい!AI48:AT48)<>12,\"\",AVERAGE(特に買いたい・利用したい!AI48:AT48))","v":29.225000000000005},{"$f":"IF(COUNT(特に買いたい・利用したい!AJ48:AU48)<>12,\"\",AVERAGE(特に買いたい・利用したい!AJ48:AU48))","v":29.158333333333335},{"$f":"IF(COUNT(特に買いたい・利用したい!AK48:AV48)<>12,\"\",AVERAGE(特に買いたい・利用したい!AK48:AV48))","v":29.400000000000006},{"$f":"IF(COUNT(特に買いたい・利用したい!AL48:AW48)<>12,\"\",AVERAGE(特に買いたい・利用したい!AL48:AW48))","v":29.450000000000006},{"$f":"IF(COUNT(特に買いたい・利用したい!AM48:AX48)<>12,\"\",AVERAGE(特に買いたい・利用したい!AM48:AX48))","v":29.400000000000006},{"$f":"IF(COUNT(特に買いたい・利用したい!AN48:AY48)<>12,\"\",AVERAGE(特に買いたい・利用したい!AN48:AY48))","v":29.5},{"$f":"IF(COUNT(特に買いたい・利用したい!AO48:AZ48)<>12,\"\",AVERAGE(特に買いたい・利用したい!AO48:AZ48))","v":29.691666666666666},{"$f":"IF(COUNT(特に買いたい・利用したい!AP48:BA48)<>12,\"\",AVERAGE(特に買いたい・利用したい!AP48:BA48))","v":29.291666666666668},{"$f":"IF(COUNT(特に買いたい・利用したい!AQ48:BB48)<>12,\"\",AVERAGE(特に買いたい・利用したい!AQ48:BB48))","v":28.383333333333336},{"$f":"IF(COUNT(特に買いたい・利用したい!AR48:BC48)<>12,\"\",AVERAGE(特に買いたい・利用したい!AR48:BC48))","v":28.316666666666666},{"$f":"IF(COUNT(特に買いたい・利用したい!AS48:BD48)<>12,\"\",AVERAGE(特に買いたい・利用したい!AS48:BD48))","v":28.425000000000001},{"$f":"IF(COUNT(特に買いたい・利用したい!AT48:BE48)<>12,\"\",AVERAGE(特に買いたい・利用したい!AT48:BE48))","v":""},{"$f":"IF(COUNT(特に買いたい・利用したい!AU48:BF48)<>12,\"\",AVERAGE(特に買いたい・利用したい!AU48:BF48))","v":""},{"$f":"IF(COUNT(特に買いたい・利用したい!AV48:BG48)<>12,\"\",AVERAGE(特に買いたい・利用したい!AV48:BG48))","v":""},{"$f":"IF(COUNT(特に買いたい・利用したい!AW48:BH48)<>12,\"\",AVERAGE(特に買いたい・利用したい!AW48:BH48))","v":""},{"$f":"IF(COUNT(特に買いたい・利用したい!AX48:BI48)<>12,\"\",AVERAGE(特に買いたい・利用したい!AX48:BI48))","v":""},{"$f":"IF(COUNT(特に買いたい・利用したい!AY48:BJ48)<>12,\"\",AVERAGE(特に買いたい・利用したい!AY48:BJ48))","v":""},{"$f":"IF(COUNT(特に買いたい・利用したい!AZ48:BK48)<>12,\"\",AVERAGE(特に買いたい・利用したい!AZ48:BK48))","v":""},{"$f":"IF(COUNT(特に買いたい・利用したい!BA48:BL48)<>12,\"\",AVERAGE(特に買いたい・利用したい!BA48:BL48))","v":""},{"$f":"IF(COUNT(特に買いたい・利用したい!BB48:BM48)<>12,\"\",AVERAGE(特に買いたい・利用したい!BB48:BM48))","v":""},{"$f":"IF(COUNT(特に買いたい・利用したい!BC48:BN48)<>12,\"\",AVERAGE(特に買いたい・利用したい!BC48:BN48))","v":""},{"$f":"IF(COUNT(特に買いたい・利用したい!BD48:BO48)<>12,\"\",AVERAGE(特に買いたい・利用したい!BD48:BO48))","v":""},{"$f":"IF(COUNT(特に買いたい・利用したい!BE48:BP48)<>12,\"\",AVERAGE(特に買いたい・利用したい!BE48:BP48))","v":""},{"$f":"IF(COUNT(特に買いたい・利用したい!BF48:BQ48)<>12,\"\",AVERAGE(特に買いたい・利用したい!BF48:BQ48))","v":""},{"$f":"IF(COUNT(特に買いたい・利用したい!BG48:BR48)<>12,\"\",AVERAGE(特に買いたい・利用したい!BG48:BR48))","v":""},{"$f":"IF(COUNT(特に買いたい・利用したい!BH48:BS48)<>12,\"\",AVERAGE(特に買いたい・利用したい!BH48:BS48))","v":""},{"$f":"IF(COUNT(特に買いたい・利用したい!BI48:BT48)<>12,\"\",AVERAGE(特に買いたい・利用したい!BI48:BT48))","v":""},{"$f":"IF(COUNT(特に買いたい・利用したい!BJ48:BU48)<>12,\"\",AVERAGE(特に買いたい・利用したい!BJ48:BU48))","v":""},{"$f":"IF(COUNT(特に買いたい・利用したい!BK48:BV48)<>12,\"\",AVERAGE(特に買いたい・利用したい!BK48:BV48))","v":""},{"$f":"IF(COUNT(特に買いたい・利用したい!BL48:BW48)<>12,\"\",AVERAGE(特に買いたい・利用したい!BL48:BW48))","v":""},{"$f":"IF(COUNT(特に買いたい・利用したい!BM48:BX48)<>12,\"\",AVERAGE(特に買いたい・利用したい!BM48:BX48))","v":""},{"$f":"IF(COUNT(特に買いたい・利用したい!BN48:BY48)<>12,\"\",AVERAGE(特に買いたい・利用したい!BN48:BY48))","v":""},{"$f":"IF(COUNT(特に買いたい・利用したい!BO48:BZ48)<>12,\"\",AVERAGE(特に買いたい・利用したい!BO48:BZ48))","v":""},{"$f":"IF(COUNT(特に買いたい・利用したい!BP48:CA48)<>12,\"\",AVERAGE(特に買いたい・利用したい!BP48:CA48))","v":""},{"$f":"IF(COUNT(特に買いたい・利用したい!BQ48:CB48)<>12,\"\",AVERAGE(特に買いたい・利用したい!BQ48:CB48))","v":""},{"$f":"IF(COUNT(特に買いたい・利用したい!BR48:CC48)<>12,\"\",AVERAGE(特に買いたい・利用したい!BR48:CC48))","v":""},{"$f":"IF(COUNT(特に買いたい・利用したい!BS48:CD48)<>12,\"\",AVERAGE(特に買いたい・利用したい!BS48:CD48))","v":""},{"$f":"IF(COUNT(特に買いたい・利用したい!BT48:CE48)<>12,\"\",AVERAGE(特に買いたい・利用したい!BT48:CE48))","v":""},{"$f":"IF(COUNT(特に買いたい・利用したい!BU48:CF48)<>12,\"\",AVERAGE(特に買いたい・利用したい!BU48:CF48))","v":""},{"$f":"IF(COUNT(特に買いたい・利用したい!BV48:CG48)<>12,\"\",AVERAGE(特に買いたい・利用したい!BV48:CG48))","v":""},{"$f":"IF(COUNT(特に買いたい・利用したい!BW48:CH48)<>12,\"\",AVERAGE(特に買いたい・利用したい!BW48:CH48))","v":""},{"$f":"IF(COUNT(特に買いたい・利用したい!BX48:CI48)<>12,\"\",AVERAGE(特に買いたい・利用したい!BX48:CI48))","v":""},{"$f":"IF(COUNT(特に買いたい・利用したい!BY48:CJ48)<>12,\"\",AVERAGE(特に買いたい・利用したい!BY48:CJ48))","v":""},{"$f":"IF(COUNT(特に買いたい・利用したい!BZ48:CK48)<>12,\"\",AVERAGE(特に買いたい・利用したい!BZ48:CK48))","v":""},{"$f":"IF(COUNT(特に買いたい・利用したい!CA48:CL48)<>12,\"\",AVERAGE(特に買いたい・利用したい!CA48:CL48))","v":""},{"$f":"IF(COUNT(特に買いたい・利用したい!CB48:CM48)<>12,\"\",AVERAGE(特に買いたい・利用したい!CB48:CM48))","v":""},{"$f":"IF(COUNT(特に買いたい・利用したい!CC48:CN48)<>12,\"\",AVERAGE(特に買いたい・利用したい!CC48:CN48))","v":""},{"$f":"IF(COUNT(特に買いたい・利用したい!CD48:CO48)<>12,\"\",AVERAGE(特に買いたい・利用したい!CD48:CO48))","v":""},{"$f":"IF(COUNT(特に買いたい・利用したい!CE48:CP48)<>12,\"\",AVERAGE(特に買いたい・利用したい!CE48:CP48))","v":""},{"$f":"IF(COUNT(特に買いたい・利用したい!CF48:CQ48)<>12,\"\",AVERAGE(特に買いたい・利用したい!CF48:CQ48))","v":""},{"$f":"IF(COUNT(特に買いたい・利用したい!CG48:CR48)<>12,\"\",AVERAGE(特に買いたい・利用したい!CG48:CR48))","v":""},{"$f":"IF(COUNT(特に買いたい・利用したい!CH48:CS48)<>12,\"\",AVERAGE(特に買いたい・利用したい!CH48:CS48))","v":""},{"$f":"IF(COUNT(特に買いたい・利用したい!CI48:CT48)<>12,\"\",AVERAGE(特に買いたい・利用したい!CI48:CT48))","v":""},{"$f":"IF(COUNT(特に買いたい・利用したい!CJ48:CU48)<>12,\"\",AVERAGE(特に買いたい・利用したい!CJ48:CU48))","v":""},{"$f":"IF(COUNT(特に買いたい・利用したい!CK48:CV48)<>12,\"\",AVERAGE(特に買いたい・利用したい!CK48:CV48))","v":""},{"$f":"IF(COUNT(特に買いたい・利用したい!CL48:CW48)<>12,\"\",AVERAGE(特に買いたい・利用したい!CL48:CW48))","v":""},{"$f":"IF(COUNT(特に買いたい・利用したい!CM48:CX48)<>12,\"\",AVERAGE(特に買いたい・利用したい!CM48:CX48))","v":""},{"$f":"IF(COUNT(特に買いたい・利用したい!CN48:CY48)<>12,\"\",AVERAGE(特に買いたい・利用したい!CN48:CY48))","v":""},{"$f":"IF(COUNT(特に買いたい・利用したい!CO48:CZ48)<>12,\"\",AVERAGE(特に買いたい・利用したい!CO48:CZ48))","v":""},{"$f":"IF(COUNT(特に買いたい・利用したい!CP48:DA48)<>12,\"\",AVERAGE(特に買いたい・利用したい!CP48:DA48))","v":""},{"$f":"IF(COUNT(特に買いたい・利用したい!CQ48:DB48)<>12,\"\",AVERAGE(特に買いたい・利用したい!CQ48:DB48))","v":""},{"$f":"IF(COUNT(特に買いたい・利用したい!CR48:DC48)<>12,\"\",AVERAGE(特に買いたい・利用したい!CR48:DC48))","v":""},{"$f":"IF(COUNT(特に買いたい・利用したい!CS48:DD48)<>12,\"\",AVERAGE(特に買いたい・利用したい!CS48:DD48))","v":""},{"$f":"IF(COUNT(特に買いたい・利用したい!CT48:DE48)<>12,\"\",AVERAGE(特に買いたい・利用したい!CT48:DE48))","v":""},{"$f":"IF(COUNT(特に買いたい・利用したい!CU48:DF48)<>12,\"\",AVERAGE(特に買いたい・利用したい!CU48:DF48))","v":""},{"$f":"IF(COUNT(特に買いたい・利用したい!CV48:DG48)<>12,\"\",AVERAGE(特に買いたい・利用したい!CV48:DG48))","v":""}]
[null,null,"中（400-800万円未満）",null,null,null,null,null,null,null,null,null,null,null,null,null,null,null,{"$f":"IF(COUNT(特に買いたい・利用したい!H49:S49)<>12,\"\",AVERAGE(特に買いたい・利用したい!H49:S49))","v":31.483333333333334},{"$f":"IF(COUNT(特に買いたい・利用したい!I49:T49)<>12,\"\",AVERAGE(特に買いたい・利用したい!I49:T49))","v":30.874999999999996},{"$f":"IF(COUNT(特に買いたい・利用したい!J49:U49)<>12,\"\",AVERAGE(特に買いたい・利用したい!J49:U49))","v":30.474999999999998},{"$f":"IF(COUNT(特に買いたい・利用したい!K49:V49)<>12,\"\",AVERAGE(特に買いたい・利用したい!K49:V49))","v":29.833333333333332},{"$f":"IF(COUNT(特に買いたい・利用したい!L49:W49)<>12,\"\",AVERAGE(特に買いたい・利用したい!L49:W49))","v":29.849999999999998},{"$f":"IF(COUNT(特に買いたい・利用したい!M49:X49)<>12,\"\",AVERAGE(特に買いたい・利用したい!M49:X49))","v":29.174999999999997},{"$f":"IF(COUNT(特に買いたい・利用したい!N49:Y49)<>12,\"\",AVERAGE(特に買いたい・利用したい!N49:Y49))","v":29.008333333333329},{"$f":"IF(COUNT(特に買いたい・利用したい!O49:Z49)<>12,\"\",AVERAGE(特に買いたい・利用したい!O49:Z49))","v":28.816666666666663},{"$f":"IF(COUNT(特に買いたい・利用したい!P49:AA49)<>12,\"\",AVERAGE(特に買いたい・利用したい!P49:AA49))","v":28.583333333333332},{"$f":"IF(COUNT(特に買いたい・利用したい!Q49:AB49)<>12,\"\",AVERAGE(特に買いたい・利用したい!Q49:AB49))","v":28.099999999999998},{"$f":"IF(COUNT(特に買いたい・利用したい!R49:AC49)<>12,\"\",AVERAGE(特に買いたい・利用したい!R49:AC49))","v":28.391666666666662},{"$f":"IF(COUNT(特に買いたい・利用したい!S49:AD49)<>12,\"\",AVERAGE(特に買いたい・利用したい!S49:AD49))","v":28.958333333333329},{"$f":"IF(COUNT(特に買いたい・利用したい!T49:AE49)<>12,\"\",AVERAGE(特に買いたい・利用したい!T49:AE49))","v":27.591666666666665},{"$f":"IF(COUNT(特に買いたい・利用したい!U49:AF49)<>12,\"\",AVERAGE(特に買いたい・利用したい!U49:AF49))","v":26.991666666666664},{"$f":"IF(COUNT(特に買いたい・利用したい!V49:AG49)<>12,\"\",AVERAGE(特に買いたい・利用したい!V49:AG49))","v":26.549999999999997},{"$f":"IF(COUNT(特に買いたい・利用したい!W49:AH49)<>12,\"\",AVERAGE(特に買いたい・利用したい!W49:AH49))","v":26.349999999999998},{"$f":"IF(COUNT(特に買いたい・利用したい!X49:AI49)<>12,\"\",AVERAGE(特に買いたい・利用したい!X49:AI49))","v":26.133333333333329},{"$f":"IF(COUNT(特に買いたい・利用したい!Y49:AJ49)<>12,\"\",AVERAGE(特に買いたい・利用したい!Y49:AJ49))","v":26.474999999999998},{"$f":"IF(COUNT(特に買いたい・利用したい!Z49:AK49)<>12,\"\",AVERAGE(特に買いたい・利用したい!Z49:AK49))","v":26.216666666666669},{"$f":"IF(COUNT(特に買いたい・利用したい!AA49:AL49)<>12,\"\",AVERAGE(特に買いたい・利用したい!AA49:AL49))","v":26.083333333333339},{"$f":"IF(COUNT(特に買いたい・利用したい!AB49:AM49)<>12,\"\",AVERAGE(特に買いたい・利用したい!AB49:AM49))","v":26.141666666666669},{"$f":"IF(COUNT(特に買いたい・利用したい!AC49:AN49)<>12,\"\",AVERAGE(特に買いたい・利用したい!AC49:AN49))","v":25.8},{"$f":"IF(COUNT(特に買いたい・利用したい!AD49:AO49)<>12,\"\",AVERAGE(特に買いたい・利用したい!AD49:AO49))","v":25.425000000000001},{"$f":"IF(COUNT(特に買いたい・利用したい!AE49:AP49)<>12,\"\",AVERAGE(特に買いたい・利用したい!AE49:AP49))","v":24.350000000000005},{"$f":"IF(COUNT(特に買いたい・利用したい!AF49:AQ49)<>12,\"\",AVERAGE(特に買いたい・利用したい!AF49:AQ49))","v":25.641666666666669},{"$f":"IF(COUNT(特に買いたい・利用したい!AG49:AR49)<>12,\"\",AVERAGE(特に買いたい・利用したい!AG49:AR49))","v":26.166666666666668},{"$f":"IF(COUNT(特に買いたい・利用したい!AH49:AS49)<>12,\"\",AVERAGE(特に買いたい・利用したい!AH49:AS49))","v":26.508333333333329},{"$f":"IF(COUNT(特に買いたい・利用したい!AI49:AT49)<>12,\"\",AVERAGE(特に買いたい・利用したい!AI49:AT49))","v":26.766666666666662},{"$f":"IF(COUNT(特に買いたい・利用したい!AJ49:AU49)<>12,\"\",AVERAGE(特に買いたい・利用したい!AJ49:AU49))","v":27.25},{"$f":"IF(COUNT(特に買いたい・利用したい!AK49:AV49)<>12,\"\",AVERAGE(特に買いたい・利用したい!AK49:AV49))","v":27.433333333333334},{"$f":"IF(COUNT(特に買いたい・利用したい!AL49:AW49)<>12,\"\",AVERAGE(特に買いたい・利用したい!AL49:AW49))","v":27.591666666666669},{"$f":"IF(COUNT(特に買いたい・利用したい!AM49:AX49)<>12,\"\",AVERAGE(特に買いたい・利用したい!AM49:AX49))","v":27.591666666666669},{"$f":"IF(COUNT(特に買いたい・利用したい!AN49:AY49)<>12,\"\",AVERAGE(特に買いたい・利用したい!AN49:AY49))","v":27.916666666666668},{"$f":"IF(COUNT(特に買いたい・利用したい!AO49:AZ49)<>12,\"\",AVERAGE(特に買いたい・利用したい!AO49:AZ49))","v":28.408333333333331},{"$f":"IF(COUNT(特に買いたい・利用したい!AP49:BA49)<>12,\"\",AVERAGE(特に買いたい・利用したい!AP49:BA49))","v":28.2},{"$f":"IF(COUNT(特に買いたい・利用したい!AQ49:BB49)<>12,\"\",AVERAGE(特に買いたい・利用したい!AQ49:BB49))","v":28.233333333333334},{"$f":"IF(COUNT(特に買いたい・利用したい!AR49:BC49)<>12,\"\",AVERAGE(特に買いたい・利用したい!AR49:BC49))","v":28.025000000000002},{"$f":"IF(COUNT(特に買いたい・利用したい!AS49:BD49)<>12,\"\",AVERAGE(特に買いたい・利用したい!AS49:BD49))","v":28.124999999999996},{"$f":"IF(COUNT(特に買いたい・利用したい!AT49:BE49)<>12,\"\",AVERAGE(特に買いたい・利用したい!AT49:BE49))","v":""},{"$f":"IF(COUNT(特に買いたい・利用したい!AU49:BF49)<>12,\"\",AVERAGE(特に買いたい・利用したい!AU49:BF49))","v":""},{"$f":"IF(COUNT(特に買いたい・利用したい!AV49:BG49)<>12,\"\",AVERAGE(特に買いたい・利用したい!AV49:BG49))","v":""},{"$f":"IF(COUNT(特に買いたい・利用したい!AW49:BH49)<>12,\"\",AVERAGE(特に買いたい・利用したい!AW49:BH49))","v":""},{"$f":"IF(COUNT(特に買いたい・利用したい!AX49:BI49)<>12,\"\",AVERAGE(特に買いたい・利用したい!AX49:BI49))","v":""},{"$f":"IF(COUNT(特に買いたい・利用したい!AY49:BJ49)<>12,\"\",AVERAGE(特に買いたい・利用したい!AY49:BJ49))","v":""},{"$f":"IF(COUNT(特に買いたい・利用したい!AZ49:BK49)<>12,\"\",AVERAGE(特に買いたい・利用したい!AZ49:BK49))","v":""},{"$f":"IF(COUNT(特に買いたい・利用したい!BA49:BL49)<>12,\"\",AVERAGE(特に買いたい・利用したい!BA49:BL49))","v":""},{"$f":"IF(COUNT(特に買いたい・利用したい!BB49:BM49)<>12,\"\",AVERAGE(特に買いたい・利用したい!BB49:BM49))","v":""},{"$f":"IF(COUNT(特に買いたい・利用したい!BC49:BN49)<>12,\"\",AVERAGE(特に買いたい・利用したい!BC49:BN49))","v":""},{"$f":"IF(COUNT(特に買いたい・利用したい!BD49:BO49)<>12,\"\",AVERAGE(特に買いたい・利用したい!BD49:BO49))","v":""},{"$f":"IF(COUNT(特に買いたい・利用したい!BE49:BP49)<>12,\"\",AVERAGE(特に買いたい・利用したい!BE49:BP49))","v":""},{"$f":"IF(COUNT(特に買いたい・利用したい!BF49:BQ49)<>12,\"\",AVERAGE(特に買いたい・利用したい!BF49:BQ49))","v":""},{"$f":"IF(COUNT(特に買いたい・利用したい!BG49:BR49)<>12,\"\",AVERAGE(特に買いたい・利用したい!BG49:BR49))","v":""},{"$f":"IF(COUNT(特に買いたい・利用したい!BH49:BS49)<>12,\"\",AVERAGE(特に買いたい・利用したい!BH49:BS49))","v":""},{"$f":"IF(COUNT(特に買いたい・利用したい!BI49:BT49)<>12,\"\",AVERAGE(特に買いたい・利用したい!BI49:BT49))","v":""},{"$f":"IF(COUNT(特に買いたい・利用したい!BJ49:BU49)<>12,\"\",AVERAGE(特に買いたい・利用したい!BJ49:BU49))","v":""},{"$f":"IF(COUNT(特に買いたい・利用したい!BK49:BV49)<>12,\"\",AVERAGE(特に買いたい・利用したい!BK49:BV49))","v":""},{"$f":"IF(COUNT(特に買いたい・利用したい!BL49:BW49)<>12,\"\",AVERAGE(特に買いたい・利用したい!BL49:BW49))","v":""},{"$f":"IF(COUNT(特に買いたい・利用したい!BM49:BX49)<>12,\"\",AVERAGE(特に買いたい・利用したい!BM49:BX49))","v":""},{"$f":"IF(COUNT(特に買いたい・利用したい!BN49:BY49)<>12,\"\",AVERAGE(特に買いたい・利用したい!BN49:BY49))","v":""},{"$f":"IF(COUNT(特に買いたい・利用したい!BO49:BZ49)<>12,\"\",AVERAGE(特に買いたい・利用したい!BO49:BZ49))","v":""},{"$f":"IF(COUNT(特に買いたい・利用したい!BP49:CA49)<>12,\"\",AVERAGE(特に買いたい・利用したい!BP49:CA49))","v":""},{"$f":"IF(COUNT(特に買いたい・利用したい!BQ49:CB49)<>12,\"\",AVERAGE(特に買いたい・利用したい!BQ49:CB49))","v":""},{"$f":"IF(COUNT(特に買いたい・利用したい!BR49:CC49)<>12,\"\",AVERAGE(特に買いたい・利用したい!BR49:CC49))","v":""},{"$f":"IF(COUNT(特に買いたい・利用したい!BS49:CD49)<>12,\"\",AVERAGE(特に買いたい・利用したい!BS49:CD49))","v":""},{"$f":"IF(COUNT(特に買いたい・利用したい!BT49:CE49)<>12,\"\",AVERAGE(特に買いたい・利用したい!BT49:CE49))","v":""},{"$f":"IF(COUNT(特に買いたい・利用したい!BU49:CF49)<>12,\"\",AVERAGE(特に買いたい・利用したい!BU49:CF49))","v":""},{"$f":"IF(COUNT(特に買いたい・利用したい!BV49:CG49)<>12,\"\",AVERAGE(特に買いたい・利用したい!BV49:CG49))","v":""},{"$f":"IF(COUNT(特に買いたい・利用したい!BW49:CH49)<>12,\"\",AVERAGE(特に買いたい・利用したい!BW49:CH49))","v":""},{"$f":"IF(COUNT(特に買いたい・利用したい!BX49:CI49)<>12,\"\",AVERAGE(特に買いたい・利用したい!BX49:CI49))","v":""},{"$f":"IF(COUNT(特に買いたい・利用したい!BY49:CJ49)<>12,\"\",AVERAGE(特に買いたい・利用したい!BY49:CJ49))","v":""},{"$f":"IF(COUNT(特に買いたい・利用したい!BZ49:CK49)<>12,\"\",AVERAGE(特に買いたい・利用したい!BZ49:CK49))","v":""},{"$f":"IF(COUNT(特に買いたい・利用したい!CA49:CL49)<>12,\"\",AVERAGE(特に買いたい・利用したい!CA49:CL49))","v":""},{"$f":"IF(COUNT(特に買いたい・利用したい!CB49:CM49)<>12,\"\",AVERAGE(特に買いたい・利用したい!CB49:CM49))","v":""},{"$f":"IF(COUNT(特に買いたい・利用したい!CC49:CN49)<>12,\"\",AVERAGE(特に買いたい・利用したい!CC49:CN49))","v":""},{"$f":"IF(COUNT(特に買いたい・利用したい!CD49:CO49)<>12,\"\",AVERAGE(特に買いたい・利用したい!CD49:CO49))","v":""},{"$f":"IF(COUNT(特に買いたい・利用したい!CE49:CP49)<>12,\"\",AVERAGE(特に買いたい・利用したい!CE49:CP49))","v":""},{"$f":"IF(COUNT(特に買いたい・利用したい!CF49:CQ49)<>12,\"\",AVERAGE(特に買いたい・利用したい!CF49:CQ49))","v":""},{"$f":"IF(COUNT(特に買いたい・利用したい!CG49:CR49)<>12,\"\",AVERAGE(特に買いたい・利用したい!CG49:CR49))","v":""},{"$f":"IF(COUNT(特に買いたい・利用したい!CH49:CS49)<>12,\"\",AVERAGE(特に買いたい・利用したい!CH49:CS49))","v":""},{"$f":"IF(COUNT(特に買いたい・利用したい!CI49:CT49)<>12,\"\",AVERAGE(特に買いたい・利用したい!CI49:CT49))","v":""},{"$f":"IF(COUNT(特に買いたい・利用したい!CJ49:CU49)<>12,\"\",AVERAGE(特に買いたい・利用したい!CJ49:CU49))","v":""},{"$f":"IF(COUNT(特に買いたい・利用したい!CK49:CV49)<>12,\"\",AVERAGE(特に買いたい・利用したい!CK49:CV49))","v":""},{"$f":"IF(COUNT(特に買いたい・利用したい!CL49:CW49)<>12,\"\",AVERAGE(特に買いたい・利用したい!CL49:CW49))","v":""},{"$f":"IF(COUNT(特に買いたい・利用したい!CM49:CX49)<>12,\"\",AVERAGE(特に買いたい・利用したい!CM49:CX49))","v":""},{"$f":"IF(COUNT(特に買いたい・利用したい!CN49:CY49)<>12,\"\",AVERAGE(特に買いたい・利用したい!CN49:CY49))","v":""},{"$f":"IF(COUNT(特に買いたい・利用したい!CO49:CZ49)<>12,\"\",AVERAGE(特に買いたい・利用したい!CO49:CZ49))","v":""},{"$f":"IF(COUNT(特に買いたい・利用したい!CP49:DA49)<>12,\"\",AVERAGE(特に買いたい・利用したい!CP49:DA49))","v":""},{"$f":"IF(COUNT(特に買いたい・利用したい!CQ49:DB49)<>12,\"\",AVERAGE(特に買いたい・利用したい!CQ49:DB49))","v":""},{"$f":"IF(COUNT(特に買いたい・利用したい!CR49:DC49)<>12,\"\",AVERAGE(特に買いたい・利用したい!CR49:DC49))","v":""},{"$f":"IF(COUNT(特に買いたい・利用したい!CS49:DD49)<>12,\"\",AVERAGE(特に買いたい・利用したい!CS49:DD49))","v":""},{"$f":"IF(COUNT(特に買いたい・利用したい!CT49:DE49)<>12,\"\",AVERAGE(特に買いたい・利用したい!CT49:DE49))","v":""},{"$f":"IF(COUNT(特に買いたい・利用したい!CU49:DF49)<>12,\"\",AVERAGE(特に買いたい・利用したい!CU49:DF49))","v":""},{"$f":"IF(COUNT(特に買いたい・利用したい!CV49:DG49)<>12,\"\",AVERAGE(特に買いたい・利用したい!CV49:DG49))","v":""}]
[null,null,"低（400万円未満）",null,null,null,null,null,null,null,null,null,null,null,null,null,null,null,{"$f":"IF(COUNT(特に買いたい・利用したい!H50:S50)<>12,\"\",AVERAGE(特に買いたい・利用したい!H50:S50))","v":31.824999999999999},{"$f":"IF(COUNT(特に買いたい・利用したい!I50:T50)<>12,\"\",AVERAGE(特に買いたい・利用したい!I50:T50))","v":31.558333333333326},{"$f":"IF(COUNT(特に買いたい・利用したい!J50:U50)<>12,\"\",AVERAGE(特に買いたい・利用したい!J50:U50))","v":31.208333333333332},{"$f":"IF(COUNT(特に買いたい・利用したい!K50:V50)<>12,\"\",AVERAGE(特に買いたい・利用したい!K50:V50))","v":30.616666666666664},{"$f":"IF(COUNT(特に買いたい・利用したい!L50:W50)<>12,\"\",AVERAGE(特に買いたい・利用したい!L50:W50))","v":30.783333333333331},{"$f":"IF(COUNT(特に買いたい・利用したい!M50:X50)<>12,\"\",AVERAGE(特に買いたい・利用したい!M50:X50))","v":30.291666666666668},{"$f":"IF(COUNT(特に買いたい・利用したい!N50:Y50)<>12,\"\",AVERAGE(特に買いたい・利用したい!N50:Y50))","v":30.325000000000003},{"$f":"IF(COUNT(特に買いたい・利用したい!O50:Z50)<>12,\"\",AVERAGE(特に買いたい・利用したい!O50:Z50))","v":29.383333333333336},{"$f":"IF(COUNT(特に買いたい・利用したい!P50:AA50)<>12,\"\",AVERAGE(特に買いたい・利用したい!P50:AA50))","v":28.866666666666671},{"$f":"IF(COUNT(特に買いたい・利用したい!Q50:AB50)<>12,\"\",AVERAGE(特に買いたい・利用したい!Q50:AB50))","v":28.291666666666668},{"$f":"IF(COUNT(特に買いたい・利用したい!R50:AC50)<>12,\"\",AVERAGE(特に買いたい・利用したい!R50:AC50))","v":28.191666666666666},{"$f":"IF(COUNT(特に買いたい・利用したい!S50:AD50)<>12,\"\",AVERAGE(特に買いたい・利用したい!S50:AD50))","v":28.316666666666663},{"$f":"IF(COUNT(特に買いたい・利用したい!T50:AE50)<>12,\"\",AVERAGE(特に買いたい・利用したい!T50:AE50))","v":27.241666666666664},{"$f":"IF(COUNT(特に買いたい・利用したい!U50:AF50)<>12,\"\",AVERAGE(特に買いたい・利用したい!U50:AF50))","v":26.333333333333332},{"$f":"IF(COUNT(特に買いたい・利用したい!V50:AG50)<>12,\"\",AVERAGE(特に買いたい・利用したい!V50:AG50))","v":25.925000000000001},{"$f":"IF(COUNT(特に買いたい・利用したい!W50:AH50)<>12,\"\",AVERAGE(特に買いたい・利用したい!W50:AH50))","v":25.858333333333334},{"$f":"IF(COUNT(特に買いたい・利用したい!X50:AI50)<>12,\"\",AVERAGE(特に買いたい・利用したい!X50:AI50))","v":25.658333333333331},{"$f":"IF(COUNT(特に買いたい・利用したい!Y50:AJ50)<>12,\"\",AVERAGE(特に買いたい・利用したい!Y50:AJ50))","v":26.141666666666662},{"$f":"IF(COUNT(特に買いたい・利用したい!Z50:AK50)<>12,\"\",AVERAGE(特に買いたい・利用したい!Z50:AK50))","v":25.625},{"$f":"IF(COUNT(特に買いたい・利用したい!AA50:AL50)<>12,\"\",AVERAGE(特に買いたい・利用したい!AA50:AL50))","v":25.816666666666666},{"$f":"IF(COUNT(特に買いたい・利用したい!AB50:AM50)<>12,\"\",AVERAGE(特に買いたい・利用したい!AB50:AM50))","v":26.525000000000002},{"$f":"IF(COUNT(特に買いたい・利用したい!AC50:AN50)<>12,\"\",AVERAGE(特に買いたい・利用したい!AC50:AN50))","v":26.191666666666666},{"$f":"IF(COUNT(特に買いたい・利用したい!AD50:AO50)<>12,\"\",AVERAGE(特に買いたい・利用したい!AD50:AO50))","v":26.283333333333335},{"$f":"IF(COUNT(特に買いたい・利用したい!AE50:AP50)<>12,\"\",AVERAGE(特に買いたい・利用したい!AE50:AP50))","v":25.841666666666669},{"$f":"IF(COUNT(特に買いたい・利用したい!AF50:AQ50)<>12,\"\",AVERAGE(特に買いたい・利用したい!AF50:AQ50))","v":26.700000000000003},{"$f":"IF(COUNT(特に買いたい・利用したい!AG50:AR50)<>12,\"\",AVERAGE(特に買いたい・利用したい!AG50:AR50))","v":27.133333333333336},{"$f":"IF(COUNT(特に買いたい・利用したい!AH50:AS50)<>12,\"\",AVERAGE(特に買いたい・利用したい!AH50:AS50))","v":27.299999999999997},{"$f":"IF(COUNT(特に買いたい・利用したい!AI50:AT50)<>12,\"\",AVERAGE(特に買いたい・利用したい!AI50:AT50))","v":27.408333333333331},{"$f":"IF(COUNT(特に買いたい・利用したい!AJ50:AU50)<>12,\"\",AVERAGE(特に買いたい・利用したい!AJ50:AU50))","v":27.333333333333332},{"$f":"IF(COUNT(特に買いたい・利用したい!AK50:AV50)<>12,\"\",AVERAGE(特に買いたい・利用したい!AK50:AV50))","v":27.433333333333337},{"$f":"IF(COUNT(特に買いたい・利用したい!AL50:AW50)<>12,\"\",AVERAGE(特に買いたい・利用したい!AL50:AW50))","v":27.575000000000003},{"$f":"IF(COUNT(特に買いたい・利用したい!AM50:AX50)<>12,\"\",AVERAGE(特に買いたい・利用したい!AM50:AX50))","v":27.783333333333335},{"$f":"IF(COUNT(特に買いたい・利用したい!AN50:AY50)<>12,\"\",AVERAGE(特に買いたい・利用したい!AN50:AY50))","v":27.633333333333336},{"$f":"IF(COUNT(特に買いたい・利用したい!AO50:AZ50)<>12,\"\",AVERAGE(特に買いたい・利用したい!AO50:AZ50))","v":27.783333333333335},{"$f":"IF(COUNT(特に買いたい・利用したい!AP50:BA50)<>12,\"\",AVERAGE(特に買いたい・利用したい!AP50:BA50))","v":27.624999999999996},{"$f":"IF(COUNT(特に買いたい・利用したい!AQ50:BB50)<>12,\"\",AVERAGE(特に買いたい・利用したい!AQ50:BB50))","v":27.383333333333329},{"$f":"IF(COUNT(特に買いたい・利用したい!AR50:BC50)<>12,\"\",AVERAGE(特に買いたい・利用したい!AR50:BC50))","v":27.099999999999998},{"$f":"IF(COUNT(特に買いたい・利用したい!AS50:BD50)<>12,\"\",AVERAGE(特に買いたい・利用したい!AS50:BD50))","v":27.333333333333339},{"$f":"IF(COUNT(特に買いたい・利用したい!AT50:BE50)<>12,\"\",AVERAGE(特に買いたい・利用したい!AT50:BE50))","v":""},{"$f":"IF(COUNT(特に買いたい・利用したい!AU50:BF50)<>12,\"\",AVERAGE(特に買いたい・利用したい!AU50:BF50))","v":""},{"$f":"IF(COUNT(特に買いたい・利用したい!AV50:BG50)<>12,\"\",AVERAGE(特に買いたい・利用したい!AV50:BG50))","v":""},{"$f":"IF(COUNT(特に買いたい・利用したい!AW50:BH50)<>12,\"\",AVERAGE(特に買いたい・利用したい!AW50:BH50))","v":""},{"$f":"IF(COUNT(特に買いたい・利用したい!AX50:BI50)<>12,\"\",AVERAGE(特に買いたい・利用したい!AX50:BI50))","v":""},{"$f":"IF(COUNT(特に買いたい・利用したい!AY50:BJ50)<>12,\"\",AVERAGE(特に買いたい・利用したい!AY50:BJ50))","v":""},{"$f":"IF(COUNT(特に買いたい・利用したい!AZ50:BK50)<>12,\"\",AVERAGE(特に買いたい・利用したい!AZ50:BK50))","v":""},{"$f":"IF(COUNT(特に買いたい・利用したい!BA50:BL50)<>12,\"\",AVERAGE(特に買いたい・利用したい!BA50:BL50))","v":""},{"$f":"IF(COUNT(特に買いたい・利用したい!BB50:BM50)<>12,\"\",AVERAGE(特に買いたい・利用したい!BB50:BM50))","v":""},{"$f":"IF(COUNT(特に買いたい・利用したい!BC50:BN50)<>12,\"\",AVERAGE(特に買いたい・利用したい!BC50:BN50))","v":""},{"$f":"IF(COUNT(特に買いたい・利用したい!BD50:BO50)<>12,\"\",AVERAGE(特に買いたい・利用したい!BD50:BO50))","v":""},{"$f":"IF(COUNT(特に買いたい・利用したい!BE50:BP50)<>12,\"\",AVERAGE(特に買いたい・利用したい!BE50:BP50))","v":""},{"$f":"IF(COUNT(特に買いたい・利用したい!BF50:BQ50)<>12,\"\",AVERAGE(特に買いたい・利用したい!BF50:BQ50))","v":""},{"$f":"IF(COUNT(特に買いたい・利用したい!BG50:BR50)<>12,\"\",AVERAGE(特に買いたい・利用したい!BG50:BR50))","v":""},{"$f":"IF(COUNT(特に買いたい・利用したい!BH50:BS50)<>12,\"\",AVERAGE(特に買いたい・利用したい!BH50:BS50))","v":""},{"$f":"IF(COUNT(特に買いたい・利用したい!BI50:BT50)<>12,\"\",AVERAGE(特に買いたい・利用したい!BI50:BT50))","v":""},{"$f":"IF(COUNT(特に買いたい・利用したい!BJ50:BU50)<>12,\"\",AVERAGE(特に買いたい・利用したい!BJ50:BU50))","v":""},{"$f":"IF(COUNT(特に買いたい・利用したい!BK50:BV50)<>12,\"\",AVERAGE(特に買いたい・利用したい!BK50:BV50))","v":""},{"$f":"IF(COUNT(特に買いたい・利用したい!BL50:BW50)<>12,\"\",AVERAGE(特に買いたい・利用したい!BL50:BW50))","v":""},{"$f":"IF(COUNT(特に買いたい・利用したい!BM50:BX50)<>12,\"\",AVERAGE(特に買いたい・利用したい!BM50:BX50))","v":""},{"$f":"IF(COUNT(特に買いたい・利用したい!BN50:BY50)<>12,\"\",AVERAGE(特に買いたい・利用したい!BN50:BY50))","v":""},{"$f":"IF(COUNT(特に買いたい・利用したい!BO50:BZ50)<>12,\"\",AVERAGE(特に買いたい・利用したい!BO50:BZ50))","v":""},{"$f":"IF(COUNT(特に買いたい・利用したい!BP50:CA50)<>12,\"\",AVERAGE(特に買いたい・利用したい!BP50:CA50))","v":""},{"$f":"IF(COUNT(特に買いたい・利用したい!BQ50:CB50)<>12,\"\",AVERAGE(特に買いたい・利用したい!BQ50:CB50))","v":""},{"$f":"IF(COUNT(特に買いたい・利用したい!BR50:CC50)<>12,\"\",AVERAGE(特に買いたい・利用したい!BR50:CC50))","v":""},{"$f":"IF(COUNT(特に買いたい・利用したい!BS50:CD50)<>12,\"\",AVERAGE(特に買いたい・利用したい!BS50:CD50))","v":""},{"$f":"IF(COUNT(特に買いたい・利用したい!BT50:CE50)<>12,\"\",AVERAGE(特に買いたい・利用したい!BT50:CE50))","v":""},{"$f":"IF(COUNT(特に買いたい・利用したい!BU50:CF50)<>12,\"\",AVERAGE(特に買いたい・利用したい!BU50:CF50))","v":""},{"$f":"IF(COUNT(特に買いたい・利用したい!BV50:CG50)<>12,\"\",AVERAGE(特に買いたい・利用したい!BV50:CG50))","v":""},{"$f":"IF(COUNT(特に買いたい・利用したい!BW50:CH50)<>12,\"\",AVERAGE(特に買いたい・利用したい!BW50:CH50))","v":""},{"$f":"IF(COUNT(特に買いたい・利用したい!BX50:CI50)<>12,\"\",AVERAGE(特に買いたい・利用したい!BX50:CI50))","v":""},{"$f":"IF(COUNT(特に買いたい・利用したい!BY50:CJ50)<>12,\"\",AVERAGE(特に買いたい・利用したい!BY50:CJ50))","v":""},{"$f":"IF(COUNT(特に買いたい・利用したい!BZ50:CK50)<>12,\"\",AVERAGE(特に買いたい・利用したい!BZ50:CK50))","v":""},{"$f":"IF(COUNT(特に買いたい・利用したい!CA50:CL50)<>12,\"\",AVERAGE(特に買いたい・利用したい!CA50:CL50))","v":""},{"$f":"IF(COUNT(特に買いたい・利用したい!CB50:CM50)<>12,\"\",AVERAGE(特に買いたい・利用したい!CB50:CM50))","v":""},{"$f":"IF(COUNT(特に買いたい・利用したい!CC50:CN50)<>12,\"\",AVERAGE(特に買いたい・利用したい!CC50:CN50))","v":""},{"$f":"IF(COUNT(特に買いたい・利用したい!CD50:CO50)<>12,\"\",AVERAGE(特に買いたい・利用したい!CD50:CO50))","v":""},{"$f":"IF(COUNT(特に買いたい・利用したい!CE50:CP50)<>12,\"\",AVERAGE(特に買いたい・利用したい!CE50:CP50))","v":""},{"$f":"IF(COUNT(特に買いたい・利用したい!CF50:CQ50)<>12,\"\",AVERAGE(特に買いたい・利用したい!CF50:CQ50))","v":""},{"$f":"IF(COUNT(特に買いたい・利用したい!CG50:CR50)<>12,\"\",AVERAGE(特に買いたい・利用したい!CG50:CR50))","v":""},{"$f":"IF(COUNT(特に買いたい・利用したい!CH50:CS50)<>12,\"\",AVERAGE(特に買いたい・利用したい!CH50:CS50))","v":""},{"$f":"IF(COUNT(特に買いたい・利用したい!CI50:CT50)<>12,\"\",AVERAGE(特に買いたい・利用したい!CI50:CT50))","v":""},{"$f":"IF(COUNT(特に買いたい・利用したい!CJ50:CU50)<>12,\"\",AVERAGE(特に買いたい・利用したい!CJ50:CU50))","v":""},{"$f":"IF(COUNT(特に買いたい・利用したい!CK50:CV50)<>12,\"\",AVERAGE(特に買いたい・利用したい!CK50:CV50))","v":""},{"$f":"IF(COUNT(特に買いたい・利用したい!CL50:CW50)<>12,\"\",AVERAGE(特に買いたい・利用したい!CL50:CW50))","v":""},{"$f":"IF(COUNT(特に買いたい・利用したい!CM50:CX50)<>12,\"\",AVERAGE(特に買いたい・利用したい!CM50:CX50))","v":""},{"$f":"IF(COUNT(特に買いたい・利用したい!CN50:CY50)<>12,\"\",AVERAGE(特に買いたい・利用したい!CN50:CY50))","v":""},{"$f":"IF(COUNT(特に買いたい・利用したい!CO50:CZ50)<>12,\"\",AVERAGE(特に買いたい・利用したい!CO50:CZ50))","v":""},{"$f":"IF(COUNT(特に買いたい・利用したい!CP50:DA50)<>12,\"\",AVERAGE(特に買いたい・利用したい!CP50:DA50))","v":""},{"$f":"IF(COUNT(特に買いたい・利用したい!CQ50:DB50)<>12,\"\",AVERAGE(特に買いたい・利用したい!CQ50:DB50))","v":""},{"$f":"IF(COUNT(特に買いたい・利用したい!CR50:DC50)<>12,\"\",AVERAGE(特に買いたい・利用したい!CR50:DC50))","v":""},{"$f":"IF(COUNT(特に買いたい・利用したい!CS50:DD50)<>12,\"\",AVERAGE(特に買いたい・利用したい!CS50:DD50))","v":""},{"$f":"IF(COUNT(特に買いたい・利用したい!CT50:DE50)<>12,\"\",AVERAGE(特に買いたい・利用したい!CT50:DE50))","v":""},{"$f":"IF(COUNT(特に買いたい・利用したい!CU50:DF50)<>12,\"\",AVERAGE(特に買いたい・利用したい!CU50:DF50))","v":""},{"$f":"IF(COUNT(特に買いたい・利用したい!CV50:DG50)<>12,\"\",AVERAGE(特に買いたい・利用したい!CV50:DG50))","v":""}]

{"sheet":"サンプル数","index":6,"n_rows":50,"n_cols":111,"rows_kept":50,"cut":false,"hidden":false,"merged":[]}
[]
[null,"サンプル数（人）"]
[]
[null,null,null,"2012年",null,null,null,null,null,null,null,null,null,null,null,"2013年",null,null,null,null,null,null,null,null,null,null,null,"2014年",null,null,null,null,null,null,null,null,null,null,null,"2015年",null,null,null,null,null,null,null,null,null,null,null,"2016年",null,null,null,null,null,null,null,null,null,null,null,"2017年",null,null,null,null,null,null,null,null,null,null,null,"2018年",null,null,null,null,null,null,null,null,null,null,null,"2019年",null,null,null,null,null,null,null,null,null,null,null,"2020年"]
[null,null,null,"1月","2月","3月","4月","5月","6月","7月","8月","9月","10月","11月","12月","1月","2月","3月","4月","5月","6月","7月","8月","9月","10月","11月","12月","1月","2月","3月","4月","5月","6月","7月","8月","9月","10月","11月","12月","1月","2月","3月","4月","5月","6月","7月","8月","9月","10月","11月","12月","1月","2月","3月","4月","5月","6月","7月","8月","9月","10月","11月","12月","1月","2月","3月","4月","5月","6月","7月","8月","9月","10月","11月","12月","1月","2月","3月","4月","5月","6月","7月","8月","9月","10月","11月","12月","1月","2月","3月","4月","5月","6月","7月","8月","9月","10月","11月","12月","1月","2月","3月","4月","5月","6月","7月","8月","9月","10月","11月","12月"]
[null,null,"全体",null,null,null,null,1500,1500,1500,1500,1500,1500,1500,1500,1500,1500,1500,1500,1500,1500,1500,1500,1500,1500,1500,1500,1500,1500,1500,1500,1500,1500,1500,1500,1500,1500,1500,1500,1500,1500,1500,1500,1500,1500,1500,1500,1500,1500,1500,1500,1500,1500,1500,1500,1500]
[null,"性別","男性",null,null,null,null,757,757,757,757,757,757,757,757,757,757,757,757,755,755,755,755,755,755,755,755,755,755,755,755,754,754,754,754,754,754,754,754,754,754,754,754,756,756,756,756,756,756,756,756,756,756,756,756,755]
[null,null,"女性",null,null,null,null,743,743,743,743,743,743,743,743,743,743,743,743,745,745,745,745,745,745,745,745,745,745,745,745,746,746,746,746,746,746,746,746,746,746,746,746,744,744,744,744,744,744,744,744,744,744,744,744,745]
[null,"年代別","20代",null,null,null,null,240,240,240,240,240,240,240,240,240,240,240,240,252,252,252,252,252,252,252,252,252,252,252,252,244,244,244,244,244,244,244,244,244,244,244,244,238,238,238,238,238,238,238,238,238,238,238,238,233]
[null,null,"30代",null,null,null,null,337,337,337,337,337,337,337,337,337,337,337,337,331,331,331,331,331,331,331,331,331,331,331,331,322,322,322,322,322,322,322,322,322,322,322,322,312,312,312,312,312,312,312,312,312,312,312,312,304]
[null,null,"40代",null,null,null,null,330,330,330,330,330,330,330,330,330,330,330,330,340,340,340,340,340,340,340,340,340,340,340,340,353,353,353,353,353,353,353,353,353,353,353,353,364,364,364,364,364,364,364,364,364,364,364,364,368]
[null,null,"50代",null,null,null,null,262,262,262,262,262,262,262,262,262,262,262,262,258,258,258,258,258,258,258,258,258,258,258,258,263,263,263,263,263,263,263,263,263,263,263,263,270,270,270,270,270,270,270,270,270,270,270,270,278]
[null,null,"60代",null,null,null,null,331,331,331,331,331,331,331,331,331,331,331,331,319,319,319,319,319,319,319,319,319,319,319,319,318,318,318,318,318,318,318,318,318,318,318,318,316,316,316,316,316,316,316,316,316,316,316,316,317]
[null,"男性年代別","男性20代",null,null,null,null,123,123,123,123,123,123,123,123,123,123,123,123,129,129,129,129,129,129,129,129,129,129,129,129,125,125,125,125,125,125,125,125,125,125,125,125,122,122,122,122,122,122,122,122,122,122,122,122,119]
[null,null,"男性30代",null,null,null,null,171,171,171,171,171,171,171,171,171,171,171,171,168,168,168,168,168,168,168,168,168,168,168,168,163,163,163,163,163,163,163,163,163,163,163,163,158,158,158,158,158,158,158,158,158,158,158,158,154]
[null,null,"男性40代",null,null,null,null,168,168,168,168,168,168,168,168,168,168,168,168,173,173,173,173,173,173,173,173,173,173,173,173,179,179,179,179,179,179,179,179,179,179,179,179,185,185,185,185,185,185,185,185,185,185,185,185,187]
[null,null,"男性50代",null,null,null,null,132,132,132,132,132,132,132,132,132,132,132,132,129,129,129,129,129,129,129,129,129,129,129,129,132,132,132,132,132,132,132,132,132,132,132,132,136,136,136,136,136,136,136,136,136,136,136,136,140]
[null,null,"男性60代",null,null,null,null,163,163,163,163,163,163,163,163,163,163,163,163,156,156,156,156,156,156,156,156,156,156,156,156,155,155,155,155,155,155,155,155,155,155,155,155,155,155,155,155,155,155,155,155,155,155,155,155,155]
[null,"女性年代別","女性20代",null,null,null,null,117,117,117,117,117,117,117,117,117,117,117,117,123,123,123,123,123,123,123,123,123,123,123,123,119,119,119,119,119,119,119,119,119,119,119,119,116,116,116,116,116,116,116,116,116,116,116,116,114]
[null,null,"女性30代",null,null,null,null,166,166,166,166,166,166,166,166,166,166,166,166,163,163,163,163,163,163,163,163,163,163,163,163,159,159,159,159,159,159,159,159,159,159,159,159,154,154,154,154,154,154,154,154,154,154,154,154,150]
[null,null,"女性40代",null,null,null,null,162,162,162,162,162,162,162,162,162,162,162,162,167,167,167,167,167,167,167,167,167,167,167,167,174,174,174,174,174,174,174,174,174,174,174,174,179,179,179,179,179,179,179,179,179,179,179,179,181]
[null,null,"女性50代",null,null,null,null,130,130,130,130,130,130,130,130,130,130,130,130,129,129,129,129,129,129,129,129,129,129,129,129,131,131,131,131,131,131,131,131,131,131,131,131,134,134,134,134,134,134,134,134,134,134,134,134,138]
[null,null,"女性60代",null,null,null,null,168,168,168,168,168,168,168,168,168,168,168,168,163,163,163,163,163,163,163,163,163,163,163,163,163,163,163,163,163,163,163,163,163,163,163,163,161,161,161,161,161,161,161,161,161,161,161,161,162]
[null,"性別×未既婚別","男性／未婚",null,null,null,null,296,268,292,302,275,273,278,291,291,293,282,309,283,294,314,284,311,303,300,306,302,295,321,305,337,306,319,301,304,328,305,301,320,316,294,285,303,315,306,306,303,287,307,337,319,322,293,327,307]
[null,null,"女性／未婚",null,null,null,null,235,238,203,231,209,216,224,248,205,248,233,216,248,227,263,240,221,239,231,246,228,217,210,241,207,248,227,211,236,253,231,244,252,257,232,217,246,223,218,232,219,239,207,236,245,224,230,234,234]
[null,null,"男性／既婚",null,null,null,null,461,489,465,455,482,484,479,466,466,464,475,448,472,461,441,471,444,452,455,449,453,460,434,450,417,448,435,453,450,426,449,453,434,438,460,469,453,441,450,450,453,469,449,419,437,434,463,429,448]
[null,null,"女性／既婚",null,null,null,null,508,505,540,512,534,527,519,495,538,495,510,527,497,518,482,505,524,506,514,499,517,528,535,504,539,498,519,535,510,493,515,502,494,489,514,529,498,521,526,512,525,505,537,508,499,520,514,510,511]
[null,"地域別","首都40km圏",null,null,null,null,500,500,500,500,500,500,500,500,500,500,500,500,500,500,500,500,500,500,500,500,500,500,500,500,500,500,500,500,500,500,500,500,500,500,500,500,500,500,500,500,500,500,500,500,500,500,500,500,500]
[null,null,"名古屋40km圏",null,null,null,null,500,500,500,500,500,500,500,500,500,500,500,500,500,500,500,500,500,500,500,500,500,500,500,500,500,500,500,500,500,500,500,500,500,500,500,500,500,500,500,500,500,500,500,500,500,500,500,500,500]
[null,null,"阪神30km圏",null,null,null,null,500,500,500,500,500,500,500,500,500,500,500,500,500,500,500,500,500,500,500,500,500,500,500,500,500,500,500,500,500,500,500,500,500,500,500,500,500,500,500,500,500,500,500,500,500,500,500,500,500]
[null,"性別×地域別","男性／首都40km圏",null,null,null,null,257,257,257,257,257,257,257,257,257,257,257,257,256,256,256,256,256,256,256,256,256,256,256,256,256,256,256,256,256,256,256,256,256,256,256,256,256,256,256,256,256,256,256,256,256,256,256,256,256]
[null,null,"男性／名古屋40km圏",null,null,null,null,255,255,255,255,255,255,255,255,255,255,255,255,254,254,254,254,254,254,254,254,254,254,254,254,254,254,254,254,254,254,254,254,254,254,254,254,255,255,255,255,255,255,255,255,255,255,255,255,254]
[null,null,"男性／阪神30km圏",null,null,null,null,245,245,245,245,245,245,245,245,245,245,245,245,245,245,245,245,245,245,245,245,245,245,245,245,244,244,244,244,244,244,244,244,244,244,244,244,245,245,245,245,245,245,245,245,245,245,245,245,245]
[null,null,"女性／首都40km圏",null,null,null,null,243,243,243,243,243,243,243,243,243,243,243,243,244,244,244,244,244,244,244,244,244,244,244,244,244,244,244,244,244,244,244,244,244,244,244,244,244,244,244,244,244,244,244,244,244,244,244,244,244]
[null,null,"女性／名古屋40km圏",null,null,null,null,245,245,245,245,245,245,245,245,245,245,245,245,246,246,246,246,246,246,246,246,246,246,246,246,246,246,246,246,246,246,246,246,246,246,246,246,245,245,245,245,245,245,245,245,245,245,245,245,246]
[null,null,"女性／阪神30km圏",null,null,null,null,255,255,255,255,255,255,255,255,255,255,255,255,255,255,255,255,255,255,255,255,255,255,255,255,256,256,256,256,256,256,256,256,256,256,256,256,255,255,255,255,255,255,255,255,255,255,255,255,255]
[null,"性別×有職無職別","男性／有職",null,null,null,null,591,595,598,591,593,599,594,603,592,598,590,606,597,613,600,601,583,607,598,575,596,596,607,583,595,599,606,609,599,606,618,590,574,587,601,605,617,593,610,602,613,600,603,591,604,597,623,617,602]
[null,null,"女性／有職",null,null,null,null,321,346,296,329,332,349,336,333,316,344,355,321,363,349,358,345,342,339,356,358,345,331,325,330,327,339,349,341,342,337,373,320,362,351,343,334,337,363,358,368,336,350,336,365,352,332,357,347,341]
[null,null,"男性／無職",null,null,null,null,166,162,159,166,164,158,163,154,165,159,167,151,158,142,155,154,172,148,157,180,159,159,148,172,159,155,148,145,155,148,136,164,180,167,153,149,139,163,146,154,143,156,153,165,152,159,133,139,153]
[null,null,"女性／無職",null,null,null,null,422,397,447,414,411,394,407,410,427,399,388,422,382,396,387,400,403,406,389,387,400,414,420,415,419,407,397,405,404,409,373,426,384,395,403,412,407,381,386,376,408,394,408,379,392,412,387,397,404]
[null,"職業別","勤め人（未婚）",null,null,null,null,235,236,235,228,219,229,216,244,235,240,244,238,225,258,269,235,239,248,281,241,258,234,244,259,245,247,291,237,258,248,271,245,257,265,255,220,268,255,263,269,260,244,239,260,261,267,245,265,260]
[null,null,"勤め人（既婚）",null,null,null,null,362,369,376,380,379,414,375,359,375,380,373,373,402,387,351,379,370,369,382,348,371,375,373,368,354,380,350,376,383,364,394,370,361,352,389,408,393,377,379,383,386,400,389,346,378,357,400,366,366]
[null,null,"自由・自営業",null,null,null,null,126,143,102,119,120,107,133,127,122,120,124,112,122,109,132,121,112,136,103,119,115,117,106,105,125,105,120,104,101,118,133,116,118,117,115,112,108,107,126,101,119,88,115,142,102,104,113,111,118]
[null,null,"パート・アルバイト",null,null,null,null,189,193,181,193,207,198,206,206,176,202,204,204,211,208,206,211,204,193,188,225,197,201,209,181,198,206,194,233,199,213,193,179,200,204,185,199,185,217,200,217,184,218,196,208,215,201,222,222,199]
[null,null,"専業主婦",null,null,null,null,332,313,365,325,334,319,305,313,354,305,309,343,298,318,300,311,317,323,316,315,332,331,337,335,337,310,328,323,316,316,310,326,298,312,318,333,312,312,314,301,342,312,334,295,300,323,296,300,325]
[null,null,"学生",null,null,null,null,65,46,55,61,55,59,64,57,66,62,68,52,61,45,46,46,62,50,52,67,47,66,54,61,61,64,46,49,53,55,58,59,72,53,54,55,48,38,39,43,47,45,55,53,57,54,41,48,47]
[null,null,"無職・その他",null,null,null,null,191,200,186,194,186,174,201,194,172,191,178,178,181,175,196,197,196,181,178,185,180,176,177,191,180,188,171,178,190,186,141,205,194,197,184,173,186,194,179,186,162,193,172,196,187,194,183,188,185]
[null,"世帯年収別","高（800万円以上）",null,null,null,null,288,274,293,266,298,305,257,287,293,304,271,319,268,266,265,249,249,261,285,234,276,274,287,278,258,294,266,286,283,267,292,261,278,240,271,256,255,297,294,261,282,272,239,253,245,264,269,244,254]
[null,null,"中（400-800万円未満）",null,null,null,null,572,596,591,562,568,550,591,538,570,552,583,522,578,571,546,597,573,580,588,567,570,555,551,559,536,531,552,552,558,527,561,572,551,568,550,541,549,543,549,540,542,541,557,542,553,540,546,526,519]
[null,null,"低（400万円未満）",null,null,null,null,391,393,383,402,364,375,370,394,381,386,386,418,386,423,395,396,425,406,370,417,402,377,401,419,403,400,420,390,401,437,387,387,379,411,388,402,416,400,374,400,371,412,371,400,394,377,386,409,406]

{"sheet":"Setting","index":7,"n_rows":8,"n_cols":4,"rows_kept":8,"cut":false,"hidden":true,"merged":[]}
["■直近５年"]
[null,"元データ","Graph_A","Graph_B"]
[null,"開始列","転記行","転記開始列"]
["2012年",4,26,4]
["2013年",16,27,16]
["2014年",28,28,28]
["2015年",40,29,40]
["2016年",52,30,52]

{"sheet":"Graph_A1","index":8,"n_rows":25,"n_cols":15,"rows_kept":25,"cut":false,"hidden":true,"merged":[]}
[null,null,null,"消費意欲指数"]
[null,null,null,"全体"]
[]
[]
[]
[]
[]
[]
[]
[]
[]
[]
[]
[]
[]
[]
[]
[]
[]
[]
[]
[]
[]
[]
[null,null," ","1月","2月","3月","4月","5月","6月","7月","8月","9月","10月","11月","12月"]

{"sheet":"Graph_A2","index":9,"n_rows":25,"n_cols":15,"rows_kept":25,"cut":false,"hidden":true,"merged":[]}
[null,null,null,"特に買いたいモノ・利用したいサービスがある人の割合"]
[null,null,null,"全体"]
[]
[]
[]
[]
[]
[]
[]
[]
[]
[]
[]
[]
[]
[]
[]
[]
[]
[]
[]
[]
[]
[]
[null,null," ","1月","2月","3月","4月","5月","6月","7月","8月","9月","10月","11月","12月"]

{"sheet":"Graph_B1","index":10,"n_rows":26,"n_cols":63,"rows_kept":26,"cut":false,"hidden":true,"merged":[[24,3,24,14],[24,15,24,26],[24,51,24,62],[24,27,24,38],[24,39,24,50]]}
[null,null,null,"消費意欲指数"]
[]
[]
[]
[]
[]
[]
[]
[]
[]
[]
[]
[]
[]
[]
[]
[]
[]
[]
[]
[]
[]
[]
[]
[null,null,null,"2012年",null,null,null,null,null,null,null,null,null,null,null,"2013年",null,null,null,null,null,null,null,null,null,null,null,"2014年",null,null,null,null,null,null,null,null,null,null,null,"2015年",null,null,null,null,null,null,null,null,null,null,null,"2016年"]
[null,null,null,"1月","2月","3月","4月","5月","6月","7月","8月","9月","10月","11月","12月","1月","2月","3月","4月","5月","6月","7月","8月","9月","10月","11月","12月","1月","2月","3月","4月","5月","6月","7月","8月","9月","10月","11月","12月","1月","2月","3月","4月","5月","6月","7月","8月","9月","10月","11月","12月","1月","2月","3月","4月","5月","6月","7月","8月","9月","10月","11月","12月"]

{"sheet":"Graph_B2","index":11,"n_rows":26,"n_cols":63,"rows_kept":26,"cut":false,"hidden":true,"merged":[[24,3,24,14],[24,15,24,26],[24,27,24,38],[24,39,24,50],[24,51,24,62]]}
[null,null,null,"特に買いたいモノ・利用したいサービスがある人の割合"]
[]
[]
[]
[]
[]
[]
[]
[]
[]
[]
[]
[]
[]
[]
[]
[]
[]
[]
[]
[]
[]
[]
[]
[null,null,null,"2012年",null,null,null,null,null,null,null,null,null,null,null,"2013年",null,null,null,null,null,null,null,null,null,null,null,"2014年",null,null,null,null,null,null,null,null,null,null,null,"2015年",null,null,null,null,null,null,null,null,null,null,null,"2016年"]
[null,null,null,"1月","2月","3月","4月","5月","6月","7月","8月","9月","10月","11月","12月","1月","2月","3月","4月","5月","6月","7月","8月","9月","10月","11月","12月","1月","2月","3月","4月","5月","6月","7月","8月","9月","10月","11月","12月","1月","2月","3月","4月","5月","6月","7月","8月","9月","10月","11月","12月","1月","2月","3月","4月","5月","6月","7月","8月","9月","10月","11月","12月"]